{"text_format":"1","workbook":"xlsx","n_sheets":9,"sheets":["Underlag utrulling","Prognoser","Rapport","Innstillinger","Underlag kapasitet skopirom","Befolkning per HF","Underlag_Bosatte_kommune","Sheet1","Fordeling bydeler"],"not_rendered":{"charts":4,"images":0,"macros":1,"external_links":1,"defined_names":90,"comments":0,"pivot_tables":0},"unopened":[],"bounds":{"document_bytes":16777216,"sheet_cells":100000,"rows_first":2000,"rows_last":500,"rows_between":2000,"halvings":0,"cell_chars":16384,"cell_head_chars":4096},"cells_cut":0,"cells_raw":0,"read":"whole","date_system":"1900"}

{"sheet":"Underlag utrulling","index":0,"n_rows":22,"n_cols":12,"rows_kept":22,"cut":false,"hidden":false,"merged":[]}
[null,"Standard oppstart",44885]
[null,"Siste i rute-dato",{"$f":"maks_i_rute_innstilt","v":45658}]
[null,"Oppstartsdato",{"$f":"IF(ISBLANK(oppstart),Standard_oppstart,oppstart)","v":44885}]
[null,"I rute-dato",{"$f":"IF(valgt_helseforetak=\"Alle\",C2,IF(ISBLANK(i_rute_innstilt),MIN(C2,DATE(YEAR(Oppstartsdato)+2,MONTH(Oppstartsdato),1)),i_rute_innstilt))","v":45658}]
[]
[null,"År","Utrullingsdagskull","Utrullingsmåneder","Normal inklusjonsmåneder","Andel 55-åringer i utrulling","Kolonne1","Utrullingsbefolkning dette år","Vanlig inklusjon befolkning","Per utrullingsmnd","Per normalmåned","Sum år"]
[null,2022,{"$f":"IF(AND(Oppstartsdato<=DATE(B7,1,1),I_rute_dato>DATE(B7+1,1,1)),365,IF(Oppstartsdato>DATE(B7,1,1),MAXA(0,MIN(I_rute_dato,DATE(B7+1,1,1))-Oppstartsdato),MAXA(0,I_rute_dato-DATE(B7,1,1))))","v":42},{"$f":"ROUND(C7/30.5,0)","v":1},{"$f":"IF(I_rute_dato<DATE(B7+1,1,1),12-D7,0)","v":0},{"$f":"IF(I_rute_dato>=DATE(B7+1,1,1),1,IF(I_rute_dato<DATE(B7,1,1),0,(I_rute_dato-DATE(B7,1,1))/365))","v":1},7000,{"$f":"Utrullingsbefolkning*C7/Utrullingdager","v":12029.767141009055},{"$f":"G7*(1-F7)","v":0},{"$f":"IF(D7>0,H7/D7,0)/46*52","v":13598.867202879801},0,{"$f":"SUM(H7:I7)","v":12029.767141009055}]
[null,2023,365,{"$f":"ROUND(C8/30.5,0)","v":12},0,{"$f":"IF(I_rute_dato>=DATE(B8+1,1,1),1,IF(I_rute_dato<DATE(B8,1,1),0,(I_rute_dato-DATE(B8,1,1))/365))","v":1},8000,104544.40491591203,{"$f":"G8*(1-F8)","v":0},9848.3859703395392,0,{"$f":"SUM(H8:I8)","v":104544.40491591203}]
[null,2024,366,{"$f":"ROUND(C9/30.5,0)","v":12},0,{"$f":"IF(I_rute_dato>=DATE(B9+1,1,1),1,IF(I_rute_dato<DATE(B9,1,1),0,(I_rute_dato-DATE(B9,1,1))/365))","v":1},8500,104830.82794307891,{"$f":"G9*(1-F9)","v":0},9875.3678497103338,0,{"$f":"SUM(H9:I9)","v":104830.82794307891}]
[null,2025,0,{"$f":"ROUND(C10/30.5,0)","v":0},12,{"$f":"IF(I_rute_dato>=DATE(B10+1,1,1),1,IF(I_rute_dato<=DATE(B10,1,1),0,\"neste\"))","v":0},8700,0,{"$f":"G10*(1-F10)","v":8700},0,819.56521739130426,{"$f":"SUM(H10:I10)","v":8700}]
[null,2026,0,{"$f":"ROUND(C11/30.5,0)","v":0},12,0,8701,0,{"$f":"G11*(1-F11)","v":8701},{"$f":"IF(D11>0,H11/D11,0)/46*52","v":0},819.65942028985512,{"$f":"SUM(H11:I11)","v":8701}]
[null,2027,0,0,12,0,8702,0,8702,0,819.75362318840575,8702]
[null,2028,0,0,12,0,8703,0,8703,0,819.84782608695662,8703]
[null,2029,0,0,12,0,8704,0,8704,0,819.94202898550725,8704]
[null,2030,0,0,12,0,8705,0,8705,0,820.03623188405788,8705]
[null,2031,0,0,12,0,8706,0,8706,0,820.13043478260875,8706]
[null,2032,0,0,12,0,8707,0,8707,0,820.22463768115949,8707]
[null,2033,0,0,12,0,8708,0,8708,0,820.31884057971001,8708]
[null,2034,0,0,12,0,8709,0,8709,0,820.41304347826087,8709]
[null,2035,0,0,12,0,8710,0,8710,0,820.50724637681162,8710]
[]
[null,"Utrullingdager",{"$f":"SUM(C7:C10)","v":773},null,null,"Utrullingsbefolkning",{"$f":"SUM(Prognoser!AU28:AU41)","v":221405}]

{"sheet":"Prognoser","index":1,"n_rows":84,"n_cols":49,"rows_kept":84,"cut":false,"hidden":false,"merged":[[24,16,24,21],[25,6,25,7],[8,9,9,13],[20,12,20,13],[7,1,7,3],[7,6,7,7],[7,9,7,10],[11,1,11,2]]}
[]
[null,"Prognoseverktøy for nasjonalt tarmscreeningprogram"]
[null,"Lysegule felter kan redigeres av brukeren."]
[]
[null,"1. Velg befolkning/område: (klikk på cellene for å få nedtrekksmenyer)"]
[]
[null,"Velg helseforetak:",null,null,null,null,"Eller lokalsykehusområde:",null,null,"Eller kommune/bydel:"]
[null,"Alle"]
[null,null,null,null,null,null,null,null,null,{"$f":"IF(ISBLANK(valgt_kommune),\"\",\"Kommunen hører inn under \"&INDEX(hf_kommune[Helseforetak],MATCH(valgt_kommune,hf_kommune[Kommune],0))&\", lokalsykehusområde \"&INDEX(hf_kommune[Lokalsykehusområde],MATCH(valgt_kommune,hf_kommune[Kommune],0))&\".\")","v":""}]
[]
[null,"Eller skriv inn fast verdi for totalbefolkning:"]
[null,null,null,"Befolkning blir fordelt ut fra aldersfordeling av hele befolkningen pr. 1.1.22"]
[]
[]
[null,"2. Velg innstillinger:"]
[]
[null,"Oppmøte koloskopi som primær metode",null,null,null,null,null,{"$f":"\"Blank = standard anslag \"&deltakelse_kolo*100&\" %\"","v":"Blank = standard anslag 60 %"}]
[null,"Deltakelse iFOBT",null,null,null,null,null,{"$f":"\"Blank = standard anslag \"&100*deltakelse_ifobt&\" %.\"","v":"Blank = standard anslag 58 %."}]
[null,"Positivitet iFOBT",null,null,null,null,null,{"$f":"\"Blank = standard anslag \"&100*positivitet_ifobt&\" %.\"","v":"Blank = standard anslag 6,1 %."}]
[null,"Oppstartsdato iFOBT",null,null,null,null,null,"Blank = 20.11.2022 (gir noenlunde ok nasjonale tall. Husk å legge inn lokal oppstartsdato)"]
[null,"I rute dato iFOBT",null,null,null,null,null,{"$f":"\"Blank = Innen 2 år, men senest \"&DAY(maks_i_rute_innstilt)&\".\"&MONTH(maks_i_rute_innstilt)&\".\"&YEAR(maks_i_rute_innstilt)","v":"Blank = Innen 2 år, men senest 1.1.2025"},null,null,null,"Beregnet:",{"$f":"IF(ISBLANK(i_rute_innstilt),I_rute_dato,\"\")","v":45658},null,{"$f":"IF(valgt_helseforetak=\"Alle\",\"Nasjonalt alltid 1.1.25\",\"\")","v":"Nasjonalt alltid 1.1.25"}]
[]
[]
[null,"3. Resultat: Prognosetabell koloskopi, iFOBT og utsendelser"]
[]
[null,null,null,null,null,null,"Andel av inviterte",null,null,null,"Personer som inviteres",null,null,null,null,null,"Personer som møter til koloskopi",null,null,null,null,null,null,null,null,"Antall screeningkoloskopier",null,null,null,null,null,null,null,null,"Surveillance","Totalt koloskopier",null,"Skopirom",null,null,"iFOBT"]
[null,"År","Hele be-folkningen","Befolkning 55 år","         ","      ","Andel til primær kolo","Andel til iFOBT","Primær koloskopi   ","iFOBT utrulling runde 1","iFOBT runde 1","iFOBT runde 2","iFOBT runde 3 ","iFOBT runde 4 ","iFOBT runde 5 ","iFOBT-invitasjoner totalt","Primær koloskopi ","iFOBT utrulling R1","iFOBT R1","iFOBT R2","iFOBT R3","iFOBT R4","iFOBT R5","Primær koloskopi    ","iFOBT utrulling R1 ","iFOBT \nrunde 1  ","iFOBT R2  ","iFOBT R3  ","iFOBT R4  ","iFOBT R5  ","iFOBT\nrunde 2-5","Sum screening-koloskopier","Første gang","Gjentak-ende","Totalt surveillance-koloskopier","Sum koloskopier ","Sum koloskopier (rundet opp til nærmeste 50 eller 10)","Skopirom","Hele rom, rundet opp hvis > 0,2","Overkapasitet","iFOBT-prøvesett","iFOBT-analyser","Første varsel (begge typer)","Påminnelse iFOBT","Neg. prøvesvar iFOBT","Utrullingsbefolkningandel","Utrullingsbefolkning 55-åringer","Utrullingsbefolkning inklusjon","Normal befolkning"]
[null,2022,{"$f":"IF(\n ISBLANK(fast_befolkning),\n IF(\n  ISBLANK(valgt_kommune),\n  IF(\n   ISBLANK(valgt_sykehus),\n   IF(OR(valgt_helseforetak=\"Alle\",ISBLANK(valgt_helseforetak)),\n      INDEX(hf[#Totals],1,MATCH(\"Hele\"&TEXT(Table3[[#This Row],[År]],\"#\"),hf[#Headers],0)),\n      INDEX(hf[],MATCH(valgt_helseforetak,alle_helseforetak,0),MATCH(\"Hele\"&TEXT(Table3[[#This Row],[År]],\"#\"),hf[#Headers],0))),\n      INDEX(lokalsykehus_befolkning[],MATCH(valgt_sykehus,alle_lokalsykehusområder,0),MATCH(\"Hele\"&TEXT(Table3[[#This Row],[År]],\"#\"),lokalsykehus_befolkning[#Headers],0))\n  ),\n  INDEX(hf_kommune[],MATCH(valgt_kommune,alle_kommuner,0),MATCH(TEXT(Table3[[#This Row],[År]],\"#\")&\"-tot\",hf_kommune[#Headers],0))\n ),\nfast_befolkning)","v":5417351},{"$f":"IF(\n ISBLANK(fast_befolkning),\n IF(\n  ISBLANK(valgt_kommune),\n  IF(\n   ISBLANK(valgt_sykehus),\n   IF(OR(valgt_helseforetak=\"Alle\",ISBLANK(valgt_helseforetak)),\n      INDEX(hf[#Totals],1,MATCH(TEXT(Table3[[#This Row],[År]],\"#\"),hf[#Headers],0)),\n      INDEX(hf[],MATCH(valgt_helseforetak,alle_helseforetak,0),MATCH(TEXT(Table3[[#This Row],[År]],\"#\"),hf[#Headers],0))),\n      INDEX(lokalsykehus_befolkning[],MATCH(valgt_sykehus,alle_lokalsykehusområder,0),MATCH(TEXT(Table3[[#This Row],[År]],\"#\"),lokalsykehus_befolkning[#Headers],0))\n  ),\n  INDEX(hf_kommune[],MATCH(valgt_kommune,alle_kommuner,0),MATCH(TEXT(Table3[[#This Row],[År]],\"#\"),hf_kommune[#Headers],0))\n ),\nfast_befolkning*INDEX(befolkningsfordeling[],1,MATCH(TEXT(Table3[[#This Row],[År]],\"#\"),befolkningsfordeling[#Headers],0)))","v":72908},null,null,0,{"$f":"1-Table3[[#This Row],[Andel til primær kolo]]","v":1},{"$f":"Table3[[#This Row],[Normal befolkning]]*inviterbare*Table3[[#This Row],[Andel til primær kolo]]","v":0},{"$f":"Table3[[#This Row],[Utrullingsbefolkning inklusjon]]*inviterbare","v":11909.469469598964},{"$f":"inviterbare*Table3[[#This Row],[Andel til iFOBT]]*Table3[[#This Row],[Normal befolkning]]","v":0},0,0,0,0,{"$f":"ROUNDUP(SUM(Table3[[#This Row],[iFOBT utrulling runde 1]:[iFOBT runde 5 ]])/1000,0)*1000","v":12000},{"$f":"Table3[[#This Row],[Primær koloskopi   ]]*beregnet_deltakelse_kolo","v":0},{"$f":"Table3[[#This Row],[iFOBT utrulling runde 1]]*beregnet_deltakelse_ifobt*beregnet_positivitet_ifobt*andel_positive_til_kolo_ifobt","v":400.28917834269072},{"$f":"Table3[[#This Row],[iFOBT runde 1]]*beregnet_deltakelse_ifobt*beregnet_positivitet_ifobt*andel_positive_til_kolo_ifobt","v":0},{"$f":"Table3[[#This Row],[iFOBT runde 2]]*beregnet_deltakelse_ifobt*beregnet_positivitet_ifobt*andel_positive_til_kolo_ifobt","v":0},{"$f":"Table3[[#This Row],[iFOBT runde 3 ]]*beregnet_deltakelse_ifobt*beregnet_positivitet_ifobt*andel_positive_til_kolo_ifobt","v":0},{"$f":"Table3[[#This Row],[iFOBT runde 4 ]]*beregnet_deltakelse_ifobt*beregnet_positivitet_ifobt*andel_positive_til_kolo_ifobt","v":0},{"$f":"Table3[[#This Row],[iFOBT runde 5 ]]*beregnet_deltakelse_ifobt*beregnet_positivitet_ifobt*andel_positive_til_kolo_ifobt","v":0},{"$f":"kolo_per_inv_kolo*Table3[[#This Row],[Primær koloskopi   ]]","v":0},{"$f":"kolo_per_inv_ifobt*Table3[[#This Row],[iFOBT utrulling runde 1]]","v":436.52588290845006},{"$f":"kolo_per_inv_ifobt*Table3[[#This Row],[iFOBT runde 1]]","v":0},{"$f":"kolo_per_inv_ifobt*Table3[[#This Row],[iFOBT runde 2]]","v":0},{"$f":"kolo_per_inv_ifobt*Table3[[#This Row],[iFOBT runde 3 ]]","v":0},{"$f":"kolo_per_inv_ifobt*Table3[[#This Row],[iFOBT runde 4 ]]","v":0},{"$f":"kolo_per_inv_ifobt*Table3[[#This Row],[iFOBT runde 5 ]]","v":0},{"$f":"SUM(Table3[[#This Row],[iFOBT R2  ]:[iFOBT R5  ]])","v":0},{"$f":"SUM(Table3[[#This Row],[Primær koloskopi    ]:[iFOBT R5  ]])","v":436.52588290845006},0,0,{"$f":"Table3[[#This Row],[Første gang]]+Table3[[#This Row],[Gjentak-ende]]","v":0},{"$f":"Table3[[#This Row],[Sum screening-koloskopier]]+Table3[[#This Row],[Totalt surveillance-koloskopier]]","v":436.52588290845006},{"$f":"IF(SUM(Table3[Befolkning 55 år])>30000,ROUNDUP((Table3[[#This Row],[Sum screening-koloskopier]]+Table3[[#This Row],[Totalt surveillance-koloskopier]])/50,0)*50,ROUNDUP((Table3[[#This Row],[Sum screening-koloskopier]]+Table3[[#This Row],[Totalt surveillance-koloskopier]])/10,0)*10)","v":450},{"$f":"(Table3[[#This Row],[Sum screening-koloskopier]]+Table3[[#This Row],[Totalt surveillance-koloskopier]])/undersokelser_per_rom","v":0.39684171173495458},{"$f":"IF(ISBLANK(Table3[[#This Row],[Skopirom]]),\"\",IF(Table3[[#This Row],[Skopirom]]<0.2,1,ROUND(Table3[[#This Row],[Skopirom]]+0.3,0)))","v":1},{"$f":"IF(Table3[[#This Row],[Hele rom, rundet opp hvis > 0,2]]-Table3[[#This Row],[Skopirom]]>0,Table3[[#This Row],[Hele rom, rundet opp hvis > 0,2]]-Table3[[#This Row],[Skopirom]],0)","v":0.60315828826504547},{"$f":"ROUNDUP(ifobt_per_invitasjon*SUM(Table3[[#This Row],[iFOBT utrulling runde 1]:[iFOBT runde 5 ]])/1000,0)*1000","v":13000},{"$f":"ROUNDUP(SUM(Table3[[#This Row],[iFOBT runde 1]:[iFOBT runde 5 ]])*deltakelse_ifobt/1000,0)*1000","v":0},{"$f":"ROUNDUP((Table3[[#This Row],[Primær koloskopi   ]]+Table3[[#This Row],[iFOBT runde 1]])/1000,0)*1000*ikke_digital_post","v":0},{"$f":"ROUNDUP(SUM(Table3[[#This Row],[iFOBT runde 1]:[iFOBT runde 5 ]])*påminnelse/1000,0)*1000*ikke_digital_post","v":0},{"$f":"ROUNDUP((beregnet_deltakelse_ifobt-beregnet_positivitet_ifobt)*SUM(Table3[[#This Row],[iFOBT runde 1]:[iFOBT runde 5 ]])/1000,0)*1000*ikke_digital_post","v":0},{"$f":"INDEX(Utrulling[Andel 55-åringer i utrulling],MATCH(Table3[[#This Row],[År]],Utrulling[År],0))","v":1},{"$f":"AT28*Table3[[#This Row],[Befolkning 55 år]]","v":72908},{"$f":"INDEX(Utrulling[Utrullingsbefolkning dette år],MATCH(Table3[[#This Row],[År]],Utrulling[År],0))","v":12029.767141009055},{"$f":"(1-AT28)*Table3[[#This Row],[Befolkning 55 år]]","v":0}]
[null,2023,{"$f":"IF(\n ISBLANK(fast_befolkning),\n IF(\n  ISBLANK(valgt_kommune),\n  IF(\n   ISBLANK(valgt_sykehus),\n   IF(OR(valgt_helseforetak=\"Alle\",ISBLANK(valgt_helseforetak)),\n      INDEX(hf[#Totals],1,MATCH(\"Hele\"&TEXT(Table3[[#This Row],[År]],\"#\"),hf[#Headers],0)),\n      INDEX(hf[],MATCH(valgt_helseforetak,alle_helseforetak,0),MATCH(\"Hele\"&TEXT(Table3[[#This Row],[År]],\"#\"),hf[#Headers],0))),\n      INDEX(lokalsykehus_befolkning[],MATCH(valgt_sykehus,alle_lokalsykehusområder,0),MATCH(\"Hele\"&TEXT(Table3[[#This Row],[År]],\"#\"),lokalsykehus_befolkning[#Headers],0))\n  ),\n  INDEX(hf_kommune[],MATCH(valgt_kommune,alle_kommuner,0),MATCH(TEXT(Table3[[#This Row],[År]],\"#\")&\"-tot\",hf_kommune[#Headers],0))\n ),\nfast_befolkning)","v":5444679},{"$f":"IF(\n ISBLANK(fast_befolkning),\n IF(\n  ISBLANK(valgt_kommune),\n  IF(\n   ISBLANK(valgt_sykehus),\n   IF(OR(valgt_helseforetak=\"Alle\",ISBLANK(valgt_helseforetak)),\n      INDEX(hf[#Totals],1,MATCH(TEXT(Table3[[#This Row],[År]],\"#\"),hf[#Headers],0)),\n      INDEX(hf[],MATCH(valgt_helseforetak,alle_helseforetak,0),MATCH(TEXT(Table3[[#This Row],[År]],\"#\"),hf[#Headers],0))),\n      INDEX(lokalsykehus_befolkning[],MATCH(valgt_sykehus,alle_lokalsykehusområder,0),MATCH(TEXT(Table3[[#This Row],[År]],\"#\"),lokalsykehus_befolkning[#Headers],0))\n  ),\n  INDEX(hf_kommune[],MATCH(valgt_kommune,alle_kommuner,0),MATCH(TEXT(Table3[[#This Row],[År]],\"#\"),hf_kommune[#Headers],0))\n ),\nfast_befolkning*INDEX(befolkningsfordeling[],1,MATCH(TEXT(Table3[[#This Row],[År]],\"#\"),befolkningsfordeling[#Headers],0)))","v":73280},null,null,0,{"$f":"1-Table3[[#This Row],[Andel til primær kolo]]","v":1},{"$f":"Table3[[#This Row],[Normal befolkning]]*inviterbare*Table3[[#This Row],[Andel til primær kolo]]","v":0},{"$f":"Table3[[#This Row],[Utrullingsbefolkning inklusjon]]*inviterbare","v":103498.96086675291},{"$f":"inviterbare*Table3[[#This Row],[Andel til iFOBT]]*Table3[[#This Row],[Normal befolkning]]","v":0},0,0,0,0,{"$f":"ROUNDUP(SUM(Table3[[#This Row],[iFOBT utrulling runde 1]:[iFOBT runde 5 ]])/1000,0)*1000","v":104000},{"$f":"Table3[[#This Row],[Primær koloskopi   ]]*beregnet_deltakelse_kolo","v":0},{"$f":"Table3[[#This Row],[iFOBT utrulling runde 1]]*beregnet_deltakelse_ifobt*beregnet_positivitet_ifobt*andel_positive_til_kolo_ifobt","v":3478.7035736924317},{"$f":"Table3[[#This Row],[iFOBT runde 1]]*beregnet_deltakelse_ifobt*beregnet_positivitet_ifobt*andel_positive_til_kolo_ifobt","v":0},{"$f":"Table3[[#This Row],[iFOBT runde 2]]*beregnet_deltakelse_ifobt*beregnet_positivitet_ifobt*andel_positive_til_kolo_ifobt","v":0},{"$f":"Table3[[#This Row],[iFOBT runde 3 ]]*beregnet_deltakelse_ifobt*beregnet_positivitet_ifobt*andel_positive_til_kolo_ifobt","v":0},{"$f":"Table3[[#This Row],[iFOBT runde 4 ]]*beregnet_deltakelse_ifobt*beregnet_positivitet_ifobt*andel_positive_til_kolo_ifobt","v":0},{"$f":"Table3[[#This Row],[iFOBT runde 5 ]]*beregnet_deltakelse_ifobt*beregnet_positivitet_ifobt*andel_positive_til_kolo_ifobt","v":0},{"$f":"kolo_per_inv_kolo*Table3[[#This Row],[Primær koloskopi   ]]","v":0},{"$f":"kolo_per_inv_ifobt*Table3[[#This Row],[iFOBT utrulling runde 1]]","v":3793.6177919424831},{"$f":"kolo_per_inv_ifobt*Table3[[#This Row],[iFOBT runde 1]]","v":0},{"$f":"kolo_per_inv_ifobt*Table3[[#This Row],[iFOBT runde 2]]","v":0},{"$f":"kolo_per_inv_ifobt*Table3[[#This Row],[iFOBT runde 3 ]]","v":0},{"$f":"kolo_per_inv_ifobt*Table3[[#This Row],[iFOBT runde 4 ]]","v":0},{"$f":"kolo_per_inv_ifobt*Table3[[#This Row],[iFOBT runde 5 ]]","v":0},{"$f":"SUM(Table3[[#This Row],[iFOBT R2  ]:[iFOBT R5  ]])","v":0},{"$f":"SUM(Table3[[#This Row],[Primær koloskopi    ]:[iFOBT R5  ]])","v":3793.6177919424831},0,0,{"$f":"Table3[[#This Row],[Første gang]]+Table3[[#This Row],[Gjentak-ende]]","v":0},{"$f":"Table3[[#This Row],[Sum screening-koloskopier]]+Table3[[#This Row],[Totalt surveillance-koloskopier]]","v":3793.6177919424831},{"$f":"IF(SUM(Table3[Befolkning 55 år])>30000,ROUNDUP((Table3[[#This Row],[Sum screening-koloskopier]]+Table3[[#This Row],[Totalt surveillance-koloskopier]])/50,0)*50,ROUNDUP((Table3[[#This Row],[Sum screening-koloskopier]]+Table3[[#This Row],[Totalt surveillance-koloskopier]])/10,0)*10)","v":3800},{"$f":"(Table3[[#This Row],[Sum screening-koloskopier]]+Table3[[#This Row],[Totalt surveillance-koloskopier]])/undersokelser_per_rom","v":3.4487434472204392},{"$f":"IF(ISBLANK(Table3[[#This Row],[Skopirom]]),\"\",IF(Table3[[#This Row],[Skopirom]]<0.2,1,ROUND(Table3[[#This Row],[Skopirom]]+0.3,0)))","v":4},{"$f":"IF(Table3[[#This Row],[Hele rom, rundet opp hvis > 0,2]]-Table3[[#This Row],[Skopirom]]>0,Table3[[#This Row],[Hele rom, rundet opp hvis > 0,2]]-Table3[[#This Row],[Skopirom]],0)","v":0.55125655277956076},{"$f":"ROUNDUP(ifobt_per_invitasjon*SUM(Table3[[#This Row],[iFOBT utrulling runde 1]:[iFOBT runde 5 ]])/1000,0)*1000","v":111000},{"$f":"ROUNDUP(SUM(Table3[[#This Row],[iFOBT runde 1]:[iFOBT runde 5 ]])*deltakelse_ifobt/1000,0)*1000","v":0},{"$f":"ROUNDUP((Table3[[#This Row],[Primær koloskopi   ]]+Table3[[#This Row],[iFOBT runde 1]])/1000,0)*1000*ikke_digital_post","v":0},{"$f":"ROUNDUP(SUM(Table3[[#This Row],[iFOBT runde 1]:[iFOBT runde 5 ]])*påminnelse/1000,0)*1000*ikke_digital_post","v":0},{"$f":"ROUNDUP((beregnet_deltakelse_ifobt-beregnet_positivitet_ifobt)*SUM(Table3[[#This Row],[iFOBT runde 1]:[iFOBT runde 5 ]])/1000,0)*1000*ikke_digital_post","v":0},{"$f":"INDEX(Utrulling[Andel 55-åringer i utrulling],MATCH(Table3[[#This Row],[År]],Utrulling[År],0))","v":1},{"$f":"AT29*Table3[[#This Row],[Befolkning 55 år]]","v":73280},{"$f":"INDEX(Utrulling[Utrullingsbefolkning dette år],MATCH(Table3[[#This Row],[År]],Utrulling[År],0))","v":104544.40491591203},{"$f":"(1-AT29)*Table3[[#This Row],[Befolkning 55 år]]","v":0}]
[null,2024,{"$f":"IF(\n ISBLANK(fast_befolkning),\n IF(\n  ISBLANK(valgt_kommune),\n  IF(\n   ISBLANK(valgt_sykehus),\n   IF(OR(valgt_helseforetak=\"Alle\",ISBLANK(valgt_helseforetak)),\n      INDEX(hf[#Totals],1,MATCH(\"Hele\"&TEXT(Table3[[#This Row],[År]],\"#\"),hf[#Headers],0)),\n      INDEX(hf[],MATCH(valgt_helseforetak,alle_helseforetak,0),MATCH(\"Hele\"&TEXT(Table3[[#This Row],[År]],\"#\"),hf[#Headers],0))),\n      INDEX(lokalsykehus_befolkning[],MATCH(valgt_sykehus,alle_lokalsykehusområder,0),MATCH(\"Hele\"&TEXT(Table3[[#This Row],[År]],\"#\"),lokalsykehus_befolkning[#Headers],0))\n  ),\n  INDEX(hf_kommune[],MATCH(valgt_kommune,alle_kommuner,0),MATCH(TEXT(Table3[[#This Row],[År]],\"#\")&\"-tot\",hf_kommune[#Headers],0))\n ),\nfast_befolkning)","v":5471238},{"$f":"IF(\n ISBLANK(fast_befolkning),\n IF(\n  ISBLANK(valgt_kommune),\n  IF(\n   ISBLANK(valgt_sykehus),\n   IF(OR(valgt_helseforetak=\"Alle\",ISBLANK(valgt_helseforetak)),\n      INDEX(hf[#Totals],1,MATCH(TEXT(Table3[[#This Row],[År]],\"#\"),hf[#Headers],0)),\n      INDEX(hf[],MATCH(valgt_helseforetak,alle_helseforetak,0),MATCH(TEXT(Table3[[#This Row],[År]],\"#\"),hf[#Headers],0))),\n      INDEX(lokalsykehus_befolkning[],MATCH(valgt_sykehus,alle_lokalsykehusområder,0),MATCH(TEXT(Table3[[#This Row],[År]],\"#\"),lokalsykehus_befolkning[#Headers],0))\n  ),\n  INDEX(hf_kommune[],MATCH(valgt_kommune,alle_kommuner,0),MATCH(TEXT(Table3[[#This Row],[År]],\"#\"),hf_kommune[#Headers],0))\n ),\nfast_befolkning*INDEX(befolkningsfordeling[],1,MATCH(TEXT(Table3[[#This Row],[År]],\"#\"),befolkningsfordeling[#Headers],0)))","v":75217},null,null,0,{"$f":"1-Table3[[#This Row],[Andel til primær kolo]]","v":1},{"$f":"Table3[[#This Row],[Normal befolkning]]*inviterbare*Table3[[#This Row],[Andel til primær kolo]]","v":0},{"$f":"Table3[[#This Row],[Utrullingsbefolkning inklusjon]]*inviterbare","v":103782.51966364813},{"$f":"inviterbare*Table3[[#This Row],[Andel til iFOBT]]*Table3[[#This Row],[Normal befolkning]]","v":0},{"$f":"(K28+J28)*(1-andel_reservasjon_ifobt)-S28-R28","v":11151.896207168304},0,0,0,{"$f":"ROUNDUP(SUM(Table3[[#This Row],[iFOBT utrulling runde 1]:[iFOBT runde 5 ]])/1000,0)*1000","v":115000},{"$f":"Table3[[#This Row],[Primær koloskopi   ]]*beregnet_deltakelse_kolo","v":0},{"$f":"Table3[[#This Row],[iFOBT utrulling runde 1]]*beregnet_deltakelse_ifobt*beregnet_positivitet_ifobt*andel_positive_til_kolo_ifobt","v":3488.2342684148766},{"$f":"Table3[[#This Row],[iFOBT runde 1]]*beregnet_deltakelse_ifobt*beregnet_positivitet_ifobt*andel_positive_til_kolo_ifobt","v":0},{"$f":"Table3[[#This Row],[iFOBT runde 2]]*beregnet_deltakelse_ifobt*beregnet_positivitet_ifobt*andel_positive_til_kolo_ifobt","v":374.82638341913378},{"$f":"Table3[[#This Row],[iFOBT runde 3 ]]*beregnet_deltakelse_ifobt*beregnet_positivitet_ifobt*andel_positive_til_kolo_ifobt","v":0},{"$f":"Table3[[#This Row],[iFOBT runde 4 ]]*beregnet_deltakelse_ifobt*beregnet_positivitet_ifobt*andel_positive_til_kolo_ifobt","v":0},{"$f":"Table3[[#This Row],[iFOBT runde 5 ]]*beregnet_deltakelse_ifobt*beregnet_positivitet_ifobt*andel_positive_til_kolo_ifobt","v":0},{"$f":"kolo_per_inv_kolo*Table3[[#This Row],[Primær koloskopi   ]]","v":0},{"$f":"kolo_per_inv_ifobt*Table3[[#This Row],[iFOBT utrulling runde 1]]","v":3804.0112653450656},{"$f":"kolo_per_inv_ifobt*Table3[[#This Row],[iFOBT runde 1]]","v":0},{"$f":"kolo_per_inv_ifobt*Table3[[#This Row],[iFOBT runde 2]]","v":408.75803497076066},{"$f":"kolo_per_inv_ifobt*Table3[[#This Row],[iFOBT runde 3 ]]","v":0},{"$f":"kolo_per_inv_ifobt*Table3[[#This Row],[iFOBT runde 4 ]]","v":0},{"$f":"kolo_per_inv_ifobt*Table3[[#This Row],[iFOBT runde 5 ]]","v":0},{"$f":"SUM(Table3[[#This Row],[iFOBT R2  ]:[iFOBT R5  ]])","v":408.75803497076066},{"$f":"SUM(Table3[[#This Row],[Primær koloskopi    ]:[iFOBT R5  ]])","v":4212.7693003158265},0,0,{"$f":"Table3[[#This Row],[Første gang]]+Table3[[#This Row],[Gjentak-ende]]","v":0},{"$f":"Table3[[#This Row],[Sum screening-koloskopier]]+Table3[[#This Row],[Totalt surveillance-koloskopier]]","v":4212.7693003158265},{"$f":"IF(SUM(Table3[Befolkning 55 år])>30000,ROUNDUP((Table3[[#This Row],[Sum screening-koloskopier]]+Table3[[#This Row],[Totalt surveillance-koloskopier]])/50,0)*50,ROUNDUP((Table3[[#This Row],[Sum screening-koloskopier]]+Table3[[#This Row],[Totalt surveillance-koloskopier]])/10,0)*10)","v":4250},{"$f":"(Table3[[#This Row],[Sum screening-koloskopier]]+Table3[[#This Row],[Totalt surveillance-koloskopier]])/undersokelser_per_rom","v":3.8297902730143876},{"$f":"IF(ISBLANK(Table3[[#This Row],[Skopirom]]),\"\",IF(Table3[[#This Row],[Skopirom]]<0.2,1,ROUND(Table3[[#This Row],[Skopirom]]+0.3,0)))","v":4},{"$f":"IF(Table3[[#This Row],[Hele rom, rundet opp hvis > 0,2]]-Table3[[#This Row],[Skopirom]]>0,Table3[[#This Row],[Hele rom, rundet opp hvis > 0,2]]-Table3[[#This Row],[Skopirom]],0)","v":0.17020972698561243},{"$f":"ROUNDUP(ifobt_per_invitasjon*SUM(Table3[[#This Row],[iFOBT utrulling runde 1]:[iFOBT runde 5 ]])/1000,0)*1000","v":123000},{"$f":"ROUNDUP(SUM(Table3[[#This Row],[iFOBT runde 1]:[iFOBT runde 5 ]])*deltakelse_ifobt/1000,0)*1000","v":7000},{"$f":"ROUNDUP((Table3[[#This Row],[Primær koloskopi   ]]+Table3[[#This Row],[iFOBT runde 1]])/1000,0)*1000*ikke_digital_post","v":0},{"$f":"ROUNDUP(SUM(Table3[[#This Row],[iFOBT runde 1]:[iFOBT runde 5 ]])*påminnelse/1000,0)*1000*ikke_digital_post","v":3600},{"$f":"ROUNDUP((beregnet_deltakelse_ifobt-beregnet_positivitet_ifobt)*SUM(Table3[[#This Row],[iFOBT runde 1]:[iFOBT runde 5 ]])/1000,0)*1000*ikke_digital_post","v":3600},{"$f":"INDEX(Utrulling[Andel 55-åringer i utrulling],MATCH(Table3[[#This Row],[År]],Utrulling[År],0))","v":1},{"$f":"AT30*Table3[[#This Row],[Befolkning 55 år]]","v":75217},{"$f":"INDEX(Utrulling[Utrullingsbefolkning dette år],MATCH(Table3[[#This Row],[År]],Utrulling[År],0))","v":104830.82794307891},{"$f":"(1-AT30)*Table3[[#This Row],[Befolkning 55 år]]","v":0}]
[null,2025,{"$f":"IF(\n ISBLANK(fast_befolkning),\n IF(\n  ISBLANK(valgt_kommune),\n  IF(\n   ISBLANK(valgt_sykehus),\n   IF(OR(valgt_helseforetak=\"Alle\",ISBLANK(valgt_helseforetak)),\n      INDEX(hf[#Totals],1,MATCH(\"Hele\"&TEXT(Table3[[#This Row],[År]],\"#\"),hf[#Headers],0)),\n      INDEX(hf[],MATCH(valgt_helseforetak,alle_helseforetak,0),MATCH(\"Hele\"&TEXT(Table3[[#This Row],[År]],\"#\"),hf[#Headers],0))),\n      INDEX(lokalsykehus_befolkning[],MATCH(valgt_sykehus,alle_lokalsykehusområder,0),MATCH(\"Hele\"&TEXT(Table3[[#This Row],[År]],\"#\"),lokalsykehus_befolkning[#Headers],0))\n  ),\n  INDEX(hf_kommune[],MATCH(valgt_kommune,alle_kommuner,0),MATCH(TEXT(Table3[[#This Row],[År]],\"#\")&\"-tot\",hf_kommune[#Headers],0))\n ),\nfast_befolkning)","v":5497555},{"$f":"IF(\n ISBLANK(fast_befolkning),\n IF(\n  ISBLANK(valgt_kommune),\n  IF(\n   ISBLANK(valgt_sykehus),\n   IF(OR(valgt_helseforetak=\"Alle\",ISBLANK(valgt_helseforetak)),\n      INDEX(hf[#Totals],1,MATCH(TEXT(Table3[[#This Row],[År]],\"#\"),hf[#Headers],0)),\n      INDEX(hf[],MATCH(valgt_helseforetak,alle_helseforetak,0),MATCH(TEXT(Table3[[#This Row],[År]],\"#\"),hf[#Headers],0))),\n      INDEX(lokalsykehus_befolkning[],MATCH(valgt_sykehus,alle_lokalsykehusområder,0),MATCH(TEXT(Table3[[#This Row],[År]],\"#\"),lokalsykehus_befolkning[#Headers],0))\n  ),\n  INDEX(hf_kommune[],MATCH(valgt_kommune,alle_kommuner,0),MATCH(TEXT(Table3[[#This Row],[År]],\"#\"),hf_kommune[#Headers],0))\n ),\nfast_befolkning*INDEX(befolkningsfordeling[],1,MATCH(TEXT(Table3[[#This Row],[År]],\"#\"),befolkningsfordeling[#Headers],0)))","v":75959},null,null,0,{"$f":"1-Table3[[#This Row],[Andel til primær kolo]]","v":1},{"$f":"Table3[[#This Row],[Normal befolkning]]*inviterbare*Table3[[#This Row],[Andel til primær kolo]]","v":0},{"$f":"Table3[[#This Row],[Utrullingsbefolkning inklusjon]]*inviterbare","v":0},{"$f":"inviterbare*Table3[[#This Row],[Andel til iFOBT]]*Table3[[#This Row],[Normal befolkning]]","v":75199.41},96915.288467057893,0,0,0,{"$f":"ROUNDUP(SUM(Table3[[#This Row],[iFOBT utrulling runde 1]:[iFOBT runde 5 ]])/1000,0)*1000","v":173000},{"$f":"Table3[[#This Row],[Primær koloskopi   ]]*beregnet_deltakelse_kolo","v":0},{"$f":"Table3[[#This Row],[iFOBT utrulling runde 1]]*beregnet_deltakelse_ifobt*beregnet_positivitet_ifobt*andel_positive_til_kolo_ifobt","v":0},{"$f":"Table3[[#This Row],[iFOBT runde 1]]*beregnet_deltakelse_ifobt*beregnet_positivitet_ifobt*andel_positive_til_kolo_ifobt","v":2527.52736951},{"$f":"Table3[[#This Row],[iFOBT runde 2]]*beregnet_deltakelse_ifobt*beregnet_positivitet_ifobt*andel_positive_til_kolo_ifobt","v":3257.4197606662824},{"$f":"Table3[[#This Row],[iFOBT runde 3 ]]*beregnet_deltakelse_ifobt*beregnet_positivitet_ifobt*andel_positive_til_kolo_ifobt","v":0},{"$f":"Table3[[#This Row],[iFOBT runde 4 ]]*beregnet_deltakelse_ifobt*beregnet_positivitet_ifobt*andel_positive_til_kolo_ifobt","v":0},{"$f":"Table3[[#This Row],[iFOBT runde 5 ]]*beregnet_deltakelse_ifobt*beregnet_positivitet_ifobt*andel_positive_til_kolo_ifobt","v":0},{"$f":"kolo_per_inv_kolo*Table3[[#This Row],[Primær koloskopi   ]]","v":0},{"$f":"kolo_per_inv_ifobt*Table3[[#This Row],[iFOBT utrulling runde 1]]","v":0},{"$f":"kolo_per_inv_ifobt*Table3[[#This Row],[iFOBT runde 1]]","v":2756.3351103287996},{"$f":"kolo_per_inv_ifobt*Table3[[#This Row],[iFOBT runde 2]]","v":3552.3019705792299},{"$f":"kolo_per_inv_ifobt*Table3[[#This Row],[iFOBT runde 3 ]]","v":0},{"$f":"kolo_per_inv_ifobt*Table3[[#This Row],[iFOBT runde 4 ]]","v":0},{"$f":"kolo_per_inv_ifobt*Table3[[#This Row],[iFOBT runde 5 ]]","v":0},{"$f":"SUM(Table3[[#This Row],[iFOBT R2  ]:[iFOBT R5  ]])","v":3552.3019705792299},{"$f":"SUM(Table3[[#This Row],[Primær koloskopi    ]:[iFOBT R5  ]])","v":6308.637080908029},{"$f":"Q28*andel_avansert_adenom_kolo+SUM(R28:W28)*andel_avansert_adenom_ifobt","v":144.26421987470573},0,{"$f":"Table3[[#This Row],[Første gang]]+Table3[[#This Row],[Gjentak-ende]]","v":144.26421987470573},{"$f":"Table3[[#This Row],[Sum screening-koloskopier]]+Table3[[#This Row],[Totalt surveillance-koloskopier]]","v":6452.9013007827343},{"$f":"IF(SUM(Table3[Befolkning 55 år])>30000,ROUNDUP((Table3[[#This Row],[Sum screening-koloskopier]]+Table3[[#This Row],[Totalt surveillance-koloskopier]])/50,0)*50,ROUNDUP((Table3[[#This Row],[Sum screening-koloskopier]]+Table3[[#This Row],[Totalt surveillance-koloskopier]])/10,0)*10)","v":6500},{"$f":"(Table3[[#This Row],[Sum screening-koloskopier]]+Table3[[#This Row],[Totalt surveillance-koloskopier]])/undersokelser_per_rom","v":5.8662739098024854},{"$f":"IF(ISBLANK(Table3[[#This Row],[Skopirom]]),\"\",IF(Table3[[#This Row],[Skopirom]]<0.2,1,ROUND(Table3[[#This Row],[Skopirom]]+0.3,0)))","v":6},{"$f":"IF(Table3[[#This Row],[Hele rom, rundet opp hvis > 0,2]]-Table3[[#This Row],[Skopirom]]>0,Table3[[#This Row],[Hele rom, rundet opp hvis > 0,2]]-Table3[[#This Row],[Skopirom]],0)","v":0.13372609019751458},{"$f":"ROUNDUP(ifobt_per_invitasjon*SUM(Table3[[#This Row],[iFOBT utrulling runde 1]:[iFOBT runde 5 ]])/1000,0)*1000","v":184000},{"$f":"ROUNDUP(SUM(Table3[[#This Row],[iFOBT runde 1]:[iFOBT runde 5 ]])*deltakelse_ifobt/1000,0)*1000","v":100000},{"$f":"ROUNDUP((Table3[[#This Row],[Primær koloskopi   ]]+Table3[[#This Row],[iFOBT runde 1]])/1000,0)*1000*ikke_digital_post","v":45600},{"$f":"ROUNDUP(SUM(Table3[[#This Row],[iFOBT runde 1]:[iFOBT runde 5 ]])*påminnelse/1000,0)*1000*ikke_digital_post","v":52200},{"$f":"ROUNDUP((beregnet_deltakelse_ifobt-beregnet_positivitet_ifobt)*SUM(Table3[[#This Row],[iFOBT runde 1]:[iFOBT runde 5 ]])/1000,0)*1000*ikke_digital_post","v":54000},{"$f":"INDEX(Utrulling[Andel 55-åringer i utrulling],MATCH(Table3[[#This Row],[År]],Utrulling[År],0))","v":0},{"$f":"AT31*Table3[[#This Row],[Befolkning 55 år]]","v":0},{"$f":"INDEX(Utrulling[Utrullingsbefolkning dette år],MATCH(Table3[[#This Row],[År]],Utrulling[År],0))","v":0},{"$f":"(1-AT31)*Table3[[#This Row],[Befolkning 55 år]]","v":75959}]
[null,2026,{"$f":"IF(\n ISBLANK(fast_befolkning),\n IF(\n  ISBLANK(valgt_kommune),\n  IF(\n   ISBLANK(valgt_sykehus),\n   IF(OR(valgt_helseforetak=\"Alle\",ISBLANK(valgt_helseforetak)),\n      INDEX(hf[#Totals],1,MATCH(\"Hele\"&TEXT(Table3[[#This Row],[År]],\"#\"),hf[#Headers],0)),\n      INDEX(hf[],MATCH(valgt_helseforetak,alle_helseforetak,0),MATCH(\"Hele\"&TEXT(Table3[[#This Row],[År]],\"#\"),hf[#Headers],0))),\n      INDEX(lokalsykehus_befolkning[],MATCH(valgt_sykehus,alle_lokalsykehusområder,0),MATCH(\"Hele\"&TEXT(Table3[[#This Row],[År]],\"#\"),lokalsykehus_befolkning[#Headers],0))\n  ),\n  INDEX(hf_kommune[],MATCH(valgt_kommune,alle_kommuner,0),MATCH(TEXT(Table3[[#This Row],[År]],\"#\")&\"-tot\",hf_kommune[#Headers],0))\n ),\nfast_befolkning)","v":5523922},{"$f":"IF(\n ISBLANK(fast_befolkning),\n IF(\n  ISBLANK(valgt_kommune),\n  IF(\n   ISBLANK(valgt_sykehus),\n   IF(OR(valgt_helseforetak=\"Alle\",ISBLANK(valgt_helseforetak)),\n      INDEX(hf[#Totals],1,MATCH(TEXT(Table3[[#This Row],[År]],\"#\"),hf[#Headers],0)),\n      INDEX(hf[],MATCH(valgt_helseforetak,alle_helseforetak,0),MATCH(TEXT(Table3[[#This Row],[År]],\"#\"),hf[#Headers],0))),\n      INDEX(lokalsykehus_befolkning[],MATCH(valgt_sykehus,alle_lokalsykehusområder,0),MATCH(TEXT(Table3[[#This Row],[År]],\"#\"),lokalsykehus_befolkning[#Headers],0))\n  ),\n  INDEX(hf_kommune[],MATCH(valgt_kommune,alle_kommuner,0),MATCH(TEXT(Table3[[#This Row],[År]],\"#\"),hf_kommune[#Headers],0))\n ),\nfast_befolkning*INDEX(befolkningsfordeling[],1,MATCH(TEXT(Table3[[#This Row],[År]],\"#\"),befolkningsfordeling[#Headers],0)))","v":74460},null,null,0,{"$f":"1-Table3[[#This Row],[Andel til primær kolo]]","v":1},{"$f":"Table3[[#This Row],[Normal befolkning]]*inviterbare*Table3[[#This Row],[Andel til primær kolo]]","v":0},{"$f":"Table3[[#This Row],[Utrullingsbefolkning inklusjon]]*inviterbare","v":0},{"$f":"inviterbare*Table3[[#This Row],[Andel til iFOBT]]*Table3[[#This Row],[Normal befolkning]]","v":73715.399999999994},97180.809805323806,{"$f":"L30*(1-andel_reservasjon_ifobt_2gang)-T30","v":10609.791380641645},0,0,{"$f":"ROUNDUP(SUM(Table3[[#This Row],[iFOBT utrulling runde 1]:[iFOBT runde 5 ]])/1000,0)*1000","v":182000},{"$f":"Table3[[#This Row],[Primær koloskopi   ]]*beregnet_deltakelse_kolo","v":0},{"$f":"Table3[[#This Row],[iFOBT utrulling runde 1]]*beregnet_deltakelse_ifobt*beregnet_positivitet_ifobt*andel_positive_til_kolo_ifobt","v":0},{"$f":"Table3[[#This Row],[iFOBT runde 1]]*beregnet_deltakelse_ifobt*beregnet_positivitet_ifobt*andel_positive_til_kolo_ifobt","v":2477.6483093999991},{"$f":"Table3[[#This Row],[iFOBT runde 2]]*beregnet_deltakelse_ifobt*beregnet_positivitet_ifobt*andel_positive_til_kolo_ifobt","v":3266.3441983667381},{"$f":"Table3[[#This Row],[iFOBT runde 3 ]]*beregnet_deltakelse_ifobt*beregnet_positivitet_ifobt*andel_positive_til_kolo_ifobt","v":356.60569809474629},{"$f":"Table3[[#This Row],[iFOBT runde 4 ]]*beregnet_deltakelse_ifobt*beregnet_positivitet_ifobt*andel_positive_til_kolo_ifobt","v":0},{"$f":"Table3[[#This Row],[iFOBT runde 5 ]]*beregnet_deltakelse_ifobt*beregnet_positivitet_ifobt*andel_positive_til_kolo_ifobt","v":0},{"$f":"kolo_per_inv_kolo*Table3[[#This Row],[Primær koloskopi   ]]","v":0},{"$f":"kolo_per_inv_ifobt*Table3[[#This Row],[iFOBT utrulling runde 1]]","v":0},{"$f":"kolo_per_inv_ifobt*Table3[[#This Row],[iFOBT runde 1]]","v":2701.9406826719992},{"$f":"kolo_per_inv_ifobt*Table3[[#This Row],[iFOBT runde 2]]","v":3562.0343047452006},{"$f":"kolo_per_inv_ifobt*Table3[[#This Row],[iFOBT runde 3 ]]","v":388.88789813279698},{"$f":"kolo_per_inv_ifobt*Table3[[#This Row],[iFOBT runde 4 ]]","v":0},{"$f":"kolo_per_inv_ifobt*Table3[[#This Row],[iFOBT runde 5 ]]","v":0},{"$f":"SUM(Table3[[#This Row],[iFOBT R2  ]:[iFOBT R5  ]])","v":3950.9222028779977},{"$f":"SUM(Table3[[#This Row],[Primær koloskopi    ]:[iFOBT R5  ]])","v":6652.8628855499965},1253.7247679587524,0,{"$f":"Table3[[#This Row],[Første gang]]+Table3[[#This Row],[Gjentak-ende]]","v":1253.7247679587524},{"$f":"Table3[[#This Row],[Sum screening-koloskopier]]+Table3[[#This Row],[Totalt surveillance-koloskopier]]","v":7906.5876535087491},{"$f":"IF(SUM(Table3[Befolkning 55 år])>30000,ROUNDUP((Table3[[#This Row],[Sum screening-koloskopier]]+Table3[[#This Row],[Totalt surveillance-koloskopier]])/50,0)*50,ROUNDUP((Table3[[#This Row],[Sum screening-koloskopier]]+Table3[[#This Row],[Totalt surveillance-koloskopier]])/10,0)*10)","v":7950},{"$f":"(Table3[[#This Row],[Sum screening-koloskopier]]+Table3[[#This Row],[Totalt surveillance-koloskopier]])/undersokelser_per_rom","v":7.1878069577352264},{"$f":"IF(ISBLANK(Table3[[#This Row],[Skopirom]]),\"\",IF(Table3[[#This Row],[Skopirom]]<0.2,1,ROUND(Table3[[#This Row],[Skopirom]]+0.3,0)))","v":7},{"$f":"IF(Table3[[#This Row],[Hele rom, rundet opp hvis > 0,2]]-Table3[[#This Row],[Skopirom]]>0,Table3[[#This Row],[Hele rom, rundet opp hvis > 0,2]]-Table3[[#This Row],[Skopirom]],0)","v":0},{"$f":"ROUNDUP(ifobt_per_invitasjon*SUM(Table3[[#This Row],[iFOBT utrulling runde 1]:[iFOBT runde 5 ]])/1000,0)*1000","v":194000},{"$f":"ROUNDUP(SUM(Table3[[#This Row],[iFOBT runde 1]:[iFOBT runde 5 ]])*deltakelse_ifobt/1000,0)*1000","v":106000},{"$f":"ROUNDUP((Table3[[#This Row],[Primær koloskopi   ]]+Table3[[#This Row],[iFOBT runde 1]])/1000,0)*1000*ikke_digital_post","v":44400},{"$f":"ROUNDUP(SUM(Table3[[#This Row],[iFOBT runde 1]:[iFOBT runde 5 ]])*påminnelse/1000,0)*1000*ikke_digital_post","v":54600},{"$f":"ROUNDUP((beregnet_deltakelse_ifobt-beregnet_positivitet_ifobt)*SUM(Table3[[#This Row],[iFOBT runde 1]:[iFOBT runde 5 ]])/1000,0)*1000*ikke_digital_post","v":57000},{"$f":"INDEX(Utrulling[Andel 55-åringer i utrulling],MATCH(Table3[[#This Row],[År]],Utrulling[År],0))","v":0},{"$f":"AT32*Table3[[#This Row],[Befolkning 55 år]]","v":0},{"$f":"INDEX(Utrulling[Utrullingsbefolkning dette år],MATCH(Table3[[#This Row],[År]],Utrulling[År],0))","v":0},{"$f":"(1-AT32)*Table3[[#This Row],[Befolkning 55 år]]","v":74460}]
[null,2027,{"$f":"IF(\n ISBLANK(fast_befolkning),\n IF(\n  ISBLANK(valgt_kommune),\n  IF(\n   ISBLANK(valgt_sykehus),\n   IF(OR(valgt_helseforetak=\"Alle\",ISBLANK(valgt_helseforetak)),\n      INDEX(hf[#Totals],1,MATCH(\"Hele\"&TEXT(Table3[[#This Row],[År]],\"#\"),hf[#Headers],0)),\n      INDEX(hf[],MATCH(valgt_helseforetak,alle_helseforetak,0),MATCH(\"Hele\"&TEXT(Table3[[#This Row],[År]],\"#\"),hf[#Headers],0))),\n      INDEX(lokalsykehus_befolkning[],MATCH(valgt_sykehus,alle_lokalsykehusområder,0),MATCH(\"Hele\"&TEXT(Table3[[#This Row],[År]],\"#\"),lokalsykehus_befolkning[#Headers],0))\n  ),\n  INDEX(hf_kommune[],MATCH(valgt_kommune,alle_kommuner,0),MATCH(TEXT(Table3[[#This Row],[År]],\"#\")&\"-tot\",hf_kommune[#Headers],0))\n ),\nfast_befolkning)","v":5549889},{"$f":"IF(\n ISBLANK(fast_befolkning),\n IF(\n  ISBLANK(valgt_kommune),\n  IF(\n   ISBLANK(valgt_sykehus),\n   IF(OR(valgt_helseforetak=\"Alle\",ISBLANK(valgt_helseforetak)),\n      INDEX(hf[#Totals],1,MATCH(TEXT(Table3[[#This Row],[År]],\"#\"),hf[#Headers],0)),\n      INDEX(hf[],MATCH(valgt_helseforetak,alle_helseforetak,0),MATCH(TEXT(Table3[[#This Row],[År]],\"#\"),hf[#Headers],0))),\n      INDEX(lokalsykehus_befolkning[],MATCH(valgt_sykehus,alle_lokalsykehusområder,0),MATCH(TEXT(Table3[[#This Row],[År]],\"#\"),lokalsykehus_befolkning[#Headers],0))\n  ),\n  INDEX(hf_kommune[],MATCH(valgt_kommune,alle_kommuner,0),MATCH(TEXT(Table3[[#This Row],[År]],\"#\"),hf_kommune[#Headers],0))\n ),\nfast_befolkning*INDEX(befolkningsfordeling[],1,MATCH(TEXT(Table3[[#This Row],[År]],\"#\"),befolkningsfordeling[#Headers],0)))","v":75330},null,null,0,{"$f":"1-Table3[[#This Row],[Andel til primær kolo]]","v":1},{"$f":"Table3[[#This Row],[Normal befolkning]]*inviterbare*Table3[[#This Row],[Andel til primær kolo]]","v":0},{"$f":"Table3[[#This Row],[Utrullingsbefolkning inklusjon]]*inviterbare","v":0},{"$f":"inviterbare*Table3[[#This Row],[Andel til iFOBT]]*Table3[[#This Row],[Normal befolkning]]","v":74576.7},70415.900330489996,92204.139379385742,0,0,{"$f":"ROUNDUP(SUM(Table3[[#This Row],[iFOBT utrulling runde 1]:[iFOBT runde 5 ]])/1000,0)*1000","v":238000},{"$f":"Table3[[#This Row],[Primær koloskopi   ]]*beregnet_deltakelse_kolo","v":0},{"$f":"Table3[[#This Row],[iFOBT utrulling runde 1]]*beregnet_deltakelse_ifobt*beregnet_positivitet_ifobt*andel_positive_til_kolo_ifobt","v":0},{"$f":"Table3[[#This Row],[iFOBT runde 1]]*beregnet_deltakelse_ifobt*beregnet_positivitet_ifobt*andel_positive_til_kolo_ifobt","v":2506.5974636999995},{"$f":"Table3[[#This Row],[iFOBT runde 2]]*beregnet_deltakelse_ifobt*beregnet_positivitet_ifobt*andel_positive_til_kolo_ifobt","v":2366.7488260080991},{"$f":"Table3[[#This Row],[iFOBT runde 3 ]]*beregnet_deltakelse_ifobt*beregnet_positivitet_ifobt*andel_positive_til_kolo_ifobt","v":3099.0733286805335},{"$f":"Table3[[#This Row],[iFOBT runde 4 ]]*beregnet_deltakelse_ifobt*beregnet_positivitet_ifobt*andel_positive_til_kolo_ifobt","v":0},{"$f":"Table3[[#This Row],[iFOBT runde 5 ]]*beregnet_deltakelse_ifobt*beregnet_positivitet_ifobt*andel_positive_til_kolo_ifobt","v":0},{"$f":"kolo_per_inv_kolo*Table3[[#This Row],[Primær koloskopi   ]]","v":0},{"$f":"kolo_per_inv_ifobt*Table3[[#This Row],[iFOBT utrulling runde 1]]","v":0},{"$f":"kolo_per_inv_ifobt*Table3[[#This Row],[iFOBT runde 1]]","v":2733.5104972559993},{"$f":"kolo_per_inv_ifobt*Table3[[#This Row],[iFOBT runde 2]]","v":2581.0018776256743},{"$f":"kolo_per_inv_ifobt*Table3[[#This Row],[iFOBT runde 3 ]]","v":3379.6210194874029},{"$f":"kolo_per_inv_ifobt*Table3[[#This Row],[iFOBT runde 4 ]]","v":0},{"$f":"kolo_per_inv_ifobt*Table3[[#This Row],[iFOBT runde 5 ]]","v":0},{"$f":"SUM(Table3[[#This Row],[iFOBT R2  ]:[iFOBT R5  ]])","v":5960.6228971130768},{"$f":"SUM(Table3[[#This Row],[Primær koloskopi    ]:[iFOBT R5  ]])","v":8694.133394369077},1392.2470589209775,{"$f":"AG30*surveillance_6_av_3+AG28*surveillance_8_av_3","v":0},{"$f":"Table3[[#This Row],[Første gang]]+Table3[[#This Row],[Gjentak-ende]]","v":1392.2470589209775},{"$f":"Table3[[#This Row],[Sum screening-koloskopier]]+Table3[[#This Row],[Totalt surveillance-koloskopier]]","v":10086.380453290054},{"$f":"IF(SUM(Table3[Befolkning 55 år])>30000,ROUNDUP((Table3[[#This Row],[Sum screening-koloskopier]]+Table3[[#This Row],[Totalt surveillance-koloskopier]])/50,0)*50,ROUNDUP((Table3[[#This Row],[Sum screening-koloskopier]]+Table3[[#This Row],[Totalt surveillance-koloskopier]])/10,0)*10)","v":10100},{"$f":"(Table3[[#This Row],[Sum screening-koloskopier]]+Table3[[#This Row],[Totalt surveillance-koloskopier]])/undersokelser_per_rom","v":9.1694367757182302},{"$f":"IF(ISBLANK(Table3[[#This Row],[Skopirom]]),\"\",IF(Table3[[#This Row],[Skopirom]]<0.2,1,ROUND(Table3[[#This Row],[Skopirom]]+0.3,0)))","v":9},{"$f":"IF(Table3[[#This Row],[Hele rom, rundet opp hvis > 0,2]]-Table3[[#This Row],[Skopirom]]>0,Table3[[#This Row],[Hele rom, rundet opp hvis > 0,2]]-Table3[[#This Row],[Skopirom]],0)","v":0},{"$f":"ROUNDUP(ifobt_per_invitasjon*SUM(Table3[[#This Row],[iFOBT utrulling runde 1]:[iFOBT runde 5 ]])/1000,0)*1000","v":253000},{"$f":"ROUNDUP(SUM(Table3[[#This Row],[iFOBT runde 1]:[iFOBT runde 5 ]])*deltakelse_ifobt/1000,0)*1000","v":138000},{"$f":"ROUNDUP((Table3[[#This Row],[Primær koloskopi   ]]+Table3[[#This Row],[iFOBT runde 1]])/1000,0)*1000*ikke_digital_post","v":45000},{"$f":"ROUNDUP(SUM(Table3[[#This Row],[iFOBT runde 1]:[iFOBT runde 5 ]])*påminnelse/1000,0)*1000*ikke_digital_post","v":71400},{"$f":"ROUNDUP((beregnet_deltakelse_ifobt-beregnet_positivitet_ifobt)*SUM(Table3[[#This Row],[iFOBT runde 1]:[iFOBT runde 5 ]])/1000,0)*1000*ikke_digital_post","v":74400},{"$f":"INDEX(Utrulling[Andel 55-åringer i utrulling],MATCH(Table3[[#This Row],[År]],Utrulling[År],0))","v":0},{"$f":"AT33*Table3[[#This Row],[Befolkning 55 år]]","v":0},{"$f":"INDEX(Utrulling[Utrullingsbefolkning dette år],MATCH(Table3[[#This Row],[År]],Utrulling[År],0))","v":0},{"$f":"(1-AT33)*Table3[[#This Row],[Befolkning 55 år]]","v":75330}]
[null,2028,{"$f":"IF(\n ISBLANK(fast_befolkning),\n IF(\n  ISBLANK(valgt_kommune),\n  IF(\n   ISBLANK(valgt_sykehus),\n   IF(OR(valgt_helseforetak=\"Alle\",ISBLANK(valgt_helseforetak)),\n      INDEX(hf[#Totals],1,MATCH(\"Hele\"&TEXT(Table3[[#This Row],[År]],\"#\"),hf[#Headers],0)),\n      INDEX(hf[],MATCH(valgt_helseforetak,alle_helseforetak,0),MATCH(\"Hele\"&TEXT(Table3[[#This Row],[År]],\"#\"),hf[#Headers],0))),\n      INDEX(lokalsykehus_befolkning[],MATCH(valgt_sykehus,alle_lokalsykehusområder,0),MATCH(\"Hele\"&TEXT(Table3[[#This Row],[År]],\"#\"),lokalsykehus_befolkning[#Headers],0))\n  ),\n  INDEX(hf_kommune[],MATCH(valgt_kommune,alle_kommuner,0),MATCH(TEXT(Table3[[#This Row],[År]],\"#\")&\"-tot\",hf_kommune[#Headers],0))\n ),\nfast_befolkning)","v":5575492},{"$f":"IF(\n ISBLANK(fast_befolkning),\n IF(\n  ISBLANK(valgt_kommune),\n  IF(\n   ISBLANK(valgt_sykehus),\n   IF(OR(valgt_helseforetak=\"Alle\",ISBLANK(valgt_helseforetak)),\n      INDEX(hf[#Totals],1,MATCH(TEXT(Table3[[#This Row],[År]],\"#\"),hf[#Headers],0)),\n      INDEX(hf[],MATCH(valgt_helseforetak,alle_helseforetak,0),MATCH(TEXT(Table3[[#This Row],[År]],\"#\"),hf[#Headers],0))),\n      INDEX(lokalsykehus_befolkning[],MATCH(valgt_sykehus,alle_lokalsykehusområder,0),MATCH(TEXT(Table3[[#This Row],[År]],\"#\"),lokalsykehus_befolkning[#Headers],0))\n  ),\n  INDEX(hf_kommune[],MATCH(valgt_kommune,alle_kommuner,0),MATCH(TEXT(Table3[[#This Row],[År]],\"#\"),hf_kommune[#Headers],0))\n ),\nfast_befolkning*INDEX(befolkningsfordeling[],1,MATCH(TEXT(Table3[[#This Row],[År]],\"#\"),befolkningsfordeling[#Headers],0)))","v":75335},null,null,0,{"$f":"1-Table3[[#This Row],[Andel til primær kolo]]","v":1},{"$f":"Table3[[#This Row],[Normal befolkning]]*inviterbare*Table3[[#This Row],[Andel til primær kolo]]","v":0},{"$f":"Table3[[#This Row],[Utrullingsbefolkning inklusjon]]*inviterbare","v":0},{"$f":"inviterbare*Table3[[#This Row],[Andel til iFOBT]]*Table3[[#This Row],[Normal befolkning]]","v":74581.649999999994},69026.289690599995,92456.753459877204,{"$f":"M32*(1-andel_reservasjon_ifobt_3gang)-U32","v":10094.038811837274},0,{"$f":"ROUNDUP(SUM(Table3[[#This Row],[iFOBT utrulling runde 1]:[iFOBT runde 5 ]])/1000,0)*1000","v":247000},{"$f":"Table3[[#This Row],[Primær koloskopi   ]]*beregnet_deltakelse_kolo","v":0},{"$f":"Table3[[#This Row],[iFOBT utrulling runde 1]]*beregnet_deltakelse_ifobt*beregnet_positivitet_ifobt*andel_positive_til_kolo_ifobt","v":0},{"$f":"Table3[[#This Row],[iFOBT runde 1]]*beregnet_deltakelse_ifobt*beregnet_positivitet_ifobt*andel_positive_til_kolo_ifobt","v":2506.7638381499996},{"$f":"Table3[[#This Row],[iFOBT runde 2]]*beregnet_deltakelse_ifobt*beregnet_positivitet_ifobt*andel_positive_til_kolo_ifobt","v":2320.042622790756},{"$f":"Table3[[#This Row],[iFOBT runde 3 ]]*beregnet_deltakelse_ifobt*beregnet_positivitet_ifobt*andel_positive_til_kolo_ifobt","v":3107.5639405399324},{"$f":"Table3[[#This Row],[iFOBT runde 4 ]]*beregnet_deltakelse_ifobt*beregnet_positivitet_ifobt*andel_positive_til_kolo_ifobt","v":339.27073850466252},{"$f":"Table3[[#This Row],[iFOBT runde 5 ]]*beregnet_deltakelse_ifobt*beregnet_positivitet_ifobt*andel_positive_til_kolo_ifobt","v":0},{"$f":"kolo_per_inv_kolo*Table3[[#This Row],[Primær koloskopi   ]]","v":0},{"$f":"kolo_per_inv_ifobt*Table3[[#This Row],[iFOBT utrulling runde 1]]","v":0},{"$f":"kolo_per_inv_ifobt*Table3[[#This Row],[iFOBT runde 1]]","v":2733.6919329719994},{"$f":"kolo_per_inv_ifobt*Table3[[#This Row],[iFOBT runde 2]]","v":2530.067533906551},{"$f":"kolo_per_inv_ifobt*Table3[[#This Row],[iFOBT runde 3 ]]","v":3388.8802551572312},{"$f":"kolo_per_inv_ifobt*Table3[[#This Row],[iFOBT runde 4 ]]","v":369.98366851666361},{"$f":"kolo_per_inv_ifobt*Table3[[#This Row],[iFOBT runde 5 ]]","v":0},{"$f":"SUM(Table3[[#This Row],[iFOBT R2  ]:[iFOBT R5  ]])","v":6288.9314575804465},{"$f":"SUM(Table3[[#This Row],[Primær koloskopi    ]:[iFOBT R5  ]])","v":9022.6233905524441},2084.8949457155322,{"$f":"AG31*surveillance_6_av_3+AG29*surveillance_8_av_3+AG28*surveillance_9_av_3","v":21.63963298120586},{"$f":"Table3[[#This Row],[Første gang]]+Table3[[#This Row],[Gjentak-ende]]","v":2106.5345786967382},{"$f":"Table3[[#This Row],[Sum screening-koloskopier]]+Table3[[#This Row],[Totalt surveillance-koloskopier]]","v":11129.157969249183},{"$f":"IF(SUM(Table3[Befolkning 55 år])>30000,ROUNDUP((Table3[[#This Row],[Sum screening-koloskopier]]+Table3[[#This Row],[Totalt surveillance-koloskopier]])/50,0)*50,ROUNDUP((Table3[[#This Row],[Sum screening-koloskopier]]+Table3[[#This Row],[Totalt surveillance-koloskopier]])/10,0)*10)","v":11150},{"$f":"(Table3[[#This Row],[Sum screening-koloskopier]]+Table3[[#This Row],[Totalt surveillance-koloskopier]])/undersokelser_per_rom","v":10.117416335681076},{"$f":"IF(ISBLANK(Table3[[#This Row],[Skopirom]]),\"\",IF(Table3[[#This Row],[Skopirom]]<0.2,1,ROUND(Table3[[#This Row],[Skopirom]]+0.3,0)))","v":10},{"$f":"IF(Table3[[#This Row],[Hele rom, rundet opp hvis > 0,2]]-Table3[[#This Row],[Skopirom]]>0,Table3[[#This Row],[Hele rom, rundet opp hvis > 0,2]]-Table3[[#This Row],[Skopirom]],0)","v":0},{"$f":"ROUNDUP(ifobt_per_invitasjon*SUM(Table3[[#This Row],[iFOBT utrulling runde 1]:[iFOBT runde 5 ]])/1000,0)*1000","v":263000},{"$f":"ROUNDUP(SUM(Table3[[#This Row],[iFOBT runde 1]:[iFOBT runde 5 ]])*deltakelse_ifobt/1000,0)*1000","v":143000},{"$f":"ROUNDUP((Table3[[#This Row],[Primær koloskopi   ]]+Table3[[#This Row],[iFOBT runde 1]])/1000,0)*1000*ikke_digital_post","v":45000},{"$f":"ROUNDUP(SUM(Table3[[#This Row],[iFOBT runde 1]:[iFOBT runde 5 ]])*påminnelse/1000,0)*1000*ikke_digital_post","v":74400},{"$f":"ROUNDUP((beregnet_deltakelse_ifobt-beregnet_positivitet_ifobt)*SUM(Table3[[#This Row],[iFOBT runde 1]:[iFOBT runde 5 ]])/1000,0)*1000*ikke_digital_post","v":76800},{"$f":"INDEX(Utrulling[Andel 55-åringer i utrulling],MATCH(Table3[[#This Row],[År]],Utrulling[År],0))","v":0},{"$f":"AT34*Table3[[#This Row],[Befolkning 55 år]]","v":0},{"$f":"INDEX(Utrulling[Utrullingsbefolkning dette år],MATCH(Table3[[#This Row],[År]],Utrulling[År],0))","v":0},{"$f":"(1-AT34)*Table3[[#This Row],[Befolkning 55 år]]","v":75335}]
[null,2029,{"$f":"IF(\n ISBLANK(fast_befolkning),\n IF(\n  ISBLANK(valgt_kommune),\n  IF(\n   ISBLANK(valgt_sykehus),\n   IF(OR(valgt_helseforetak=\"Alle\",ISBLANK(valgt_helseforetak)),\n      INDEX(hf[#Totals],1,MATCH(\"Hele\"&TEXT(Table3[[#This Row],[År]],\"#\"),hf[#Headers],0)),\n      INDEX(hf[],MATCH(valgt_helseforetak,alle_helseforetak,0),MATCH(\"Hele\"&TEXT(Table3[[#This Row],[År]],\"#\"),hf[#Headers],0))),\n      INDEX(lokalsykehus_befolkning[],MATCH(valgt_sykehus,alle_lokalsykehusområder,0),MATCH(\"Hele\"&TEXT(Table3[[#This Row],[År]],\"#\"),lokalsykehus_befolkning[#Headers],0))\n  ),\n  INDEX(hf_kommune[],MATCH(valgt_kommune,alle_kommuner,0),MATCH(TEXT(Table3[[#This Row],[År]],\"#\")&\"-tot\",hf_kommune[#Headers],0))\n ),\nfast_befolkning)","v":5600752},{"$f":"IF(\n ISBLANK(fast_befolkning),\n IF(\n  ISBLANK(valgt_kommune),\n  IF(\n   ISBLANK(valgt_sykehus),\n   IF(OR(valgt_helseforetak=\"Alle\",ISBLANK(valgt_helseforetak)),\n      INDEX(hf[#Totals],1,MATCH(TEXT(Table3[[#This Row],[År]],\"#\"),hf[#Headers],0)),\n      INDEX(hf[],MATCH(valgt_helseforetak,alle_helseforetak,0),MATCH(TEXT(Table3[[#This Row],[År]],\"#\"),hf[#Headers],0))),\n      INDEX(lokalsykehus_befolkning[],MATCH(valgt_sykehus,alle_lokalsykehusområder,0),MATCH(TEXT(Table3[[#This Row],[År]],\"#\"),lokalsykehus_befolkning[#Headers],0))\n  ),\n  INDEX(hf_kommune[],MATCH(valgt_kommune,alle_kommuner,0),MATCH(TEXT(Table3[[#This Row],[År]],\"#\"),hf_kommune[#Headers],0))\n ),\nfast_befolkning*INDEX(befolkningsfordeling[],1,MATCH(TEXT(Table3[[#This Row],[År]],\"#\"),befolkningsfordeling[#Headers],0)))","v":73014},null,null,0,{"$f":"1-Table3[[#This Row],[Andel til primær kolo]]","v":1},{"$f":"Table3[[#This Row],[Normal befolkning]]*inviterbare*Table3[[#This Row],[Andel til primær kolo]]","v":0},{"$f":"Table3[[#This Row],[Utrullingsbefolkning inklusjon]]*inviterbare","v":0},{"$f":"inviterbare*Table3[[#This Row],[Andel til iFOBT]]*Table3[[#This Row],[Normal befolkning]]","v":72283.86},69832.801536299987,66992.912999524546,87722.003960014423,0,{"$f":"ROUNDUP(SUM(Table3[[#This Row],[iFOBT utrulling runde 1]:[iFOBT runde 5 ]])/1000,0)*1000","v":297000},{"$f":"Table3[[#This Row],[Primær koloskopi   ]]*beregnet_deltakelse_kolo","v":0},{"$f":"Table3[[#This Row],[iFOBT utrulling runde 1]]*beregnet_deltakelse_ifobt*beregnet_positivitet_ifobt*andel_positive_til_kolo_ifobt","v":0},{"$f":"Table3[[#This Row],[iFOBT runde 1]]*beregnet_deltakelse_ifobt*beregnet_positivitet_ifobt*andel_positive_til_kolo_ifobt","v":2429.5328184599998},{"$f":"Table3[[#This Row],[iFOBT runde 2]]*beregnet_deltakelse_ifobt*beregnet_positivitet_ifobt*andel_positive_til_kolo_ifobt","v":2347.1502924365786},{"$f":"Table3[[#This Row],[iFOBT runde 3 ]]*beregnet_deltakelse_ifobt*beregnet_positivitet_ifobt*andel_positive_til_kolo_ifobt","v":2251.6987988270189},{"$f":"Table3[[#This Row],[iFOBT runde 4 ]]*beregnet_deltakelse_ifobt*beregnet_positivitet_ifobt*andel_positive_til_kolo_ifobt","v":2948.4242751000443},{"$f":"Table3[[#This Row],[iFOBT runde 5 ]]*beregnet_deltakelse_ifobt*beregnet_positivitet_ifobt*andel_positive_til_kolo_ifobt","v":0},{"$f":"kolo_per_inv_kolo*Table3[[#This Row],[Primær koloskopi   ]]","v":0},{"$f":"kolo_per_inv_ifobt*Table3[[#This Row],[iFOBT utrulling runde 1]]","v":0},{"$f":"kolo_per_inv_ifobt*Table3[[#This Row],[iFOBT runde 1]]","v":2649.4694736047995},{"$f":"kolo_per_inv_ifobt*Table3[[#This Row],[iFOBT runde 2]]","v":2559.6291610150479},{"$f":"kolo_per_inv_ifobt*Table3[[#This Row],[iFOBT runde 3 ]]","v":2455.5367953524124},{"$f":"kolo_per_inv_ifobt*Table3[[#This Row],[iFOBT runde 4 ]]","v":3215.334262109101},{"$f":"kolo_per_inv_ifobt*Table3[[#This Row],[iFOBT runde 5 ]]","v":0},{"$f":"SUM(Table3[[#This Row],[iFOBT R2  ]:[iFOBT R5  ]])","v":8230.5002184765617},{"$f":"SUM(Table3[[#This Row],[Primær koloskopi    ]:[iFOBT R5  ]])","v":10879.969692081362},2198.6555933924787,188.05871519381284,{"$f":"Table3[[#This Row],[Første gang]]+Table3[[#This Row],[Gjentak-ende]]","v":2386.7143085862917},{"$f":"Table3[[#This Row],[Sum screening-koloskopier]]+Table3[[#This Row],[Totalt surveillance-koloskopier]]","v":13266.684000667654},{"$f":"IF(SUM(Table3[Befolkning 55 år])>30000,ROUNDUP((Table3[[#This Row],[Sum screening-koloskopier]]+Table3[[#This Row],[Totalt surveillance-koloskopier]])/50,0)*50,ROUNDUP((Table3[[#This Row],[Sum screening-koloskopier]]+Table3[[#This Row],[Totalt surveillance-koloskopier]])/10,0)*10)","v":13300},{"$f":"(Table3[[#This Row],[Sum screening-koloskopier]]+Table3[[#This Row],[Totalt surveillance-koloskopier]])/undersokelser_per_rom","v":12.060621818788777},{"$f":"IF(ISBLANK(Table3[[#This Row],[Skopirom]]),\"\",IF(Table3[[#This Row],[Skopirom]]<0.2,1,ROUND(Table3[[#This Row],[Skopirom]]+0.3,0)))","v":12},{"$f":"IF(Table3[[#This Row],[Hele rom, rundet opp hvis > 0,2]]-Table3[[#This Row],[Skopirom]]>0,Table3[[#This Row],[Hele rom, rundet opp hvis > 0,2]]-Table3[[#This Row],[Skopirom]],0)","v":0},{"$f":"ROUNDUP(ifobt_per_invitasjon*SUM(Table3[[#This Row],[iFOBT utrulling runde 1]:[iFOBT runde 5 ]])/1000,0)*1000","v":317000},{"$f":"ROUNDUP(SUM(Table3[[#This Row],[iFOBT runde 1]:[iFOBT runde 5 ]])*deltakelse_ifobt/1000,0)*1000","v":173000},{"$f":"ROUNDUP((Table3[[#This Row],[Primær koloskopi   ]]+Table3[[#This Row],[iFOBT runde 1]])/1000,0)*1000*ikke_digital_post","v":43800},{"$f":"ROUNDUP(SUM(Table3[[#This Row],[iFOBT runde 1]:[iFOBT runde 5 ]])*påminnelse/1000,0)*1000*ikke_digital_post","v":89400},{"$f":"ROUNDUP((beregnet_deltakelse_ifobt-beregnet_positivitet_ifobt)*SUM(Table3[[#This Row],[iFOBT runde 1]:[iFOBT runde 5 ]])/1000,0)*1000*ikke_digital_post","v":93000},{"$f":"INDEX(Utrulling[Andel 55-åringer i utrulling],MATCH(Table3[[#This Row],[År]],Utrulling[År],0))","v":0},{"$f":"AT35*Table3[[#This Row],[Befolkning 55 år]]","v":0},{"$f":"INDEX(Utrulling[Utrullingsbefolkning dette år],MATCH(Table3[[#This Row],[År]],Utrulling[År],0))","v":0},{"$f":"(1-AT35)*Table3[[#This Row],[Befolkning 55 år]]","v":73014}]
[null,2030,{"$f":"IF(\n ISBLANK(fast_befolkning),\n IF(\n  ISBLANK(valgt_kommune),\n  IF(\n   ISBLANK(valgt_sykehus),\n   IF(OR(valgt_helseforetak=\"Alle\",ISBLANK(valgt_helseforetak)),\n      INDEX(hf[#Totals],1,MATCH(\"Hele\"&TEXT(Table3[[#This Row],[År]],\"#\"),hf[#Headers],0)),\n      INDEX(hf[],MATCH(valgt_helseforetak,alle_helseforetak,0),MATCH(\"Hele\"&TEXT(Table3[[#This Row],[År]],\"#\"),hf[#Headers],0))),\n      INDEX(lokalsykehus_befolkning[],MATCH(valgt_sykehus,alle_lokalsykehusområder,0),MATCH(\"Hele\"&TEXT(Table3[[#This Row],[År]],\"#\"),lokalsykehus_befolkning[#Headers],0))\n  ),\n  INDEX(hf_kommune[],MATCH(valgt_kommune,alle_kommuner,0),MATCH(TEXT(Table3[[#This Row],[År]],\"#\")&\"-tot\",hf_kommune[#Headers],0))\n ),\nfast_befolkning)","v":5625562},{"$f":"IF(\n ISBLANK(fast_befolkning),\n IF(\n  ISBLANK(valgt_kommune),\n  IF(\n   ISBLANK(valgt_sykehus),\n   IF(OR(valgt_helseforetak=\"Alle\",ISBLANK(valgt_helseforetak)),\n      INDEX(hf[#Totals],1,MATCH(TEXT(Table3[[#This Row],[År]],\"#\"),hf[#Headers],0)),\n      INDEX(hf[],MATCH(valgt_helseforetak,alle_helseforetak,0),MATCH(TEXT(Table3[[#This Row],[År]],\"#\"),hf[#Headers],0))),\n      INDEX(lokalsykehus_befolkning[],MATCH(valgt_sykehus,alle_lokalsykehusområder,0),MATCH(TEXT(Table3[[#This Row],[År]],\"#\"),lokalsykehus_befolkning[#Headers],0))\n  ),\n  INDEX(hf_kommune[],MATCH(valgt_kommune,alle_kommuner,0),MATCH(TEXT(Table3[[#This Row],[År]],\"#\"),hf_kommune[#Headers],0))\n ),\nfast_befolkning*INDEX(befolkningsfordeling[],1,MATCH(TEXT(Table3[[#This Row],[År]],\"#\"),befolkningsfordeling[#Headers],0)))","v":72921},null,null,0,{"$f":"1-Table3[[#This Row],[Andel til primær kolo]]","v":1},{"$f":"Table3[[#This Row],[Normal befolkning]]*inviterbare*Table3[[#This Row],[Andel til primær kolo]]","v":0},{"$f":"Table3[[#This Row],[Utrullingsbefolkning inklusjon]]*inviterbare","v":0},{"$f":"inviterbare*Table3[[#This Row],[Andel til iFOBT]]*Table3[[#This Row],[Normal befolkning]]","v":72191.789999999994},69837.436661849992,65670.852722450232,87962.338217439115,{"$f":"N34*(1-andel_reservasjon_ifobt_3gang)-V34","v":9603.3574911550513},{"$f":"ROUNDUP(SUM(Table3[[#This Row],[iFOBT utrulling runde 1]:[iFOBT runde 5 ]])/1000,0)*1000","v":306000},{"$f":"Table3[[#This Row],[Primær koloskopi   ]]*beregnet_deltakelse_kolo","v":0},{"$f":"Table3[[#This Row],[iFOBT utrulling runde 1]]*beregnet_deltakelse_ifobt*beregnet_positivitet_ifobt*andel_positive_til_kolo_ifobt","v":0},{"$f":"Table3[[#This Row],[iFOBT runde 1]]*beregnet_deltakelse_ifobt*beregnet_positivitet_ifobt*andel_positive_til_kolo_ifobt","v":2426.4382536899993},{"$f":"Table3[[#This Row],[iFOBT runde 2]]*beregnet_deltakelse_ifobt*beregnet_positivitet_ifobt*andel_positive_til_kolo_ifobt","v":2347.3060836414393},{"$f":"Table3[[#This Row],[iFOBT runde 3 ]]*beregnet_deltakelse_ifobt*beregnet_positivitet_ifobt*andel_positive_til_kolo_ifobt","v":2207.2630308542743},{"$f":"Table3[[#This Row],[iFOBT runde 4 ]]*beregnet_deltakelse_ifobt*beregnet_positivitet_ifobt*andel_positive_til_kolo_ifobt","v":2956.5021498263459},{"$f":"Table3[[#This Row],[iFOBT runde 5 ]]*beregnet_deltakelse_ifobt*beregnet_positivitet_ifobt*andel_positive_til_kolo_ifobt","v":322.77844863521238},{"$f":"kolo_per_inv_kolo*Table3[[#This Row],[Primær koloskopi   ]]","v":0},{"$f":"kolo_per_inv_ifobt*Table3[[#This Row],[iFOBT utrulling runde 1]]","v":0},{"$f":"kolo_per_inv_ifobt*Table3[[#This Row],[iFOBT runde 1]]","v":2646.0947692871991},{"$f":"kolo_per_inv_ifobt*Table3[[#This Row],[iFOBT runde 2]]","v":2559.7990554237172},{"$f":"kolo_per_inv_ifobt*Table3[[#This Row],[iFOBT runde 3 ]]","v":2407.0784210158195},{"$f":"kolo_per_inv_ifobt*Table3[[#This Row],[iFOBT runde 4 ]]","v":3224.143397073783},{"$f":"kolo_per_inv_ifobt*Table3[[#This Row],[iFOBT runde 5 ]]","v":351.9983924064},{"$f":"SUM(Table3[[#This Row],[iFOBT R2  ]:[iFOBT R5  ]])","v":8543.0192659197201},{"$f":"SUM(Table3[[#This Row],[Primær koloskopi    ]:[iFOBT R5  ]])","v":11189.11403520692},2873.2600304672633,331.46164573164651,{"$f":"Table3[[#This Row],[Første gang]]+Table3[[#This Row],[Gjentak-ende]]","v":3204.7216761989098},{"$f":"Table3[[#This Row],[Sum screening-koloskopier]]+Table3[[#This Row],[Totalt surveillance-koloskopier]]","v":14393.835711405829},{"$f":"IF(SUM(Table3[Befolkning 55 år])>30000,ROUNDUP((Table3[[#This Row],[Sum screening-koloskopier]]+Table3[[#This Row],[Totalt surveillance-koloskopier]])/50,0)*50,ROUNDUP((Table3[[#This Row],[Sum screening-koloskopier]]+Table3[[#This Row],[Totalt surveillance-koloskopier]])/10,0)*10)","v":14400},{"$f":"(Table3[[#This Row],[Sum screening-koloskopier]]+Table3[[#This Row],[Totalt surveillance-koloskopier]])/undersokelser_per_rom","v":13.085305192187118},{"$f":"IF(ISBLANK(Table3[[#This Row],[Skopirom]]),\"\",IF(Table3[[#This Row],[Skopirom]]<0.2,1,ROUND(Table3[[#This Row],[Skopirom]]+0.3,0)))","v":13},{"$f":"IF(Table3[[#This Row],[Hele rom, rundet opp hvis > 0,2]]-Table3[[#This Row],[Skopirom]]>0,Table3[[#This Row],[Hele rom, rundet opp hvis > 0,2]]-Table3[[#This Row],[Skopirom]],0)","v":0},{"$f":"ROUNDUP(ifobt_per_invitasjon*SUM(Table3[[#This Row],[iFOBT utrulling runde 1]:[iFOBT runde 5 ]])/1000,0)*1000","v":326000},{"$f":"ROUNDUP(SUM(Table3[[#This Row],[iFOBT runde 1]:[iFOBT runde 5 ]])*deltakelse_ifobt/1000,0)*1000","v":178000},{"$f":"ROUNDUP((Table3[[#This Row],[Primær koloskopi   ]]+Table3[[#This Row],[iFOBT runde 1]])/1000,0)*1000*ikke_digital_post","v":43800},{"$f":"ROUNDUP(SUM(Table3[[#This Row],[iFOBT runde 1]:[iFOBT runde 5 ]])*påminnelse/1000,0)*1000*ikke_digital_post","v":91800},{"$f":"ROUNDUP((beregnet_deltakelse_ifobt-beregnet_positivitet_ifobt)*SUM(Table3[[#This Row],[iFOBT runde 1]:[iFOBT runde 5 ]])/1000,0)*1000*ikke_digital_post","v":95400},{"$f":"INDEX(Utrulling[Andel 55-åringer i utrulling],MATCH(Table3[[#This Row],[År]],Utrulling[År],0))","v":0},{"$f":"AT36*Table3[[#This Row],[Befolkning 55 år]]","v":0},{"$f":"INDEX(Utrulling[Utrullingsbefolkning dette år],MATCH(Table3[[#This Row],[År]],Utrulling[År],0))","v":0},{"$f":"(1-AT36)*Table3[[#This Row],[Befolkning 55 år]]","v":72921}]
[null,2031,{"$f":"IF(\n ISBLANK(fast_befolkning),\n IF(\n  ISBLANK(valgt_kommune),\n  IF(\n   ISBLANK(valgt_sykehus),\n   IF(OR(valgt_helseforetak=\"Alle\",ISBLANK(valgt_helseforetak)),\n      INDEX(hf[#Totals],1,MATCH(\"Hele\"&TEXT(Table3[[#This Row],[År]],\"#\"),hf[#Headers],0)),\n      INDEX(hf[],MATCH(valgt_helseforetak,alle_helseforetak,0),MATCH(\"Hele\"&TEXT(Table3[[#This Row],[År]],\"#\"),hf[#Headers],0))),\n      INDEX(lokalsykehus_befolkning[],MATCH(valgt_sykehus,alle_lokalsykehusområder,0),MATCH(\"Hele\"&TEXT(Table3[[#This Row],[År]],\"#\"),lokalsykehus_befolkning[#Headers],0))\n  ),\n  INDEX(hf_kommune[],MATCH(valgt_kommune,alle_kommuner,0),MATCH(TEXT(Table3[[#This Row],[År]],\"#\")&\"-tot\",hf_kommune[#Headers],0))\n ),\nfast_befolkning)","v":5649887},{"$f":"IF(\n ISBLANK(fast_befolkning),\n IF(\n  ISBLANK(valgt_kommune),\n  IF(\n   ISBLANK(valgt_sykehus),\n   IF(OR(valgt_helseforetak=\"Alle\",ISBLANK(valgt_helseforetak)),\n      INDEX(hf[#Totals],1,MATCH(TEXT(Table3[[#This Row],[År]],\"#\"),hf[#Headers],0)),\n      INDEX(hf[],MATCH(valgt_helseforetak,alle_helseforetak,0),MATCH(TEXT(Table3[[#This Row],[År]],\"#\"),hf[#Headers],0))),\n      INDEX(lokalsykehus_befolkning[],MATCH(valgt_sykehus,alle_lokalsykehusområder,0),MATCH(TEXT(Table3[[#This Row],[År]],\"#\"),lokalsykehus_befolkning[#Headers],0))\n  ),\n  INDEX(hf_kommune[],MATCH(valgt_kommune,alle_kommuner,0),MATCH(TEXT(Table3[[#This Row],[År]],\"#\"),hf_kommune[#Headers],0))\n ),\nfast_befolkning*INDEX(befolkningsfordeling[],1,MATCH(TEXT(Table3[[#This Row],[År]],\"#\"),befolkningsfordeling[#Headers],0)))","v":70182},null,null,0,{"$f":"1-Table3[[#This Row],[Andel til primær kolo]]","v":1},{"$f":"Table3[[#This Row],[Normal befolkning]]*inviterbare*Table3[[#This Row],[Andel til primær kolo]]","v":0},{"$f":"Table3[[#This Row],[Utrullingsbefolkning inklusjon]]*inviterbare","v":0},{"$f":"inviterbare*Table3[[#This Row],[Andel til iFOBT]]*Table3[[#This Row],[Normal befolkning]]","v":69480.179999999993},67685.811381539999,66438.15922081891,63736.320505704651,83457.74962551416,{"$f":"ROUNDUP(SUM(Table3[[#This Row],[iFOBT utrulling runde 1]:[iFOBT runde 5 ]])/1000,0)*1000","v":351000},{"$f":"Table3[[#This Row],[Primær koloskopi   ]]*beregnet_deltakelse_kolo","v":0},{"$f":"Table3[[#This Row],[iFOBT utrulling runde 1]]*beregnet_deltakelse_ifobt*beregnet_positivitet_ifobt*andel_positive_til_kolo_ifobt","v":0},{"$f":"Table3[[#This Row],[iFOBT runde 1]]*beregnet_deltakelse_ifobt*beregnet_positivitet_ifobt*andel_positive_til_kolo_ifobt","v":2335.2983299799994},{"$f":"Table3[[#This Row],[iFOBT runde 2]]*beregnet_deltakelse_ifobt*beregnet_positivitet_ifobt*andel_positive_til_kolo_ifobt","v":2274.9878063449405},{"$f":"Table3[[#This Row],[iFOBT runde 3 ]]*beregnet_deltakelse_ifobt*beregnet_positivitet_ifobt*andel_positive_til_kolo_ifobt","v":2233.0529695709442},{"$f":"Table3[[#This Row],[iFOBT runde 4 ]]*beregnet_deltakelse_ifobt*beregnet_positivitet_ifobt*andel_positive_til_kolo_ifobt","v":2142.2414685172384},{"$f":"Table3[[#This Row],[iFOBT runde 5 ]]*beregnet_deltakelse_ifobt*beregnet_positivitet_ifobt*andel_positive_til_kolo_ifobt","v":2805.0984226631558},{"$f":"kolo_per_inv_kolo*Table3[[#This Row],[Primær koloskopi   ]]","v":0},{"$f":"kolo_per_inv_ifobt*Table3[[#This Row],[iFOBT utrulling runde 1]]","v":0},{"$f":"kolo_per_inv_ifobt*Table3[[#This Row],[iFOBT runde 1]]","v":2546.7042840623994},{"$f":"kolo_per_inv_ifobt*Table3[[#This Row],[iFOBT runde 2]]","v":2480.9340709193248},{"$f":"kolo_per_inv_ifobt*Table3[[#This Row],[iFOBT runde 3 ]]","v":2435.2030278689454},{"$f":"kolo_per_inv_ifobt*Table3[[#This Row],[iFOBT runde 4 ]]","v":2336.1706961935361},{"$f":"kolo_per_inv_ifobt*Table3[[#This Row],[iFOBT runde 5 ]]","v":3059.0336482937155},{"$f":"SUM(Table3[[#This Row],[iFOBT R2  ]:[iFOBT R5  ]])","v":10311.341443275522},{"$f":"SUM(Table3[[#This Row],[Primær koloskopi    ]:[iFOBT R5  ]])","v":12858.045727337922},2981.8202668507206,1381.6462395694502,{"$f":"Table3[[#This Row],[Første gang]]+Table3[[#This Row],[Gjentak-ende]]","v":4363.4665064201708},{"$f":"Table3[[#This Row],[Sum screening-koloskopier]]+Table3[[#This Row],[Totalt surveillance-koloskopier]]","v":17221.512233758091},{"$f":"IF(SUM(Table3[Befolkning 55 år])>30000,ROUNDUP((Table3[[#This Row],[Sum screening-koloskopier]]+Table3[[#This Row],[Totalt surveillance-koloskopier]])/50,0)*50,ROUNDUP((Table3[[#This Row],[Sum screening-koloskopier]]+Table3[[#This Row],[Totalt surveillance-koloskopier]])/10,0)*10)","v":17250},{"$f":"(Table3[[#This Row],[Sum screening-koloskopier]]+Table3[[#This Row],[Totalt surveillance-koloskopier]])/undersokelser_per_rom","v":15.655920212507356},{"$f":"IF(ISBLANK(Table3[[#This Row],[Skopirom]]),\"\",IF(Table3[[#This Row],[Skopirom]]<0.2,1,ROUND(Table3[[#This Row],[Skopirom]]+0.3,0)))","v":16},{"$f":"IF(Table3[[#This Row],[Hele rom, rundet opp hvis > 0,2]]-Table3[[#This Row],[Skopirom]]>0,Table3[[#This Row],[Hele rom, rundet opp hvis > 0,2]]-Table3[[#This Row],[Skopirom]],0)","v":0.34407978749264423},{"$f":"ROUNDUP(ifobt_per_invitasjon*SUM(Table3[[#This Row],[iFOBT utrulling runde 1]:[iFOBT runde 5 ]])/1000,0)*1000","v":374000},{"$f":"ROUNDUP(SUM(Table3[[#This Row],[iFOBT runde 1]:[iFOBT runde 5 ]])*deltakelse_ifobt/1000,0)*1000","v":204000},{"$f":"ROUNDUP((Table3[[#This Row],[Primær koloskopi   ]]+Table3[[#This Row],[iFOBT runde 1]])/1000,0)*1000*ikke_digital_post","v":42000},{"$f":"ROUNDUP(SUM(Table3[[#This Row],[iFOBT runde 1]:[iFOBT runde 5 ]])*påminnelse/1000,0)*1000*ikke_digital_post","v":105600},{"$f":"ROUNDUP((beregnet_deltakelse_ifobt-beregnet_positivitet_ifobt)*SUM(Table3[[#This Row],[iFOBT runde 1]:[iFOBT runde 5 ]])/1000,0)*1000*ikke_digital_post","v":109800},{"$f":"INDEX(Utrulling[Andel 55-åringer i utrulling],MATCH(Table3[[#This Row],[År]],Utrulling[År],0))","v":0},{"$f":"AT37*Table3[[#This Row],[Befolkning 55 år]]","v":0},{"$f":"INDEX(Utrulling[Utrullingsbefolkning dette år],MATCH(Table3[[#This Row],[År]],Utrulling[År],0))","v":0},{"$f":"(1-AT37)*Table3[[#This Row],[Befolkning 55 år]]","v":70182}]
[null,2032,{"$f":"IF(\n ISBLANK(fast_befolkning),\n IF(\n  ISBLANK(valgt_kommune),\n  IF(\n   ISBLANK(valgt_sykehus),\n   IF(OR(valgt_helseforetak=\"Alle\",ISBLANK(valgt_helseforetak)),\n      INDEX(hf[#Totals],1,MATCH(\"Hele\"&TEXT(Table3[[#This Row],[År]],\"#\"),hf[#Headers],0)),\n      INDEX(hf[],MATCH(valgt_helseforetak,alle_helseforetak,0),MATCH(\"Hele\"&TEXT(Table3[[#This Row],[År]],\"#\"),hf[#Headers],0))),\n      INDEX(lokalsykehus_befolkning[],MATCH(valgt_sykehus,alle_lokalsykehusområder,0),MATCH(\"Hele\"&TEXT(Table3[[#This Row],[År]],\"#\"),lokalsykehus_befolkning[#Headers],0))\n  ),\n  INDEX(hf_kommune[],MATCH(valgt_kommune,alle_kommuner,0),MATCH(TEXT(Table3[[#This Row],[År]],\"#\")&\"-tot\",hf_kommune[#Headers],0))\n ),\nfast_befolkning)","v":5673571},{"$f":"IF(\n ISBLANK(fast_befolkning),\n IF(\n  ISBLANK(valgt_kommune),\n  IF(\n   ISBLANK(valgt_sykehus),\n   IF(OR(valgt_helseforetak=\"Alle\",ISBLANK(valgt_helseforetak)),\n      INDEX(hf[#Totals],1,MATCH(TEXT(Table3[[#This Row],[År]],\"#\"),hf[#Headers],0)),\n      INDEX(hf[],MATCH(valgt_helseforetak,alle_helseforetak,0),MATCH(TEXT(Table3[[#This Row],[År]],\"#\"),hf[#Headers],0))),\n      INDEX(lokalsykehus_befolkning[],MATCH(valgt_sykehus,alle_lokalsykehusområder,0),MATCH(TEXT(Table3[[#This Row],[År]],\"#\"),lokalsykehus_befolkning[#Headers],0))\n  ),\n  INDEX(hf_kommune[],MATCH(valgt_kommune,alle_kommuner,0),MATCH(TEXT(Table3[[#This Row],[År]],\"#\"),hf_kommune[#Headers],0))\n ),\nfast_befolkning*INDEX(befolkningsfordeling[],1,MATCH(TEXT(Table3[[#This Row],[År]],\"#\"),befolkningsfordeling[#Headers],0)))","v":68563},null,null,0,{"$f":"1-Table3[[#This Row],[Andel til primær kolo]]","v":1},{"$f":"Table3[[#This Row],[Normal befolkning]]*inviterbare*Table3[[#This Row],[Andel til primær kolo]]","v":0},{"$f":"Table3[[#This Row],[Utrullingsbefolkning inklusjon]]*inviterbare","v":0},{"$f":"inviterbare*Table3[[#This Row],[Andel til iFOBT]]*Table3[[#This Row],[Normal befolkning]]","v":67877.37},67599.598046309999,66442.569028280806,62478.526900759207,83686.400994351177,{"$f":"ROUNDUP(SUM(Table3[[#This Row],[iFOBT utrulling runde 1]:[iFOBT runde 5 ]])/1000,0)*1000","v":349000},{"$f":"Table3[[#This Row],[Primær koloskopi   ]]*beregnet_deltakelse_kolo","v":0},{"$f":"Table3[[#This Row],[iFOBT utrulling runde 1]]*beregnet_deltakelse_ifobt*beregnet_positivitet_ifobt*andel_positive_til_kolo_ifobt","v":0},{"$f":"Table3[[#This Row],[iFOBT runde 1]]*beregnet_deltakelse_ifobt*beregnet_positivitet_ifobt*andel_positive_til_kolo_ifobt","v":2281.4262830699995},{"$f":"Table3[[#This Row],[iFOBT runde 2]]*beregnet_deltakelse_ifobt*beregnet_positivitet_ifobt*andel_positive_til_kolo_ifobt","v":2272.0900899345252},{"$f":"Table3[[#This Row],[iFOBT runde 3 ]]*beregnet_deltakelse_ifobt*beregnet_positivitet_ifobt*andel_positive_til_kolo_ifobt","v":2233.2011876095457},{"$f":"Table3[[#This Row],[iFOBT runde 4 ]]*beregnet_deltakelse_ifobt*beregnet_positivitet_ifobt*andel_positive_til_kolo_ifobt","v":2099.9657676614174},{"$f":"Table3[[#This Row],[iFOBT runde 5 ]]*beregnet_deltakelse_ifobt*beregnet_positivitet_ifobt*andel_positive_til_kolo_ifobt","v":2812.7836238211371},{"$f":"kolo_per_inv_kolo*Table3[[#This Row],[Primær koloskopi   ]]","v":0},{"$f":"kolo_per_inv_ifobt*Table3[[#This Row],[iFOBT utrulling runde 1]]","v":0},{"$f":"kolo_per_inv_ifobt*Table3[[#This Row],[iFOBT runde 1]]","v":2487.9553992215992},{"$f":"kolo_per_inv_ifobt*Table3[[#This Row],[iFOBT runde 2]]","v":2477.7740349180713},{"$f":"kolo_per_inv_ifobt*Table3[[#This Row],[iFOBT runde 3 ]]","v":2435.3646635405153},{"$f":"kolo_per_inv_ifobt*Table3[[#This Row],[iFOBT runde 4 ]]","v":2290.0679318918192},{"$f":"kolo_per_inv_ifobt*Table3[[#This Row],[iFOBT runde 5 ]]","v":3067.4145623986292},{"$f":"SUM(Table3[[#This Row],[iFOBT R2  ]:[iFOBT R5  ]])","v":10270.621192749035},{"$f":"SUM(Table3[[#This Row],[Primær koloskopi    ]:[iFOBT R5  ]])","v":12758.576591970634},3595.6409490104402,1541.4171463707744,{"$f":"Table3[[#This Row],[Første gang]]+Table3[[#This Row],[Gjentak-ende]]","v":5137.058095381215},{"$f":"Table3[[#This Row],[Sum screening-koloskopier]]+Table3[[#This Row],[Totalt surveillance-koloskopier]]","v":17895.634687351849},{"$f":"IF(SUM(Table3[Befolkning 55 år])>30000,ROUNDUP((Table3[[#This Row],[Sum screening-koloskopier]]+Table3[[#This Row],[Totalt surveillance-koloskopier]])/50,0)*50,ROUNDUP((Table3[[#This Row],[Sum screening-koloskopier]]+Table3[[#This Row],[Totalt surveillance-koloskopier]])/10,0)*10)","v":17900},{"$f":"(Table3[[#This Row],[Sum screening-koloskopier]]+Table3[[#This Row],[Totalt surveillance-koloskopier]])/undersokelser_per_rom","v":16.2687588066835},{"$f":"IF(ISBLANK(Table3[[#This Row],[Skopirom]]),\"\",IF(Table3[[#This Row],[Skopirom]]<0.2,1,ROUND(Table3[[#This Row],[Skopirom]]+0.3,0)))","v":17},{"$f":"IF(Table3[[#This Row],[Hele rom, rundet opp hvis > 0,2]]-Table3[[#This Row],[Skopirom]]>0,Table3[[#This Row],[Hele rom, rundet opp hvis > 0,2]]-Table3[[#This Row],[Skopirom]],0)","v":0.7312411933164995},{"$f":"ROUNDUP(ifobt_per_invitasjon*SUM(Table3[[#This Row],[iFOBT utrulling runde 1]:[iFOBT runde 5 ]])/1000,0)*1000","v":371000},{"$f":"ROUNDUP(SUM(Table3[[#This Row],[iFOBT runde 1]:[iFOBT runde 5 ]])*deltakelse_ifobt/1000,0)*1000","v":202000},{"$f":"ROUNDUP((Table3[[#This Row],[Primær koloskopi   ]]+Table3[[#This Row],[iFOBT runde 1]])/1000,0)*1000*ikke_digital_post","v":40800},{"$f":"ROUNDUP(SUM(Table3[[#This Row],[iFOBT runde 1]:[iFOBT runde 5 ]])*påminnelse/1000,0)*1000*ikke_digital_post","v":105000},{"$f":"ROUNDUP((beregnet_deltakelse_ifobt-beregnet_positivitet_ifobt)*SUM(Table3[[#This Row],[iFOBT runde 1]:[iFOBT runde 5 ]])/1000,0)*1000*ikke_digital_post","v":108600},{"$f":"INDEX(Utrulling[Andel 55-åringer i utrulling],MATCH(Table3[[#This Row],[År]],Utrulling[År],0))","v":0},{"$f":"AT38*Table3[[#This Row],[Befolkning 55 år]]","v":0},{"$f":"INDEX(Utrulling[Utrullingsbefolkning dette år],MATCH(Table3[[#This Row],[År]],Utrulling[År],0))","v":0},{"$f":"(1-AT38)*Table3[[#This Row],[Befolkning 55 år]]","v":68563}]
[null,2033,{"$f":"IF(\n ISBLANK(fast_befolkning),\n IF(\n  ISBLANK(valgt_kommune),\n  IF(\n   ISBLANK(valgt_sykehus),\n   IF(OR(valgt_helseforetak=\"Alle\",ISBLANK(valgt_helseforetak)),\n      INDEX(hf[#Totals],1,MATCH(\"Hele\"&TEXT(Table3[[#This Row],[År]],\"#\"),hf[#Headers],0)),\n      INDEX(hf[],MATCH(valgt_helseforetak,alle_helseforetak,0),MATCH(\"Hele\"&TEXT(Table3[[#This Row],[År]],\"#\"),hf[#Headers],0))),\n      INDEX(lokalsykehus_befolkning[],MATCH(valgt_sykehus,alle_lokalsykehusområder,0),MATCH(\"Hele\"&TEXT(Table3[[#This Row],[År]],\"#\"),lokalsykehus_befolkning[#Headers],0))\n  ),\n  INDEX(hf_kommune[],MATCH(valgt_kommune,alle_kommuner,0),MATCH(TEXT(Table3[[#This Row],[År]],\"#\")&\"-tot\",hf_kommune[#Headers],0))\n ),\nfast_befolkning)","v":5696691},{"$f":"IF(\n ISBLANK(fast_befolkning),\n IF(\n  ISBLANK(valgt_kommune),\n  IF(\n   ISBLANK(valgt_sykehus),\n   IF(OR(valgt_helseforetak=\"Alle\",ISBLANK(valgt_helseforetak)),\n      INDEX(hf[#Totals],1,MATCH(TEXT(Table3[[#This Row],[År]],\"#\"),hf[#Headers],0)),\n      INDEX(hf[],MATCH(valgt_helseforetak,alle_helseforetak,0),MATCH(TEXT(Table3[[#This Row],[År]],\"#\"),hf[#Headers],0))),\n      INDEX(lokalsykehus_befolkning[],MATCH(valgt_sykehus,alle_lokalsykehusområder,0),MATCH(TEXT(Table3[[#This Row],[År]],\"#\"),lokalsykehus_befolkning[#Headers],0))\n  ),\n  INDEX(hf_kommune[],MATCH(valgt_kommune,alle_kommuner,0),MATCH(TEXT(Table3[[#This Row],[År]],\"#\"),hf_kommune[#Headers],0))\n ),\nfast_befolkning*INDEX(befolkningsfordeling[],1,MATCH(TEXT(Table3[[#This Row],[År]],\"#\"),befolkningsfordeling[#Headers],0)))","v":67152},null,null,0,{"$f":"1-Table3[[#This Row],[Andel til primær kolo]]","v":1},{"$f":"Table3[[#This Row],[Normal befolkning]]*inviterbare*Table3[[#This Row],[Andel til primær kolo]]","v":0},{"$f":"Table3[[#This Row],[Utrullingsbefolkning inklusjon]]*inviterbare","v":0},{"$f":"inviterbare*Table3[[#This Row],[Andel til iFOBT]]*Table3[[#This Row],[Normal befolkning]]","v":66480.479999999996},65060.476270019994,64395.536404471961,63208.533862935685,60638.034229601843,{"$f":"ROUNDUP(SUM(Table3[[#This Row],[iFOBT utrulling runde 1]:[iFOBT runde 5 ]])/1000,0)*1000","v":320000},{"$f":"Table3[[#This Row],[Primær koloskopi   ]]*beregnet_deltakelse_kolo","v":0},{"$f":"Table3[[#This Row],[iFOBT utrulling runde 1]]*beregnet_deltakelse_ifobt*beregnet_positivitet_ifobt*andel_positive_til_kolo_ifobt","v":0},{"$f":"Table3[[#This Row],[iFOBT runde 1]]*beregnet_deltakelse_ifobt*beregnet_positivitet_ifobt*andel_positive_til_kolo_ifobt","v":2234.4754132799999},{"$f":"Table3[[#This Row],[iFOBT runde 2]]*beregnet_deltakelse_ifobt*beregnet_positivitet_ifobt*andel_positive_til_kolo_ifobt","v":2186.7476679116417},{"$f":"Table3[[#This Row],[iFOBT runde 3 ]]*beregnet_deltakelse_ifobt*beregnet_positivitet_ifobt*andel_positive_til_kolo_ifobt","v":2164.398374090707},{"$f":"Table3[[#This Row],[iFOBT runde 4 ]]*beregnet_deltakelse_ifobt*beregnet_positivitet_ifobt*andel_positive_til_kolo_ifobt","v":2124.5020316671312},{"$f":"Table3[[#This Row],[iFOBT runde 5 ]]*beregnet_deltakelse_ifobt*beregnet_positivitet_ifobt*andel_positive_til_kolo_ifobt","v":2038.104968491147},{"$f":"kolo_per_inv_kolo*Table3[[#This Row],[Primær koloskopi   ]]","v":0},{"$f":"kolo_per_inv_ifobt*Table3[[#This Row],[iFOBT utrulling runde 1]]","v":0},{"$f":"kolo_per_inv_ifobt*Table3[[#This Row],[iFOBT runde 1]]","v":2436.7542401663995},{"$f":"kolo_per_inv_ifobt*Table3[[#This Row],[iFOBT runde 2]]","v":2384.7058778489059},{"$f":"kolo_per_inv_ifobt*Table3[[#This Row],[iFOBT runde 3 ]]","v":2360.3333847978656},{"$f":"kolo_per_inv_ifobt*Table3[[#This Row],[iFOBT runde 4 ]]","v":2316.8253734812079},{"$f":"kolo_per_inv_ifobt*Table3[[#This Row],[iFOBT runde 5 ]]","v":2222.6071024808721},{"$f":"SUM(Table3[[#This Row],[iFOBT R2  ]:[iFOBT R5  ]])","v":9284.4717386088505},{"$f":"SUM(Table3[[#This Row],[Primær koloskopi    ]:[iFOBT R5  ]])","v":11721.22597877525},3697.8077831796763,2234.4752672540139,{"$f":"Table3[[#This Row],[Første gang]]+Table3[[#This Row],[Gjentak-ende]]","v":5932.2830504336907},{"$f":"Table3[[#This Row],[Sum screening-koloskopier]]+Table3[[#This Row],[Totalt surveillance-koloskopier]]","v":17653.509029208941},{"$f":"IF(SUM(Table3[Befolkning 55 år])>30000,ROUNDUP((Table3[[#This Row],[Sum screening-koloskopier]]+Table3[[#This Row],[Totalt surveillance-koloskopier]])/50,0)*50,ROUNDUP((Table3[[#This Row],[Sum screening-koloskopier]]+Table3[[#This Row],[Totalt surveillance-koloskopier]])/10,0)*10)","v":17700},{"$f":"(Table3[[#This Row],[Sum screening-koloskopier]]+Table3[[#This Row],[Totalt surveillance-koloskopier]])/undersokelser_per_rom","v":16.048644572008129},{"$f":"IF(ISBLANK(Table3[[#This Row],[Skopirom]]),\"\",IF(Table3[[#This Row],[Skopirom]]<0.2,1,ROUND(Table3[[#This Row],[Skopirom]]+0.3,0)))","v":16},{"$f":"IF(Table3[[#This Row],[Hele rom, rundet opp hvis > 0,2]]-Table3[[#This Row],[Skopirom]]>0,Table3[[#This Row],[Hele rom, rundet opp hvis > 0,2]]-Table3[[#This Row],[Skopirom]],0)","v":0},{"$f":"ROUNDUP(ifobt_per_invitasjon*SUM(Table3[[#This Row],[iFOBT utrulling runde 1]:[iFOBT runde 5 ]])/1000,0)*1000","v":341000},{"$f":"ROUNDUP(SUM(Table3[[#This Row],[iFOBT runde 1]:[iFOBT runde 5 ]])*deltakelse_ifobt/1000,0)*1000","v":186000},{"$f":"ROUNDUP((Table3[[#This Row],[Primær koloskopi   ]]+Table3[[#This Row],[iFOBT runde 1]])/1000,0)*1000*ikke_digital_post","v":40200},{"$f":"ROUNDUP(SUM(Table3[[#This Row],[iFOBT runde 1]:[iFOBT runde 5 ]])*påminnelse/1000,0)*1000*ikke_digital_post","v":96000},{"$f":"ROUNDUP((beregnet_deltakelse_ifobt-beregnet_positivitet_ifobt)*SUM(Table3[[#This Row],[iFOBT runde 1]:[iFOBT runde 5 ]])/1000,0)*1000*ikke_digital_post","v":99600},{"$f":"INDEX(Utrulling[Andel 55-åringer i utrulling],MATCH(Table3[[#This Row],[År]],Utrulling[År],0))","v":0},{"$f":"AT39*Table3[[#This Row],[Befolkning 55 år]]","v":0},{"$f":"INDEX(Utrulling[Utrullingsbefolkning dette år],MATCH(Table3[[#This Row],[År]],Utrulling[År],0))","v":0},{"$f":"(1-AT39)*Table3[[#This Row],[Befolkning 55 år]]","v":67152}]
[null,2034,{"$f":"IF(\n ISBLANK(fast_befolkning),\n IF(\n  ISBLANK(valgt_kommune),\n  IF(\n   ISBLANK(valgt_sykehus),\n   IF(OR(valgt_helseforetak=\"Alle\",ISBLANK(valgt_helseforetak)),\n      INDEX(hf[#Totals],1,MATCH(\"Hele\"&TEXT(Table3[[#This Row],[År]],\"#\"),hf[#Headers],0)),\n      INDEX(hf[],MATCH(valgt_helseforetak,alle_helseforetak,0),MATCH(\"Hele\"&TEXT(Table3[[#This Row],[År]],\"#\"),hf[#Headers],0))),\n      INDEX(lokalsykehus_befolkning[],MATCH(valgt_sykehus,alle_lokalsykehusområder,0),MATCH(\"Hele\"&TEXT(Table3[[#This Row],[År]],\"#\"),lokalsykehus_befolkning[#Headers],0))\n  ),\n  INDEX(hf_kommune[],MATCH(valgt_kommune,alle_kommuner,0),MATCH(TEXT(Table3[[#This Row],[År]],\"#\")&\"-tot\",hf_kommune[#Headers],0))\n ),\nfast_befolkning)","v":5719345},{"$f":"IF(\n ISBLANK(fast_befolkning),\n IF(\n  ISBLANK(valgt_kommune),\n  IF(\n   ISBLANK(valgt_sykehus),\n   IF(OR(valgt_helseforetak=\"Alle\",ISBLANK(valgt_helseforetak)),\n      INDEX(hf[#Totals],1,MATCH(TEXT(Table3[[#This Row],[År]],\"#\"),hf[#Headers],0)),\n      INDEX(hf[],MATCH(valgt_helseforetak,alle_helseforetak,0),MATCH(TEXT(Table3[[#This Row],[År]],\"#\"),hf[#Headers],0))),\n      INDEX(lokalsykehus_befolkning[],MATCH(valgt_sykehus,alle_lokalsykehusområder,0),MATCH(TEXT(Table3[[#This Row],[År]],\"#\"),lokalsykehus_befolkning[#Headers],0))\n  ),\n  INDEX(hf_kommune[],MATCH(valgt_kommune,alle_kommuner,0),MATCH(TEXT(Table3[[#This Row],[År]],\"#\"),hf_kommune[#Headers],0))\n ),\nfast_befolkning*INDEX(befolkningsfordeling[],1,MATCH(TEXT(Table3[[#This Row],[År]],\"#\"),befolkningsfordeling[#Headers],0)))","v":68963},null,null,0,{"$f":"1-Table3[[#This Row],[Andel til primær kolo]]","v":1},{"$f":"Table3[[#This Row],[Normal befolkning]]*inviterbare*Table3[[#This Row],[Andel til primær kolo]]","v":0},{"$f":"Table3[[#This Row],[Utrullingsbefolkning inklusjon]]*inviterbare","v":0},{"$f":"inviterbare*Table3[[#This Row],[Andel til iFOBT]]*Table3[[#This Row],[Normal befolkning]]","v":68273.37},63559.622616929992,64313.513985680824,63212.729305247049,59441.383229586405,{"$f":"ROUNDUP(SUM(Table3[[#This Row],[iFOBT utrulling runde 1]:[iFOBT runde 5 ]])/1000,0)*1000","v":319000},{"$f":"Table3[[#This Row],[Primær koloskopi   ]]*beregnet_deltakelse_kolo","v":0},{"$f":"Table3[[#This Row],[iFOBT utrulling runde 1]]*beregnet_deltakelse_ifobt*beregnet_positivitet_ifobt*andel_positive_til_kolo_ifobt","v":0},{"$f":"Table3[[#This Row],[iFOBT runde 1]]*beregnet_deltakelse_ifobt*beregnet_positivitet_ifobt*andel_positive_til_kolo_ifobt","v":2294.7362390699996},{"$f":"Table3[[#This Row],[iFOBT runde 2]]*beregnet_deltakelse_ifobt*beregnet_positivitet_ifobt*andel_positive_til_kolo_ifobt","v":2136.3024757776334},{"$f":"Table3[[#This Row],[iFOBT runde 3 ]]*beregnet_deltakelse_ifobt*beregnet_positivitet_ifobt*andel_positive_til_kolo_ifobt","v":2161.6415185727174},{"$f":"Table3[[#This Row],[iFOBT runde 4 ]]*beregnet_deltakelse_ifobt*beregnet_positivitet_ifobt*andel_positive_til_kolo_ifobt","v":2124.643044678658},{"$f":"Table3[[#This Row],[iFOBT runde 5 ]]*beregnet_deltakelse_ifobt*beregnet_positivitet_ifobt*andel_positive_til_kolo_ifobt","v":1997.8843317296285},{"$f":"kolo_per_inv_kolo*Table3[[#This Row],[Primær koloskopi   ]]","v":0},{"$f":"kolo_per_inv_ifobt*Table3[[#This Row],[iFOBT utrulling runde 1]]","v":0},{"$f":"kolo_per_inv_ifobt*Table3[[#This Row],[iFOBT runde 1]]","v":2502.4702565015996},{"$f":"kolo_per_inv_ifobt*Table3[[#This Row],[iFOBT runde 2]]","v":2329.694068321714},{"$f":"kolo_per_inv_ifobt*Table3[[#This Row],[iFOBT runde 3 ]]","v":2357.3269613066691},{"$f":"kolo_per_inv_ifobt*Table3[[#This Row],[iFOBT runde 4 ]]","v":2316.9791518811471},{"$f":"kolo_per_inv_ifobt*Table3[[#This Row],[iFOBT runde 5 ]]","v":2178.7454396546264},{"$f":"SUM(Table3[[#This Row],[iFOBT R2  ]:[iFOBT R5  ]])","v":9182.7456211641565},{"$f":"SUM(Table3[[#This Row],[Primær koloskopi    ]:[iFOBT R5  ]])","v":11685.215877665756},4249.3607105462906,2363.0404306898145,{"$f":"Table3[[#This Row],[Første gang]]+Table3[[#This Row],[Gjentak-ende]]","v":6612.4011412361051},{"$f":"Table3[[#This Row],[Sum screening-koloskopier]]+Table3[[#This Row],[Totalt surveillance-koloskopier]]","v":18297.617018901859},{"$f":"IF(SUM(Table3[Befolkning 55 år])>30000,ROUNDUP((Table3[[#This Row],[Sum screening-koloskopier]]+Table3[[#This Row],[Totalt surveillance-koloskopier]])/50,0)*50,ROUNDUP((Table3[[#This Row],[Sum screening-koloskopier]]+Table3[[#This Row],[Totalt surveillance-koloskopier]])/10,0)*10)","v":18300},{"$f":"(Table3[[#This Row],[Sum screening-koloskopier]]+Table3[[#This Row],[Totalt surveillance-koloskopier]])/undersokelser_per_rom","v":16.63419728991078},{"$f":"IF(ISBLANK(Table3[[#This Row],[Skopirom]]),\"\",IF(Table3[[#This Row],[Skopirom]]<0.2,1,ROUND(Table3[[#This Row],[Skopirom]]+0.3,0)))","v":17},{"$f":"IF(Table3[[#This Row],[Hele rom, rundet opp hvis > 0,2]]-Table3[[#This Row],[Skopirom]]>0,Table3[[#This Row],[Hele rom, rundet opp hvis > 0,2]]-Table3[[#This Row],[Skopirom]],0)","v":0.36580271008921983},{"$f":"ROUNDUP(ifobt_per_invitasjon*SUM(Table3[[#This Row],[iFOBT utrulling runde 1]:[iFOBT runde 5 ]])/1000,0)*1000","v":340000},{"$f":"ROUNDUP(SUM(Table3[[#This Row],[iFOBT runde 1]:[iFOBT runde 5 ]])*deltakelse_ifobt/1000,0)*1000","v":185000},{"$f":"ROUNDUP((Table3[[#This Row],[Primær koloskopi   ]]+Table3[[#This Row],[iFOBT runde 1]])/1000,0)*1000*ikke_digital_post","v":41400},{"$f":"ROUNDUP(SUM(Table3[[#This Row],[iFOBT runde 1]:[iFOBT runde 5 ]])*påminnelse/1000,0)*1000*ikke_digital_post","v":96000},{"$f":"ROUNDUP((beregnet_deltakelse_ifobt-beregnet_positivitet_ifobt)*SUM(Table3[[#This Row],[iFOBT runde 1]:[iFOBT runde 5 ]])/1000,0)*1000*ikke_digital_post","v":99600},{"$f":"INDEX(Utrulling[Andel 55-åringer i utrulling],MATCH(Table3[[#This Row],[År]],Utrulling[År],0))","v":0},{"$f":"AT40*Table3[[#This Row],[Befolkning 55 år]]","v":0},{"$f":"INDEX(Utrulling[Utrullingsbefolkning dette år],MATCH(Table3[[#This Row],[År]],Utrulling[År],0))","v":0},{"$f":"(1-AT40)*Table3[[#This Row],[Befolkning 55 år]]","v":68963}]
[null,2035,{"$f":"IF(\n ISBLANK(fast_befolkning),\n IF(\n  ISBLANK(valgt_kommune),\n  IF(\n   ISBLANK(valgt_sykehus),\n   IF(OR(valgt_helseforetak=\"Alle\",ISBLANK(valgt_helseforetak)),\n      INDEX(hf[#Totals],1,MATCH(\"Hele\"&TEXT(Table3[[#This Row],[År]],\"#\"),hf[#Headers],0)),\n      INDEX(hf[],MATCH(valgt_helseforetak,alle_helseforetak,0),MATCH(\"Hele\"&TEXT(Table3[[#This Row],[År]],\"#\"),hf[#Headers],0))),\n      INDEX(lokalsykehus_befolkning[],MATCH(valgt_sykehus,alle_lokalsykehusområder,0),MATCH(\"Hele\"&TEXT(Table3[[#This Row],[År]],\"#\"),lokalsykehus_befolkning[#Headers],0))\n  ),\n  INDEX(hf_kommune[],MATCH(valgt_kommune,alle_kommuner,0),MATCH(TEXT(Table3[[#This Row],[År]],\"#\")&\"-tot\",hf_kommune[#Headers],0))\n ),\nfast_befolkning)","v":5741563},{"$f":"IF(\n ISBLANK(fast_befolkning),\n IF(\n  ISBLANK(valgt_kommune),\n  IF(\n   ISBLANK(valgt_sykehus),\n   IF(OR(valgt_helseforetak=\"Alle\",ISBLANK(valgt_helseforetak)),\n      INDEX(hf[#Totals],1,MATCH(TEXT(Table3[[#This Row],[År]],\"#\"),hf[#Headers],0)),\n      INDEX(hf[],MATCH(valgt_helseforetak,alle_helseforetak,0),MATCH(TEXT(Table3[[#This Row],[År]],\"#\"),hf[#Headers],0))),\n      INDEX(lokalsykehus_befolkning[],MATCH(valgt_sykehus,alle_lokalsykehusområder,0),MATCH(TEXT(Table3[[#This Row],[År]],\"#\"),lokalsykehus_befolkning[#Headers],0))\n  ),\n  INDEX(hf_kommune[],MATCH(valgt_kommune,alle_kommuner,0),MATCH(TEXT(Table3[[#This Row],[År]],\"#\"),hf_kommune[#Headers],0))\n ),\nfast_befolkning*INDEX(befolkningsfordeling[],1,MATCH(TEXT(Table3[[#This Row],[År]],\"#\"),befolkningsfordeling[#Headers],0)))","v":69573},null,null,0,{"$f":"1-Table3[[#This Row],[Andel til primær kolo]]","v":1},{"$f":"Table3[[#This Row],[Normal befolkning]]*inviterbare*Table3[[#This Row],[Andel til primær kolo]]","v":0},{"$f":"Table3[[#This Row],[Utrullingsbefolkning inklusjon]]*inviterbare","v":0},{"$f":"inviterbare*Table3[[#This Row],[Andel til iFOBT]]*Table3[[#This Row],[Normal befolkning]]","v":68877.27},62251.590186719994,61897.821458058046,61265.204984314172,60135.903823324523,{"$f":"ROUNDUP(SUM(Table3[[#This Row],[iFOBT utrulling runde 1]:[iFOBT runde 5 ]])/1000,0)*1000","v":315000},{"$f":"Table3[[#This Row],[Primær koloskopi   ]]*beregnet_deltakelse_kolo","v":0},{"$f":"Table3[[#This Row],[iFOBT utrulling runde 1]]*beregnet_deltakelse_ifobt*beregnet_positivitet_ifobt*andel_positive_til_kolo_ifobt","v":0},{"$f":"Table3[[#This Row],[iFOBT runde 1]]*beregnet_deltakelse_ifobt*beregnet_positivitet_ifobt*andel_positive_til_kolo_ifobt","v":2315.0339219699995},{"$f":"Table3[[#This Row],[iFOBT runde 2]]*beregnet_deltakelse_ifobt*beregnet_positivitet_ifobt*andel_positive_til_kolo_ifobt","v":2092.3381977658455},{"$f":"Table3[[#This Row],[iFOBT runde 3 ]]*beregnet_deltakelse_ifobt*beregnet_positivitet_ifobt*andel_positive_til_kolo_ifobt","v":2080.4476770267884},{"$f":"Table3[[#This Row],[iFOBT runde 4 ]]*beregnet_deltakelse_ifobt*beregnet_positivitet_ifobt*andel_positive_til_kolo_ifobt","v":2059.1848047277836},{"$f":"Table3[[#This Row],[iFOBT runde 5 ]]*beregnet_deltakelse_ifobt*beregnet_positivitet_ifobt*andel_positive_til_kolo_ifobt","v":2021.2278634057604},{"$f":"kolo_per_inv_kolo*Table3[[#This Row],[Primær koloskopi   ]]","v":0},{"$f":"kolo_per_inv_ifobt*Table3[[#This Row],[iFOBT utrulling runde 1]]","v":0},{"$f":"kolo_per_inv_ifobt*Table3[[#This Row],[iFOBT runde 1]]","v":2524.6054138535997},{"$f":"kolo_per_inv_ifobt*Table3[[#This Row],[iFOBT runde 2]]","v":2281.7498661951745},{"$f":"kolo_per_inv_ifobt*Table3[[#This Row],[iFOBT runde 3 ]]","v":2268.7829404207928},{"$f":"kolo_per_inv_ifobt*Table3[[#This Row],[iFOBT runde 4 ]]","v":2245.5952186294562},{"$f":"kolo_per_inv_ifobt*Table3[[#This Row],[iFOBT runde 5 ]]","v":2204.2021752509131},{"$f":"SUM(Table3[[#This Row],[iFOBT R2  ]:[iFOBT R5  ]])","v":9000.3302004963371},{"$f":"SUM(Table3[[#This Row],[Primær koloskopi    ]:[iFOBT R5  ]])","v":11524.935614349937},4216.4878895356233,3031.0869191000706,{"$f":"Table3[[#This Row],[Første gang]]+Table3[[#This Row],[Gjentak-ende]]","v":7247.5748086356944},{"$f":"Table3[[#This Row],[Sum screening-koloskopier]]+Table3[[#This Row],[Totalt surveillance-koloskopier]]","v":18772.51042298563},{"$f":"IF(SUM(Table3[Befolkning 55 år])>30000,ROUNDUP((Table3[[#This Row],[Sum screening-koloskopier]]+Table3[[#This Row],[Totalt surveillance-koloskopier]])/50,0)*50,ROUNDUP((Table3[[#This Row],[Sum screening-koloskopier]]+Table3[[#This Row],[Totalt surveillance-koloskopier]])/10,0)*10)","v":18800},{"$f":"(Table3[[#This Row],[Sum screening-koloskopier]]+Table3[[#This Row],[Totalt surveillance-koloskopier]])/undersokelser_per_rom","v":17.065918566350572},{"$f":"IF(ISBLANK(Table3[[#This Row],[Skopirom]]),\"\",IF(Table3[[#This Row],[Skopirom]]<0.2,1,ROUND(Table3[[#This Row],[Skopirom]]+0.3,0)))","v":17},{"$f":"IF(Table3[[#This Row],[Hele rom, rundet opp hvis > 0,2]]-Table3[[#This Row],[Skopirom]]>0,Table3[[#This Row],[Hele rom, rundet opp hvis > 0,2]]-Table3[[#This Row],[Skopirom]],0)","v":0},{"$f":"ROUNDUP(ifobt_per_invitasjon*SUM(Table3[[#This Row],[iFOBT utrulling runde 1]:[iFOBT runde 5 ]])/1000,0)*1000","v":335000},{"$f":"ROUNDUP(SUM(Table3[[#This Row],[iFOBT runde 1]:[iFOBT runde 5 ]])*deltakelse_ifobt/1000,0)*1000","v":183000},{"$f":"ROUNDUP((Table3[[#This Row],[Primær koloskopi   ]]+Table3[[#This Row],[iFOBT runde 1]])/1000,0)*1000*ikke_digital_post","v":41400},{"$f":"ROUNDUP(SUM(Table3[[#This Row],[iFOBT runde 1]:[iFOBT runde 5 ]])*påminnelse/1000,0)*1000*ikke_digital_post","v":94800},{"$f":"ROUNDUP((beregnet_deltakelse_ifobt-beregnet_positivitet_ifobt)*SUM(Table3[[#This Row],[iFOBT runde 1]:[iFOBT runde 5 ]])/1000,0)*1000*ikke_digital_post","v":98400},{"$f":"INDEX(Utrulling[Andel 55-åringer i utrulling],MATCH(Table3[[#This Row],[År]],Utrulling[År],0))","v":0},{"$f":"AT41*Table3[[#This Row],[Befolkning 55 år]]","v":0},{"$f":"INDEX(Utrulling[Utrullingsbefolkning dette år],MATCH(Table3[[#This Row],[År]],Utrulling[År],0))","v":0},{"$f":"(1-AT41)*Table3[[#This Row],[Befolkning 55 år]]","v":69573}]
[null,2036,{"$f":"IF(\n ISBLANK(fast_befolkning),\n IF(\n  ISBLANK(valgt_kommune),\n  IF(\n   ISBLANK(valgt_sykehus),\n   IF(OR(valgt_helseforetak=\"Alle\",ISBLANK(valgt_helseforetak)),\n      INDEX(hf[#Totals],1,MATCH(\"Hele\"&TEXT(Table3[[#This Row],[År]],\"#\"),hf[#Headers],0)),\n      INDEX(hf[],MATCH(valgt_helseforetak,alle_helseforetak,0),MATCH(\"Hele\"&TEXT(Table3[[#This Row],[År]],\"#\"),hf[#Headers],0))),\n      INDEX(lokalsykehus_befolkning[],MATCH(valgt_sykehus,alle_lokalsykehusområder,0),MATCH(\"Hele\"&TEXT(Table3[[#This Row],[År]],\"#\"),lokalsykehus_befolkning[#Headers],0))\n  ),\n  INDEX(hf_kommune[],MATCH(valgt_kommune,alle_kommuner,0),MATCH(TEXT(Table3[[#This Row],[År]],\"#\")&\"-tot\",hf_kommune[#Headers],0))\n ),\nfast_befolkning)","v":5763380},{"$f":"IF(\n ISBLANK(fast_befolkning),\n IF(\n  ISBLANK(valgt_kommune),\n  IF(\n   ISBLANK(valgt_sykehus),\n   IF(OR(valgt_helseforetak=\"Alle\",ISBLANK(valgt_helseforetak)),\n      INDEX(hf[#Totals],1,MATCH(TEXT(Table3[[#This Row],[År]],\"#\"),hf[#Headers],0)),\n      INDEX(hf[],MATCH(valgt_helseforetak,alle_helseforetak,0),MATCH(TEXT(Table3[[#This Row],[År]],\"#\"),hf[#Headers],0))),\n      INDEX(lokalsykehus_befolkning[],MATCH(valgt_sykehus,alle_lokalsykehusområder,0),MATCH(TEXT(Table3[[#This Row],[År]],\"#\"),lokalsykehus_befolkning[#Headers],0))\n  ),\n  INDEX(hf_kommune[],MATCH(valgt_kommune,alle_kommuner,0),MATCH(TEXT(Table3[[#This Row],[År]],\"#\"),hf_kommune[#Headers],0))\n ),\nfast_befolkning*INDEX(befolkningsfordeling[],1,MATCH(TEXT(Table3[[#This Row],[År]],\"#\"),befolkningsfordeling[#Headers],0)))","v":70674},null,null,0,{"$f":"1-Table3[[#This Row],[Andel til primær kolo]]","v":1},{"$f":"Table3[[#This Row],[Normal befolkning]]*inviterbare*Table3[[#This Row],[Andel til primær kolo]]","v":0},0,{"$f":"inviterbare*Table3[[#This Row],[Andel til iFOBT]]*Table3[[#This Row],[Normal befolkning]]","v":69967.259999999995},{"$f":"K40-S40","v":65978.633760929995},61423.320141152355,62151.872467108107,61088.086260568394,{"$f":"ROUNDUP(SUM(Table3[[#This Row],[iFOBT utrulling runde 1]:[iFOBT runde 5 ]])/1000,0)*1000","v":321000},{"$f":"Table3[[#This Row],[Primær koloskopi   ]]*beregnet_deltakelse_kolo","v":0},{"$f":"Table3[[#This Row],[iFOBT utrulling runde 1]]*beregnet_deltakelse_ifobt*beregnet_positivitet_ifobt*andel_positive_til_kolo_ifobt","v":0},{"$f":"Table3[[#This Row],[iFOBT runde 1]]*beregnet_deltakelse_ifobt*beregnet_positivitet_ifobt*andel_positive_til_kolo_ifobt","v":2351.6695758599999},{"$f":"Table3[[#This Row],[iFOBT runde 2]]*beregnet_deltakelse_ifobt*beregnet_positivitet_ifobt*andel_positive_til_kolo_ifobt","v":2217.6078593386183},{"$f":"Table3[[#This Row],[iFOBT runde 3 ]]*beregnet_deltakelse_ifobt*beregnet_positivitet_ifobt*andel_positive_til_kolo_ifobt","v":2064.4992132642715},{"$f":"Table3[[#This Row],[iFOBT runde 4 ]]*beregnet_deltakelse_ifobt*beregnet_positivitet_ifobt*andel_positive_til_kolo_ifobt","v":2088.9865854919703},{"$f":"Table3[[#This Row],[iFOBT runde 5 ]]*beregnet_deltakelse_ifobt*beregnet_positivitet_ifobt*andel_positive_til_kolo_ifobt","v":2053.2316673039641},{"$f":"kolo_per_inv_kolo*Table3[[#This Row],[Primær koloskopi   ]]","v":0},null,{"$f":"kolo_per_inv_ifobt*Table3[[#This Row],[iFOBT runde 1]]","v":2564.5575585167994},{"$f":"kolo_per_inv_ifobt*Table3[[#This Row],[iFOBT runde 2]]","v":2418.3597287103244},{"$f":"kolo_per_inv_ifobt*Table3[[#This Row],[iFOBT runde 3 ]]","v":2251.3907209913527},{"$f":"kolo_per_inv_ifobt*Table3[[#This Row],[iFOBT runde 4 ]]","v":2278.0948448101908},{"$f":"kolo_per_inv_ifobt*Table3[[#This Row],[iFOBT runde 5 ]]","v":2239.1031656072701},{"$f":"SUM(Table3[[#This Row],[iFOBT R2  ]:[iFOBT R5  ]])","v":9186.948460119138},{"$f":"SUM(Table3[[#This Row],[Primær koloskopi    ]:[iFOBT R5  ]])","v":11751.506018635937},{"$f":"Q39*andel_avansert_adenom_kolo+SUM(S39:W39)*andel_avansert_adenom_ifobt","v":3873.6615353408019},3153.866744985577,{"$f":"Table3[[#This Row],[Første gang]]+Table3[[#This Row],[Gjentak-ende]]","v":7027.528280326379},{"$f":"Table3[[#This Row],[Sum screening-koloskopier]]+Table3[[#This Row],[Totalt surveillance-koloskopier]]","v":18779.034298962317},{"$f":"IF(SUM(Table3[Befolkning 55 år])>30000,ROUNDUP((Table3[[#This Row],[Sum screening-koloskopier]]+Table3[[#This Row],[Totalt surveillance-koloskopier]])/50,0)*50,ROUNDUP((Table3[[#This Row],[Sum screening-koloskopier]]+Table3[[#This Row],[Totalt surveillance-koloskopier]])/10,0)*10)","v":18800},{"$f":"(Table3[[#This Row],[Sum screening-koloskopier]]+Table3[[#This Row],[Totalt surveillance-koloskopier]])/undersokelser_per_rom","v":17.071849362693015},{"$f":"IF(ISBLANK(Table3[[#This Row],[Skopirom]]),\"\",IF(Table3[[#This Row],[Skopirom]]<0.2,1,ROUND(Table3[[#This Row],[Skopirom]]+0.3,0)))","v":17},{"$f":"IF(Table3[[#This Row],[Hele rom, rundet opp hvis > 0,2]]-Table3[[#This Row],[Skopirom]]>0,Table3[[#This Row],[Hele rom, rundet opp hvis > 0,2]]-Table3[[#This Row],[Skopirom]],0)","v":0},{"$f":"ROUNDUP(ifobt_per_invitasjon*SUM(Table3[[#This Row],[iFOBT utrulling runde 1]:[iFOBT runde 5 ]])/1000,0)*1000","v":342000},{"$f":"ROUNDUP(SUM(Table3[[#This Row],[iFOBT runde 1]:[iFOBT runde 5 ]])*deltakelse_ifobt/1000,0)*1000","v":186000},{"$f":"ROUNDUP((Table3[[#This Row],[Primær koloskopi   ]]+Table3[[#This Row],[iFOBT runde 1]])/1000,0)*1000*ikke_digital_post","v":42000},{"$f":"ROUNDUP(SUM(Table3[[#This Row],[iFOBT runde 1]:[iFOBT runde 5 ]])*påminnelse/1000,0)*1000*ikke_digital_post","v":96600},{"$f":"ROUNDUP((beregnet_deltakelse_ifobt-beregnet_positivitet_ifobt)*SUM(Table3[[#This Row],[iFOBT runde 1]:[iFOBT runde 5 ]])/1000,0)*1000*ikke_digital_post","v":100200},null,null,null,{"$f":"(1-AT42)*Table3[[#This Row],[Befolkning 55 år]]","v":70674}]
[null,2037,{"$f":"IF(\n ISBLANK(fast_befolkning),\n IF(\n  ISBLANK(valgt_kommune),\n  IF(\n   ISBLANK(valgt_sykehus),\n   IF(OR(valgt_helseforetak=\"Alle\",ISBLANK(valgt_helseforetak)),\n      INDEX(hf[#Totals],1,MATCH(\"Hele\"&TEXT(Table3[[#This Row],[År]],\"#\"),hf[#Headers],0)),\n      INDEX(hf[],MATCH(valgt_helseforetak,alle_helseforetak,0),MATCH(\"Hele\"&TEXT(Table3[[#This Row],[År]],\"#\"),hf[#Headers],0))),\n      INDEX(lokalsykehus_befolkning[],MATCH(valgt_sykehus,alle_lokalsykehusområder,0),MATCH(\"Hele\"&TEXT(Table3[[#This Row],[År]],\"#\"),lokalsykehus_befolkning[#Headers],0))\n  ),\n  INDEX(hf_kommune[],MATCH(valgt_kommune,alle_kommuner,0),MATCH(TEXT(Table3[[#This Row],[År]],\"#\")&\"-tot\",hf_kommune[#Headers],0))\n ),\nfast_befolkning)","v":5784462},{"$f":"IF(\n ISBLANK(fast_befolkning),\n IF(\n  ISBLANK(valgt_kommune),\n  IF(\n   ISBLANK(valgt_sykehus),\n   IF(OR(valgt_helseforetak=\"Alle\",ISBLANK(valgt_helseforetak)),\n      INDEX(hf[#Totals],1,MATCH(TEXT(Table3[[#This Row],[År]],\"#\"),hf[#Headers],0)),\n      INDEX(hf[],MATCH(valgt_helseforetak,alle_helseforetak,0),MATCH(TEXT(Table3[[#This Row],[År]],\"#\"),hf[#Headers],0))),\n      INDEX(lokalsykehus_befolkning[],MATCH(valgt_sykehus,alle_lokalsykehusområder,0),MATCH(TEXT(Table3[[#This Row],[År]],\"#\"),lokalsykehus_befolkning[#Headers],0))\n  ),\n  INDEX(hf_kommune[],MATCH(valgt_kommune,alle_kommuner,0),MATCH(TEXT(Table3[[#This Row],[År]],\"#\"),hf_kommune[#Headers],0))\n ),\nfast_befolkning*INDEX(befolkningsfordeling[],1,MATCH(TEXT(Table3[[#This Row],[År]],\"#\"),befolkningsfordeling[#Headers],0)))","v":69961},null,null,0,{"$f":"1-Table3[[#This Row],[Andel til primær kolo]]","v":1},{"$f":"Table3[[#This Row],[Normal befolkning]]*inviterbare*Table3[[#This Row],[Andel til primær kolo]]","v":0},0,{"$f":"inviterbare*Table3[[#This Row],[Andel til iFOBT]]*Table3[[#This Row],[Normal befolkning]]","v":69261.39},66562.236078030008,60159.251988954151,59817.37378103126,59206.02017958639,{"$f":"ROUNDUP(SUM(Table3[[#This Row],[iFOBT utrulling runde 1]:[iFOBT runde 5 ]])/1000,0)*1000","v":316000},{"$f":"Table3[[#This Row],[Primær koloskopi   ]]*beregnet_deltakelse_kolo","v":0},{"$f":"Table3[[#This Row],[iFOBT utrulling runde 1]]*beregnet_deltakelse_ifobt*beregnet_positivitet_ifobt*andel_positive_til_kolo_ifobt","v":0},{"$f":"Table3[[#This Row],[iFOBT runde 1]]*beregnet_deltakelse_ifobt*beregnet_positivitet_ifobt*andel_positive_til_kolo_ifobt","v":2327.9445792899996},{"$f":"Table3[[#This Row],[iFOBT runde 2]]*beregnet_deltakelse_ifobt*beregnet_positivitet_ifobt*andel_positive_til_kolo_ifobt","v":2237.2233168186663},{"$f":"Table3[[#This Row],[iFOBT runde 3 ]]*beregnet_deltakelse_ifobt*beregnet_positivitet_ifobt*andel_positive_til_kolo_ifobt","v":2022.0126186007378},{"$f":"Table3[[#This Row],[iFOBT runde 4 ]]*beregnet_deltakelse_ifobt*beregnet_positivitet_ifobt*andel_positive_til_kolo_ifobt","v":2010.5217501542415},{"$f":"Table3[[#This Row],[iFOBT runde 5 ]]*beregnet_deltakelse_ifobt*beregnet_positivitet_ifobt*andel_positive_til_kolo_ifobt","v":1989.973544256078},{"$f":"kolo_per_inv_kolo*Table3[[#This Row],[Primær koloskopi   ]]","v":0},null,{"$f":"kolo_per_inv_ifobt*Table3[[#This Row],[iFOBT runde 1]]","v":2538.6848254151996},{"$f":"kolo_per_inv_ifobt*Table3[[#This Row],[iFOBT runde 2]]","v":2439.7509012885666},{"$f":"kolo_per_inv_ifobt*Table3[[#This Row],[iFOBT runde 3 ]]","v":2205.0579714424885},{"$f":"kolo_per_inv_ifobt*Table3[[#This Row],[iFOBT runde 4 ]]","v":2192.5268770103094},{"$f":"kolo_per_inv_ifobt*Table3[[#This Row],[iFOBT runde 5 ]]","v":2170.1185177361017},{"$f":"SUM(Table3[[#This Row],[iFOBT R2  ]:[iFOBT R5  ]])","v":9007.4542674774657},{"$f":"SUM(Table3[[#This Row],[Primær koloskopi    ]:[iFOBT R5  ]])","v":11546.139092892667},{"$f":"Q40*andel_avansert_adenom_kolo+SUM(S40:W40)*andel_avansert_adenom_ifobt","v":3861.7608225822405},3760.7898692449594,{"$f":"Table3[[#This Row],[Første gang]]+Table3[[#This Row],[Gjentak-ende]]","v":7622.5506918272004},{"$f":"Table3[[#This Row],[Sum screening-koloskopier]]+Table3[[#This Row],[Totalt surveillance-koloskopier]]","v":19168.689784719867},{"$f":"IF(SUM(Table3[Befolkning 55 år])>30000,ROUNDUP((Table3[[#This Row],[Sum screening-koloskopier]]+Table3[[#This Row],[Totalt surveillance-koloskopier]])/50,0)*50,ROUNDUP((Table3[[#This Row],[Sum screening-koloskopier]]+Table3[[#This Row],[Totalt surveillance-koloskopier]])/10,0)*10)","v":19200},{"$f":"(Table3[[#This Row],[Sum screening-koloskopier]]+Table3[[#This Row],[Totalt surveillance-koloskopier]])/undersokelser_per_rom","v":17.426081622472605},{"$f":"IF(ISBLANK(Table3[[#This Row],[Skopirom]]),\"\",IF(Table3[[#This Row],[Skopirom]]<0.2,1,ROUND(Table3[[#This Row],[Skopirom]]+0.3,0)))","v":18},{"$f":"IF(Table3[[#This Row],[Hele rom, rundet opp hvis > 0,2]]-Table3[[#This Row],[Skopirom]]>0,Table3[[#This Row],[Hele rom, rundet opp hvis > 0,2]]-Table3[[#This Row],[Skopirom]],0)","v":0.57391837752739505},{"$f":"ROUNDUP(ifobt_per_invitasjon*SUM(Table3[[#This Row],[iFOBT utrulling runde 1]:[iFOBT runde 5 ]])/1000,0)*1000","v":336000},{"$f":"ROUNDUP(SUM(Table3[[#This Row],[iFOBT runde 1]:[iFOBT runde 5 ]])*deltakelse_ifobt/1000,0)*1000","v":183000},{"$f":"ROUNDUP((Table3[[#This Row],[Primær koloskopi   ]]+Table3[[#This Row],[iFOBT runde 1]])/1000,0)*1000*ikke_digital_post","v":42000},{"$f":"ROUNDUP(SUM(Table3[[#This Row],[iFOBT runde 1]:[iFOBT runde 5 ]])*påminnelse/1000,0)*1000*ikke_digital_post","v":94800},{"$f":"ROUNDUP((beregnet_deltakelse_ifobt-beregnet_positivitet_ifobt)*SUM(Table3[[#This Row],[iFOBT runde 1]:[iFOBT runde 5 ]])/1000,0)*1000*ikke_digital_post","v":98400},null,null,null,{"$f":"(1-AT43)*Table3[[#This Row],[Befolkning 55 år]]","v":69961}]
[null,2038,{"$f":"IF(\n ISBLANK(fast_befolkning),\n IF(\n  ISBLANK(valgt_kommune),\n  IF(\n   ISBLANK(valgt_sykehus),\n   IF(OR(valgt_helseforetak=\"Alle\",ISBLANK(valgt_helseforetak)),\n      INDEX(hf[#Totals],1,MATCH(\"Hele\"&TEXT(Table3[[#This Row],[År]],\"#\"),hf[#Headers],0)),\n      INDEX(hf[],MATCH(valgt_helseforetak,alle_helseforetak,0),MATCH(\"Hele\"&TEXT(Table3[[#This Row],[År]],\"#\"),hf[#Headers],0))),\n      INDEX(lokalsykehus_befolkning[],MATCH(valgt_sykehus,alle_lokalsykehusområder,0),MATCH(\"Hele\"&TEXT(Table3[[#This Row],[År]],\"#\"),lokalsykehus_befolkning[#Headers],0))\n  ),\n  INDEX(hf_kommune[],MATCH(valgt_kommune,alle_kommuner,0),MATCH(TEXT(Table3[[#This Row],[År]],\"#\")&\"-tot\",hf_kommune[#Headers],0))\n ),\nfast_befolkning)","v":5804512},{"$f":"IF(\n ISBLANK(fast_befolkning),\n IF(\n  ISBLANK(valgt_kommune),\n  IF(\n   ISBLANK(valgt_sykehus),\n   IF(OR(valgt_helseforetak=\"Alle\",ISBLANK(valgt_helseforetak)),\n      INDEX(hf[#Totals],1,MATCH(TEXT(Table3[[#This Row],[År]],\"#\"),hf[#Headers],0)),\n      INDEX(hf[],MATCH(valgt_helseforetak,alle_helseforetak,0),MATCH(TEXT(Table3[[#This Row],[År]],\"#\"),hf[#Headers],0))),\n      INDEX(lokalsykehus_befolkning[],MATCH(valgt_sykehus,alle_lokalsykehusområder,0),MATCH(TEXT(Table3[[#This Row],[År]],\"#\"),lokalsykehus_befolkning[#Headers],0))\n  ),\n  INDEX(hf_kommune[],MATCH(valgt_kommune,alle_kommuner,0),MATCH(TEXT(Table3[[#This Row],[År]],\"#\"),hf_kommune[#Headers],0))\n ),\nfast_befolkning*INDEX(befolkningsfordeling[],1,MATCH(TEXT(Table3[[#This Row],[År]],\"#\"),befolkningsfordeling[#Headers],0)))","v":71589},null,null,0,{"$f":"1-Table3[[#This Row],[Andel til primær kolo]]","v":1},{"$f":"Table3[[#This Row],[Normal befolkning]]*inviterbare*Table3[[#This Row],[Andel til primær kolo]]","v":0},0,{"$f":"inviterbare*Table3[[#This Row],[Andel til iFOBT]]*Table3[[#This Row],[Normal befolkning]]","v":70873.11},67615.590424139999,63761.025901591376,59358.820927888082,60062.885881616137,{"$f":"ROUNDUP(SUM(Table3[[#This Row],[iFOBT utrulling runde 1]:[iFOBT runde 5 ]])/1000,0)*1000","v":322000},{"$f":"Table3[[#This Row],[Primær koloskopi   ]]*beregnet_deltakelse_kolo","v":0},{"$f":"Table3[[#This Row],[iFOBT utrulling runde 1]]*beregnet_deltakelse_ifobt*beregnet_positivitet_ifobt*andel_positive_til_kolo_ifobt","v":0},{"$f":"Table3[[#This Row],[iFOBT runde 1]]*beregnet_deltakelse_ifobt*beregnet_positivitet_ifobt*andel_positive_til_kolo_ifobt","v":2382.1161002099998},{"$f":"Table3[[#This Row],[iFOBT runde 2]]*beregnet_deltakelse_ifobt*beregnet_positivitet_ifobt*andel_positive_til_kolo_ifobt","v":2272.6276097457694},{"$f":"Table3[[#This Row],[iFOBT runde 3 ]]*beregnet_deltakelse_ifobt*beregnet_positivitet_ifobt*andel_positive_til_kolo_ifobt","v":2143.0718415783876},{"$f":"Table3[[#This Row],[iFOBT runde 4 ]]*beregnet_deltakelse_ifobt*beregnet_positivitet_ifobt*andel_positive_til_kolo_ifobt","v":1995.1093302072463},{"$f":"Table3[[#This Row],[iFOBT runde 5 ]]*beregnet_deltakelse_ifobt*beregnet_positivitet_ifobt*andel_positive_til_kolo_ifobt","v":2018.7736573669997},{"$f":"kolo_per_inv_kolo*Table3[[#This Row],[Primær koloskopi   ]]","v":0},null,{"$f":"kolo_per_inv_ifobt*Table3[[#This Row],[iFOBT runde 1]]","v":2597.7602945447998},{"$f":"kolo_per_inv_ifobt*Table3[[#This Row],[iFOBT runde 2]]","v":2478.3602144174915},{"$f":"kolo_per_inv_ifobt*Table3[[#This Row],[iFOBT runde 3 ]]","v":2337.0762398686416},{"$f":"kolo_per_inv_ifobt*Table3[[#This Row],[iFOBT runde 4 ]]","v":2175.7192274681124},{"$f":"kolo_per_inv_ifobt*Table3[[#This Row],[iFOBT runde 5 ]]","v":2201.5257989812753},{"$f":"SUM(Table3[[#This Row],[iFOBT R2  ]:[iFOBT R5  ]])","v":9192.6814807355222},{"$f":"SUM(Table3[[#This Row],[Primær koloskopi    ]:[iFOBT R5  ]])","v":11790.44177528032},{"$f":"Q41*andel_avansert_adenom_kolo+SUM(S41:W41)*andel_avansert_adenom_ifobt","v":3808.7909803485823},3856.5117204858029,{"$f":"Table3[[#This Row],[Første gang]]+Table3[[#This Row],[Gjentak-ende]]","v":7665.3027008343852},{"$f":"Table3[[#This Row],[Sum screening-koloskopier]]+Table3[[#This Row],[Totalt surveillance-koloskopier]]","v":19455.744476114705},{"$f":"IF(SUM(Table3[Befolkning 55 år])>30000,ROUNDUP((Table3[[#This Row],[Sum screening-koloskopier]]+Table3[[#This Row],[Totalt surveillance-koloskopier]])/50,0)*50,ROUNDUP((Table3[[#This Row],[Sum screening-koloskopier]]+Table3[[#This Row],[Totalt surveillance-koloskopier]])/10,0)*10)","v":19500},{"$f":"(Table3[[#This Row],[Sum screening-koloskopier]]+Table3[[#This Row],[Totalt surveillance-koloskopier]])/undersokelser_per_rom","v":17.687040432831552},{"$f":"IF(ISBLANK(Table3[[#This Row],[Skopirom]]),\"\",IF(Table3[[#This Row],[Skopirom]]<0.2,1,ROUND(Table3[[#This Row],[Skopirom]]+0.3,0)))","v":18},{"$f":"IF(Table3[[#This Row],[Hele rom, rundet opp hvis > 0,2]]-Table3[[#This Row],[Skopirom]]>0,Table3[[#This Row],[Hele rom, rundet opp hvis > 0,2]]-Table3[[#This Row],[Skopirom]],0)","v":0.31295956716844842},{"$f":"ROUNDUP(ifobt_per_invitasjon*SUM(Table3[[#This Row],[iFOBT utrulling runde 1]:[iFOBT runde 5 ]])/1000,0)*1000","v":343000},{"$f":"ROUNDUP(SUM(Table3[[#This Row],[iFOBT runde 1]:[iFOBT runde 5 ]])*deltakelse_ifobt/1000,0)*1000","v":187000},{"$f":"ROUNDUP((Table3[[#This Row],[Primær koloskopi   ]]+Table3[[#This Row],[iFOBT runde 1]])/1000,0)*1000*ikke_digital_post","v":42600},{"$f":"ROUNDUP(SUM(Table3[[#This Row],[iFOBT runde 1]:[iFOBT runde 5 ]])*påminnelse/1000,0)*1000*ikke_digital_post","v":96600},{"$f":"ROUNDUP((beregnet_deltakelse_ifobt-beregnet_positivitet_ifobt)*SUM(Table3[[#This Row],[iFOBT runde 1]:[iFOBT runde 5 ]])/1000,0)*1000*ikke_digital_post","v":100200},null,null,null,{"$f":"(1-AT44)*Table3[[#This Row],[Befolkning 55 år]]","v":71589}]
[null,2039,{"$f":"IF(\n ISBLANK(fast_befolkning),\n IF(\n  ISBLANK(valgt_kommune),\n  IF(\n   ISBLANK(valgt_sykehus),\n   IF(OR(valgt_helseforetak=\"Alle\",ISBLANK(valgt_helseforetak)),\n      INDEX(hf[#Totals],1,MATCH(\"Hele\"&TEXT(Table3[[#This Row],[År]],\"#\"),hf[#Headers],0)),\n      INDEX(hf[],MATCH(valgt_helseforetak,alle_helseforetak,0),MATCH(\"Hele\"&TEXT(Table3[[#This Row],[År]],\"#\"),hf[#Headers],0))),\n      INDEX(lokalsykehus_befolkning[],MATCH(valgt_sykehus,alle_lokalsykehusområder,0),MATCH(\"Hele\"&TEXT(Table3[[#This Row],[År]],\"#\"),lokalsykehus_befolkning[#Headers],0))\n  ),\n  INDEX(hf_kommune[],MATCH(valgt_kommune,alle_kommuner,0),MATCH(TEXT(Table3[[#This Row],[År]],\"#\")&\"-tot\",hf_kommune[#Headers],0))\n ),\nfast_befolkning)","v":5823542},{"$f":"IF(\n ISBLANK(fast_befolkning),\n IF(\n  ISBLANK(valgt_kommune),\n  IF(\n   ISBLANK(valgt_sykehus),\n   IF(OR(valgt_helseforetak=\"Alle\",ISBLANK(valgt_helseforetak)),\n      INDEX(hf[#Totals],1,MATCH(TEXT(Table3[[#This Row],[År]],\"#\"),hf[#Headers],0)),\n      INDEX(hf[],MATCH(valgt_helseforetak,alle_helseforetak,0),MATCH(TEXT(Table3[[#This Row],[År]],\"#\"),hf[#Headers],0))),\n      INDEX(lokalsykehus_befolkning[],MATCH(valgt_sykehus,alle_lokalsykehusområder,0),MATCH(TEXT(Table3[[#This Row],[År]],\"#\"),lokalsykehus_befolkning[#Headers],0))\n  ),\n  INDEX(hf_kommune[],MATCH(valgt_kommune,alle_kommuner,0),MATCH(TEXT(Table3[[#This Row],[År]],\"#\"),hf_kommune[#Headers],0))\n ),\nfast_befolkning*INDEX(befolkningsfordeling[],1,MATCH(TEXT(Table3[[#This Row],[År]],\"#\"),befolkningsfordeling[#Headers],0)))","v":71405},null,null,0,{"$f":"1-Table3[[#This Row],[Andel til primær kolo]]","v":1},{"$f":"Table3[[#This Row],[Normal befolkning]]*inviterbare*Table3[[#This Row],[Andel til primær kolo]]","v":0},0,{"$f":"inviterbare*Table3[[#This Row],[Andel til iFOBT]]*Table3[[#This Row],[Normal befolkning]]","v":70690.95},66933.445420710006,64325.012761211343,58137.239370353411,57806.852030877017,{"$f":"ROUNDUP(SUM(Table3[[#This Row],[iFOBT utrulling runde 1]:[iFOBT runde 5 ]])/1000,0)*1000","v":318000},{"$f":"Table3[[#This Row],[Primær koloskopi   ]]*beregnet_deltakelse_kolo","v":0},{"$f":"Table3[[#This Row],[iFOBT utrulling runde 1]]*beregnet_deltakelse_ifobt*beregnet_positivitet_ifobt*andel_positive_til_kolo_ifobt","v":0},{"$f":"Table3[[#This Row],[iFOBT runde 1]]*beregnet_deltakelse_ifobt*beregnet_positivitet_ifobt*andel_positive_til_kolo_ifobt","v":2375.9935204499998},{"$f":"Table3[[#This Row],[iFOBT runde 2]]*beregnet_deltakelse_ifobt*beregnet_positivitet_ifobt*andel_positive_til_kolo_ifobt","v":2249.7000340354839},{"$f":"Table3[[#This Row],[iFOBT runde 3 ]]*beregnet_deltakelse_ifobt*beregnet_positivitet_ifobt*andel_positive_til_kolo_ifobt","v":2162.0280039170743},{"$f":"Table3[[#This Row],[iFOBT runde 4 ]]*beregnet_deltakelse_ifobt*beregnet_positivitet_ifobt*andel_positive_til_kolo_ifobt","v":1954.0507524769482},{"$f":"Table3[[#This Row],[iFOBT runde 5 ]]*beregnet_deltakelse_ifobt*beregnet_positivitet_ifobt*andel_positive_til_kolo_ifobt","v":1942.9461036098071},{"$f":"kolo_per_inv_kolo*Table3[[#This Row],[Primær koloskopi   ]]","v":0},null,{"$f":"kolo_per_inv_ifobt*Table3[[#This Row],[iFOBT runde 1]]","v":2591.0834601959996},{"$f":"kolo_per_inv_ifobt*Table3[[#This Row],[iFOBT runde 2]]","v":2453.3570897481695},{"$f":"kolo_per_inv_ifobt*Table3[[#This Row],[iFOBT runde 3 ]]","v":2357.7484337453566},{"$f":"kolo_per_inv_ifobt*Table3[[#This Row],[iFOBT runde 4 ]]","v":2130.9437679643352},{"$f":"kolo_per_inv_ifobt*Table3[[#This Row],[iFOBT runde 5 ]]","v":2118.833856147116},{"$f":"SUM(Table3[[#This Row],[iFOBT R2  ]:[iFOBT R5  ]])","v":9060.8831476049781},{"$f":"SUM(Table3[[#This Row],[Primær koloskopi    ]:[iFOBT R5  ]])","v":11651.966607800978},{"$f":"Q42*andel_avansert_adenom_kolo+SUM(S42:W42)*andel_avansert_adenom_ifobt","v":3883.6685624136803},4276.2065093870106,{"$f":"Table3[[#This Row],[Første gang]]+Table3[[#This Row],[Gjentak-ende]]","v":8159.8750718006904},{"$f":"Table3[[#This Row],[Sum screening-koloskopier]]+Table3[[#This Row],[Totalt surveillance-koloskopier]]","v":19811.841679601668},{"$f":"IF(SUM(Table3[Befolkning 55 år])>30000,ROUNDUP((Table3[[#This Row],[Sum screening-koloskopier]]+Table3[[#This Row],[Totalt surveillance-koloskopier]])/50,0)*50,ROUNDUP((Table3[[#This Row],[Sum screening-koloskopier]]+Table3[[#This Row],[Totalt surveillance-koloskopier]])/10,0)*10)","v":19850},{"$f":"(Table3[[#This Row],[Sum screening-koloskopier]]+Table3[[#This Row],[Totalt surveillance-koloskopier]])/undersokelser_per_rom","v":18.010765163274243},{"$f":"IF(ISBLANK(Table3[[#This Row],[Skopirom]]),\"\",IF(Table3[[#This Row],[Skopirom]]<0.2,1,ROUND(Table3[[#This Row],[Skopirom]]+0.3,0)))","v":18},{"$f":"IF(Table3[[#This Row],[Hele rom, rundet opp hvis > 0,2]]-Table3[[#This Row],[Skopirom]]>0,Table3[[#This Row],[Hele rom, rundet opp hvis > 0,2]]-Table3[[#This Row],[Skopirom]],0)","v":0},{"$f":"ROUNDUP(ifobt_per_invitasjon*SUM(Table3[[#This Row],[iFOBT utrulling runde 1]:[iFOBT runde 5 ]])/1000,0)*1000","v":339000},{"$f":"ROUNDUP(SUM(Table3[[#This Row],[iFOBT runde 1]:[iFOBT runde 5 ]])*deltakelse_ifobt/1000,0)*1000","v":185000},{"$f":"ROUNDUP((Table3[[#This Row],[Primær koloskopi   ]]+Table3[[#This Row],[iFOBT runde 1]])/1000,0)*1000*ikke_digital_post","v":42600},{"$f":"ROUNDUP(SUM(Table3[[#This Row],[iFOBT runde 1]:[iFOBT runde 5 ]])*påminnelse/1000,0)*1000*ikke_digital_post","v":95400},{"$f":"ROUNDUP((beregnet_deltakelse_ifobt-beregnet_positivitet_ifobt)*SUM(Table3[[#This Row],[iFOBT runde 1]:[iFOBT runde 5 ]])/1000,0)*1000*ikke_digital_post","v":99000},null,null,null,{"$f":"(1-AT45)*Table3[[#This Row],[Befolkning 55 år]]","v":71405}]
[null,2040,{"$f":"IF(\n ISBLANK(fast_befolkning),\n IF(\n  ISBLANK(valgt_kommune),\n  IF(\n   ISBLANK(valgt_sykehus),\n   IF(OR(valgt_helseforetak=\"Alle\",ISBLANK(valgt_helseforetak)),\n      INDEX(hf[#Totals],1,MATCH(\"Hele\"&TEXT(Table3[[#This Row],[År]],\"#\"),hf[#Headers],0)),\n      INDEX(hf[],MATCH(valgt_helseforetak,alle_helseforetak,0),MATCH(\"Hele\"&TEXT(Table3[[#This Row],[År]],\"#\"),hf[#Headers],0))),\n      INDEX(lokalsykehus_befolkning[],MATCH(valgt_sykehus,alle_lokalsykehusområder,0),MATCH(\"Hele\"&TEXT(Table3[[#This Row],[År]],\"#\"),lokalsykehus_befolkning[#Headers],0))\n  ),\n  INDEX(hf_kommune[],MATCH(valgt_kommune,alle_kommuner,0),MATCH(TEXT(Table3[[#This Row],[År]],\"#\")&\"-tot\",hf_kommune[#Headers],0))\n ),\nfast_befolkning)","v":5841616},{"$f":"IF(\n ISBLANK(fast_befolkning),\n IF(\n  ISBLANK(valgt_kommune),\n  IF(\n   ISBLANK(valgt_sykehus),\n   IF(OR(valgt_helseforetak=\"Alle\",ISBLANK(valgt_helseforetak)),\n      INDEX(hf[#Totals],1,MATCH(TEXT(Table3[[#This Row],[År]],\"#\"),hf[#Headers],0)),\n      INDEX(hf[],MATCH(valgt_helseforetak,alle_helseforetak,0),MATCH(TEXT(Table3[[#This Row],[År]],\"#\"),hf[#Headers],0))),\n      INDEX(lokalsykehus_befolkning[],MATCH(valgt_sykehus,alle_lokalsykehusområder,0),MATCH(TEXT(Table3[[#This Row],[År]],\"#\"),lokalsykehus_befolkning[#Headers],0))\n  ),\n  INDEX(hf_kommune[],MATCH(valgt_kommune,alle_kommuner,0),MATCH(TEXT(Table3[[#This Row],[År]],\"#\"),hf_kommune[#Headers],0))\n ),\nfast_befolkning*INDEX(befolkningsfordeling[],1,MATCH(TEXT(Table3[[#This Row],[År]],\"#\"),befolkningsfordeling[#Headers],0)))","v":71875},null,null,0,{"$f":"1-Table3[[#This Row],[Andel til primær kolo]]","v":1},{"$f":"Table3[[#This Row],[Normal befolkning]]*inviterbare*Table3[[#This Row],[Andel til primær kolo]]","v":0},0,{"$f":"inviterbare*Table3[[#This Row],[Andel til iFOBT]]*Table3[[#This Row],[Normal befolkning]]","v":71156.25},68490.993899790003,65342.962814394232,61617.954060012991,57363.711597680835,{"$f":"ROUNDUP(SUM(Table3[[#This Row],[iFOBT utrulling runde 1]:[iFOBT runde 5 ]])/1000,0)*1000","v":324000},{"$f":"Table3[[#This Row],[Primær koloskopi   ]]*beregnet_deltakelse_kolo","v":0},{"$f":"Table3[[#This Row],[iFOBT utrulling runde 1]]*beregnet_deltakelse_ifobt*beregnet_positivitet_ifobt*andel_positive_til_kolo_ifobt","v":0},{"$f":"Table3[[#This Row],[iFOBT runde 1]]*beregnet_deltakelse_ifobt*beregnet_positivitet_ifobt*andel_positive_til_kolo_ifobt","v":2391.6327187499996},{"$f":"Table3[[#This Row],[iFOBT runde 2]]*beregnet_deltakelse_ifobt*beregnet_positivitet_ifobt*andel_positive_til_kolo_ifobt","v":2302.0507959658416},{"$f":"Table3[[#This Row],[iFOBT runde 3 ]]*beregnet_deltakelse_ifobt*beregnet_positivitet_ifobt*andel_positive_til_kolo_ifobt","v":2196.2423231546045},{"$f":"Table3[[#This Row],[iFOBT runde 4 ]]*beregnet_deltakelse_ifobt*beregnet_positivitet_ifobt*andel_positive_til_kolo_ifobt","v":2071.0410539110962},{"$f":"Table3[[#This Row],[iFOBT runde 5 ]]*beregnet_deltakelse_ifobt*beregnet_positivitet_ifobt*andel_positive_til_kolo_ifobt","v":1928.0517105096503},{"$f":"kolo_per_inv_kolo*Table3[[#This Row],[Primær koloskopi   ]]","v":0},null,{"$f":"kolo_per_inv_ifobt*Table3[[#This Row],[iFOBT runde 1]]","v":2608.1384174999994},{"$f":"kolo_per_inv_ifobt*Table3[[#This Row],[iFOBT runde 2]]","v":2510.4469732848543},{"$f":"kolo_per_inv_ifobt*Table3[[#This Row],[iFOBT runde 3 ]]","v":2395.0600492507051},{"$f":"kolo_per_inv_ifobt*Table3[[#This Row],[iFOBT runde 4 ]]","v":2258.5247703704167},{"$f":"kolo_per_inv_ifobt*Table3[[#This Row],[iFOBT runde 5 ]]","v":2102.5911285136817},{"$f":"SUM(Table3[[#This Row],[iFOBT R2  ]:[iFOBT R5  ]])","v":9266.6229214196574},{"$f":"SUM(Table3[[#This Row],[Primær koloskopi    ]:[iFOBT R5  ]])","v":11874.761338919659},{"$f":"Q43*andel_avansert_adenom_kolo+SUM(S43:W43)*andel_avansert_adenom_ifobt","v":3815.7983616067481},4258.8894454799074,{"$f":"Table3[[#This Row],[Første gang]]+Table3[[#This Row],[Gjentak-ende]]","v":8074.6878070866551},{"$f":"Table3[[#This Row],[Sum screening-koloskopier]]+Table3[[#This Row],[Totalt surveillance-koloskopier]]","v":19949.449146006315},{"$f":"IF(SUM(Table3[Befolkning 55 år])>30000,ROUNDUP((Table3[[#This Row],[Sum screening-koloskopier]]+Table3[[#This Row],[Totalt surveillance-koloskopier]])/50,0)*50,ROUNDUP((Table3[[#This Row],[Sum screening-koloskopier]]+Table3[[#This Row],[Totalt surveillance-koloskopier]])/10,0)*10)","v":19950},{"$f":"(Table3[[#This Row],[Sum screening-koloskopier]]+Table3[[#This Row],[Totalt surveillance-koloskopier]])/undersokelser_per_rom","v":18.135862860005741},{"$f":"IF(ISBLANK(Table3[[#This Row],[Skopirom]]),\"\",IF(Table3[[#This Row],[Skopirom]]<0.2,1,ROUND(Table3[[#This Row],[Skopirom]]+0.3,0)))","v":18},{"$f":"IF(Table3[[#This Row],[Hele rom, rundet opp hvis > 0,2]]-Table3[[#This Row],[Skopirom]]>0,Table3[[#This Row],[Hele rom, rundet opp hvis > 0,2]]-Table3[[#This Row],[Skopirom]],0)","v":0},{"$f":"ROUNDUP(ifobt_per_invitasjon*SUM(Table3[[#This Row],[iFOBT utrulling runde 1]:[iFOBT runde 5 ]])/1000,0)*1000","v":346000},{"$f":"ROUNDUP(SUM(Table3[[#This Row],[iFOBT runde 1]:[iFOBT runde 5 ]])*deltakelse_ifobt/1000,0)*1000","v":188000},{"$f":"ROUNDUP((Table3[[#This Row],[Primær koloskopi   ]]+Table3[[#This Row],[iFOBT runde 1]])/1000,0)*1000*ikke_digital_post","v":43200},{"$f":"ROUNDUP(SUM(Table3[[#This Row],[iFOBT runde 1]:[iFOBT runde 5 ]])*påminnelse/1000,0)*1000*ikke_digital_post","v":97200},{"$f":"ROUNDUP((beregnet_deltakelse_ifobt-beregnet_positivitet_ifobt)*SUM(Table3[[#This Row],[iFOBT runde 1]:[iFOBT runde 5 ]])/1000,0)*1000*ikke_digital_post","v":101400},null,null,null,{"$f":"(1-AT46)*Table3[[#This Row],[Befolkning 55 år]]","v":71875}]
[null,"Sum førstegangsinviterte",null,null,null,null,null,null,{"$f":"SUBTOTAL(109,Table3[[Primær koloskopi   ]])","v":0},{"$f":"SUBTOTAL(109,Table3[iFOBT utrulling runde 1])","v":0},{"$f":"SUBTOTAL(109,Table3[iFOBT runde 1])","v":783537.48}]
[]
[null,{"$f":"\"Prognose for \" & IF(\n ISBLANK(fast_befolkning),\n IF(\n  ISBLANK(valgt_kommune),\n  IF(\n   ISBLANK(valgt_sykehus),\n     IF(OR(valgt_helseforetak=\"Alle\",ISBLANK(valgt_helseforetak)),\n\"hele landet\",\nvalgt_helseforetak),valgt_sykehus),valgt_kommune),\"fast befolkning på \"&fast_befolkning)","v":"Prognose for hele landet"},null,null,null,null,null,null,null,null,null,null,null,null,{"$f":"IF(\n ISBLANK(fast_befolkning),\n IF(\n  ISBLANK(valgt_kommune),\n  IF(\n   ISBLANK(valgt_sykehus),\n     IF(OR(valgt_helseforetak=\"Alle\",ISBLANK(valgt_helseforetak)),\n\"Estimert antall skopirom for hele landet kan ikke brukes, da dette må sees på per HF\",\n\"Antall skopirom for \" & valgt_helseforetak),\"Antall skopirom for \" & valgt_sykehus),\"Antall skopirom for \" & valgt_kommune),\"fast befolkning på \"&fast_befolkning)","v":"Estimert antall skopirom for hele landet kan ikke brukes, da dette må sees på per HF"}]
[]
[]
[]
[]
[]
[]
[]
[]
[]
[]
[]
[]
[]
[]
[]
[]
[null,"4. Resultat: Grunnlag for beregning av patologikapasitet"]
[null,"Antall vevsprøver og remisser. Inkluderer ikke funn ifm. overvåkningskoloskopier (surveillance).",null,null,null,null,null,null,null,null,null,null,null,null,null,null,null,null,null,null,null,null,null,null,null,null,null,"   Prognose for antall patologiremisser"]
[]
[null,"År","Antall screening-skopier","Antall ikke-avanserte \nadenom","Antall avanserte adenom\n>= 20 mm","Column1","Antall avanserte adenom\n< 20 mm","Antall kreft-tilfeller","Antall andre\npolypper","Totalt antall vevs-prøver","Vevs-prøver pr. \nscreening-koloskopi","Antall patologi-rekvisisjoner","Antall patologi-rekvisisjoner (avr.)","Rekvisisjoner pr. screening-koloskopi","Vevs-\nprøver pr. rekvisisjon",null,null,null,null,null,null,"Kolonne1",null,"Antall operasjons-preparat"]
[null,2022,{"$f":"AF28","v":436.52588290845006},{"$f":"histo_1_ifobt*($Y28+$Z28)+histo_1_ifobt_2gang*SUM($AA28:$AD28)+histo_1_kolo*$X28","v":347.89424646156863},{"$f":"histo_2_ifobt*($Y28+$Z28)+histo_2_ifobt_2gang*SUM($AA28:$AD28)+histo_2_kolo*$X28","v":32.558560327425837},null,{"$f":"histo_3_ifobt*($Y28+$Z28)+histo_3_ifobt_2gang*SUM($AA28:$AD28)+histo_3_kolo*$X28","v":122.39606937902673},{"$f":"histo_4_ifobt*($Y28+$Z28)+histo_4_ifobt_2gang*SUM($AA28:$AD28)+histo_4_kolo*$X28","v":17.485152768432393},{"$f":"histo_5_ifobt*($Y28+$Z28)+histo_5_ifobt_2gang*SUM($AA28:$AD28)+histo_5_kolo*$X28","v":364.77646292764126},{"$f":"SUM(Table17[[#This Row],[Antall ikke-avanserte \nadenom]:[Antall andre\npolypper]])","v":885.11049186409491},{"$f":"IF(Table17[[#This Row],[Antall screening-skopier]]>0,Table17[[#This Row],[Totalt antall vevs-prøver]]/Table17[[#This Row],[Antall screening-skopier]],\"-\")","v":2.0276243093922655},{"$f":"remisser_fobt*($Y28+$Z28)+remisser_fobt_2gang*SUM($AA28:$AD28)+remisser_kolo*$X28","v":309.9333768649995},{"$f":"ROUND(Table17[[#This Row],[Antall patologi-rekvisisjoner]]/50,0)*50","v":300},{"$f":"IF(Table17[[#This Row],[Antall screening-skopier]]>0,Table17[[#This Row],[Antall patologi-rekvisisjoner]]/Table17[[#This Row],[Antall screening-skopier]],\"-\")","v":0.71},{"$f":"IF(Table17[[#This Row],[Antall patologi-rekvisisjoner]]>0,Table17[[#This Row],[Totalt antall vevs-prøver]]/Table17[[#This Row],[Antall patologi-rekvisisjoner]],\"-\")","v":2.8558088864679796},null,{"$f":"ROUND(Table17[[#This Row],[Antall patologi-rekvisisjoner]]/100,0)*100","v":300},null,null,null,null,null,null,{"$f":"ifobt_operasjonspreparat*$Z28+ifobt_operasjonspreparat_2gang*SUM($AA28:$AD28)+kolo_operasjonspreparat*$X28","v":0}]
[null,2023,{"$f":"AF29","v":3793.6177919424831},3023.3666656779183,282.94939332167695,null,1063.6801267463038,151.95430382090058,3170.0811659187875,{"$f":"SUM(Table17[[#This Row],[Antall ikke-avanserte \nadenom]:[Antall andre\npolypper]])","v":7692.0316554855863},{"$f":"IF(Table17[[#This Row],[Antall screening-skopier]]>0,Table17[[#This Row],[Totalt antall vevs-prøver]]/Table17[[#This Row],[Antall screening-skopier]],\"-\")","v":2.027624309392265},2693.4686322791626,{"$f":"ROUND(Table17[[#This Row],[Antall patologi-rekvisisjoner]]/50,0)*50","v":2700},{"$f":"IF(Table17[[#This Row],[Antall screening-skopier]]>0,Table17[[#This Row],[Antall patologi-rekvisisjoner]]/Table17[[#This Row],[Antall screening-skopier]],\"-\")","v":0.70999999999999985},{"$f":"IF(Table17[[#This Row],[Antall patologi-rekvisisjoner]]>0,Table17[[#This Row],[Totalt antall vevs-prøver]]/Table17[[#This Row],[Antall patologi-rekvisisjoner]],\"-\")","v":2.8558088864679791},null,{"$f":"ROUND(Table17[[#This Row],[Antall patologi-rekvisisjoner]]/100,0)*100","v":2700},null,null,null,null,null,null,0]
[null,2024,4212.7693003158265,3384.4410266791569,298.71572311591939,null,1145.5475823528359,163.36410936513045,3513.5681332826257,{"$f":"SUM(Table17[[#This Row],[Antall ikke-avanserte \nadenom]:[Antall andre\npolypper]])","v":8505.6365747956679},{"$f":"IF(Table17[[#This Row],[Antall screening-skopier]]>0,Table17[[#This Row],[Totalt antall vevs-prøver]]/Table17[[#This Row],[Antall screening-skopier]],\"-\")","v":2.0190131403962734},2958.3655604265759,{"$f":"ROUND(Table17[[#This Row],[Antall patologi-rekvisisjoner]]/50,0)*50","v":2950},{"$f":"IF(Table17[[#This Row],[Antall screening-skopier]]>0,Table17[[#This Row],[Antall patologi-rekvisisjoner]]/Table17[[#This Row],[Antall screening-skopier]],\"-\")","v":0.70223773236402731},{"$f":"IF(Table17[[#This Row],[Antall patologi-rekvisisjoner]]>0,Table17[[#This Row],[Totalt antall vevs-prøver]]/Table17[[#This Row],[Antall patologi-rekvisisjoner]],\"-\")","v":2.8751134371538631},null,{"$f":"ROUND(Table17[[#This Row],[Antall patologi-rekvisisjoner]]/100,0)*100","v":3000},null,null,null,null,null,null,12.1442012189813]
[null,2025,6308.637080908029,5262.6157009979179,335.86302883738909,null,1458.9812732662836,205.94437192621433,5212.8782683799473,{"$f":"SUM(Table17[[#This Row],[Antall ikke-avanserte \nadenom]:[Antall andre\npolypper]])","v":12476.282643407752},{"$f":"IF(Table17[[#This Row],[Antall screening-skopier]]>0,Table17[[#This Row],[Totalt antall vevs-prøver]]/Table17[[#This Row],[Antall screening-skopier]],\"-\")","v":1.977651033559215},4194.9481697983629,{"$f":"ROUND(Table17[[#This Row],[Antall patologi-rekvisisjoner]]/50,0)*50","v":4200},{"$f":"IF(Table17[[#This Row],[Antall screening-skopier]]>0,Table17[[#This Row],[Antall patologi-rekvisisjoner]]/Table17[[#This Row],[Antall screening-skopier]],\"-\")","v":0.66495316119762682},{"$f":"IF(Table17[[#This Row],[Antall patologi-rekvisisjoner]]>0,Table17[[#This Row],[Totalt antall vevs-prøver]]/Table17[[#This Row],[Antall patologi-rekvisisjoner]],\"-\")","v":2.9741208087458793},null,{"$f":"ROUND(Table17[[#This Row],[Antall patologi-rekvisisjoner]]/100,0)*100","v":4200},null,null,null,null,null,null,250.79775186023664]
[null,2026,6652.8628855499965,5563.3068687938139,346.42530981354889,null,1520.7249029975349,214.48642714643233,5493.9225955699876,{"$f":"SUM(Table17[[#This Row],[Antall ikke-avanserte \nadenom]:[Antall andre\npolypper]])","v":13138.866104321318},{"$f":"IF(Table17[[#This Row],[Antall screening-skopier]]>0,Table17[[#This Row],[Totalt antall vevs-prøver]]/Table17[[#This Row],[Antall screening-skopier]],\"-\")","v":1.9749191183330872},4407.4588725102576,{"$f":"ROUND(Table17[[#This Row],[Antall patologi-rekvisisjoner]]/50,0)*50","v":4400},{"$f":"IF(Table17[[#This Row],[Antall screening-skopier]]>0,Table17[[#This Row],[Antall patologi-rekvisisjoner]]/Table17[[#This Row],[Antall screening-skopier]],\"-\")","v":0.66249056208316703},{"$f":"IF(Table17[[#This Row],[Antall patologi-rekvisisjoner]]>0,Table17[[#This Row],[Totalt antall vevs-prøver]]/Table17[[#This Row],[Antall patologi-rekvisisjoner]],\"-\")","v":2.9810524577483144},null,{"$f":"ROUND(Table17[[#This Row],[Antall patologi-rekvisisjoner]]/100,0)*100","v":4400},null,null,null,null,null,null,259.77417262431965]
[null,2027,8694.133394369077,7323.000641099834,422.48536892651532,null,1917.7584570876056,269.80159383674624,7166.3908146108834,{"$f":"SUM(Table17[[#This Row],[Antall ikke-avanserte \nadenom]:[Antall andre\npolypper]])","v":17099.436875561583},{"$f":"IF(Table17[[#This Row],[Antall screening-skopier]]>0,Table17[[#This Row],[Totalt antall vevs-prøver]]/Table17[[#This Row],[Antall screening-skopier]],\"-\")","v":1.9667787575742008},5695.9848782329973,{"$f":"ROUND(Table17[[#This Row],[Antall patologi-rekvisisjoner]]/50,0)*50","v":5700},{"$f":"IF(Table17[[#This Row],[Antall screening-skopier]]>0,Table17[[#This Row],[Antall patologi-rekvisisjoner]]/Table17[[#This Row],[Antall screening-skopier]],\"-\")","v":0.65515268973467922},{"$f":"IF(Table17[[#This Row],[Antall patologi-rekvisisjoner]]>0,Table17[[#This Row],[Totalt antall vevs-prøver]]/Table17[[#This Row],[Antall patologi-rekvisisjoner]],\"-\")","v":3.0020158481997505},null,{"$f":"ROUND(Table17[[#This Row],[Antall patologi-rekvisisjoner]]/100,0)*100","v":5700},null,null,null,null,null,null,321.1461094786207]
[null,2028,9022.6233905524441,7606.5020154757294,434.53955767652963,null,1981.2234521830546,278.63867587415592,7435.4504183354429,{"$f":"SUM(Table17[[#This Row],[Antall ikke-avanserte \nadenom]:[Antall andre\npolypper]])","v":17736.354119544911},{"$f":"IF(Table17[[#This Row],[Antall screening-skopier]]>0,Table17[[#This Row],[Totalt antall vevs-prøver]]/Table17[[#This Row],[Antall screening-skopier]],\"-\")","v":1.9657646509014863},5902.9480906858007,{"$f":"ROUND(Table17[[#This Row],[Antall patologi-rekvisisjoner]]/50,0)*50","v":5900},{"$f":"IF(Table17[[#This Row],[Antall screening-skopier]]>0,Table17[[#This Row],[Antall patologi-rekvisisjoner]]/Table17[[#This Row],[Antall screening-skopier]],\"-\")","v":0.65423855514868945},{"$f":"IF(Table17[[#This Row],[Antall patologi-rekvisisjoner]]>0,Table17[[#This Row],[Totalt antall vevs-prøver]]/Table17[[#This Row],[Antall patologi-rekvisisjoner]],\"-\")","v":3.00466035734431},null,{"$f":"ROUND(Table17[[#This Row],[Antall patologi-rekvisisjoner]]/100,0)*100","v":5900},null,null,null,null,null,null,330.90971847233948]
[null,2029,{"$f":"AF35","v":10879.969692081362},9215.1104679278033,499.46445030559335,null,2332.6304302400786,327.4833550580646,8955.353634675077,{"$f":"SUM(Table17[[#This Row],[Antall ikke-avanserte \nadenom]:[Antall andre\npolypper]])","v":21330.042338206615},{"$f":"IF(Table17[[#This Row],[Antall screening-skopier]]>0,Table17[[#This Row],[Totalt antall vevs-prøver]]/Table17[[#This Row],[Antall screening-skopier]],\"-\")","v":1.9604872937955888},7066.3384638996413,{"$f":"ROUND(Table17[[#This Row],[Antall patologi-rekvisisjoner]]/50,0)*50","v":7050},{"$f":"IF(Table17[[#This Row],[Antall screening-skopier]]>0,Table17[[#This Row],[Antall patologi-rekvisisjoner]]/Table17[[#This Row],[Antall screening-skopier]],\"-\")","v":0.6494814474568481},{"$f":"IF(Table17[[#This Row],[Antall patologi-rekvisisjoner]]>0,Table17[[#This Row],[Totalt antall vevs-prøver]]/Table17[[#This Row],[Antall patologi-rekvisisjoner]],\"-\")","v":3.0185424102138723},null,{"$f":"ROUND(Table17[[#This Row],[Antall patologi-rekvisisjoner]]/100,0)*100","v":7100},null,null,null,null,null,null,384.15520274991161]
[null,2030,11189.11403520692,9482.1501125168143,510.67432459700001,null,2392.0485226841934,335.7533381928032,9208.5088713289388,{"$f":"SUM(Table17[[#This Row],[Antall ikke-avanserte \nadenom]:[Antall andre\npolypper]])","v":21929.13516931975},{"$f":"IF(Table17[[#This Row],[Antall screening-skopier]]>0,Table17[[#This Row],[Totalt antall vevs-prøver]]/Table17[[#This Row],[Antall screening-skopier]],\"-\")","v":1.9598634083376929},7260.8294237233349,{"$f":"ROUND(Table17[[#This Row],[Antall patologi-rekvisisjoner]]/50,0)*50","v":7250},{"$f":"IF(Table17[[#This Row],[Antall screening-skopier]]>0,Table17[[#This Row],[Antall patologi-rekvisisjoner]]/Table17[[#This Row],[Antall screening-skopier]],\"-\")","v":0.64891906552001288},{"$f":"IF(Table17[[#This Row],[Antall patologi-rekvisisjoner]]>0,Table17[[#This Row],[Totalt antall vevs-prøver]]/Table17[[#This Row],[Antall patologi-rekvisisjoner]],\"-\")","v":3.0201969898467254},null,{"$f":"ROUND(Table17[[#This Row],[Antall patologi-rekvisisjoner]]/100,0)*100","v":7300},null,null,null,null,null,null,393.26229673191028]
[null,2031,12858.045727337922,10929.144455043124,568.11411369792359,null,2705.7393108863944,379.3310147628307,10573.835913026875,{"$f":"SUM(Table17[[#This Row],[Antall ikke-avanserte \nadenom]:[Antall andre\npolypper]])","v":25156.164807417146},{"$f":"IF(Table17[[#This Row],[Antall screening-skopier]]>0,Table17[[#This Row],[Totalt antall vevs-prøver]]/Table17[[#This Row],[Antall screening-skopier]],\"-\")","v":1.9564532076543935},8304.3051509478828,{"$f":"ROUND(Table17[[#This Row],[Antall patologi-rekvisisjoner]]/50,0)*50","v":8300},{"$f":"IF(Table17[[#This Row],[Antall screening-skopier]]>0,Table17[[#This Row],[Antall patologi-rekvisisjoner]]/Table17[[#This Row],[Antall screening-skopier]],\"-\")","v":0.64584504729920356},{"$f":"IF(Table17[[#This Row],[Antall patologi-rekvisisjoner]]>0,Table17[[#This Row],[Totalt antall vevs-prøver]]/Table17[[#This Row],[Antall patologi-rekvisisjoner]],\"-\")","v":3.0292919576234181},null,{"$f":"ROUND(Table17[[#This Row],[Antall patologi-rekvisisjoner]]/100,0)*100","v":8300},null,null,null,null,null,null,440.56127004980419]
[null,2032,12758.576591970634,10847.179004179981,562.23888307441268,null,2681.4016219037321,375.88264791237452,10491.390495109144,{"$f":"SUM(Table17[[#This Row],[Antall ikke-avanserte \nadenom]:[Antall andre\npolypper]])","v":24958.092652179643},{"$f":"IF(Table17[[#This Row],[Antall screening-skopier]]>0,Table17[[#This Row],[Totalt antall vevs-prøver]]/Table17[[#This Row],[Antall screening-skopier]],\"-\")","v":1.9561815906553826},8236.9396848792276,{"$f":"ROUND(Table17[[#This Row],[Antall patologi-rekvisisjoner]]/50,0)*50","v":8250},{"$f":"IF(Table17[[#This Row],[Antall screening-skopier]]>0,Table17[[#This Row],[Antall patologi-rekvisisjoner]]/Table17[[#This Row],[Antall screening-skopier]],\"-\")","v":0.64560020669257012},{"$f":"IF(Table17[[#This Row],[Antall patologi-rekvisisjoner]]>0,Table17[[#This Row],[Totalt antall vevs-prøver]]/Table17[[#This Row],[Antall patologi-rekvisisjoner]],\"-\")","v":3.0300200811225904},null,{"$f":"ROUND(Table17[[#This Row],[Antall patologi-rekvisisjoner]]/100,0)*100","v":8200},null,null,null,null,null,null,436.25540517555208]
[null,2033,11721.22597877525,9955.2471145744585,522.25316169881808,null,2476.5667503943305,347.3094157995331,9640.8786706566534,{"$f":"SUM(Table17[[#This Row],[Antall ikke-avanserte \nadenom]:[Antall andre\npolypper]])","v":22942.255113123792},{"$f":"IF(Table17[[#This Row],[Antall screening-skopier]]>0,Table17[[#This Row],[Totalt antall vevs-prøver]]/Table17[[#This Row],[Antall screening-skopier]],\"-\")","v":1.9573255523498598},7579.3127058417194,{"$f":"ROUND(Table17[[#This Row],[Antall patologi-rekvisisjoner]]/50,0)*50","v":7600},{"$f":"IF(Table17[[#This Row],[Antall screening-skopier]]>0,Table17[[#This Row],[Antall patologi-rekvisisjoner]]/Table17[[#This Row],[Antall screening-skopier]],\"-\")","v":0.64663139500648725},{"$f":"IF(Table17[[#This Row],[Antall patologi-rekvisisjoner]]>0,Table17[[#This Row],[Totalt antall vevs-prøver]]/Table17[[#This Row],[Antall patologi-rekvisisjoner]],\"-\")","v":3.0269571930237364},null,{"$f":"ROUND(Table17[[#This Row],[Antall patologi-rekvisisjoner]]/100,0)*100","v":7600},null,null,null,null,null,null,404.25860381083822]
[null,2034,11685.215877665756,9919.8223910047,523.42384582709849,null,2475.3438400311479,347.20577692295188,9612.4723945250953,{"$f":"SUM(Table17[[#This Row],[Antall ikke-avanserte \nadenom]:[Antall andre\npolypper]])","v":22878.268248310997},{"$f":"IF(Table17[[#This Row],[Antall screening-skopier]]>0,Table17[[#This Row],[Totalt antall vevs-prøver]]/Table17[[#This Row],[Antall screening-skopier]],\"-\")","v":1.9578815220725874},7561.8836234495539,{"$f":"ROUND(Table17[[#This Row],[Antall patologi-rekvisisjoner]]/50,0)*50","v":7550},{"$f":"IF(Table17[[#This Row],[Antall screening-skopier]]>0,Table17[[#This Row],[Antall patologi-rekvisisjoner]]/Table17[[#This Row],[Antall screening-skopier]],\"-\")","v":0.64713255643849676},{"$f":"IF(Table17[[#This Row],[Antall patologi-rekvisisjoner]]>0,Table17[[#This Row],[Totalt antall vevs-prøver]]/Table17[[#This Row],[Antall patologi-rekvisisjoner]],\"-\")","v":3.0254721425975171},null,{"$f":"ROUND(Table17[[#This Row],[Antall patologi-rekvisisjoner]]/100,0)*100","v":7600},null,null,null,null,null,null,404.69955492242138]
[null,2035,11524.935614349937,9780.0240292074814,518.38475849923964,null,2446.3159702400794,343.18636794523218,9481.5581510603479,{"$f":"SUM(Table17[[#This Row],[Antall ikke-avanserte \nadenom]:[Antall andre\npolypper]])","v":22569.469276952383},{"$f":"IF(Table17[[#This Row],[Antall screening-skopier]]>0,Table17[[#This Row],[Totalt antall vevs-prøver]]/Table17[[#This Row],[Antall screening-skopier]],\"-\")","v":1.9583163006004707},7462.6778701487483,{"$f":"ROUND(Table17[[#This Row],[Antall patologi-rekvisisjoner]]/50,0)*50","v":7450},{"$f":"IF(Table17[[#This Row],[Antall screening-skopier]]>0,Table17[[#This Row],[Antall patologi-rekvisisjoner]]/Table17[[#This Row],[Antall screening-skopier]],\"-\")","v":0.64752447387704382},{"$f":"IF(Table17[[#This Row],[Antall patologi-rekvisisjoner]]>0,Table17[[#This Row],[Totalt antall vevs-prøver]]/Table17[[#This Row],[Antall patologi-rekvisisjoner]],\"-\")","v":3.0243124076455041},null,{"$f":"ROUND(Table17[[#This Row],[Antall patologi-rekvisisjoner]]/100,0)*100","v":7500},null,null,null,null,null,null,400.44651556683084]
[null,2036,11751.506018635937,9972.9309586669533,528.20880504361764,null,2493.5640915585395,349.80573402976052,9667.7971625460468,{"$f":"SUM(Table17[[#This Row],[Antall ikke-avanserte \nadenom]:[Antall andre\npolypper]])","v":23012.306751844917},{"$f":"IF(Table17[[#This Row],[Antall screening-skopier]]>0,Table17[[#This Row],[Totalt antall vevs-prøver]]/Table17[[#This Row],[Antall screening-skopier]],\"-\")","v":1.958243200092926},7608.6133964219844,{"$f":"ROUND(Table17[[#This Row],[Antall patologi-rekvisisjoner]]/50,0)*50","v":7600},{"$f":"IF(Table17[[#This Row],[Antall screening-skopier]]>0,Table17[[#This Row],[Antall patologi-rekvisisjoner]]/Table17[[#This Row],[Antall screening-skopier]],\"-\")","v":0.64745857972212129},{"$f":"IF(Table17[[#This Row],[Antall patologi-rekvisisjoner]]>0,Table17[[#This Row],[Totalt antall vevs-prøver]]/Table17[[#This Row],[Antall patologi-rekvisisjoner]],\"-\")","v":3.0245072988813773},null,{"$f":"ROUND(Table17[[#This Row],[Antall patologi-rekvisisjoner]]/100,0)*100","v":7600},null,null,null,null,{"$f":"ifobt_operasjonspreparat*$Z42+ifobt_operasjonspreparat_2gang*SUM($AA42:$AD42)+kolo_operasjonspreparat*$X42","v":408.09642208397497}]

{"sheet":"Rapport","index":2,"n_rows":93,"n_cols":29,"rows_kept":93,"cut":false,"hidden":false,"merged":[[4,0,4,1],[5,0,5,1],[6,0,6,1]]}
["Prognoser for nasjonalt tarmscreeningprogram"]
["Rapportutskriftsdato",{"$f":"TODAY()","v":45646}]
[]
["Innstillinger brukt ved generering av rapport:"]
["Deltakelse primær koloskopi",null,0.6]
["Deltakelse iFOBT ",null,0.6]
["Første invitasjonsår",null,2022]
[]
[]
["Resultater per helseforetak"]
["RHF","Helseforetak"," ","Befolkning 2022","Koloskopier 2022","Koloskopier 2023","Koloskopier 2024","Koloskopier 2025","Koloskopier 2026","Koloskopier 2027","Koloskopier 2028","Koloskopier 2029","Skopirom 2022","Skopirom 2023","Skopirom 2024","Skopirom 2025","Skopirom 2026","Skopirom 2027","Skopirom 2028","Skopirom 2029","Skopirom 2029, rundet opp hvis >=0,2","Patologi-remisser 2022","Patologi-remisser 2023","Patologi-remisser 2024","Patologi-remisser 2025","Patologi-remisser 2026","Patologi-remisser 2027","Patologi-remisser 2028","Patologi-remisser 2029"]
["Helse Midt-Norge","Helse Møre og Romsdal",null,265389,0,202.21485239927773,202.76886569352232,329.82215437455011,393.53955403933679,514.94929962257652,554.37277039582818,671.58596956076428,0,0.18383168399934338,0.18433533244865666,0.29983832215868189,0.35776323094485163,0.46813572692961503,0.50397524581438924,0.61053269960069478,{"$f":"IF(ISBLANK(hf_resultat[[#This Row],[Skopirom 2029]]),\"\",IF(hf_resultat[[#This Row],[Skopirom 2029]]<0.2,1,ROUND(hf_resultat[[#This Row],[Skopirom 2029]]+0.3,0)))","v":1},0,143.57254520348718,143.96589464240083,219.04249369372656,216.79216032879842,293.12903349906588,291.53974935190831,359.15678115335214]
["Helse Midt-Norge","Helse Nord-Trøndelag",null,135980,0,107.70220104229824,107.99727556570178,173.24955040530742,205.00356456904206,270.00265131640123,287.98010148630499,347.52013352223258,0,9.7911091856634769E-2,9.8179341423365263E-2,0.1574995912775522,0.18636687688094733,0.24545695574218293,0.26180009226027728,0.31592739411112053,{"$f":"IF(ISBLANK(hf_resultat[[#This Row],[Skopirom 2029]]),\"\",IF(hf_resultat[[#This Row],[Skopirom 2029]]<0.2,1,ROUND(hf_resultat[[#This Row],[Skopirom 2029]]+0.3,0)))","v":1},0,76.468562740031743,76.678065651648268,114.94809218523167,112.19983116547324,153.2763934541768,151.01639890336094,185.4685707119952]
["Helse Midt-Norge","St. Olavs hospital",null,338476,0,248.78928209545285,249.4708965669472,401.78351626908932,479.2163700701575,628.4275233302285,671.97588040402309,826.06504028576899,0,0.22617207463222985,0.22679172415177018,0.36525774206280848,0.43565124551832501,0.57129774848202586,0.61088716400365739,0.75096821844160822,{"$f":"IF(ISBLANK(hf_resultat[[#This Row],[Skopirom 2029]]),\"\",IF(hf_resultat[[#This Row],[Skopirom 2029]]<0.2,1,ROUND(hf_resultat[[#This Row],[Skopirom 2029]]+0.3,0)))","v":1},0,176.64039028777151,177.12433656253251,266.65001156927025,263.19975429895226,357.30331740638599,352.84109733518522,443.28791708735599]
["Helse Nord","Finnmarkssykehuset",null,75333,0,63.388303232700416,63.561969816899605,102.13044164288695,125.22462591924976,160.26314305444413,174.12055621498104,208.92599491801636,0,5.7625730211545829E-2,5.7783608924454187E-2,9.2845856038988137E-2,0.11384056901749978,0.14569376641313103,0.15829141474089184,0.18993272265274214,{"$f":"IF(ISBLANK(hf_resultat[[#This Row],[Skopirom 2029]]),\"\",IF(hf_resultat[[#This Row],[Skopirom 2029]]<0.2,1,ROUND(hf_resultat[[#This Row],[Skopirom 2029]]+0.3,0)))","v":1},0,45.005695295217294,45.128998569998714,67.769424038538773,69.279699492119434,91.159166128279878,91.787386759954003,111.10288608478082]
["Helse Nord","Helgelandssykehuset",null,75477,0,62.93993327172641,63.112371445073606,102.72127586450966,119.64226177306232,156.84453573160818,166.08378660188902,199.04380653970662,0,5.7218121156114916E-2,5.7374883131885095E-2,9.338297805864515E-2,0.10876569252096574,0.14258594157418925,0.15098526054717185,0.18094891503609692,{"$f":"IF(ISBLANK(hf_resultat[[#This Row],[Skopirom 2029]]),\"\",IF(hf_resultat[[#This Row],[Skopirom 2029]]<0.2,1,ROUND(hf_resultat[[#This Row],[Skopirom 2029]]+0.3,0)))","v":1},0,44.687352622925751,44.809783726002259,68.222466748113092,65.455070001628187,88.793742485451517,86.3497766903063,105.62143723678942]
["Helse Nord","Nordlandssykehuset",null,137928,0,111.06497574960329,111.36926335439672,178.82689911913695,211.28930047824787,276.7925234356801,293.13902474179866,355.64492884383645,0,0.10096815977236663,0.10124478486763339,0.16256990829012449,0.19208118225295259,0.25162956675970916,0.26649002249254422,0.32331357167621494,{"$f":"IF(ISBLANK(hf_resultat[[#This Row],[Skopirom 2029]]),\"\",IF(hf_resultat[[#This Row],[Skopirom 2029]]<0.2,1,ROUND(hf_resultat[[#This Row],[Skopirom 2029]]+0.3,0)))","v":1},0,78.856132782218339,79.072176981621666,118.65638168038427,115.62133576124556,156.88487686703147,152.97957837463747,189.47368401030258]
["Helse Nord","Universitetssykehuset Nord-Norge",null,192837,0,150.14789068117102,150.55925476522901,239.62801408848924,290.60684916652002,375.97224966342361,403.35352386682246,490.78627196167855,0,0.1364980824374282,0.13687204978657183,0.21784364917135385,0.26418804469683638,0.34179295423947603,0.36668502169711131,0.44616933814698051,{"$f":"IF(ISBLANK(hf_resultat[[#This Row],[Skopirom 2029]]),\"\",IF(hf_resultat[[#This Row],[Skopirom 2029]]<0.2,1,ROUND(hf_resultat[[#This Row],[Skopirom 2029]]+0.3,0)))","v":1},0,106.60500238363142,106.89707088331259,158.90069570992421,159.83378618377489,213.51337468795103,211.9527033833607,261.94673813224847]
["Helse Sør-Øst","Akershus universitetssykehus",null,601226,0,485.04288736534068,486.37177198825947,785.59349945104725,942.6448689339577,1237.921064671255,1336.0726801079386,1624.564057596479,0,0.44094807942303699,0.44215615635296313,0.71417590859186109,0.85694988084905244,1.1253827860647772,1.2146115273708533,1.4768764159967991,{"$f":"IF(ISBLANK(hf_resultat[[#This Row],[Skopirom 2029]]),\"\",IF(hf_resultat[[#This Row],[Skopirom 2029]]<0.2,1,ROUND(hf_resultat[[#This Row],[Skopirom 2029]]+0.3,0)))","v":2},0,344.38045002939185,345.32395811166418,521.47682825505581,519.07210815662154,705.47195596042491,705.19088386106205,871.3039147818381]
["Helse Sør-Øst","Oslosykehusene",null,591127,0,368.4106512669768,369.41999551702332,603.80421760025911,728.55946507094905,957.6319522871222,1042.9649340217529,1275.6069597041765,0,0.33491877387906982,0.33583635956093028,0.54891292509114464,0.66232678642813547,0.87057450207920195,0.94814994001977537,1.1596426906401605,{"$f":"IF(ISBLANK(hf_resultat[[#This Row],[Skopirom 2029]]),\"\",IF(hf_resultat[[#This Row],[Skopirom 2029]]<0.2,1,ROUND(hf_resultat[[#This Row],[Skopirom 2029]]+0.3,0)))","v":1},0,261.5715623995535,262.28819681708654,401.13373912029124,403.18958140402708,547.64231320743625,553.00643220597817,687.12591717892042]
["Helse Sør-Øst","Sykehuset i Vestfold",null,248509,0,201.22470206879345,201.77600262240662,329.15793063423359,387.83123172530628,514.36015944236613,551.61297945921956,669.20553684450931,0,0.18293154733526676,0.1834327296567333,0.29923448239475781,0.3525738470230057,0.46760014494760554,0.50146634496292686,0.60836866985864479,{"$f":"IF(ISBLANK(hf_resultat[[#This Row],[Skopirom 2029]]),\"\",IF(hf_resultat[[#This Row],[Skopirom 2029]]<0.2,1,ROUND(hf_resultat[[#This Row],[Skopirom 2029]]+0.3,0)))","v":1},0,142.86953846884333,143.2609618619087,218.64498533175913,213.04587647854495,292.99452557982016,290.13992139836984,358.78445147636251]
["Helse Sør-Øst","Sykehuset Innlandet",null,332626,0,272.10452006610126,272.85001190189877,441.84997364710745,527.60908602390441,687.61355350453584,740.02724668656049,894.45531988103221,0,0.2473677455146375,0.24804546536536251,0.40168179422464312,0.4796446236580949,0.625103230458669,0.67275204244232767,0.81314119989184741,{"$f":"IF(ISBLANK(hf_resultat[[#This Row],[Skopirom 2029]]),\"\",IF(hf_resultat[[#This Row],[Skopirom 2029]]<0.2,1,ROUND(hf_resultat[[#This Row],[Skopirom 2029]]+0.3,0)))","v":1},0,193.19420924693188,193.72350845034811,293.3525748721097,290.33843185441685,390.81541796150532,388.68548622916035,477.58143425560519]
["Helse Sør-Øst","Sykehuset Telemark",null,173224,0,142.67505799827089,143.06594856812916,228.7097334195347,277.79842290926263,358.20240762804389,388.54798591069999,466.62803199666553,0,0.12970459818024627,0.13005995324375377,0.20791793947230428,0.25254402082660238,0.32563855238913081,0.35322544173699999,0.42420730181515048,{"$f":"IF(ISBLANK(hf_resultat[[#This Row],[Skopirom 2029]]),\"\",IF(hf_resultat[[#This Row],[Skopirom 2029]]<0.2,1,ROUND(hf_resultat[[#This Row],[Skopirom 2029]]+0.3,0)))","v":1},0,101.29929117877232,101.5768234833717,151.70788997200287,153.05395442948617,203.48041163995839,204.78470211409189,248.64007500325405]
["Helse Sør-Øst","Sykehuset Østfold",null,321458,0,267.86368751855542,268.59756063504466,434.55337046795574,523.01578206281499,681.11979534755312,737.22725859224897,892.81743815651407,0,0.24351244319868676,0.24417960057731333,0.3950485186072325,0.47546889278437726,0.61919981395232104,0.67020659872022637,0.8116522165059219,{"$f":"IF(ISBLANK(hf_resultat[[#This Row],[Skopirom 2029]]),\"\",IF(hf_resultat[[#This Row],[Skopirom 2029]]<0.2,1,ROUND(hf_resultat[[#This Row],[Skopirom 2029]]+0.3,0)))","v":1},0,190.18321813817434,190.70426805088169,288.4893175971801,288.39046667118987,387.75340284928058,388.65319526456329,477.70574193498061]
["Helse Sør-Øst","Sørlandet sykehus",null,316360,0,238.34599842109989,238.99900115650016,389.43379458718528,463.23890137640831,612.2587704490893,654.49730589268108,804.96827979329487,0,0.21667818038281808,0.21727181923318195,0.35403072235198663,0.42112627397855301,0.55659888222644482,0.59499755081152828,0.73178934526663175,{"$f":"IF(ISBLANK(hf_resultat[[#This Row],[Skopirom 2029]]),\"\",IF(hf_resultat[[#This Row],[Skopirom 2029]]<0.2,1,ROUND(hf_resultat[[#This Row],[Skopirom 2029]]+0.3,0)))","v":1},0,169.22565887898091,169.68929082111509,258.66315419312673,255.08977739287906,349.2164770194014,344.27813517483537,432.58089457411558]
["Helse Sør-Øst","Vestre Viken",null,493765,0,395.20075643517379,396.28349823362629,639.18881755590132,767.7030633624488,1009.8975829254016,1087.3333635871679,1329.414197719379,0,0.35927341494106707,0.36025772566693298,0.58108074323263759,0.69791187578404434,0.91808871175036511,0.98848487598833445,1.2085583615630717,{"$f":"IF(ISBLANK(hf_resultat[[#This Row],[Skopirom 2029]]),\"\",IF(hf_resultat[[#This Row],[Skopirom 2029]]<0.2,1,ROUND(hf_resultat[[#This Row],[Skopirom 2029]]+0.3,0)))","v":2},0,280.5925370689734,281.36128374587463,424.2521679585218,422.68530525620685,575.76977569850351,573.90860781459992,713.99206822499741]
["Helse Vest","Helse Bergen",null,465863,0,334.95104292929142,335.86871701950867,546.65396878405511,652.44584634491116,853.93178268890631,921.52577558452504,1128.1239443024351,0,0.30450094811753764,0.30533519729046243,0.49695815344005012,0.59313258758628284,0.7763016206262785,0.83775070507684091,1.0255672220931229,{"$f":"IF(ISBLANK(hf_resultat[[#This Row],[Skopirom 2029]]),\"\",IF(hf_resultat[[#This Row],[Skopirom 2029]]<0.2,1,ROUND(hf_resultat[[#This Row],[Skopirom 2029]]+0.3,0)))","v":1},0,237.8152404797969,238.46678908385115,363.06076197286677,359.51052271119005,486.20172104205545,485.10013887510422,605.85014000287879]
["Helse Vest","Helse Fonna",null,179407,0,139.21887288242957,139.60029445197048,223.38175196534326,268.73771659440109,350.45363825886693,374.16872018612173,460.43138201060469,0,0.12656261171129959,0.12690935859270044,0.20307431996849387,0.24430701508581917,0.31859421659896991,0.34015338198738337,0.41857398364600429,{"$f":"IF(ISBLANK(hf_resultat[[#This Row],[Skopirom 2029]]),\"\",IF(hf_resultat[[#This Row],[Skopirom 2029]]<0.2,1,ROUND(hf_resultat[[#This Row],[Skopirom 2029]]+0.3,0)))","v":1},0,98.84539974652499,99.116209060899038,148.18364090040626,147.69114773180286,199.19453460771825,196.42200661320709,246.72027280155987]
["Helse Vest","Helse Førde",null,102567,0,76.914130388749683,77.124854033650337,124.09816437113469,148.85349423003763,195.65956224457466,209.59302501771307,251.92673204669103,0,6.9921936717045163E-2,7.0113503666954846E-2,0.1128165130646679,0.13532135839094331,0.1778723293132497,0.19053911365246642,0.22902430186062822,{"$f":"IF(ISBLANK(hf_resultat[[#This Row],[Skopirom 2029]]),\"\",IF(hf_resultat[[#This Row],[Skopirom 2029]]<0.2,1,ROUND(hf_resultat[[#This Row],[Skopirom 2029]]+0.3,0)))","v":1},0,54.609032576012275,54.758646363891735,82.354403073558842,81.867582884839919,111.44922069454086,110.36944467483863,134.3237614340737]
["Helse Vest","Helse Stavanger",null,369799,0,268.10655458074967,268.84109308645037,436.31456395257675,519.43263591559992,681.95303948110461,734.57324788680251,898.70824481505269,0,0.24373323143704514,0.24440099371495488,0.39664960359325158,0.47221148719599992,0.61995730861918596,0.66779386171527499,0.81700749528641159,{"$f":"IF(ISBLANK(hf_resultat[[#This Row],[Skopirom 2029]]),\"\",IF(hf_resultat[[#This Row],[Skopirom 2029]]<0.2,1,ROUND(hf_resultat[[#This Row],[Skopirom 2029]]+0.3,0)))","v":1},0,190.35565375233224,190.87717609137977,289.72159183130736,285.7712230027953,388.15580474311764,386.62944703554035,482.68095067354352]
["Total",null,null,{"$f":"SUM(hf_resultat[Befolkning 2022])","v":5417351},{"$f":"SUBTOTAL(109,hf_resultat[Koloskopier 2022])","v":0},{"$f":"SUBTOTAL(109,hf_resultat[Koloskopier 2023])","v":4136.3063003937623},{"$f":"SUBTOTAL(109,hf_resultat[Koloskopier 2024])","v":4147.6386464222387},{"$f":"SUBTOTAL(109,hf_resultat[Koloskopier 2025])","v":6710.9016382003038},{"$f":"SUBTOTAL(109,hf_resultat[Koloskopier 2026])","v":8032.3930405656183},{"$f":"SUBTOTAL(109,hf_resultat[Koloskopier 2027])","v":10524.255235083181},{"$f":"SUBTOTAL(109,hf_resultat[Koloskopier 2028])","v":11329.170166645081},{"$f":"SUBTOTAL(109,hf_resultat[Koloskopier 2029])","v":13796.422270498839},{"$f":"SUBTOTAL(109,hf_resultat[Skopirom 2022])","v":0},{"$f":"SUBTOTAL(109,hf_resultat[Skopirom 2023])","v":3.7602784549034212},{"$f":"SUBTOTAL(109,hf_resultat[Skopirom 2024])","v":3.7705805876565806},{"$f":"SUBTOTAL(109,hf_resultat[Skopirom 2025])","v":6.1008196710911839},{"$f":"SUBTOTAL(109,hf_resultat[Skopirom 2026])","v":7.3021754914232879},{"$f":"SUBTOTAL(109,hf_resultat[Skopirom 2027])","v":9.5675047591665301},{"$f":"SUBTOTAL(109,hf_resultat[Skopirom 2028])","v":10.299245606040982},{"$f":"SUBTOTAL(109,hf_resultat[Skopirom 2029])","v":12.542202064089851},{"$f":"SUBTOTAL(109,hf_resultat[Skopirom 2029, rundet opp hvis >=0,2])","v":21},{"$f":"SUBTOTAL(109,hf_resultat[Patologi-remisser 2022])","v":0},{"$f":"SUBTOTAL(109,hf_resultat[Patologi-remisser 2023])","v":2936.777473279571},{"$f":"SUBTOTAL(109,hf_resultat[Patologi-remisser 2024])","v":2944.8234389597897},{"$f":"SUBTOTAL(109,hf_resultat[Patologi-remisser 2025])","v":4455.2306207033753},{"$f":"SUBTOTAL(109,hf_resultat[Patologi-remisser 2026])","v":4422.0876152059927},{"$f":"SUBTOTAL(109,hf_resultat[Patologi-remisser 2027])","v":5992.2054655321044},{"$f":"SUBTOTAL(109,hf_resultat[Patologi-remisser 2028])","v":5965.6350920600644},{"$f":"SUBTOTAL(109,hf_resultat[Patologi-remisser 2029])","v":7393.3476367589537}]
[]
["RHF"," ","  ","Befolkning 2022","Koloskopier 2022","Koloskopier 2023","Koloskopier 2024","Koloskopier 2025","Koloskopier 2026","Koloskopier 2027","Koloskopier 2028","Koloskopier 2029","Skopirom 2022","Skopirom 2023","Skopirom 2024","Skopirom 2025","Skopirom 2026","Skopirom 2027","Skopirom 2028","Skopirom 2029","Skopirom 2029, rundet opp hvis >=0,2","Patologi-remisser 2022","Patologi-remisser 2023","Patologi-remisser 2024","Patologi-remisser 2025","Patologi-remisser 2026","Patologi-remisser 2027","Patologi-remisser 2028","Patologi-remisser 2029"]
["Helse Sør-Øst",null,null,{"$f":"SUMIFS(hf_resultat[Befolkning 2022],hf_resultat[RHF],\"=\"&$A34)","v":3078295},{"$f":"SUMIFS(hf_resultat[Koloskopier 2022],hf_resultat[RHF],\"=\"&$A34)","v":0},{"$f":"SUMIFS(hf_resultat[Koloskopier 2023],hf_resultat[RHF],\"=\"&$A34)","v":2370.8682611403124},{"$f":"SUMIFS(hf_resultat[Koloskopier 2024],hf_resultat[RHF],\"=\"&$A34)","v":2377.3637906228887},{"$f":"SUMIFS(hf_resultat[Koloskopier 2025],hf_resultat[RHF],\"=\"&$A34)","v":3852.2913373632246},{"$f":"SUMIFS(hf_resultat[Koloskopier 2026],hf_resultat[RHF],\"=\"&$A34)","v":4618.4008214650521},{"$f":"SUMIFS(hf_resultat[Koloskopier 2027],hf_resultat[RHF],\"=\"&$A34)","v":6059.0052862553675},{"$f":"SUMIFS(hf_resultat[Koloskopier 2028],hf_resultat[RHF],\"=\"&$A34)","v":6538.2837542582683},{"$f":"SUMIFS(hf_resultat[Koloskopier 2029],hf_resultat[RHF],\"=\"&$A34)","v":7957.6598216920502},{"$f":"SUMIFS(hf_resultat[Skopirom 2022],hf_resultat[RHF],\"=\"&$A34)","v":0},{"$f":"SUMIFS(hf_resultat[Skopirom 2023],hf_resultat[RHF],\"=\"&$A34)","v":2.1553347828548293},{"$f":"SUMIFS(hf_resultat[Skopirom 2024],hf_resultat[RHF],\"=\"&$A34)","v":2.1612398096571712},{"$f":"SUMIFS(hf_resultat[Skopirom 2025],hf_resultat[RHF],\"=\"&$A34)","v":3.5020830339665676},{"$f":"SUMIFS(hf_resultat[Skopirom 2026],hf_resultat[RHF],\"=\"&$A34)","v":4.1985462013318653},{"$f":"SUMIFS(hf_resultat[Skopirom 2027],hf_resultat[RHF],\"=\"&$A34)","v":5.5081866238685162},{"$f":"SUMIFS(hf_resultat[Skopirom 2028],hf_resultat[RHF],\"=\"&$A34)","v":5.943894322052973},{"$f":"SUMIFS(hf_resultat[Skopirom 2029],hf_resultat[RHF],\"=\"&$A34)","v":7.234236201538228},{"$f":"SUMIFS(hf_resultat[Skopirom 2029, rundet opp hvis >=0,2],hf_resultat[RHF],\"=\"&$A34)","v":10},{"$f":"SUMIFS(hf_resultat[Patologi-remisser 2022],hf_resultat[RHF],\"=\"&$A34)","v":0},{"$f":"SUMIFS(hf_resultat[Patologi-remisser 2023],hf_resultat[RHF],\"=\"&$A34)","v":1683.3164654096217},{"$f":"SUMIFS(hf_resultat[Patologi-remisser 2024],hf_resultat[RHF],\"=\"&$A34)","v":1687.9282913422508},{"$f":"SUMIFS(hf_resultat[Patologi-remisser 2025],hf_resultat[RHF],\"=\"&$A34)","v":2557.7206573000476},{"$f":"SUMIFS(hf_resultat[Patologi-remisser 2026],hf_resultat[RHF],\"=\"&$A34)","v":2544.8655016433722},{"$f":"SUMIFS(hf_resultat[Patologi-remisser 2027],hf_resultat[RHF],\"=\"&$A34)","v":3453.1442799163301},{"$f":"SUMIFS(hf_resultat[Patologi-remisser 2028],hf_resultat[RHF],\"=\"&$A34)","v":3448.6473640626609},{"$f":"SUMIFS(hf_resultat[Patologi-remisser 2029],hf_resultat[RHF],\"=\"&$A34)","v":4267.7144974300736}]
["Helse Nord",null,null,{"$f":"SUMIFS(hf_resultat[Befolkning 2022],hf_resultat[RHF],\"=\"&$A35)","v":481575},{"$f":"SUMIFS(hf_resultat[Koloskopier 2022],hf_resultat[RHF],\"=\"&$A35)","v":0},{"$f":"SUMIFS(hf_resultat[Koloskopier 2023],hf_resultat[RHF],\"=\"&$A35)","v":387.54110293520114},{"$f":"SUMIFS(hf_resultat[Koloskopier 2024],hf_resultat[RHF],\"=\"&$A35)","v":388.60285938159893},{"$f":"SUMIFS(hf_resultat[Koloskopier 2025],hf_resultat[RHF],\"=\"&$A35)","v":623.30663071502272},{"$f":"SUMIFS(hf_resultat[Koloskopier 2026],hf_resultat[RHF],\"=\"&$A35)","v":746.76303733708005},{"$f":"SUMIFS(hf_resultat[Koloskopier 2027],hf_resultat[RHF],\"=\"&$A35)","v":969.8724518851559},{"$f":"SUMIFS(hf_resultat[Koloskopier 2028],hf_resultat[RHF],\"=\"&$A35)","v":1036.6968914254912},{"$f":"SUMIFS(hf_resultat[Koloskopier 2029],hf_resultat[RHF],\"=\"&$A35)","v":1254.4010022632378},{"$f":"SUMIFS(hf_resultat[Skopirom 2022],hf_resultat[RHF],\"=\"&$A35)","v":0},{"$f":"SUMIFS(hf_resultat[Skopirom 2023],hf_resultat[RHF],\"=\"&$A35)","v":0.35231009357745557},{"$f":"SUMIFS(hf_resultat[Skopirom 2024],hf_resultat[RHF],\"=\"&$A35)","v":0.35327532671054451},{"$f":"SUMIFS(hf_resultat[Skopirom 2025],hf_resultat[RHF],\"=\"&$A35)","v":0.56664239155911167},{"$f":"SUMIFS(hf_resultat[Skopirom 2026],hf_resultat[RHF],\"=\"&$A35)","v":0.67887548848825441},{"$f":"SUMIFS(hf_resultat[Skopirom 2027],hf_resultat[RHF],\"=\"&$A35)","v":0.88170222898650552},{"$f":"SUMIFS(hf_resultat[Skopirom 2028],hf_resultat[RHF],\"=\"&$A35)","v":0.94245171947771933},{"$f":"SUMIFS(hf_resultat[Skopirom 2029],hf_resultat[RHF],\"=\"&$A35)","v":1.1403645475120345},{"$f":"SUMIFS(hf_resultat[Skopirom 2029, rundet opp hvis >=0,2],hf_resultat[RHF],\"=\"&$A35)","v":4},{"$f":"SUMIFS(hf_resultat[Patologi-remisser 2022],hf_resultat[RHF],\"=\"&$A35)","v":0},{"$f":"SUMIFS(hf_resultat[Patologi-remisser 2023],hf_resultat[RHF],\"=\"&$A35)","v":275.15418308399279},{"$f":"SUMIFS(hf_resultat[Patologi-remisser 2024],hf_resultat[RHF],\"=\"&$A35)","v":275.90803016093525},{"$f":"SUMIFS(hf_resultat[Patologi-remisser 2025],hf_resultat[RHF],\"=\"&$A35)","v":413.54896817696033},{"$f":"SUMIFS(hf_resultat[Patologi-remisser 2026],hf_resultat[RHF],\"=\"&$A35)","v":410.18989143876809},{"$f":"SUMIFS(hf_resultat[Patologi-remisser 2027],hf_resultat[RHF],\"=\"&$A35)","v":550.35116016871382},{"$f":"SUMIFS(hf_resultat[Patologi-remisser 2028],hf_resultat[RHF],\"=\"&$A35)","v":543.06944520825846},{"$f":"SUMIFS(hf_resultat[Patologi-remisser 2029],hf_resultat[RHF],\"=\"&$A35)","v":668.14474546412134}]
["Helse Vest",null,null,{"$f":"SUMIFS(hf_resultat[Befolkning 2022],hf_resultat[RHF],\"=\"&$A36)","v":1117636},{"$f":"SUMIFS(hf_resultat[Koloskopier 2022],hf_resultat[RHF],\"=\"&$A36)","v":0},{"$f":"SUMIFS(hf_resultat[Koloskopier 2023],hf_resultat[RHF],\"=\"&$A36)","v":819.19060078122038},{"$f":"SUMIFS(hf_resultat[Koloskopier 2024],hf_resultat[RHF],\"=\"&$A36)","v":821.43495859157974},{"$f":"SUMIFS(hf_resultat[Koloskopier 2025],hf_resultat[RHF],\"=\"&$A36)","v":1330.4484490731097},{"$f":"SUMIFS(hf_resultat[Koloskopier 2026],hf_resultat[RHF],\"=\"&$A36)","v":1589.4696930849495},{"$f":"SUMIFS(hf_resultat[Koloskopier 2027],hf_resultat[RHF],\"=\"&$A36)","v":2081.9980226734524},{"$f":"SUMIFS(hf_resultat[Koloskopier 2028],hf_resultat[RHF],\"=\"&$A36)","v":2239.8607686751625},{"$f":"SUMIFS(hf_resultat[Koloskopier 2029],hf_resultat[RHF],\"=\"&$A36)","v":2739.1903031747834},{"$f":"SUMIFS(hf_resultat[Skopirom 2022],hf_resultat[RHF],\"=\"&$A36)","v":0},{"$f":"SUMIFS(hf_resultat[Skopirom 2023],hf_resultat[RHF],\"=\"&$A36)","v":0.7447187279829276},{"$f":"SUMIFS(hf_resultat[Skopirom 2024],hf_resultat[RHF],\"=\"&$A36)","v":0.74675905326507275},{"$f":"SUMIFS(hf_resultat[Skopirom 2025],hf_resultat[RHF],\"=\"&$A36)","v":1.2094985900664634},{"$f":"SUMIFS(hf_resultat[Skopirom 2026],hf_resultat[RHF],\"=\"&$A36)","v":1.4449724482590454},{"$f":"SUMIFS(hf_resultat[Skopirom 2027],hf_resultat[RHF],\"=\"&$A36)","v":1.8927254751576843},{"$f":"SUMIFS(hf_resultat[Skopirom 2028],hf_resultat[RHF],\"=\"&$A36)","v":2.0362370624319657},{"$f":"SUMIFS(hf_resultat[Skopirom 2029],hf_resultat[RHF],\"=\"&$A36)","v":2.4901730028861668},{"$f":"SUMIFS(hf_resultat[Skopirom 2029, rundet opp hvis >=0,2],hf_resultat[RHF],\"=\"&$A36)","v":4},{"$f":"SUMIFS(hf_resultat[Patologi-remisser 2022],hf_resultat[RHF],\"=\"&$A36)","v":0},{"$f":"SUMIFS(hf_resultat[Patologi-remisser 2023],hf_resultat[RHF],\"=\"&$A36)","v":581.62532655466646},{"$f":"SUMIFS(hf_resultat[Patologi-remisser 2024],hf_resultat[RHF],\"=\"&$A36)","v":583.21882060002167},{"$f":"SUMIFS(hf_resultat[Patologi-remisser 2025],hf_resultat[RHF],\"=\"&$A36)","v":883.32039777813918},{"$f":"SUMIFS(hf_resultat[Patologi-remisser 2026],hf_resultat[RHF],\"=\"&$A36)","v":874.84047633062812},{"$f":"SUMIFS(hf_resultat[Patologi-remisser 2027],hf_resultat[RHF],\"=\"&$A36)","v":1185.0012810874323},{"$f":"SUMIFS(hf_resultat[Patologi-remisser 2028],hf_resultat[RHF],\"=\"&$A36)","v":1178.5210371986902},{"$f":"SUMIFS(hf_resultat[Patologi-remisser 2029],hf_resultat[RHF],\"=\"&$A36)","v":1469.5751249120558}]
["Helse Midt-Norge",null,null,{"$f":"SUMIFS(hf_resultat[Befolkning 2022],hf_resultat[RHF],\"=\"&$A37)","v":739845},{"$f":"SUMIFS(hf_resultat[Koloskopier 2022],hf_resultat[RHF],\"=\"&$A37)","v":0},{"$f":"SUMIFS(hf_resultat[Koloskopier 2023],hf_resultat[RHF],\"=\"&$A37)","v":558.70633553702874},{"$f":"SUMIFS(hf_resultat[Koloskopier 2024],hf_resultat[RHF],\"=\"&$A37)","v":560.23703782617133},{"$f":"SUMIFS(hf_resultat[Koloskopier 2025],hf_resultat[RHF],\"=\"&$A37)","v":904.85522104894687},{"$f":"SUMIFS(hf_resultat[Koloskopier 2026],hf_resultat[RHF],\"=\"&$A37)","v":1077.7594886785364},{"$f":"SUMIFS(hf_resultat[Koloskopier 2027],hf_resultat[RHF],\"=\"&$A37)","v":1413.3794742692062},{"$f":"SUMIFS(hf_resultat[Koloskopier 2028],hf_resultat[RHF],\"=\"&$A37)","v":1514.3287522861563},{"$f":"SUMIFS(hf_resultat[Koloskopier 2029],hf_resultat[RHF],\"=\"&$A37)","v":1845.171143368766},{"$f":"SUMIFS(hf_resultat[Skopirom 2022],hf_resultat[RHF],\"=\"&$A37)","v":0},{"$f":"SUMIFS(hf_resultat[Skopirom 2023],hf_resultat[RHF],\"=\"&$A37)","v":0.50791485048820806},{"$f":"SUMIFS(hf_resultat[Skopirom 2024],hf_resultat[RHF],\"=\"&$A37)","v":0.50930639802379207},{"$f":"SUMIFS(hf_resultat[Skopirom 2025],hf_resultat[RHF],\"=\"&$A37)","v":0.82259565549904257},{"$f":"SUMIFS(hf_resultat[Skopirom 2026],hf_resultat[RHF],\"=\"&$A37)","v":0.97978135334412397},{"$f":"SUMIFS(hf_resultat[Skopirom 2027],hf_resultat[RHF],\"=\"&$A37)","v":1.2848904311538238},{"$f":"SUMIFS(hf_resultat[Skopirom 2028],hf_resultat[RHF],\"=\"&$A37)","v":1.3766625020783239},{"$f":"SUMIFS(hf_resultat[Skopirom 2029],hf_resultat[RHF],\"=\"&$A37)","v":1.6774283121534235},{"$f":"SUMIFS(hf_resultat[Skopirom 2029, rundet opp hvis >=0,2],hf_resultat[RHF],\"=\"&$A37)","v":3},{"$f":"SUMIFS(hf_resultat[Patologi-remisser 2022],hf_resultat[RHF],\"=\"&$A37)","v":0},{"$f":"SUMIFS(hf_resultat[Patologi-remisser 2023],hf_resultat[RHF],\"=\"&$A37)","v":396.68149823129045},{"$f":"SUMIFS(hf_resultat[Patologi-remisser 2024],hf_resultat[RHF],\"=\"&$A37)","v":397.76829685658163},{"$f":"SUMIFS(hf_resultat[Patologi-remisser 2025],hf_resultat[RHF],\"=\"&$A37)","v":600.64059744822839},{"$f":"SUMIFS(hf_resultat[Patologi-remisser 2026],hf_resultat[RHF],\"=\"&$A37)","v":592.19174579322384},{"$f":"SUMIFS(hf_resultat[Patologi-remisser 2027],hf_resultat[RHF],\"=\"&$A37)","v":803.70874435962867},{"$f":"SUMIFS(hf_resultat[Patologi-remisser 2028],hf_resultat[RHF],\"=\"&$A37)","v":795.39724559045453},{"$f":"SUMIFS(hf_resultat[Patologi-remisser 2029],hf_resultat[RHF],\"=\"&$A37)","v":987.91326895270322}]
["Total",null,null,{"$f":"SUBTOTAL(109,Table15[Befolkning 2022])","v":5417351},{"$f":"SUM(Table15[Koloskopier 2022])","v":0},{"$f":"SUM(Table15[Koloskopier 2023])","v":4136.3063003937623},{"$f":"SUM(Table15[Koloskopier 2024])","v":4147.6386464222387},{"$f":"SUM(Table15[Koloskopier 2025])","v":6710.9016382003047},{"$f":"SUM(Table15[Koloskopier 2026])","v":8032.3930405656183},{"$f":"SUM(Table15[Koloskopier 2027])","v":10524.255235083181},{"$f":"SUM(Table15[Koloskopier 2028])","v":11329.170166645077},{"$f":"SUM(Table15[Koloskopier 2029])","v":13796.422270498839},{"$f":"SUM(Table15[Skopirom 2022])","v":0},{"$f":"SUM(Table15[Skopirom 2023])","v":3.7602784549034203},{"$f":"SUM(Table15[Skopirom 2024])","v":3.7705805876565806},{"$f":"SUM(Table15[Skopirom 2025])","v":6.1008196710911848},{"$f":"SUM(Table15[Skopirom 2026])","v":7.3021754914232888},{"$f":"SUM(Table15[Skopirom 2027])","v":9.5675047591665301},{"$f":"SUM(Table15[Skopirom 2028])","v":10.299245606040982},{"$f":"SUM(Table15[Skopirom 2029])","v":12.542202064089853},{"$f":"SUM(Table15[Skopirom 2029, rundet opp hvis >=0,2])","v":21},{"$f":"SUM(Table15[Patologi-remisser 2022])","v":0},{"$f":"SUM(Table15[Patologi-remisser 2023])","v":2936.7774732795715},{"$f":"SUM(Table15[Patologi-remisser 2024])","v":2944.8234389597892},{"$f":"SUM(Table15[Patologi-remisser 2025])","v":4455.2306207033753},{"$f":"SUM(Table15[Patologi-remisser 2026])","v":4422.0876152059918},{"$f":"SUM(Table15[Patologi-remisser 2027])","v":5992.2054655321044},{"$f":"SUM(Table15[Patologi-remisser 2028])","v":5965.6350920600635},{"$f":"SUM(Table15[Patologi-remisser 2029])","v":7393.3476367589537}]
[]
[]
["Resultater per lokalsykehusområde"]
["RHF","Lokalsykehusområde","Helseforetak","Befolkning 2022","Koloskopier 2021","Koloskopier 2022","Koloskopier 2023","Koloskopier 2024","Koloskopier 2025","Koloskopier 2026","Koloskopier 2027","Koloskopier 2028","Skopirom 2021","Skopirom 2022","Skopirom 2023","Skopirom 2024","Skopirom 2025","Skopirom 2026","Skopirom 2027","Skopirom 2028","Skopirom 2028, rundet opp hvis >=0,2","Patologi-remisser 2021","Patologi-remisser 2022","Patologi-remisser 2023","Patologi-remisser 2024","Patologi-remisser 2025","Patologi-remisser 2026","Patologi-remisser 2027","Patologi-remisser 2028"]
["Helse Midt-Norge","Kristiansund","Helse Møre og Romsdal",44161,0,37.177342597428186,37.279198330571823,58.53234980644887,71.138577828575492,92.433404143354721,98.747503805900777,120.55192348392346,0,3.3797584179480172E-2,3.3890180300519837E-2,5.3211227096771702E-2,6.4671434389614091E-2,8.4030367403049741E-2,8.9770458005364345E-2,0.10959265771265769,{"$f":"IF(ISBLANK(lsho_resultat[[#This Row],[Skopirom 2028]]),\"\",IF(lsho_resultat[[#This Row],[Skopirom 2028]]<0.2,1,ROUND(lsho_resultat[[#This Row],[Skopirom 2028]]+0.3,0)))","v":1},0,26.395913244174011,26.468230814705993,38.776080015822785,38.995489588677543,52.458867629267303,51.930940968016813,64.413139504977366]
["Helse Midt-Norge","Molde","Helse Møre og Romsdal",72033,0,56.475933001017786,56.630661584582228,91.212571304103989,109.04881134392669,140.92875744131021,151.32320661078731,181.53549319424872,0,5.1341757273652533E-2,5.1482419622347481E-2,8.292051936736726E-2,9.9135283039933353E-2,0.12811705221937292,0.13756655146435209,0.1650322665402261,{"$f":"IF(ISBLANK(lsho_resultat[[#This Row],[Skopirom 2028]]),\"\",IF(lsho_resultat[[#This Row],[Skopirom 2028]]<0.2,1,ROUND(lsho_resultat[[#This Row],[Skopirom 2028]]+0.3,0)))","v":1},0,40.097912430722623,40.207769725053382,60.534971619761507,59.93546071537677,79.882848666192217,79.21030524799508,96.446143831497665]
["Helse Midt-Norge","Volda","Helse Møre og Romsdal",44243,0,32.544186334030101,32.633348488369904,55.919860865617053,64.738117546771917,86.556099697551929,92.291686260351412,112.40669949548129,0,2.9585623940027363E-2,2.9666680443972641E-2,5.0836237150560959E-2,5.8852834133429018E-2,7.8687363361410842E-2,8.3901532963955833E-2,0.10218790863225571,{"$f":"IF(ISBLANK(lsho_resultat[[#This Row],[Skopirom 2028]]),\"\",IF(lsho_resultat[[#This Row],[Skopirom 2028]]<0.2,1,ROUND(lsho_resultat[[#This Row],[Skopirom 2028]]+0.3,0)))","v":1},0,23.106372297161371,23.169677426742631,37.267900460794735,35.885936339382695,49.576782439060366,48.329882780797291,60.263548626108495]
["Helse Midt-Norge","Ålesund","Helse Møre og Romsdal",104952,0,76.017390466801658,76.225657289998367,124.15737239838012,148.61404732006275,195.03103834035966,212.0103737187886,257.09185338711069,0,6.9106718606183323E-2,6.9296052081816703E-2,0.11287033854398193,0.13510367938187523,0.1773009439457815,0.19273670338071691,0.23371986671555517,{"$f":"IF(ISBLANK(lsho_resultat[[#This Row],[Skopirom 2028]]),\"\",IF(lsho_resultat[[#This Row],[Skopirom 2028]]<0.2,1,ROUND(lsho_resultat[[#This Row],[Skopirom 2028]]+0.3,0)))","v":1},0,53.972347231429175,54.120216675898838,82.463541597347472,81.975273685361429,111.21053476454597,112.06862035509917,138.0339491907686]
["Helse Midt-Norge","Levanger","Helse Nord-Trøndelag",97355,0,77.399864513138183,77.611918936461834,123.99126266197672,147.59882679320737,194.11849385806823,206.96871431975535,249.36591338731819,0,7.0363513193761981E-2,7.0556289942238032E-2,0.11271932969270611,0.13418075163018853,0.1764713580527893,0.18815337665432305,0.22669628489756199,{"$f":"IF(ISBLANK(lsho_resultat[[#This Row],[Skopirom 2028]]),\"\",IF(lsho_resultat[[#This Row],[Skopirom 2028]]<0.2,1,ROUND(lsho_resultat[[#This Row],[Skopirom 2028]]+0.3,0)))","v":1},0,54.953903804328107,55.104462444887901,82.242156580149327,80.826349196946751,110.24822992932101,108.63661655997325,132.94801987193321]
["Helse Midt-Norge","Namsos","Helse Nord-Trøndelag",38625,0,30.302336529160058,30.385356629239951,49.258287743330683,57.404737775834697,75.884157458332979,81.011387166549639,98.154220134914368,0,2.7547578662872781E-2,2.7623051481127227E-2,4.4780261584846076E-2,5.2186125250758816E-2,6.8985597689393621E-2,7.3646715605954219E-2,8.9231109213558521E-2,{"$f":"IF(ISBLANK(lsho_resultat[[#This Row],[Skopirom 2028]]),\"\",IF(lsho_resultat[[#This Row],[Skopirom 2028]]<0.2,1,ROUND(lsho_resultat[[#This Row],[Skopirom 2028]]+0.3,0)))","v":1},0,21.51465893570364,21.573603206760364,32.705935605082331,31.373481968526484,43.028163524855792,42.379782343387696,52.520550840061972]
["Helse Midt-Norge","St. Olav - Orkdal","St. Olavs hospital",68846,0,56.40120467418879,56.555728522611226,90.506613709574452,106.70910590836212,140.28004706277497,149.82148710282388,181.10857729658065,0,5.1273822431080716E-2,5.1414298656919294E-2,8.2278739735976769E-2,9.7008278098511022E-2,0.12752731551161361,0.13620135191165808,0.16464416117870967,{"$f":"IF(ISBLANK(lsho_resultat[[#This Row],[Skopirom 2028]]),\"\",IF(lsho_resultat[[#This Row],[Skopirom 2028]]<0.2,1,ROUND(lsho_resultat[[#This Row],[Skopirom 2028]]+0.3,0)))","v":1},0,40.044855318674038,40.154567251053969,60.039333463015893,58.297411365009566,79.492755722776081,78.48304265777341,96.736345584991213]
["Helse Midt-Norge","St. Olav - Øya","St. Olavs hospital",269630,0,192.38807742126406,192.91516804433601,311.27690255951478,372.50726416179543,488.14747626745361,522.15439330119921,644.95646298918825,0,0.17489825220114916,0.17537742549485091,0.2829790023268316,0.33864296741981403,0.44377043297041235,0.47468581209199928,0.58632405726289838,{"$f":"IF(ISBLANK(lsho_resultat[[#This Row],[Skopirom 2028]]),\"\",IF(lsho_resultat[[#This Row],[Skopirom 2028]]<0.2,1,ROUND(lsho_resultat[[#This Row],[Skopirom 2028]]+0.3,0)))","v":1},0,136.59553496909749,136.96976931147856,206.61067810625431,204.90234293394269,277.81056168360988,274.35805467741181,346.55157150236482]
["Helse Nord","Hammerfest","Finnmarkssykehuset",49377,0,40.951123102292755,41.063317960107256,65.130191229390931,80.377626625386469,103.20073861945239,110.96305274839867,134.09607899764779,0,3.722829372935705E-2,3.7330289054642959E-2,5.9209264753991755E-2,7.3070569659442239E-2,9.3818853290411272E-2,0.10087550249854424,0.121905526361498,{"$f":"IF(ISBLANK(lsho_resultat[[#This Row],[Skopirom 2028]]),\"\",IF(lsho_resultat[[#This Row],[Skopirom 2028]]<0.2,1,ROUND(lsho_resultat[[#This Row],[Skopirom 2028]]+0.3,0)))","v":1},0,29.075297402627854,29.154955751676152,43.17816478990828,44.386568035789495,58.717823345602028,58.453585730520174,71.301846700017421]
["Helse Nord","Kirkenes","Finnmarkssykehuset",25956,0,22.437180130407661,22.498651856792346,37.000250413496019,44.846999293863298,57.062404434991741,63.157503466582369,74.829915920368563,0,2.0397436482188783E-2,2.0453319869811224E-2,3.3636591284996381E-2,4.0769999358057543E-2,5.1874913122719767E-2,5.7415912242347607E-2,6.8027196291244152E-2,{"$f":"IF(ISBLANK(lsho_resultat[[#This Row],[Skopirom 2028]]),\"\",IF(lsho_resultat[[#This Row],[Skopirom 2028]]<0.2,1,ROUND(lsho_resultat[[#This Row],[Skopirom 2028]]+0.3,0)))","v":1},0,15.930397892589438,15.974042818322564,24.591259248630493,24.893131456329936,32.441342782677864,33.333801029433836,39.801039384763399]
["Helse Nord","Mo i Rana","Helgelandssykehuset",33124,0,27.443978027950759,27.519167008849248,45.200371422975579,51.983290023889737,69.04343658159965,71.514134464978,87.520824663383749,0,2.4949070934500689E-2,2.5017424553499316E-2,4.1091246748159616E-2,4.7257536385354307E-2,6.2766760528726956E-2,6.5012849513616369E-2,7.9564386057621589E-2,{"$f":"IF(ISBLANK(lsho_resultat[[#This Row],[Skopirom 2028]]),\"\",IF(lsho_resultat[[#This Row],[Skopirom 2028]]<0.2,1,ROUND(lsho_resultat[[#This Row],[Skopirom 2028]]+0.3,0)))","v":1},0,19.485224399845038,19.538608576282964,30.038698895546617,28.409416779444808,39.150634143486798,36.927098853827616,46.567492988422948]
["Helse Nord","Mosjøen","Helgelandssykehuset",15743,0,13.282960093854994,13.319351765345008,21.403820354026706,24.854847584403004,32.427918906545017,35.419433192789917,40.935628037696276,0,1.2075418267140904E-2,1.2108501604859098E-2,1.9458018503660642E-2,2.2595315985820912E-2,2.947992627867729E-2,3.2199484720718104E-2,3.7214207306996615E-2,{"$f":"IF(ISBLANK(lsho_resultat[[#This Row],[Skopirom 2028]]),\"\",IF(lsho_resultat[[#This Row],[Skopirom 2028]]<0.2,1,ROUND(lsho_resultat[[#This Row],[Skopirom 2028]]+0.3,0)))","v":1},0,9.4309016666370447,9.456739753394956,14.202781489276825,13.533538580859064,18.28203048139051,18.579248635520607,21.673435866034239]
["Helse Nord","Sandnessjøen","Helgelandssykehuset",26610,0,22.212995149920662,22.273852670879347,36.117084087507394,42.804124164769576,55.373180243463523,59.150218944121093,70.587353838626612,0,2.019363195447333E-2,2.0248956973526678E-2,3.2833712806824907E-2,3.8912840149790524E-2,5.0339254766785017E-2,5.3772926312837359E-2,6.4170321671478736E-2,{"$f":"IF(ISBLANK(lsho_resultat[[#This Row],[Skopirom 2028]]),\"\",IF(lsho_resultat[[#This Row],[Skopirom 2028]]<0.2,1,ROUND(lsho_resultat[[#This Row],[Skopirom 2028]]+0.3,0)))","v":1},0,15.771226556443668,15.814435396324335,23.980986363289656,23.51211464132431,31.36107786057422,30.843429200958084,37.380508382332224]
["Helse Nord","Bodø","Nordlandssykehuset",84684,0,66.358754224153216,66.540559030246783,107.97689362543638,127.64536141174156,166.27123521015329,177.96432159593979,215.41543269943611,0,6.0326140203775649E-2,6.0491417300224351E-2,9.8160812386760346E-2,0.11604123764703778,0.15115566837286662,0.16178574690539982,0.19583221154494193,{"$f":"IF(ISBLANK(lsho_resultat[[#This Row],[Skopirom 2028]]),\"\",IF(lsho_resultat[[#This Row],[Skopirom 2028]]<0.2,1,ROUND(lsho_resultat[[#This Row],[Skopirom 2028]]+0.3,0)))","v":1},0,47.11471549914878,47.243796911475215,71.698133465176909,70.078546713663911,94.285197875708093,93.033609134222885,114.88564982275845]
["Helse Nord","Lofoten","Nordlandssykehuset",23226,0,18.775492115786598,18.82693182021341,30.4324233343483,36.012034832799181,46.623769913832405,49.575653151740397,60.039489904978268,0,1.7068629196169634E-2,1.7115392563830371E-2,2.7665839394862092E-2,3.2738213484362892E-2,4.2385245376211279E-2,4.506877559249127E-2,5.4581354459071155E-2,{"$f":"IF(ISBLANK(lsho_resultat[[#This Row],[Skopirom 2028]]),\"\",IF(lsho_resultat[[#This Row],[Skopirom 2028]]<0.2,1,ROUND(lsho_resultat[[#This Row],[Skopirom 2028]]+0.3,0)))","v":1},0,13.330599402208485,13.36712159235152,20.20209705558343,19.754240624272786,26.387018581458719,25.806448816599946,31.915559878176175]
["Helse Nord","Stokmarknes","Nordlandssykehuset",30018,0,25.930729409663478,26.001772503936529,40.417582159352278,47.631904233707125,63.89751831169437,65.599049994118388,80.19000623942209,0,2.3573390372421343E-2,2.3637975003578664E-2,3.6743256508502069E-2,4.3301731121551931E-2,5.8088653010631243E-2,5.9635499994653084E-2,7.2900005672201895E-2,{"$f":"IF(ISBLANK(lsho_resultat[[#This Row],[Skopirom 2028]]),\"\",IF(lsho_resultat[[#This Row],[Skopirom 2028]]<0.2,1,ROUND(lsho_resultat[[#This Row],[Skopirom 2028]]+0.3,0)))","v":1},0,18.410817880861067,18.461258477794935,26.756151159623933,25.788548423308864,36.212660409864633,34.139520423814631,42.672474309367907]
["Helse Nord","Harstad","Universitetssykehuset Nord-Norge",50710,0,39.568649055956229,39.677056313643781,63.088795480994321,75.593468336241855,99.130109009969047,106.37112847017525,128.96510843491066,0,3.5971499141778392E-2,3.6070051194221617E-2,5.7353450437267563E-2,6.8721334851128954E-2,9.0118280918153673E-2,9.6701025881977501E-2,0.1172410076681006,{"$f":"IF(ISBLANK(lsho_resultat[[#This Row],[Skopirom 2028]]),\"\",IF(lsho_resultat[[#This Row],[Skopirom 2028]]<0.2,1,ROUND(lsho_resultat[[#This Row],[Skopirom 2028]]+0.3,0)))","v":1},0,28.093740829728922,28.170709982687082,41.832220912898421,41.417933564844162,56.307256736480866,55.997673217088291,68.995507506353547]
["Helse Nord","Narvik","Universitetssykehuset Nord-Norge",27066,0,22.39981596699316,22.461185325806845,35.131950054631254,42.143117340881012,52.757751031810947,56.35532303150373,67.839743769763416,0,2.0363469060902872E-2,2.0419259387097131E-2,3.1938136413301142E-2,3.8311924855346374E-2,4.796159184710086E-2,5.1232111846821575E-2,6.1672494336148562E-2,{"$f":"IF(ISBLANK(lsho_resultat[[#This Row],[Skopirom 2028]]),\"\",IF(lsho_resultat[[#This Row],[Skopirom 2028]]<0.2,1,ROUND(lsho_resultat[[#This Row],[Skopirom 2028]]+0.3,0)))","v":1},0,15.903869336565142,15.94744158132286,23.267561861521692,22.984946024154333,29.533672333548488,29.144078742192583,35.79415854532045]
["Helse Nord","Tromsø","Universitetssykehuset Nord-Norge",115061,0,88.179425658221632,88.421013125778401,141.40726855286366,172.87026348939713,224.08438962164357,240.62707236514348,293.98141975700452,0,8.0163114234746938E-2,8.0382739205253087E-2,0.12855206232078514,0.15715478499036103,0.20371308147422143,0.21875188396831224,0.26725583614273135,{"$f":"IF(ISBLANK(lsho_resultat[[#This Row],[Skopirom 2028]]),\"\",IF(lsho_resultat[[#This Row],[Skopirom 2028]]<0.2,1,ROUND(lsho_resultat[[#This Row],[Skopirom 2028]]+0.3,0)))","v":1},0,62.607392217337356,62.778919319302659,93.800912935504101,95.430906594776388,127.67244561792168,126.81095142407982,157.15707208057447]
["Helse Sør-Øst","Ahus","Akershus universitetssykehus",424135,0,336.18406032196992,337.10511254203016,545.97391219139263,655.8431443165266,861.20467194501896,932.08434265246797,1132.2543645290737,0,0.30562187301997268,0.3064591932200274,0.49633992017399331,0.59622104028775147,0.78291333813183539,0.8473494024113345,1.0293221495718852,{"$f":"IF(ISBLANK(lsho_resultat[[#This Row],[Skopirom 2028]]),\"\",IF(lsho_resultat[[#This Row],[Skopirom 2028]]<0.2,1,ROUND(lsho_resultat[[#This Row],[Skopirom 2028]]+0.3,0)))","v":1},0,238.69068282859863,239.34462990484141,362.48565815846541,361.540769374457,491.12486426840314,492.53118418377471,607.52490962189211]
["Helse Sør-Øst","Kongsvinger","Akershus universitetssykehus",48532,0,44.03366658398906,44.154306766410954,71.118903597334665,85.447367285625148,111.96227091803415,118.42095174142759,144.37112337302781,0,4.0030605985444598E-2,4.014027887855541E-2,6.4653548724849699E-2,7.7679424805113764E-2,0.10178388265275831,0.10765541067402508,0.13124647579366164,{"$f":"IF(ISBLANK(lsho_resultat[[#This Row],[Skopirom 2028]]),\"\",IF(lsho_resultat[[#This Row],[Skopirom 2028]]<0.2,1,ROUND(lsho_resultat[[#This Row],[Skopirom 2028]]+0.3,0)))","v":1},0,31.263903274632231,31.349557804151775,47.199491487120838,47.031496663108783,63.761653048656413,62.036889924702862,76.95215337834361]
["Helse Sør-Øst","Ski","Akershus universitetssykehus",128559,0,104.82516045938169,105.11235267981834,168.50068366231994,201.35435733180597,264.75412180820183,285.56738571404298,347.93856969437763,0,9.5295600417619725E-2,9.5556684254380311E-2,0.15318243969301812,0.18304941575618724,0.24068556528018348,0.25960671428549364,0.31630779063125242,{"$f":"IF(ISBLANK(lsho_resultat[[#This Row],[Skopirom 2028]]),\"\",IF(lsho_resultat[[#This Row],[Skopirom 2028]]<0.2,1,ROUND(lsho_resultat[[#This Row],[Skopirom 2028]]+0.3,0)))","v":1},0,74.425863926161,74.629770402671014,111.79167860946956,110.49984211905576,150.58543864336545,150.62280975258437,186.8268517816025]
["Helse Sør-Øst","Diakonhjemmet","Oslosykehusene",144823,0,97.520466511846806,97.78764587215322,158.52539284185684,190.85445587576888,251.85298930790401,272.62191541369879,333.50072186266163,0,8.8654969556224372E-2,8.889785988377566E-2,0.14411399349259713,0.17350405079615352,0.22895726300718547,0.24783810492154434,0.30318247442060148,{"$f":"IF(ISBLANK(lsho_resultat[[#This Row],[Skopirom 2028]]),\"\",IF(lsho_resultat[[#This Row],[Skopirom 2028]]<0.2,1,ROUND(lsho_resultat[[#This Row],[Skopirom 2028]]+0.3,0)))","v":1},0,69.239531223411234,69.429228569228783,105.25581425939382,105.30699457864526,143.89894844256304,144.38541838042812,179.52590376472375]
["Helse Sør-Øst","Lovisenberg","Oslosykehusene",163706,0,80.66922881190699,80.890240397693034,131.98806877304435,161.24915138795748,210.84668680351237,232.45218245337179,282.90796341814354,0,7.3335662556279088E-2,7.3536582179720936E-2,0.11998915343004031,0.14659013762541589,0.19167880618501124,0.21132016586670163,0.25718905765285777,{"$f":"IF(ISBLANK(lsho_resultat[[#This Row],[Skopirom 2028]]),\"\",IF(lsho_resultat[[#This Row],[Skopirom 2028]]<0.2,1,ROUND(lsho_resultat[[#This Row],[Skopirom 2028]]+0.3,0)))","v":1},0,57.275152456453959,57.432070682362053,87.675250496553929,89.505638645560083,120.75396209362211,123.90923622626312,152.51869122380265]
["Helse Sør-Øst","Ullevål","Oslosykehusene",282598,0,190.220955943223,190.74210924717704,313.29075598535803,376.45585780722274,494.93227617570591,537.89083615468235,659.19827442337123,0,0.17292814176656637,0.17340191749743367,0.28480977816850728,0.34223259800656614,0.44993843288700536,0.48899166923152942,0.5992711585667011,{"$f":"IF(ISBLANK(lsho_resultat[[#This Row],[Skopirom 2028]]),\"\",IF(lsho_resultat[[#This Row],[Skopirom 2028]]<0.2,1,ROUND(lsho_resultat[[#This Row],[Skopirom 2028]]+0.3,0)))","v":1},0,135.05687871968831,135.42689756549569,208.20267436434358,208.37694817982168,282.98940267125124,284.71177759928696,355.08132219039396]
["Helse Sør-Øst","Tønsberg","Sykehuset i Vestfold",248509,0,201.22470206879345,201.77600262240662,329.15793063423359,387.83123172530628,514.36015944236613,551.61297945921956,669.20553684450931,0,0.18293154733526676,0.1834327296567333,0.29923448239475781,0.3525738470230057,0.46760014494760554,0.50146634496292686,0.60836866985864479,{"$f":"IF(ISBLANK(lsho_resultat[[#This Row],[Skopirom 2028]]),\"\",IF(lsho_resultat[[#This Row],[Skopirom 2028]]<0.2,1,ROUND(lsho_resultat[[#This Row],[Skopirom 2028]]+0.3,0)))","v":1},0,142.86953846884333,143.2609618619087,218.64498533175913,213.04587647854495,292.99452557982016,290.13992139836984,358.78445147636251]
["Helse Sør-Øst","Elverum","Sykehuset Innlandet",37237,0,30.638613999890566,30.722555408109447,50.096637718713644,59.776866546275272,77.90691985817665,83.969216450491942,100.4183654184898,0,2.7853285454445969E-2,2.7929595825554043E-2,4.554239792610331E-2,5.4342605951159341E-2,7.0824472598342403E-2,7.6335651318629044E-2,9.1289423107717996E-2,{"$f":"IF(ISBLANK(lsho_resultat[[#This Row],[Skopirom 2028]]),\"\",IF(lsho_resultat[[#This Row],[Skopirom 2028]]<0.2,1,ROUND(lsho_resultat[[#This Row],[Skopirom 2028]]+0.3,0)))","v":1},0,21.753415939922302,21.813014339757707,33.276001278437597,32.953556605562909,44.322094517254598,44.113565345320509,53.441766090348374]
["Helse Sør-Øst","Gjøvik","Sykehuset Innlandet",111257,0,93.746686006982216,94.003526242617795,151.70305933571478,182.21405263415789,235.6749442479377,255.76621269992791,308.05629768994925,0,8.5224260006347474E-2,8.5457751129652537E-2,0.13791187212337708,0.16564913875832535,0.214249949316307,0.23251473881811627,0.2800511797181357,{"$f":"IF(ISBLANK(lsho_resultat[[#This Row],[Skopirom 2028]]),\"\",IF(lsho_resultat[[#This Row],[Skopirom 2028]]<0.2,1,ROUND(lsho_resultat[[#This Row],[Skopirom 2028]]+0.3,0)))","v":1},0,66.560147064957377,66.742503632258632,100.6943401062363,100.34095447572531,133.8151863975271,134.57614469853607,164.45266006109918]
["Helse Sør-Øst","Hamar","Sykehuset Innlandet",96061,0,75.158014708268141,75.36392707733188,122.38076141169036,147.52402437907014,191.72549937189322,207.73884683013233,251.01393195695408,0,6.8325467916607402E-2,6.8512660979392612E-2,0.11125523764699123,0.13411274943551832,0.17429590851990293,0.18885349711830213,0.22819448359723099,{"$f":"IF(ISBLANK(lsho_resultat[[#This Row],[Skopirom 2028]]),\"\",IF(lsho_resultat[[#This Row],[Skopirom 2028]]<0.2,1,ROUND(lsho_resultat[[#This Row],[Skopirom 2028]]+0.3,0)))","v":1},0,53.362190442870379,53.50838822490563,81.266452753556919,81.46748474941856,109.19970473825416,109.51398425862348,134.16604117151573]
["Helse Sør-Øst","Lillehammer","Sykehuset Innlandet",70985,0,58.643054479058826,58.803720381741186,94.998096694260795,111.04925790329933,147.23851788833059,154.9284218183027,189.70815120208107,0,5.3311867708235296E-2,5.3457927619764714E-2,8.6361906085691637E-2,0.10095387082118121,0.13385319808030055,0.14084401983482064,0.1724619556382555,{"$f":"IF(ISBLANK(lsho_resultat[[#This Row],[Skopirom 2028]]),\"\",IF(lsho_resultat[[#This Row],[Skopirom 2028]]<0.2,1,ROUND(lsho_resultat[[#This Row],[Skopirom 2028]]+0.3,0)))","v":1},0,41.636568680131766,41.750641471036239,63.060534321032307,60.684674014905781,83.567192396452754,80.783225929054581,101.44842503096024]
["Helse Sør-Øst","Tynset","Sykehuset Innlandet",17086,0,13.918150871901506,13.956282792098499,22.671418486727841,27.044884561101881,35.06767213819758,37.624548887705664,45.258573613557978,0,1.2652864429001369E-2,1.2687529810998636E-2,2.0610380442479856E-2,2.4586258691910803E-2,3.187970194381598E-2,3.4204135352459697E-2,4.1144157830507254E-2,{"$f":"IF(ISBLANK(lsho_resultat[[#This Row],[Skopirom 2028]]),\"\",IF(lsho_resultat[[#This Row],[Skopirom 2028]]<0.2,1,ROUND(lsho_resultat[[#This Row],[Skopirom 2028]]+0.3,0)))","v":1},0,9.8818871190500683,9.9089607823899328,15.05524641284654,14.891762008804324,19.911239912016736,19.698565997625806,24.072541901681657]
["Helse Sør-Øst","Notodden","Sykehuset Telemark",48159,0,38.821365787666217,38.927725693933795,61.155122102098872,76.179651535796125,96.202780977083748,106.01444963488369,125.62205837601211,0,3.5292150716060199E-2,3.5388841539939812E-2,5.5595565547362613E-2,6.9254228668905571E-2,8.7457073615530678E-2,9.6376772395348809E-2,0.1142018712509201,{"$f":"IF(ISBLANK(lsho_resultat[[#This Row],[Skopirom 2028]]),\"\",IF(lsho_resultat[[#This Row],[Skopirom 2028]]<0.2,1,ROUND(lsho_resultat[[#This Row],[Skopirom 2028]]+0.3,0)))","v":1},0,27.563169709243013,27.638685242692993,40.515230167586296,42.065538725364092,54.55020950976558,56.136652226469053,66.655449049429734]
["Helse Sør-Øst","Skien","Sykehuset Telemark",125065,0,103.85369221060466,104.13822287419536,167.55461131743581,201.6187713734665,261.99962665096012,282.53353627581629,341.00597362065344,0,9.4412447464186061E-2,9.4671111703813968E-2,0.15232237392494166,0.18328979215769681,0.2381814787736001,0.25684866934165118,0.31000543056423041,{"$f":"IF(ISBLANK(lsho_resultat[[#This Row],[Skopirom 2028]]),\"\",IF(lsho_resultat[[#This Row],[Skopirom 2028]]<0.2,1,ROUND(lsho_resultat[[#This Row],[Skopirom 2028]]+0.3,0)))","v":1},0,73.736121469529309,73.938138240678711,111.19265980441656,110.98841570412208,148.93020213019275,148.64804988762282,181.98462595382429]
["Helse Sør-Øst","Kalnes","Sykehuset Østfold",321458,0,267.86368751855542,268.59756063504466,434.55337046795574,523.01578206281499,681.11979534755312,737.22725859224897,892.81743815651407,0,0.24351244319868676,0.24417960057731333,0.3950485186072325,0.47546889278437726,0.61919981395232104,0.67020659872022637,0.8116522165059219,{"$f":"IF(ISBLANK(lsho_resultat[[#This Row],[Skopirom 2028]]),\"\",IF(lsho_resultat[[#This Row],[Skopirom 2028]]<0.2,1,ROUND(lsho_resultat[[#This Row],[Skopirom 2028]]+0.3,0)))","v":1},0,190.18321813817434,190.70426805088169,288.4893175971801,288.39046667118987,387.75340284928058,388.65319526456329,477.70574193498061]
["Helse Sør-Øst","Arendal","Sørlandet sykehus",119382,0,92.831264003326964,93.085596233473055,152.23119270352788,181.38967936529184,239.22010843611127,256.59964668794862,316.34677980797142,0,8.4392058184842689E-2,8.462326930315732E-2,0.13839199336684352,0.16489970851390168,0.21747282585101024,0.23327240607995328,0.28758798164361038,{"$f":"IF(ISBLANK(lsho_resultat[[#This Row],[Skopirom 2028]]),\"\",IF(lsho_resultat[[#This Row],[Skopirom 2028]]<0.2,1,ROUND(lsho_resultat[[#This Row],[Skopirom 2028]]+0.3,0)))","v":1},0,65.910197442362147,66.090773325765866,101.13781355567056,100.03913293865503,136.50914708515825,135.08403866378518,170.20501548192377]
["Helse Sør-Øst","Flekkefjord","Sørlandet sykehus",44573,0,34.543169076705887,34.637807896094124,57.153536477682394,66.038899234524251,88.026342362698614,93.064372986112346,115.69816232056748,0,3.140288097882353E-2,3.1488916269176478E-2,5.195776043425672E-2,6.0035362940476594E-2,8.002394760245328E-2,8.4603975441920318E-2,0.10518014756415225,{"$f":"IF(ISBLANK(lsho_resultat[[#This Row],[Skopirom 2028]]),\"\",IF(lsho_resultat[[#This Row],[Skopirom 2028]]<0.2,1,ROUND(lsho_resultat[[#This Row],[Skopirom 2028]]+0.3,0)))","v":1},0,24.525650044461177,24.592843606226825,37.994231224203915,36.190455975049481,50.055766465467798,48.538866559775038,62.318058826794591]
["Helse Sør-Øst","Kristiansand","Sørlandet sykehus",152405,0,110.97156534106706,111.27559702693299,180.04906540597503,215.81032277659219,285.01231965027938,304.83328621862023,372.92333766475593,0,0.10088324121915188,0.10115963366084817,0.1636809685508864,0.19619120252417471,0.25910210877298123,0.27712116928965475,0.33902121605886903,{"$f":"IF(ISBLANK(lsho_resultat[[#This Row],[Skopirom 2028]]),\"\",IF(lsho_resultat[[#This Row],[Skopirom 2028]]<0.2,1,ROUND(lsho_resultat[[#This Row],[Skopirom 2028]]+0.3,0)))","v":1},0,78.789811392157617,79.00567388912242,119.53110941325227,118.86018847917458,162.65156346877532,160.6552299512752,200.0578202653972]
["Helse Sør-Øst","Bærum","Vestre Viken",224445,0,180.28208847496583,180.7760120050342,290.22564816252844,349.18268943073434,458.02731967147224,496.16692391549338,604.16003179151471,0,0.16389280770451439,0.16434182909548564,0.26384149832957132,0.31743880857339485,0.41638847242861116,0.4510608399231758,0.54923639253774059,{"$f":"IF(ISBLANK(lsho_resultat[[#This Row],[Skopirom 2028]]),\"\",IF(lsho_resultat[[#This Row],[Skopirom 2028]]<0.2,1,ROUND(lsho_resultat[[#This Row],[Skopirom 2028]]+0.3,0)))","v":1},0,128.00028281722572,128.35096852357427,192.57014861439291,192.09081931403915,260.86241548972703,262.30604768949689,324.52382717526478]
["Helse Sør-Øst","Drammen","Vestre Viken",144033,0,112.37272146911083,112.68059193888921,184.53993289540401,219.53313214782796,291.4553317816663,312.56644582752335,383.2425605231993,0,0.10215701951737348,0.10243690176262656,0.16776357535945818,0.1995755746798436,0.26495939252878753,0.28415131438865759,0.34840232774836299,{"$f":"IF(ISBLANK(lsho_resultat[[#This Row],[Skopirom 2028]]),\"\",IF(lsho_resultat[[#This Row],[Skopirom 2028]]<0.2,1,ROUND(lsho_resultat[[#This Row],[Skopirom 2028]]+0.3,0)))","v":1},0,79.784632243068685,80.00322027661133,122.61478029255252,121.06947984118369,166.55881718042647,164.8465280483255,206.11784161770663]
["Helse Sør-Øst","Kongsberg","Vestre Viken",57854,0,45.621643529105334,45.746634333294679,73.801499415487498,88.209847055372336,118.27507219291688,124.4534882625498,155.05476884240917,0,4.147422139009576E-2,4.1587849393904253E-2,6.7092272195897723E-2,8.0190770050338492E-2,0.10752279290265171,0.11313953478413617,0.14095888076582652,{"$f":"IF(ISBLANK(lsho_resultat[[#This Row],[Skopirom 2028]]),\"\",IF(lsho_resultat[[#This Row],[Skopirom 2028]]<0.2,1,ROUND(lsho_resultat[[#This Row],[Skopirom 2028]]+0.3,0)))","v":1},0,32.391366905664789,32.480110376639217,48.985310141389121,48.501100235851943,67.66759961353732,65.521312058137966,83.520563164307021]
["Helse Sør-Øst","Ringerike","Vestre Viken",67433,0,56.924302961991799,57.080259956408213,90.621737082481246,110.77739472851414,142.13985927934615,154.14650558160133,186.95683656225566,0,5.1749366329083453E-2,5.1891145414916559E-2,8.2383397347710219E-2,0.1007067224804674,0.12921805389031468,0.14013318689236484,0.16996076051114151,{"$f":"IF(ISBLANK(lsho_resultat[[#This Row],[Skopirom 2028]]),\"\",IF(lsho_resultat[[#This Row],[Skopirom 2028]]<0.2,1,ROUND(lsho_resultat[[#This Row],[Skopirom 2028]]+0.3,0)))","v":1},0,40.416255103014173,40.52698456904983,60.081928910187187,61.023905865132022,80.680943414812603,81.234720018639635,99.829836267718946]
["Helse Vest","Haukeland","Helse Bergen",436434,0,313.87765476351302,314.73759354368701,511.19124043232341,613.21986217490132,798.66632283688898,866.57516377236971,1057.3230265757725,0,0.28534332251228456,0.28612508503971545,0.46471930948393037,0.55747260197718307,0.72606029348808088,0.787795603429427,0.96120275143252043,{"$f":"IF(ISBLANK(lsho_resultat[[#This Row],[Skopirom 2028]]),\"\",IF(lsho_resultat[[#This Row],[Skopirom 2028]]<0.2,1,ROUND(lsho_resultat[[#This Row],[Skopirom 2028]]+0.3,0)))","v":1},0,222.85313488209422,223.46369141601778,339.45909421757972,338.18597945566961,454.59874871037141,456.84404657247859,567.54612276857245]
["Helse Vest","Voss","Helse Bergen",29429,0,21.073388165778386,21.131123475821617,35.462728351731826,39.225984170009831,55.265459852017301,54.950611812155209,70.800917726662362,0,1.9157625605253078E-2,1.9210112250746925E-2,3.2238843956119839E-2,3.5659985609099845E-2,5.0241327138197546E-2,4.9955101647413826E-2,6.4364470660602149E-2,{"$f":"IF(ISBLANK(lsho_resultat[[#This Row],[Skopirom 2028]]),\"\",IF(lsho_resultat[[#This Row],[Skopirom 2028]]<0.2,1,ROUND(lsho_resultat[[#This Row],[Skopirom 2028]]+0.3,0)))","v":1},0,14.962105597702653,15.003097667833348,23.601667755287046,21.324543255520407,31.602972331684043,28.256092302625575,38.304017234306343]
["Helse Vest","Haugesund","Helse Fonna",118334,0,90.888327505772921,91.137336622227096,147.00908211295967,176.41845141021292,231.71891491210999,246.83125113224992,304.44093220186505,0,8.2625752277975376E-2,8.2852124202024632E-2,0.13364462010269063,0.16038041037292083,0.21065355901100907,0.22439204648386357,0.27676448381987734,{"$f":"IF(ISBLANK(lsho_resultat[[#This Row],[Skopirom 2028]]),\"\",IF(lsho_resultat[[#This Row],[Skopirom 2028]]<0.2,1,ROUND(lsho_resultat[[#This Row],[Skopirom 2028]]+0.3,0)))","v":1},0,64.530712529098764,64.707509001781233,97.575500155996593,97.111240321523638,132.0333828700966,129.69993191511395,163.35505547408417]
["Helse Vest","Odda","Helse Fonna",11709,0,9.7520466511846795,9.7787645872153242,15.033143180505686,18.243600275576888,22.518182063829936,24.729815724528152,29.723843608057891,0,8.8654969556224358E-3,8.889785988377568E-3,1.3666493800459714E-2,1.6585091159615352E-2,2.047107460348176E-2,2.2481650658661957E-2,2.7021676007325354E-2,{"$f":"IF(ISBLANK(lsho_resultat[[#This Row],[Skopirom 2028]]),\"\",IF(lsho_resultat[[#This Row],[Skopirom 2028]]<0.2,1,ROUND(lsho_resultat[[#This Row],[Skopirom 2028]]+0.3,0)))","v":1},0,6.9239531223411221,6.9429228569228796,9.9438101923265805,9.9329892863445277,12.557555247050411,12.895813489720398,15.775994354085963]
["Helse Vest","Stord","Helse Fonna",49364,0,38.57849872547196,38.684193242528046,61.339526671877849,74.075664908611245,96.216541282926997,102.60765332934366,126.26660620068176,0,3.5071362477701783E-2,3.5167448402298226E-2,5.5763206065343497E-2,6.7341513553282953E-2,8.7469582984479086E-2,9.327968484485788E-2,0.11478782381880161,{"$f":"IF(ISBLANK(lsho_resultat[[#This Row],[Skopirom 2028]]),\"\",IF(lsho_resultat[[#This Row],[Skopirom 2028]]<0.2,1,ROUND(lsho_resultat[[#This Row],[Skopirom 2028]]+0.3,0)))","v":1},0,27.39073409508509,27.465777202194911,40.664330552083044,40.646918123934668,54.603596490571221,53.82626120837277,67.589222973389667]
["Helse Vest","Førde","Helse Førde",54266,0,39.867562363272235,39.976788561527776,65.201734262312513,78.404604318500148,102.55663622239261,111.1446331575836,133.1305947113118,0,3.6243238512065665E-2,3.6342535055934343E-2,5.9274303874829556E-2,7.1276913016818322E-2,9.3233305656720555E-2,0.10104057559780327,0.12102781337391982,{"$f":"IF(ISBLANK(lsho_resultat[[#This Row],[Skopirom 2028]]),\"\",IF(lsho_resultat[[#This Row],[Skopirom 2028]]<0.2,1,ROUND(lsho_resultat[[#This Row],[Skopirom 2028]]+0.3,0)))","v":1},0,28.305969277923285,28.383519878684719,43.31004050615288,43.321274076712989,58.511319611103531,58.687781088733097,71.054685965220528]
["Helse Vest","Lærdal","Helse Førde",26082,0,20.101919917001371,20.156993670198634,31.149274758847731,38.367937795670365,49.585796931946298,53.794872260345379,63.407989972411926,0,1.8274472651819428E-2,1.8324539700180578E-2,2.8317522508043393E-2,3.4879943450609421E-2,4.5077997210860268E-2,4.8904429327586707E-2,5.7643627247647204E-2,{"$f":"IF(ISBLANK(lsho_resultat[[#This Row],[Skopirom 2028]]),\"\",IF(lsho_resultat[[#This Row],[Skopirom 2028]]<0.2,1,ROUND(lsho_resultat[[#This Row],[Skopirom 2028]]+0.3,0)))","v":1},0,14.272363141070972,14.31146550584103,20.611808264154071,21.016169945226711,28.122839494584909,28.488912693293877,33.620995656795024]
["Helse Vest","Nordfjordeid","Helse Førde",22219,0,16.944648108476063,16.991071801923944,27.747155349974435,32.08095211586712,43.517129090235741,44.653519599784104,55.388147362967288,0,1.5404225553160057E-2,1.5446428910839948E-2,2.522468668179494E-2,2.9164501923515565E-2,3.9561026445668855E-2,4.0594108727076458E-2,5.0352861239061172E-2,{"$f":"IF(ISBLANK(lsho_resultat[[#This Row],[Skopirom 2028]]),\"\",IF(lsho_resultat[[#This Row],[Skopirom 2028]]<0.2,1,ROUND(lsho_resultat[[#This Row],[Skopirom 2028]]+0.3,0)))","v":1},0,12.030700157018003,12.063660979366,18.432554303251894,17.530138862900213,24.81506158885243,23.19275089281167,29.648079812058157]
["Helse Vest","Stavanger","Helse Stavanger",369799,0,268.10655458074967,268.84109308645037,436.31456395257675,519.43263591559992,681.95303948110461,734.57324788680251,898.70824481505269,0,0.24373323143704514,0.24440099371495488,0.39664960359325158,0.47221148719599992,0.61995730861918596,0.66779386171527499,0.81700749528641159,{"$f":"IF(ISBLANK(lsho_resultat[[#This Row],[Skopirom 2028]]),\"\",IF(lsho_resultat[[#This Row],[Skopirom 2028]]<0.2,1,ROUND(lsho_resultat[[#This Row],[Skopirom 2028]]+0.3,0)))","v":1},0,190.35565375233224,190.87717609137977,289.72159183130736,285.7712230027953,388.15580474311764,386.62944703554035,482.68095067354352]
["Total",null,null,{"$f":"SUM(lsho_resultat[Befolkning 2022])","v":5417351},{"$f":"SUM(lsho_resultat[Koloskopier 2021])","v":0},{"$f":"SUM(lsho_resultat[Koloskopier 2022])","v":4136.3063003937623},{"$f":"SUM(lsho_resultat[Koloskopier 2023])","v":4147.6386464222405},{"$f":"SUM(lsho_resultat[Koloskopier 2024])","v":6710.9016382003038},{"$f":"SUM(lsho_resultat[Koloskopier 2025])","v":8032.3930405656174},{"$f":"SUM(lsho_resultat[Koloskopier 2026])","v":10524.255235083179},{"$f":"SUM(lsho_resultat[Koloskopier 2027])","v":11329.170166645079},{"$f":"SUM(lsho_resultat[Koloskopier 2028])","v":13796.422270498837},{"$f":"SUM(lsho_resultat[Skopirom 2021])","v":0},{"$f":"SUM(lsho_resultat[Skopirom 2022])","v":3.7602784549034207},{"$f":"SUM(lsho_resultat[Skopirom 2023])","v":3.7705805876565814},{"$f":"SUM(lsho_resultat[Skopirom 2024])","v":6.1008196710911831},{"$f":"SUM(lsho_resultat[Skopirom 2025])","v":7.3021754914232897},{"$f":"SUM(lsho_resultat[Skopirom 2026])","v":9.5675047591665301},{"$f":"SUM(lsho_resultat[Skopirom 2027])","v":10.299245606040978},{"$f":"SUM(lsho_resultat[Skopirom 2028])","v":12.54220206408985},{"$f":"SUM(lsho_resultat[Skopirom 2028, rundet opp hvis >=0,2])","v":50},{"$f":"SUBTOTAL(109,lsho_resultat[Patologi-remisser 2021])","v":0},{"$f":"SUBTOTAL(109,lsho_resultat[Patologi-remisser 2022])","v":2936.7774732795706},{"$f":"SUBTOTAL(109,lsho_resultat[Patologi-remisser 2023])","v":2944.8234389597901},{"$f":"SUBTOTAL(109,lsho_resultat[Patologi-remisser 2024])","v":4455.2306207033753},{"$f":"SUBTOTAL(109,lsho_resultat[Patologi-remisser 2025])","v":4422.0876152059918},{"$f":"SUBTOTAL(109,lsho_resultat[Patologi-remisser 2026])","v":5992.2054655321062},{"$f":"SUBTOTAL(109,lsho_resultat[Patologi-remisser 2027])","v":5965.6350920600644},{"$f":"SUBTOTAL(109,lsho_resultat[Patologi-remisser 2028])","v":7393.3476367589537}]

{"sheet":"Innstillinger","index":3,"n_rows":44,"n_cols":4,"rows_kept":44,"cut":false,"hidden":false,"merged":[]}
["Parameter","Koloskopi","iFOBT","Forklaring"]
["Deltakelse",0.6,0.57999999999999996,"I NordICC-studien var oppmøtet for primærkoloskopi 60 %. I piloten var oppmøtet for sigmo 52%, og 58 % for iFOBT. Bruker runde tall her."]
["Koloskopier per person som kalles inn til koloskopi (primær kolo / positiv IFOBT)",1.0258,1.036]
["Positivitet",null,6.0999999999999999E-2,"Piloten 55-åringer runde 1"]
["Andel iFOBT-positive til koloskopi",null,0.95,"I piloten er det 93%. Antar litt høyere pga. lavere alder/komorbiditet"]
["Andel av inviterte som reserverer seg eller får tarmkreft mellom første- og andregangsinvitasjon",null,0.03,"I piloten er tallet litt over 4 %, antar lavere pga. lavere alder / komorbiditet"]
["Andel av inviterte som reserverer seg eller får tarmkreft mellom andre- og tredjegangsinvitasjon",null,1.4999999999999999E-2,"I piloten er samlet antall reserverte/tarmkreft utenom screening ca. 8 % ved 2,5 runder. Konservativt tillegg per runde"]
["Andel av inviterte som reserverer seg eller får tarmkreft mellom tredje- og fjerdegangsinvitasjon og mellom fjerde- og femtegangsinvitasjon",null,1.4999999999999999E-2,"I piloten er samlet antall reserverte/tarmkreft utenom screening ca. 8 % ved 2,5 runder. Konservativt tillegg per runde"]
["Andel avanserte adenomer",0.1,0.3604,"NordICC. Piloten: 1172 av 3252 (5-års data). Disse får 3-års surveillance."]
["Vevsprøver runde 1: andel koloskopier med vevsprøve",0.45,0.71,"NordICC. Pilot, iFOBT, 55-60-åringer"]
["Vevsprøver runde 1: Ikke-avanserte adenom per koloskopi",0.34356741564021032,0.79696132596685088,"NordICC, 55-59-åringer blant nordmenn. Pilot, iFOBT, 55-60-åringer"]
["Vevsprøver runde 1: Avanserte adenom >= 20 mm per koloskopi",1.9520875888648315E-2,7.4585635359116026E-2,"NordICC, 55-59-åringer blant nordmenn. Pilot, iFOBT, 55-60-åringer"]
["Vevsprøver runde 1: Avanserte adenom < 20 mm per koloskopi",5.7391375112626042E-2,0.28038674033149169,"NordICC, 55-59-åringer blant nordmenn. Pilot, iFOBT, 55-60-åringer"]
["Vevsprøver runde 1: Kreft per koloskopi",5.0754277310485615E-3,4.0055248618784532E-2,"NordICC, 55-59-åringer blant nordmenn. Pilot, iFOBT, 55-60-åringer"]
["Vevsprøver runde 1: Andre polypper per koloskopi",0.48255605196738632,0.83563535911602205,"NordICC, 55-59-åringer blant nordmenn. Pilot, iFOBT, 55-60-åringer"]
["Vevsprøver runde 2-5: andel koloskopier med vevsprøve",null,0.63,"Pilot, iFOBT, 55-60-åringer"]
["Vevsprøver runde 2-5: Ikke-avanserte adenom per koloskopi",null,0.86308068459657705,"Pilot, iFOBT, 55-60-åringer"]
["Vevsprøver runde 2-5: Avanserte adenom >= 20 mm per koloskopi",null,3.6674816625916873E-2,"Pilot, iFOBT, 55-60-åringer"]
["Vevsprøver runde 2-5: Avanserte adenom < 20 mm per koloskopi",null,0.19315403422982885,"Pilot, iFOBT, 55-60-åringer"]
["Vevsprøver runde 2-5: Kreft per koloskopi",null,2.6894865525672371E-2,"Pilot, iFOBT, 55-60-åringer. Sum CRC og annen cancer."]
["Vevsprøver runde 2-5: Andre polypper per koloskopi",null,0.81907090464547683,"Pilot, iFOBT, 55-60-åringer"]
["Operasjonspreparat per screeningkoloskopi runde 1",{"$f":"ifobt_operasjonspreparat*remisser_kolo/remisser_fobt","v":3.3401408450704224E-2},5.2699999999999997E-2,"Pilot, iFOBT, 55-60-åringer"]
["Operasjonspreparat per screeningkoloskopi runde 2-5",null,2.971E-2,"Pilot, iFOBT, 55-60-åringer"]
["iFOBT-prøvesett per invitasjon",null,1.0649999999999999,"Anslag fra piloten"]
[]
["Parameter","Verdi"," ","Forklaring"]
["Andel inviterbare",0.99,null,"Pilot, andel av personer født i 1962 som kunne inviteres (har gyldig adresse i screeningområdet) var 98,8 %. Antar litt høyere pga. at utflytting fra kommune ikke betyr ut av program, som det gjør i piloten."]
["Andel som ikke har digital post",0.6,null,"Anslag"]
["Surveillance 6 år blant de som blir inkludert i 3-års-surveillance",0.15,null,"Anslag"]
["Surveillance 8 år blant de som blir inkludert i 3-års-surveillance",0.85,null,"Anslag"]
["Surveillance 9 år blant de som blir inkludert i 3-års-surveillance",2.2499999999999999E-2,null,"Anslag (15 % av 15 %)"]
["Andel får påminnelse",0.5,null,"Anslag fra piloten"]
["Personellkostnad per skopirom",3932500]
["Undersøkelser per år per skopirom",1100,null,"7 timer per dag, 200 dagers fullt program, ca. 80 % av timene i programmet utnyttet"]
["Operasjonspreparat per screeningkoloskopi",0.04]
["Maks i rute-dato",45658]
[]
["Beregnede innstillinger","Koloskopi","iFOBT"]
["Koloskopier per inviterte",{"$f":"kolo_per_kolo*beregnet_deltakelse_kolo","v":0.61548000000000003},{"$f":"kolo_per_positiv_ifobt*beregnet_deltakelse_ifobt*beregnet_positivitet_ifobt","v":3.6653679999999994E-2}]
["Andel av inviterte som møter til koloskopi",{"$f":"beregnet_deltakelse_kolo","v":0.6},{"$f":"beregnet_positivitet_ifobt*andel_positive_til_kolo_ifobt*beregnet_deltakelse_ifobt","v":3.3610999999999995E-2}]
["Deltakelse",{"$f":"IF(ISBLANK(brukervalgt_deltakelse_kolo),deltakelse_kolo,brukervalgt_deltakelse_kolo)","v":0.6},{"$f":"IF(ISBLANK(brukervalgt_deltakelse_ifobt),deltakelse_ifobt,brukervalgt_deltakelse_ifobt)","v":0.57999999999999996}]
["Positivitet",null,{"$f":"IF(ISBLANK(brukervalgt_positivitet_ifobt),positivitet_ifobt,brukervalgt_positivitet_ifobt)","v":6.0999999999999999E-2}]
["Utsendelser per førstegangsinvitasjon",1,{"$f":"1+påminnelse+beregnet_deltakelse_ifobt-beregnet_positivitet_ifobt","v":2.0190000000000001},"Alle brev sendt i regi av Kreftregisteret, også digitale, men ikke prøvekit"]
["Utsendelser per runde etter første",null,{"$f":"påminnelse+beregnet_deltakelse_ifobt-beregnet_positivitet_ifobt","v":1.0190000000000001},"Alle brev sendt i regi av Kreftregisteret, også digitale, men ikke prøvekit"]

{"sheet":"Underlag kapasitet skopirom","index":4,"n_rows":10,"n_cols":4,"rows_kept":10,"cut":false,"hidden":true,"merged":[]}
[null,"IKKE I BRUK"]
[null,"Timer per dag",6,"Antar at program på 6 er mulig siden det er mindre andel terapeutiske skopier med primærkoloskopi."]
[null,"Utnyttelsesgrad timer",0.85]
[null,"Virkedager per år",254]
[null,"Sommerstengt dager",{"$f":"8*5","v":40}]
[null,"Vinterferie og høstferie 50 % program 2 uker",5]
[null,"Andre fridager",9,"3 dager påske + 4 dager jul + 1 inneklemt + 1 kurs/seminar"]
[null,"Koloskopidager per år",{"$f":"C4-C5-C7-C6","v":200}]
[null,"Koloskopiprogram per år",{"$f":"C2*C8","v":1200}]
[null,"Koloskopier utført per år",{"$f":"C9*C3","v":1020}]

{"sheet":"Befolkning per HF","index":5,"n_rows":80,"n_cols":48,"rows_kept":80,"cut":false,"hidden":true,"merged":[[0,2,0,12]]}
[null,null,"Hele befolkningen, MMMM"]
["RHF","Helseforetak","Hele2022","Hele2023","Hele2024","Hele2025","Hele2026","Hele2027","Hele2028","Hele2029","Hele2030","Hele2031","Hele2032","Hele2033","Hele2034","Hele2035","Hele2036","Hele2037","Hele2038","Hele2039","Hele2040","2020","2021","2022","2023","2024","2025","2026","2027","2028","2029","2030","2031","2032","2033","2034","2035","2036","2037","2038","2039","2040","Gjennomsnitt 2022-2040","Variasjons-koeffisient","Maksavvik ned","Maksavvik opp","Variasjonsbredde","Sum"]
["Helse Midt-Norge","Helse Møre og Romsdal",265389,265762,266221,266790,267483,268180,268879,269573,270262,270938,271587,272222,272834,273422,273994,274528,275011,275448,275836,{"$f":"SUMIFS(hf_kommune[2020],hf_kommune[Helseforetak],\"=\"&hf[[#This Row],[Helseforetak]])","v":3297},{"$f":"SUMIFS(hf_kommune[2021],hf_kommune[Helseforetak],\"=\"&hf[[#This Row],[Helseforetak]])","v":3377},3452,3619,3753,3760,3663,3651,3660,3473,3417,3186,3218,3153,3189,3321,3340,3291,3363,3433,3420,{"$f":"AVERAGE(hf[[#This Row],[2022]:[2040]])","v":3440.1052631578946},{"$f":"_xlfn.STDEV.P(hf[[#This Row],[2022]:[2040]])/hf[[#This Row],[Gjennomsnitt 2022-2040]]","v":5.5344763039445258E-2},{"$f":"-(hf[[#This Row],[Gjennomsnitt 2022-2040]]-MIN(hf[[#This Row],[2022]:[2040]]))/hf[[#This Row],[Gjennomsnitt 2022-2040]]","v":-8.3458278510449457E-2},{"$f":"(MAX(hf[[#This Row],[2022]:[2040]])-hf[[#This Row],[Gjennomsnitt 2022-2040]])/hf[[#This Row],[Gjennomsnitt 2022-2040]]","v":9.2989810593311156E-2},{"$f":"MAX(hf[[#This Row],[2022]:[2040]])-MIN(hf[[#This Row],[2022]:[2040]])","v":607},{"$f":"SUM(hf[[#This Row],[2022]:[2040]])","v":65362}]
["Helse Midt-Norge","Helse Nord-Trøndelag",135980,135928,135976,136132,136395,136659,136924,137183,137437,137681,137916,138139,138356,138565,138767,138958,139131,139286,139420,{"$f":"SUMIFS(hf_kommune[2020],hf_kommune[Helseforetak],\"=\"&hf[[#This Row],[Helseforetak]])","v":1789},{"$f":"SUMIFS(hf_kommune[2021],hf_kommune[Helseforetak],\"=\"&hf[[#This Row],[Helseforetak]])","v":1929},1924,1907,1934,1938,1828,1891,1891,1726,1723,1555,1515,1554,1553,1580,1584,1546,1628,1584,1632,{"$f":"AVERAGE(hf[[#This Row],[2022]:[2040]])","v":1710.1578947368421},{"$f":"_xlfn.STDEV.P(hf[[#This Row],[2022]:[2040]])/hf[[#This Row],[Gjennomsnitt 2022-2040]]","v":9.1578243355720956E-2},{"$f":"-(hf[[#This Row],[Gjennomsnitt 2022-2040]]-MIN(hf[[#This Row],[2022]:[2040]]))/hf[[#This Row],[Gjennomsnitt 2022-2040]]","v":-0.11411688671406148},{"$f":"(MAX(hf[[#This Row],[2022]:[2040]])-hf[[#This Row],[Gjennomsnitt 2022-2040]])/hf[[#This Row],[Gjennomsnitt 2022-2040]]","v":0.13322869541131938},{"$f":"MAX(hf[[#This Row],[2022]:[2040]])-MIN(hf[[#This Row],[2022]:[2040]])","v":423},{"$f":"SUM(hf[[#This Row],[2022]:[2040]])","v":32493}]
["Helse Midt-Norge","St. Olavs hospital",338476,340940,343187,345263,347190,349088,350961,352801,354597,356341,358020,359635,361194,362701,364156,365550,366862,368094,369261,{"$f":"SUMIFS(hf_kommune[2020],hf_kommune[Helseforetak],\"=\"&hf[[#This Row],[Helseforetak]])","v":4063},{"$f":"SUMIFS(hf_kommune[2021],hf_kommune[Helseforetak],\"=\"&hf[[#This Row],[Helseforetak]])","v":4234},4407,4286,4624,4519,4374,4455,4393,4441,4371,4161,4037,3930,4080,4162,4214,4210,4346,4350,4363,{"$f":"AVERAGE(hf[[#This Row],[2022]:[2040]])","v":4301.2105263157891},{"$f":"_xlfn.STDEV.P(hf[[#This Row],[2022]:[2040]])/hf[[#This Row],[Gjennomsnitt 2022-2040]]","v":3.9359344301842243E-2},{"$f":"-(hf[[#This Row],[Gjennomsnitt 2022-2040]]-MIN(hf[[#This Row],[2022]:[2040]]))/hf[[#This Row],[Gjennomsnitt 2022-2040]]","v":-8.6303733343122427E-2},{"$f":"(MAX(hf[[#This Row],[2022]:[2040]])-hf[[#This Row],[Gjennomsnitt 2022-2040]])/hf[[#This Row],[Gjennomsnitt 2022-2040]]","v":7.5046192626310917E-2},{"$f":"MAX(hf[[#This Row],[2022]:[2040]])-MIN(hf[[#This Row],[2022]:[2040]])","v":694},{"$f":"SUM(hf[[#This Row],[2022]:[2040]])","v":81723}]
["Helse Nord","Finnmarkssykehuset",75333,75395,75481,75597,75745,75894,76041,76187,76330,76470,76599,76725,76844,76961,77067,77167,77249,77318,77375,{"$f":"SUMIFS(hf_kommune[2020],hf_kommune[Helseforetak],\"=\"&hf[[#This Row],[Helseforetak]])","v":1096},{"$f":"SUMIFS(hf_kommune[2021],hf_kommune[Helseforetak],\"=\"&hf[[#This Row],[Helseforetak]])","v":1014},1108,1121,1164,1145,1198,1145,1121,1059,970,922,908,808,872,851,852,852,884,914,914,{"$f":"AVERAGE(hf[[#This Row],[2022]:[2040]])","v":989.89473684210532},{"$f":"_xlfn.STDEV.P(hf[[#This Row],[2022]:[2040]])/hf[[#This Row],[Gjennomsnitt 2022-2040]]","v":0.12978220278481706},{"$f":"-(hf[[#This Row],[Gjennomsnitt 2022-2040]]-MIN(hf[[#This Row],[2022]:[2040]]))/hf[[#This Row],[Gjennomsnitt 2022-2040]]","v":-0.18375159506592945},{"$f":"(MAX(hf[[#This Row],[2022]:[2040]])-hf[[#This Row],[Gjennomsnitt 2022-2040]])/hf[[#This Row],[Gjennomsnitt 2022-2040]]","v":0.21022968949383233},{"$f":"MAX(hf[[#This Row],[2022]:[2040]])-MIN(hf[[#This Row],[2022]:[2040]])","v":390},{"$f":"SUM(hf[[#This Row],[2022]:[2040]])","v":18808}]
["Helse Nord","Helgelandssykehuset",75477,75186,74983,74870,74839,74806,74773,74736,74699,74656,74608,74557,74504,74452,74398,74343,74281,74211,74134,{"$f":"SUMIFS(hf_kommune[2020],hf_kommune[Helseforetak],\"=\"&hf[[#This Row],[Helseforetak]])","v":1124},{"$f":"SUMIFS(hf_kommune[2021],hf_kommune[Helseforetak],\"=\"&hf[[#This Row],[Helseforetak]])","v":1056},1111,1140,1118,1172,1064,1043,1037,925,926,870,809,819,823,816,828,809,823,856,854,{"$f":"AVERAGE(hf[[#This Row],[2022]:[2040]])","v":939.10526315789468},{"$f":"_xlfn.STDEV.P(hf[[#This Row],[2022]:[2040]])/hf[[#This Row],[Gjennomsnitt 2022-2040]]","v":0.13692590057390466},{"$f":"-(hf[[#This Row],[Gjennomsnitt 2022-2040]]-MIN(hf[[#This Row],[2022]:[2040]]))/hf[[#This Row],[Gjennomsnitt 2022-2040]]","v":-0.13854172504623657},{"$f":"(MAX(hf[[#This Row],[2022]:[2040]])-hf[[#This Row],[Gjennomsnitt 2022-2040]])/hf[[#This Row],[Gjennomsnitt 2022-2040]]","v":0.24799641315922216},{"$f":"MAX(hf[[#This Row],[2022]:[2040]])-MIN(hf[[#This Row],[2022]:[2040]])","v":363},{"$f":"SUM(hf[[#This Row],[2022]:[2040]])","v":17843}]
["Helse Nord","Nordlandssykehuset",137928,138022,138136,138285,138467,138650,138833,139013,139182,139342,139492,139626,139755,139871,139982,140076,140156,140215,140255,{"$f":"SUMIFS(hf_kommune[2020],hf_kommune[Helseforetak],\"=\"&hf[[#This Row],[Helseforetak]])","v":1878},{"$f":"SUMIFS(hf_kommune[2021],hf_kommune[Helseforetak],\"=\"&hf[[#This Row],[Helseforetak]])","v":1934},1938,1997,2010,2003,1882,1902,1849,1749,1773,1678,1589,1576,1617,1640,1671,1686,1658,1658,1678,{"$f":"AVERAGE(hf[[#This Row],[2022]:[2040]])","v":1766},{"$f":"_xlfn.STDEV.P(hf[[#This Row],[2022]:[2040]])/hf[[#This Row],[Gjennomsnitt 2022-2040]]","v":8.1911066441749655E-2},{"$f":"-(hf[[#This Row],[Gjennomsnitt 2022-2040]]-MIN(hf[[#This Row],[2022]:[2040]]))/hf[[#This Row],[Gjennomsnitt 2022-2040]]","v":-0.10758776896942242},{"$f":"(MAX(hf[[#This Row],[2022]:[2040]])-hf[[#This Row],[Gjennomsnitt 2022-2040]])/hf[[#This Row],[Gjennomsnitt 2022-2040]]","v":0.13816534541336353},{"$f":"MAX(hf[[#This Row],[2022]:[2040]])-MIN(hf[[#This Row],[2022]:[2040]])","v":434},{"$f":"SUM(hf[[#This Row],[2022]:[2040]])","v":33554}]
["Helse Nord","Universitetssykehuset Nord-Norge",192837,193016,193256,193575,193973,194365,194740,195106,195457,195793,196108,196406,196692,196959,197211,197438,197632,197787,197915,{"$f":"SUMIFS(hf_kommune[2020],hf_kommune[Helseforetak],\"=\"&hf[[#This Row],[Helseforetak]])","v":2524},{"$f":"SUMIFS(hf_kommune[2021],hf_kommune[Helseforetak],\"=\"&hf[[#This Row],[Helseforetak]])","v":2600},2675,2659,2703,2651,2677,2672,2583,2544,2493,2265,2211,2175,2182,2201,2245,2233,2288,2272,2283,{"$f":"AVERAGE(hf[[#This Row],[2022]:[2040]])","v":2421.6842105263158},{"$f":"_xlfn.STDEV.P(hf[[#This Row],[2022]:[2040]])/hf[[#This Row],[Gjennomsnitt 2022-2040]]","v":8.4115866765521768E-2},{"$f":"-(hf[[#This Row],[Gjennomsnitt 2022-2040]]-MIN(hf[[#This Row],[2022]:[2040]]))/hf[[#This Row],[Gjennomsnitt 2022-2040]]","v":-0.10186473093975486},{"$f":"(MAX(hf[[#This Row],[2022]:[2040]])-hf[[#This Row],[Gjennomsnitt 2022-2040]])/hf[[#This Row],[Gjennomsnitt 2022-2040]]","v":0.11616534817004258},{"$f":"MAX(hf[[#This Row],[2022]:[2040]])-MIN(hf[[#This Row],[2022]:[2040]])","v":528},{"$f":"SUM(hf[[#This Row],[2022]:[2040]])","v":46012}]
["Helse Sør-Øst","Akershus universitetssykehus",601226,607564,613162,618275,622937,627519,632013,636453,640794,645039,649177,653202,657165,661068,664899,668641,672263,675780,679137,{"$f":"SUMIFS(hf_kommune[2020],hf_kommune[Helseforetak],\"=\"&hf[[#This Row],[Helseforetak]])","v":7962.6515749811606},{"$f":"SUMIFS(hf_kommune[2021],hf_kommune[Helseforetak],\"=\"&hf[[#This Row],[Helseforetak]])","v":8113.5243406179352},8606,8452,8905,8871,8751,8969,9030,8641,8852,8505,8356,8220,8419,8503,8608,8562,8803,8813,8918,{"$f":"AVERAGE(hf[[#This Row],[2022]:[2040]])","v":8672.8421052631584},{"$f":"_xlfn.STDEV.P(hf[[#This Row],[2022]:[2040]])/hf[[#This Row],[Gjennomsnitt 2022-2040]]","v":2.5659729720899943E-2},{"$f":"-(hf[[#This Row],[Gjennomsnitt 2022-2040]]-MIN(hf[[#This Row],[2022]:[2040]]))/hf[[#This Row],[Gjennomsnitt 2022-2040]]","v":-5.2213807165744301E-2},{"$f":"(MAX(hf[[#This Row],[2022]:[2040]])-hf[[#This Row],[Gjennomsnitt 2022-2040]])/hf[[#This Row],[Gjennomsnitt 2022-2040]]","v":4.1181182639091117E-2},{"$f":"MAX(hf[[#This Row],[2022]:[2040]])-MIN(hf[[#This Row],[2022]:[2040]])","v":810},{"$f":"SUM(hf[[#This Row],[2022]:[2040]])","v":164784}]
["Helse Sør-Øst","Oslosykehusene",591127,596103,600726,604953,608904,612704,616390,619974,623478,626913,630238,633489,636648,639721,642705,645516,648121,650511,652761,{"$f":"SUMIFS(hf_kommune[2020],hf_kommune[Helseforetak],\"=\"&hf[[#This Row],[Helseforetak]])","v":5991.3484250188385},{"$f":"SUMIFS(hf_kommune[2021],hf_kommune[Helseforetak],\"=\"&hf[[#This Row],[Helseforetak]])","v":6054.4756593820648},6532,6519,6669,6928,6983,7099,7234,7129,7258,7163,7107,7021,7205,7328,7570,7432,7577,7536,7700,{"$f":"AVERAGE(hf[[#This Row],[2022]:[2040]])","v":7157.3684210526317},{"$f":"_xlfn.STDEV.P(hf[[#This Row],[2022]:[2040]])/hf[[#This Row],[Gjennomsnitt 2022-2040]]","v":4.5920632048467268E-2},{"$f":"-(hf[[#This Row],[Gjennomsnitt 2022-2040]]-MIN(hf[[#This Row],[2022]:[2040]]))/hf[[#This Row],[Gjennomsnitt 2022-2040]]","v":-8.9190381645709249E-2},{"$f":"(MAX(hf[[#This Row],[2022]:[2040]])-hf[[#This Row],[Gjennomsnitt 2022-2040]])/hf[[#This Row],[Gjennomsnitt 2022-2040]]","v":7.5814398117508619E-2},{"$f":"MAX(hf[[#This Row],[2022]:[2040]])-MIN(hf[[#This Row],[2022]:[2040]])","v":1181},{"$f":"SUM(hf[[#This Row],[2022]:[2040]])","v":135990}]
["Helse Sør-Øst","Sykehuset i Vestfold",248509,249812,251095,252368,253634,254886,256120,257342,258544,259728,260888,262029,263151,264254,265351,266420,267451,268442,269397,{"$f":"SUMIFS(hf_kommune[2020],hf_kommune[Helseforetak],\"=\"&hf[[#This Row],[Helseforetak]])","v":3417},{"$f":"SUMIFS(hf_kommune[2021],hf_kommune[Helseforetak],\"=\"&hf[[#This Row],[Helseforetak]])","v":3677},3499,3614,3658,3767,3544,3661,3727,3465,3475,3389,3309,3234,3300,3271,3316,3306,3401,3386,3410,{"$f":"AVERAGE(hf[[#This Row],[2022]:[2040]])","v":3459.5789473684213},{"$f":"_xlfn.STDEV.P(hf[[#This Row],[2022]:[2040]])/hf[[#This Row],[Gjennomsnitt 2022-2040]]","v":4.5646924341889397E-2},{"$f":"-(hf[[#This Row],[Gjennomsnitt 2022-2040]]-MIN(hf[[#This Row],[2022]:[2040]]))/hf[[#This Row],[Gjennomsnitt 2022-2040]]","v":-6.5204162356234469E-2},{"$f":"(MAX(hf[[#This Row],[2022]:[2040]])-hf[[#This Row],[Gjennomsnitt 2022-2040]])/hf[[#This Row],[Gjennomsnitt 2022-2040]]","v":8.8860828820057136E-2},{"$f":"MAX(hf[[#This Row],[2022]:[2040]])-MIN(hf[[#This Row],[2022]:[2040]])","v":533},{"$f":"SUM(hf[[#This Row],[2022]:[2040]])","v":65732}]
["Helse Sør-Øst","Sykehuset Innlandet",332626,333287,333956,334657,335397,336167,336963,337768,338581,339381,340164,340929,341679,342411,343137,343829,344473,345078,345638,{"$f":"SUMIFS(hf_kommune[2020],hf_kommune[Helseforetak],\"=\"&hf[[#This Row],[Helseforetak]])","v":4698},{"$f":"SUMIFS(hf_kommune[2021],hf_kommune[Helseforetak],\"=\"&hf[[#This Row],[Helseforetak]])","v":4704},4898,4845,4822,5007,4877,4820,4832,4577,4506,4291,4129,4020,4014,4080,4089,4017,4092,4200,4162,{"$f":"AVERAGE(hf[[#This Row],[2022]:[2040]])","v":4435.6842105263158},{"$f":"_xlfn.STDEV.P(hf[[#This Row],[2022]:[2040]])/hf[[#This Row],[Gjennomsnitt 2022-2040]]","v":8.2063347002349074E-2},{"$f":"-(hf[[#This Row],[Gjennomsnitt 2022-2040]]-MIN(hf[[#This Row],[2022]:[2040]]))/hf[[#This Row],[Gjennomsnitt 2022-2040]]","v":-9.506632810460619E-2},{"$f":"(MAX(hf[[#This Row],[2022]:[2040]])-hf[[#This Row],[Gjennomsnitt 2022-2040]])/hf[[#This Row],[Gjennomsnitt 2022-2040]]","v":0.12879992406084623},{"$f":"MAX(hf[[#This Row],[2022]:[2040]])-MIN(hf[[#This Row],[2022]:[2040]])","v":993},{"$f":"SUM(hf[[#This Row],[2022]:[2040]])","v":84278}]
["Helse Sør-Øst","Sykehuset Telemark",173224,173369,173590,173881,174243,174603,174964,175325,175676,176017,176351,176669,176982,177286,177588,177874,178140,178388,178614,{"$f":"SUMIFS(hf_kommune[2020],hf_kommune[Helseforetak],\"=\"&hf[[#This Row],[Helseforetak]])","v":2416},{"$f":"SUMIFS(hf_kommune[2021],hf_kommune[Helseforetak],\"=\"&hf[[#This Row],[Helseforetak]])","v":2465},2572,2548,2517,2546,2588,2539,2545,2386,2375,2237,2193,2088,2098,2106,2074,2074,2160,2117,2151,{"$f":"AVERAGE(hf[[#This Row],[2022]:[2040]])","v":2311.2631578947367},{"$f":"_xlfn.STDEV.P(hf[[#This Row],[2022]:[2040]])/hf[[#This Row],[Gjennomsnitt 2022-2040]]","v":8.7102334002968074E-2},{"$f":"-(hf[[#This Row],[Gjennomsnitt 2022-2040]]-MIN(hf[[#This Row],[2022]:[2040]]))/hf[[#This Row],[Gjennomsnitt 2022-2040]]","v":-0.1026551896889374},{"$f":"(MAX(hf[[#This Row],[2022]:[2040]])-hf[[#This Row],[Gjennomsnitt 2022-2040]])/hf[[#This Row],[Gjennomsnitt 2022-2040]]","v":0.11973402559548217},{"$f":"MAX(hf[[#This Row],[2022]:[2040]])-MIN(hf[[#This Row],[2022]:[2040]])","v":514},{"$f":"SUM(hf[[#This Row],[2022]:[2040]])","v":43914}]
["Helse Sør-Øst","Sykehuset Østfold",321458,323520,325572,327621,329689,331724,333727,335707,337654,339572,341452,343301,345120,346914,348690,350428,352110,353742,355323,{"$f":"SUMIFS(hf_kommune[2020],hf_kommune[Helseforetak],\"=\"&hf[[#This Row],[Helseforetak]])","v":4507},{"$f":"SUMIFS(hf_kommune[2021],hf_kommune[Helseforetak],\"=\"&hf[[#This Row],[Helseforetak]])","v":4720},4593,4740,5005,4918,4898,4868,4903,4697,4747,4543,4388,4333,4431,4355,4477,4383,4455,4494,4541,{"$f":"AVERAGE(hf[[#This Row],[2022]:[2040]])","v":4619.4210526315792},{"$f":"_xlfn.STDEV.P(hf[[#This Row],[2022]:[2040]])/hf[[#This Row],[Gjennomsnitt 2022-2040]]","v":4.6245971531682438E-2},{"$f":"-(hf[[#This Row],[Gjennomsnitt 2022-2040]]-MIN(hf[[#This Row],[2022]:[2040]]))/hf[[#This Row],[Gjennomsnitt 2022-2040]]","v":-6.2003668721302557E-2},{"$f":"(MAX(hf[[#This Row],[2022]:[2040]])-hf[[#This Row],[Gjennomsnitt 2022-2040]])/hf[[#This Row],[Gjennomsnitt 2022-2040]]","v":8.3469106404311266E-2},{"$f":"MAX(hf[[#This Row],[2022]:[2040]])-MIN(hf[[#This Row],[2022]:[2040]])","v":672},{"$f":"SUM(hf[[#This Row],[2022]:[2040]])","v":87769}]
["Helse Sør-Øst","Sørlandet sykehus",316360,317783,319182,320586,321998,323418,324836,326243,327638,329007,330350,331674,332977,334271,335554,336814,338025,339186,340301,{"$f":"SUMIFS(hf_kommune[2020],hf_kommune[Helseforetak],\"=\"&hf[[#This Row],[Helseforetak]])","v":4201},{"$f":"SUMIFS(hf_kommune[2021],hf_kommune[Helseforetak],\"=\"&hf[[#This Row],[Helseforetak]])","v":4178},4205,4288,4265,4450,4301,4428,4352,4324,4288,4209,4179,3909,4093,4051,4199,4144,4200,4146,4178,{"$f":"AVERAGE(hf[[#This Row],[2022]:[2040]])","v":4221.5263157894733},{"$f":"_xlfn.STDEV.P(hf[[#This Row],[2022]:[2040]])/hf[[#This Row],[Gjennomsnitt 2022-2040]]","v":2.9740204170860964E-2},{"$f":"-(hf[[#This Row],[Gjennomsnitt 2022-2040]]-MIN(hf[[#This Row],[2022]:[2040]]))/hf[[#This Row],[Gjennomsnitt 2022-2040]]","v":-7.4031592464685922E-2},{"$f":"(MAX(hf[[#This Row],[2022]:[2040]])-hf[[#This Row],[Gjennomsnitt 2022-2040]])/hf[[#This Row],[Gjennomsnitt 2022-2040]]","v":5.4121108603772741E-2},{"$f":"MAX(hf[[#This Row],[2022]:[2040]])-MIN(hf[[#This Row],[2022]:[2040]])","v":541},{"$f":"SUM(hf[[#This Row],[2022]:[2040]])","v":80209}]
["Helse Sør-Øst","Vestre Viken",493765,496794,499884,503076,506371,509596,512766,515889,518953,521961,524901,527786,530627,533432,536209,538940,541596,544175,546690,{"$f":"SUMIFS(hf_kommune[2020],hf_kommune[Helseforetak],\"=\"&hf[[#This Row],[Helseforetak]])","v":6682},{"$f":"SUMIFS(hf_kommune[2021],hf_kommune[Helseforetak],\"=\"&hf[[#This Row],[Helseforetak]])","v":6758},7055,6899,7200,7204,7121,7364,7340,7166,7316,6978,6753,6623,6876,6853,6996,6888,7095,7093,7055,{"$f":"AVERAGE(hf[[#This Row],[2022]:[2040]])","v":7046.0526315789475},{"$f":"_xlfn.STDEV.P(hf[[#This Row],[2022]:[2040]])/hf[[#This Row],[Gjennomsnitt 2022-2040]]","v":2.7600002524453826E-2},{"$f":"-(hf[[#This Row],[Gjennomsnitt 2022-2040]]-MIN(hf[[#This Row],[2022]:[2040]]))/hf[[#This Row],[Gjennomsnitt 2022-2040]]","v":-6.0041083099906647E-2},{"$f":"(MAX(hf[[#This Row],[2022]:[2040]])-hf[[#This Row],[Gjennomsnitt 2022-2040]])/hf[[#This Row],[Gjennomsnitt 2022-2040]]","v":4.512418300653593E-2},{"$f":"MAX(hf[[#This Row],[2022]:[2040]])-MIN(hf[[#This Row],[2022]:[2040]])","v":741},{"$f":"SUM(hf[[#This Row],[2022]:[2040]])","v":133875}]
["Helse Vest","Helse Bergen",465863,468284,470700,473145,475664,478167,480664,483149,485616,488056,490448,492796,495096,497351,499557,501686,503711,505631,507457,{"$f":"SUMIFS(hf_kommune[2020],hf_kommune[Helseforetak],\"=\"&hf[[#This Row],[Helseforetak]])","v":5487},{"$f":"SUMIFS(hf_kommune[2021],hf_kommune[Helseforetak],\"=\"&hf[[#This Row],[Helseforetak]])","v":5546},5866,6001,6062,6237,6083,6065,6132,6143,6031,5978,5733,5623,5850,5974,6002,6053,6159,5981,6002,{"$f":"AVERAGE(hf[[#This Row],[2022]:[2040]])","v":5998.6842105263158},{"$f":"_xlfn.STDEV.P(hf[[#This Row],[2022]:[2040]])/hf[[#This Row],[Gjennomsnitt 2022-2040]]","v":2.3988140210404005E-2},{"$f":"-(hf[[#This Row],[Gjennomsnitt 2022-2040]]-MIN(hf[[#This Row],[2022]:[2040]]))/hf[[#This Row],[Gjennomsnitt 2022-2040]]","v":-6.2627769247642032E-2},{"$f":"(MAX(hf[[#This Row],[2022]:[2040]])-hf[[#This Row],[Gjennomsnitt 2022-2040]])/hf[[#This Row],[Gjennomsnitt 2022-2040]]","v":3.9728010528624687E-2},{"$f":"MAX(hf[[#This Row],[2022]:[2040]])-MIN(hf[[#This Row],[2022]:[2040]])","v":614},{"$f":"SUM(hf[[#This Row],[2022]:[2040]])","v":113975}]
["Helse Vest","Helse Fonna",179407,179249,179252,179418,179739,180060,180375,180686,180982,181275,181559,181833,182110,182385,182664,182943,183205,183452,183676,{"$f":"SUMIFS(hf_kommune[2020],hf_kommune[Helseforetak],\"=\"&hf[[#This Row],[Helseforetak]])","v":2333},{"$f":"SUMIFS(hf_kommune[2021],hf_kommune[Helseforetak],\"=\"&hf[[#This Row],[Helseforetak]])","v":2315},2467,2415,2570,2490,2463,2497,2407,2462,2333,2359,2241,2212,2253,2352,2326,2252,2323,2271,2252,{"$f":"AVERAGE(hf[[#This Row],[2022]:[2040]])","v":2365.5263157894738},{"$f":"_xlfn.STDEV.P(hf[[#This Row],[2022]:[2040]])/hf[[#This Row],[Gjennomsnitt 2022-2040]]","v":4.3259914264257522E-2},{"$f":"-(hf[[#This Row],[Gjennomsnitt 2022-2040]]-MIN(hf[[#This Row],[2022]:[2040]]))/hf[[#This Row],[Gjennomsnitt 2022-2040]]","v":-6.4901546334408755E-2},{"$f":"(MAX(hf[[#This Row],[2022]:[2040]])-hf[[#This Row],[Gjennomsnitt 2022-2040]])/hf[[#This Row],[Gjennomsnitt 2022-2040]]","v":8.6438980976749333E-2},{"$f":"MAX(hf[[#This Row],[2022]:[2040]])-MIN(hf[[#This Row],[2022]:[2040]])","v":358},{"$f":"SUM(hf[[#This Row],[2022]:[2040]])","v":44945}]
["Helse Vest","Helse Førde",102567,102328,102151,102043,102002,101971,101952,101937,101928,101921,101917,101907,101902,101898,101894,101885,101864,101829,101783,{"$f":"SUMIFS(hf_kommune[2020],hf_kommune[Helseforetak],\"=\"&hf[[#This Row],[Helseforetak]])","v":1342},{"$f":"SUMIFS(hf_kommune[2021],hf_kommune[Helseforetak],\"=\"&hf[[#This Row],[Helseforetak]])","v":1342},1361,1376,1380,1394,1371,1417,1391,1240,1243,1148,1160,1123,1178,1140,1187,1188,1175,1197,1207,{"$f":"AVERAGE(hf[[#This Row],[2022]:[2040]])","v":1256.6315789473683},{"$f":"_xlfn.STDEV.P(hf[[#This Row],[2022]:[2040]])/hf[[#This Row],[Gjennomsnitt 2022-2040]]","v":8.1147695887783478E-2},{"$f":"-(hf[[#This Row],[Gjennomsnitt 2022-2040]]-MIN(hf[[#This Row],[2022]:[2040]]))/hf[[#This Row],[Gjennomsnitt 2022-2040]]","v":-0.10634109566091465},{"$f":"(MAX(hf[[#This Row],[2022]:[2040]])-hf[[#This Row],[Gjennomsnitt 2022-2040]])/hf[[#This Row],[Gjennomsnitt 2022-2040]]","v":0.12761769140559567},{"$f":"MAX(hf[[#This Row],[2022]:[2040]])-MIN(hf[[#This Row],[2022]:[2040]])","v":294},{"$f":"SUM(hf[[#This Row],[2022]:[2040]])","v":23876}]
["Helse Vest","Helse Stavanger",369799,372337,374728,377020,379252,381432,383571,385680,387754,389796,391796,393766,395709,397641,399557,401426,403231,404969,406643,{"$f":"SUMIFS(hf_kommune[2020],hf_kommune[Helseforetak],\"=\"&hf[[#This Row],[Helseforetak]])","v":4472},{"$f":"SUMIFS(hf_kommune[2021],hf_kommune[Helseforetak],\"=\"&hf[[#This Row],[Helseforetak]])","v":4450},4639,4854,4858,4959,4794,4844,4908,4867,4824,4745,4728,4731,4930,4989,5096,5035,5159,5104,5155,{"$f":"AVERAGE(hf[[#This Row],[2022]:[2040]])","v":4906.2631578947367},{"$f":"_xlfn.STDEV.P(hf[[#This Row],[2022]:[2040]])/hf[[#This Row],[Gjennomsnitt 2022-2040]]","v":3.0209550052814199E-2},{"$f":"-(hf[[#This Row],[Gjennomsnitt 2022-2040]]-MIN(hf[[#This Row],[2022]:[2040]]))/hf[[#This Row],[Gjennomsnitt 2022-2040]]","v":-5.4473873351999019E-2},{"$f":"(MAX(hf[[#This Row],[2022]:[2040]])-hf[[#This Row],[Gjennomsnitt 2022-2040]])/hf[[#This Row],[Gjennomsnitt 2022-2040]]","v":5.1513103551851055E-2},{"$f":"MAX(hf[[#This Row],[2022]:[2040]])-MIN(hf[[#This Row],[2022]:[2040]])","v":520},{"$f":"SUM(hf[[#This Row],[2022]:[2040]])","v":93219}]
[null,"Alle",{"$f":"SUBTOTAL(109,hf[Hele2022])","v":5417351},{"$f":"SUBTOTAL(109,hf[Hele2023])","v":5444679},{"$f":"SUBTOTAL(109,hf[Hele2024])","v":5471238},{"$f":"SUBTOTAL(109,hf[Hele2025])","v":5497555},{"$f":"SUBTOTAL(109,hf[Hele2026])","v":5523922},{"$f":"SUBTOTAL(109,hf[Hele2027])","v":5549889},{"$f":"SUBTOTAL(109,hf[Hele2028])","v":5575492},{"$f":"SUBTOTAL(109,hf[Hele2029])","v":5600752},{"$f":"SUBTOTAL(109,hf[Hele2030])","v":5625562},{"$f":"SUBTOTAL(109,hf[Hele2031])","v":5649887},{"$f":"SUBTOTAL(109,hf[Hele2032])","v":5673571},{"$f":"SUBTOTAL(109,hf[Hele2033])","v":5696691},{"$f":"SUBTOTAL(109,hf[Hele2034])","v":5719345},{"$f":"SUBTOTAL(109,hf[Hele2035])","v":5741563},{"$f":"SUBTOTAL(109,hf[Hele2036])","v":5763380},{"$f":"SUBTOTAL(109,hf[Hele2037])","v":5784462},{"$f":"SUBTOTAL(109,hf[Hele2038])","v":5804512},{"$f":"SUBTOTAL(109,hf[Hele2039])","v":5823542},{"$f":"SUBTOTAL(109,hf[Hele2040])","v":5841616},null,null,{"$f":"SUBTOTAL(109,hf[2022])","v":72908},{"$f":"SUBTOTAL(109,hf[2023])","v":73280},{"$f":"SUBTOTAL(109,hf[2024])","v":75217},{"$f":"SUBTOTAL(109,hf[2025])","v":75959},{"$f":"SUBTOTAL(109,hf[2026])","v":74460},{"$f":"SUBTOTAL(109,hf[2027])","v":75330},{"$f":"SUBTOTAL(109,hf[2028])","v":75335},{"$f":"SUBTOTAL(109,hf[2029])","v":73014},{"$f":"SUBTOTAL(109,hf[2030])","v":72921},{"$f":"SUBTOTAL(109,hf[2031])","v":70182},{"$f":"SUBTOTAL(109,hf[2032])","v":68563},{"$f":"SUBTOTAL(109,hf[2033])","v":67152},{"$f":"SUBTOTAL(109,hf[2034])","v":68963},{"$f":"SUBTOTAL(109,hf[2035])","v":69573},{"$f":"SUBTOTAL(109,hf[2036])","v":70674},{"$f":"SUBTOTAL(109,hf[2037])","v":69961},{"$f":"SUBTOTAL(109,hf[2038])","v":71589},{"$f":"SUBTOTAL(109,hf[2039])","v":71405},{"$f":"SUBTOTAL(109,hf[2040])","v":71875},{"$f":"SUBTOTAL(109,hf[Gjennomsnitt 2022-2040])","v":72019},{"$f":"_xlfn.STDEV.P(hf[[#Totals],[2022]:[2031]])/hf[[#Totals],[Gjennomsnitt 2022-2040]]","v":2.2947028561293083E-2},{"$f":"SUBTOTAL(105,hf[Maksavvik ned])","v":-0.18375159506592945},{"$f":"SUBTOTAL(104,hf[Maksavvik opp])","v":0.24799641315922216},{"$f":"AVERAGE(hf[Variasjonsbredde])","v":590},{"$f":"SUBTOTAL(109,hf[Sum])","v":1368361}]
[]
[]
["RHF","Lokalsykehusområde","Helseforetak","Hele2022","Hele2023","Hele2024","Hele2025","Hele2026","Hele2027","Hele2028","Hele2029","Hele2030","Hele2031","Hele2032","Hele2033","Hele2034","Hele2035","Hele2036","Hele2037","Hele2038","Hele2039","Hele2040","2022","2023","2024","2025","2026","2027","2028","2029","2030","2031","2032","2033","2034","2035","2036","2037","2038","2039","2040","Gjennomsnitt 2022-2040","Variasjons-koeffisient","Maksavvik ned","Maksavvik opp","Variasjonsbredde","Sum"]
["Helse Midt-Norge","Kristiansund","Helse Møre og Romsdal",44161,44069,44028,44037,44095,44152,44205,44255,44304,44349,44391,44430,44468,44503,44536,44564,44586,44602,44612,637,655,698,635,641,664,637,628,584,521,518,520,530,527,533,545,545,557,576,{"$f":"AVERAGE(lokalsykehus_befolkning[[#This Row],[2022]:[2040]])","v":586.89473684210532},{"$f":"_xlfn.STDEV.P(lokalsykehus_befolkning[[#This Row],[2022]:[2040]])/lokalsykehus_befolkning[[#This Row],[Gjennomsnitt 2022-2040]]","v":9.7883587613549719E-2},{"$f":"-(lokalsykehus_befolkning[[#This Row],[Gjennomsnitt 2022-2040]]-MIN(lokalsykehus_befolkning[[#This Row],[2022]:[2040]]))/lokalsykehus_befolkning[[#This Row],[Gjennomsnitt 2022-2040]]","v":-0.11738857501569375},{"$f":"(MAX(lokalsykehus_befolkning[[#This Row],[2022]:[2040]])-lokalsykehus_befolkning[[#This Row],[Gjennomsnitt 2022-2040]])/lokalsykehus_befolkning[[#This Row],[Gjennomsnitt 2022-2040]]","v":0.18931037575105361},{"$f":"MAX(lokalsykehus_befolkning[[#This Row],[2022]:[2040]])-MIN(lokalsykehus_befolkning[[#This Row],[2022]:[2040]])","v":180},{"$f":"SUM(lokalsykehus_befolkning[[#This Row],[2022]:[2040]])","v":11151}]
["Helse Midt-Norge","Molde","Helse Møre og Romsdal",72033,71975,71973,72028,72145,72258,72372,72481,72589,72691,72785,72875,72960,73036,73112,73180,73235,73279,73315,1015,963,1045,1026,1000,965,958,889,912,803,840,838,821,876,905,883,876,919,888,{"$f":"AVERAGE(lokalsykehus_befolkning[[#This Row],[2022]:[2040]])","v":916.9473684210526},{"$f":"_xlfn.STDEV.P(lokalsykehus_befolkning[[#This Row],[2022]:[2040]])/lokalsykehus_befolkning[[#This Row],[Gjennomsnitt 2022-2040]]","v":7.5704978981711954E-2},{"$f":"-(lokalsykehus_befolkning[[#This Row],[Gjennomsnitt 2022-2040]]-MIN(lokalsykehus_befolkning[[#This Row],[2022]:[2040]]))/lokalsykehus_befolkning[[#This Row],[Gjennomsnitt 2022-2040]]","v":-0.12426816668579954},{"$f":"(MAX(lokalsykehus_befolkning[[#This Row],[2022]:[2040]])-lokalsykehus_befolkning[[#This Row],[Gjennomsnitt 2022-2040]])/lokalsykehus_befolkning[[#This Row],[Gjennomsnitt 2022-2040]]","v":0.13965101595683621},{"$f":"MAX(lokalsykehus_befolkning[[#This Row],[2022]:[2040]])-MIN(lokalsykehus_befolkning[[#This Row],[2022]:[2040]])","v":242},{"$f":"SUM(lokalsykehus_befolkning[[#This Row],[2022]:[2040]])","v":17422}]
["Helse Midt-Norge","Volda","Helse Møre og Romsdal",44243,44267,44315,44387,44487,44590,44694,44799,44903,45009,45110,45213,45313,45411,45506,45592,45667,45732,45783,538,606,598,681,627,615,611,569,577,530,524,507,517,554,524,539,528,539,546,{"$f":"AVERAGE(lokalsykehus_befolkning[[#This Row],[2022]:[2040]])","v":564.73684210526312},{"$f":"_xlfn.STDEV.P(lokalsykehus_befolkning[[#This Row],[2022]:[2040]])/lokalsykehus_befolkning[[#This Row],[Gjennomsnitt 2022-2040]]","v":8.0257517883070548E-2},{"$f":"-(lokalsykehus_befolkning[[#This Row],[Gjennomsnitt 2022-2040]]-MIN(lokalsykehus_befolkning[[#This Row],[2022]:[2040]]))/lokalsykehus_befolkning[[#This Row],[Gjennomsnitt 2022-2040]]","v":-0.10223671947809873},{"$f":"(MAX(lokalsykehus_befolkning[[#This Row],[2022]:[2040]])-lokalsykehus_befolkning[[#This Row],[Gjennomsnitt 2022-2040]])/lokalsykehus_befolkning[[#This Row],[Gjennomsnitt 2022-2040]]","v":0.20587138863000939},{"$f":"MAX(lokalsykehus_befolkning[[#This Row],[2022]:[2040]])-MIN(lokalsykehus_befolkning[[#This Row],[2022]:[2040]])","v":174},{"$f":"SUM(lokalsykehus_befolkning[[#This Row],[2022]:[2040]])","v":10730}]
["Helse Midt-Norge","Ålesund","Helse Møre og Romsdal",104952,105451,105905,106338,106756,107180,107608,108038,108466,108889,109301,109704,110093,110472,110840,111192,111523,111835,112126,1262,1395,1412,1418,1395,1407,1454,1387,1344,1332,1336,1288,1321,1364,1378,1324,1414,1418,1410,{"$f":"AVERAGE(lokalsykehus_befolkning[[#This Row],[2022]:[2040]])","v":1371.5263157894738},{"$f":"_xlfn.STDEV.P(lokalsykehus_befolkning[[#This Row],[2022]:[2040]])/lokalsykehus_befolkning[[#This Row],[Gjennomsnitt 2022-2040]]","v":3.5917877670738757E-2},{"$f":"-(lokalsykehus_befolkning[[#This Row],[Gjennomsnitt 2022-2040]]-MIN(lokalsykehus_befolkning[[#This Row],[2022]:[2040]]))/lokalsykehus_befolkning[[#This Row],[Gjennomsnitt 2022-2040]]","v":-7.985724701638594E-2},{"$f":"(MAX(lokalsykehus_befolkning[[#This Row],[2022]:[2040]])-lokalsykehus_befolkning[[#This Row],[Gjennomsnitt 2022-2040]])/lokalsykehus_befolkning[[#This Row],[Gjennomsnitt 2022-2040]]","v":6.0132775624544249E-2},{"$f":"MAX(lokalsykehus_befolkning[[#This Row],[2022]:[2040]])-MIN(lokalsykehus_befolkning[[#This Row],[2022]:[2040]])","v":192},{"$f":"SUM(lokalsykehus_befolkning[[#This Row],[2022]:[2040]])","v":26059}]
["Helse Midt-Norge","Levanger","Helse Nord-Trøndelag",97355,97419,97553,97763,98049,98331,98607,98879,99146,99403,99651,99891,100126,100352,100574,100785,100981,101161,101327,1386,1353,1404,1379,1321,1374,1357,1226,1238,1149,1096,1138,1129,1157,1183,1141,1220,1151,1168,{"$f":"AVERAGE(lokalsykehus_befolkning[[#This Row],[2022]:[2040]])","v":1240.5263157894738},{"$f":"_xlfn.STDEV.P(lokalsykehus_befolkning[[#This Row],[2022]:[2040]])/lokalsykehus_befolkning[[#This Row],[Gjennomsnitt 2022-2040]]","v":8.3505260580429813E-2},{"$f":"-(lokalsykehus_befolkning[[#This Row],[Gjennomsnitt 2022-2040]]-MIN(lokalsykehus_befolkning[[#This Row],[2022]:[2040]]))/lokalsykehus_befolkning[[#This Row],[Gjennomsnitt 2022-2040]]","v":-0.11650403054730595},{"$f":"(MAX(lokalsykehus_befolkning[[#This Row],[2022]:[2040]])-lokalsykehus_befolkning[[#This Row],[Gjennomsnitt 2022-2040]])/lokalsykehus_befolkning[[#This Row],[Gjennomsnitt 2022-2040]]","v":0.13177768349596938},{"$f":"MAX(lokalsykehus_befolkning[[#This Row],[2022]:[2040]])-MIN(lokalsykehus_befolkning[[#This Row],[2022]:[2040]])","v":308},{"$f":"SUM(lokalsykehus_befolkning[[#This Row],[2022]:[2040]])","v":23570}]
["Helse Midt-Norge","Namsos","Helse Nord-Trøndelag",38625,38509,38423,38369,38346,38328,38317,38304,38291,38278,38265,38248,38230,38213,38193,38173,38150,38125,38093,538,554,530,559,507,517,534,500,485,406,419,416,424,423,401,405,408,433,464,{"$f":"AVERAGE(lokalsykehus_befolkning[[#This Row],[2022]:[2040]])","v":469.63157894736844},{"$f":"_xlfn.STDEV.P(lokalsykehus_befolkning[[#This Row],[2022]:[2040]])/lokalsykehus_befolkning[[#This Row],[Gjennomsnitt 2022-2040]]","v":0.11982775775293966},{"$f":"-(lokalsykehus_befolkning[[#This Row],[Gjennomsnitt 2022-2040]]-MIN(lokalsykehus_befolkning[[#This Row],[2022]:[2040]]))/lokalsykehus_befolkning[[#This Row],[Gjennomsnitt 2022-2040]]","v":-0.14613919085509361},{"$f":"(MAX(lokalsykehus_befolkning[[#This Row],[2022]:[2040]])-lokalsykehus_befolkning[[#This Row],[Gjennomsnitt 2022-2040]])/lokalsykehus_befolkning[[#This Row],[Gjennomsnitt 2022-2040]]","v":0.19029474392020615},{"$f":"MAX(lokalsykehus_befolkning[[#This Row],[2022]:[2040]])-MIN(lokalsykehus_befolkning[[#This Row],[2022]:[2040]])","v":158},{"$f":"SUM(lokalsykehus_befolkning[[#This Row],[2022]:[2040]])","v":8923}]
["Helse Midt-Norge","St. Olav - Orkdal","St. Olavs hospital",68846,68983,69156,69368,69619,69864,70103,70336,70561,70778,70987,71188,71378,71565,71746,71922,72089,72245,72393,992,986,1041,1009,940,966,982,914,910,875,812,794,819,841,836,842,855,883,874,{"$f":"AVERAGE(lokalsykehus_befolkning[[#This Row],[2022]:[2040]])","v":903.73684210526312},{"$f":"_xlfn.STDEV.P(lokalsykehus_befolkning[[#This Row],[2022]:[2040]])/lokalsykehus_befolkning[[#This Row],[Gjennomsnitt 2022-2040]]","v":8.0447445979703019E-2},{"$f":"-(lokalsykehus_befolkning[[#This Row],[Gjennomsnitt 2022-2040]]-MIN(lokalsykehus_befolkning[[#This Row],[2022]:[2040]]))/lokalsykehus_befolkning[[#This Row],[Gjennomsnitt 2022-2040]]","v":-0.12142565954225143},{"$f":"(MAX(lokalsykehus_befolkning[[#This Row],[2022]:[2040]])-lokalsykehus_befolkning[[#This Row],[Gjennomsnitt 2022-2040]])/lokalsykehus_befolkning[[#This Row],[Gjennomsnitt 2022-2040]]","v":0.15188399044901291},{"$f":"MAX(lokalsykehus_befolkning[[#This Row],[2022]:[2040]])-MIN(lokalsykehus_befolkning[[#This Row],[2022]:[2040]])","v":247},{"$f":"SUM(lokalsykehus_befolkning[[#This Row],[2022]:[2040]])","v":17171}]
["Helse Midt-Norge","St. Olav - Øya","St. Olavs hospital",269630,271957,274031,275895,277571,279224,280858,282465,284036,285563,287033,288447,289816,291136,292410,293628,294773,295849,296868,3415,3300,3583,3510,3434,3489,3411,3527,3461,3286,3225,3136,3261,3321,3378,3368,3491,3467,3489,{"$f":"AVERAGE(lokalsykehus_befolkning[[#This Row],[2022]:[2040]])","v":3397.4736842105262},{"$f":"_xlfn.STDEV.P(lokalsykehus_befolkning[[#This Row],[2022]:[2040]])/lokalsykehus_befolkning[[#This Row],[Gjennomsnitt 2022-2040]]","v":3.3479162810242734E-2},{"$f":"-(lokalsykehus_befolkning[[#This Row],[Gjennomsnitt 2022-2040]]-MIN(lokalsykehus_befolkning[[#This Row],[2022]:[2040]]))/lokalsykehus_befolkning[[#This Row],[Gjennomsnitt 2022-2040]]","v":-7.6961209567480468E-2},{"$f":"(MAX(lokalsykehus_befolkning[[#This Row],[2022]:[2040]])-lokalsykehus_befolkning[[#This Row],[Gjennomsnitt 2022-2040]])/lokalsykehus_befolkning[[#This Row],[Gjennomsnitt 2022-2040]]","v":5.4607138431032369E-2},{"$f":"MAX(lokalsykehus_befolkning[[#This Row],[2022]:[2040]])-MIN(lokalsykehus_befolkning[[#This Row],[2022]:[2040]])","v":447},{"$f":"SUM(lokalsykehus_befolkning[[#This Row],[2022]:[2040]])","v":64552}]
["Helse Nord","Hammerfest","Finnmarkssykehuset",49377,49448,49519,49595,49679,49765,49847,49933,50015,50095,50170,50243,50311,50380,50439,50498,50545,50584,50615,707,709,776,717,760,752,704,674,641,580,581,510,577,552,555,550,573,599,603,{"$f":"AVERAGE(lokalsykehus_befolkning[[#This Row],[2022]:[2040]])","v":637.89473684210532},{"$f":"_xlfn.STDEV.P(lokalsykehus_befolkning[[#This Row],[2022]:[2040]])/lokalsykehus_befolkning[[#This Row],[Gjennomsnitt 2022-2040]]","v":0.12682057638011307},{"$f":"-(lokalsykehus_befolkning[[#This Row],[Gjennomsnitt 2022-2040]]-MIN(lokalsykehus_befolkning[[#This Row],[2022]:[2040]]))/lokalsykehus_befolkning[[#This Row],[Gjennomsnitt 2022-2040]]","v":-0.20049504950495056},{"$f":"(MAX(lokalsykehus_befolkning[[#This Row],[2022]:[2040]])-lokalsykehus_befolkning[[#This Row],[Gjennomsnitt 2022-2040]])/lokalsykehus_befolkning[[#This Row],[Gjennomsnitt 2022-2040]]","v":0.21650165016501641},{"$f":"MAX(lokalsykehus_befolkning[[#This Row],[2022]:[2040]])-MIN(lokalsykehus_befolkning[[#This Row],[2022]:[2040]])","v":266},{"$f":"SUM(lokalsykehus_befolkning[[#This Row],[2022]:[2040]])","v":12120}]
["Helse Nord","Kirkenes","Finnmarkssykehuset",25956,25947,25962,26002,26066,26129,26194,26254,26315,26375,26429,26482,26533,26581,26628,26669,26704,26734,26760,401,412,388,428,438,393,417,385,329,342,327,298,295,299,297,302,311,315,311,{"$f":"AVERAGE(lokalsykehus_befolkning[[#This Row],[2022]:[2040]])","v":352},{"$f":"_xlfn.STDEV.P(lokalsykehus_befolkning[[#This Row],[2022]:[2040]])/lokalsykehus_befolkning[[#This Row],[Gjennomsnitt 2022-2040]]","v":0.14271373895850503},{"$f":"-(lokalsykehus_befolkning[[#This Row],[Gjennomsnitt 2022-2040]]-MIN(lokalsykehus_befolkning[[#This Row],[2022]:[2040]]))/lokalsykehus_befolkning[[#This Row],[Gjennomsnitt 2022-2040]]","v":-0.16193181818181818},{"$f":"(MAX(lokalsykehus_befolkning[[#This Row],[2022]:[2040]])-lokalsykehus_befolkning[[#This Row],[Gjennomsnitt 2022-2040]])/lokalsykehus_befolkning[[#This Row],[Gjennomsnitt 2022-2040]]","v":0.24431818181818182},{"$f":"MAX(lokalsykehus_befolkning[[#This Row],[2022]:[2040]])-MIN(lokalsykehus_befolkning[[#This Row],[2022]:[2040]])","v":143},{"$f":"SUM(lokalsykehus_befolkning[[#This Row],[2022]:[2040]])","v":6688}]
["Helse Nord","Mo i Rana","Helgelandssykehuset",33124,32972,32869,32813,32801,32787,32773,32757,32741,32724,32705,32687,32668,32649,32630,32610,32586,32559,32530,489,512,468,522,459,462,429,408,393,383,351,360,370,347,366,351,371,382,368,{"$f":"AVERAGE(lokalsykehus_befolkning[[#This Row],[2022]:[2040]])","v":410.05263157894734},{"$f":"_xlfn.STDEV.P(lokalsykehus_befolkning[[#This Row],[2022]:[2040]])/lokalsykehus_befolkning[[#This Row],[Gjennomsnitt 2022-2040]]","v":0.13713159415549864},{"$f":"-(lokalsykehus_befolkning[[#This Row],[Gjennomsnitt 2022-2040]]-MIN(lokalsykehus_befolkning[[#This Row],[2022]:[2040]]))/lokalsykehus_befolkning[[#This Row],[Gjennomsnitt 2022-2040]]","v":-0.15376716724425613},{"$f":"(MAX(lokalsykehus_befolkning[[#This Row],[2022]:[2040]])-lokalsykehus_befolkning[[#This Row],[Gjennomsnitt 2022-2040]])/lokalsykehus_befolkning[[#This Row],[Gjennomsnitt 2022-2040]]","v":0.27300731613400087},{"$f":"MAX(lokalsykehus_befolkning[[#This Row],[2022]:[2040]])-MIN(lokalsykehus_befolkning[[#This Row],[2022]:[2040]])","v":175},{"$f":"SUM(lokalsykehus_befolkning[[#This Row],[2022]:[2040]])","v":7791}]
["Helse Nord","Mosjøen","Helgelandssykehuset",15743,15630,15539,15470,15424,15378,15334,15291,15249,15207,15165,15123,15081,15041,15002,14963,14923,14882,14840,229,241,241,240,214,209,241,187,185,174,163,177,164,158,154,155,162,165,169,{"$f":"AVERAGE(lokalsykehus_befolkning[[#This Row],[2022]:[2040]])","v":190.94736842105263},{"$f":"_xlfn.STDEV.P(lokalsykehus_befolkning[[#This Row],[2022]:[2040]])/lokalsykehus_befolkning[[#This Row],[Gjennomsnitt 2022-2040]]","v":0.16992470248663052},{"$f":"-(lokalsykehus_befolkning[[#This Row],[Gjennomsnitt 2022-2040]]-MIN(lokalsykehus_befolkning[[#This Row],[2022]:[2040]]))/lokalsykehus_befolkning[[#This Row],[Gjennomsnitt 2022-2040]]","v":-0.19349503858875414},{"$f":"(MAX(lokalsykehus_befolkning[[#This Row],[2022]:[2040]])-lokalsykehus_befolkning[[#This Row],[Gjennomsnitt 2022-2040]])/lokalsykehus_befolkning[[#This Row],[Gjennomsnitt 2022-2040]]","v":0.26212789415656007},{"$f":"MAX(lokalsykehus_befolkning[[#This Row],[2022]:[2040]])-MIN(lokalsykehus_befolkning[[#This Row],[2022]:[2040]])","v":87},{"$f":"SUM(lokalsykehus_befolkning[[#This Row],[2022]:[2040]])","v":3628}]
["Helse Nord","Sandnessjøen","Helgelandssykehuset",26610,26584,26575,26587,26614,26641,26666,26688,26709,26725,26738,26747,26755,26762,26766,26770,26772,26770,26764,393,387,409,410,391,372,367,330,348,313,295,282,289,311,308,303,290,309,317,{"$f":"AVERAGE(lokalsykehus_befolkning[[#This Row],[2022]:[2040]])","v":338.10526315789474},{"$f":"_xlfn.STDEV.P(lokalsykehus_befolkning[[#This Row],[2022]:[2040]])/lokalsykehus_befolkning[[#This Row],[Gjennomsnitt 2022-2040]]","v":0.1270721069680032},{"$f":"-(lokalsykehus_befolkning[[#This Row],[Gjennomsnitt 2022-2040]]-MIN(lokalsykehus_befolkning[[#This Row],[2022]:[2040]]))/lokalsykehus_befolkning[[#This Row],[Gjennomsnitt 2022-2040]]","v":-0.16594022415940224},{"$f":"(MAX(lokalsykehus_befolkning[[#This Row],[2022]:[2040]])-lokalsykehus_befolkning[[#This Row],[Gjennomsnitt 2022-2040]])/lokalsykehus_befolkning[[#This Row],[Gjennomsnitt 2022-2040]]","v":0.21264009962640099},{"$f":"MAX(lokalsykehus_befolkning[[#This Row],[2022]:[2040]])-MIN(lokalsykehus_befolkning[[#This Row],[2022]:[2040]])","v":128},{"$f":"SUM(lokalsykehus_befolkning[[#This Row],[2022]:[2040]])","v":6424}]
["Helse Nord","Bodø","Nordlandssykehuset",84684,84836,84981,85131,85287,85442,85591,85737,85875,86008,86135,86251,86361,86464,86564,86652,86732,86797,86850,1135,1191,1226,1227,1162,1132,1135,1088,1090,1055,999,952,987,1028,1027,1058,1018,1009,1022,{"$f":"AVERAGE(lokalsykehus_befolkning[[#This Row],[2022]:[2040]])","v":1081.1052631578948},{"$f":"_xlfn.STDEV.P(lokalsykehus_befolkning[[#This Row],[2022]:[2040]])/lokalsykehus_befolkning[[#This Row],[Gjennomsnitt 2022-2040]]","v":7.3916082224638649E-2},{"$f":"-(lokalsykehus_befolkning[[#This Row],[Gjennomsnitt 2022-2040]]-MIN(lokalsykehus_befolkning[[#This Row],[2022]:[2040]]))/lokalsykehus_befolkning[[#This Row],[Gjennomsnitt 2022-2040]]","v":-0.11941969719098393},{"$f":"(MAX(lokalsykehus_befolkning[[#This Row],[2022]:[2040]])-lokalsykehus_befolkning[[#This Row],[Gjennomsnitt 2022-2040]])/lokalsykehus_befolkning[[#This Row],[Gjennomsnitt 2022-2040]]","v":0.13494961296918351},{"$f":"MAX(lokalsykehus_befolkning[[#This Row],[2022]:[2040]])-MIN(lokalsykehus_befolkning[[#This Row],[2022]:[2040]])","v":275},{"$f":"SUM(lokalsykehus_befolkning[[#This Row],[2022]:[2040]])","v":20541}]
["Helse Nord","Lofoten","Nordlandssykehuset",23226,23234,23250,23277,23315,23355,23397,23437,23476,23513,23548,23581,23614,23644,23672,23697,23722,23741,23758,325,343,337,344,326,312,304,295,299,286,262,284,284,286,312,290,286,297,300,{"$f":"AVERAGE(lokalsykehus_befolkning[[#This Row],[2022]:[2040]])","v":303.78947368421052},{"$f":"_xlfn.STDEV.P(lokalsykehus_befolkning[[#This Row],[2022]:[2040]])/lokalsykehus_befolkning[[#This Row],[Gjennomsnitt 2022-2040]]","v":7.2297029512565225E-2},{"$f":"-(lokalsykehus_befolkning[[#This Row],[Gjennomsnitt 2022-2040]]-MIN(lokalsykehus_befolkning[[#This Row],[2022]:[2040]]))/lokalsykehus_befolkning[[#This Row],[Gjennomsnitt 2022-2040]]","v":-0.13756063756063755},{"$f":"(MAX(lokalsykehus_befolkning[[#This Row],[2022]:[2040]])-lokalsykehus_befolkning[[#This Row],[Gjennomsnitt 2022-2040]])/lokalsykehus_befolkning[[#This Row],[Gjennomsnitt 2022-2040]]","v":0.13236313236313238},{"$f":"MAX(lokalsykehus_befolkning[[#This Row],[2022]:[2040]])-MIN(lokalsykehus_befolkning[[#This Row],[2022]:[2040]])","v":82},{"$f":"SUM(lokalsykehus_befolkning[[#This Row],[2022]:[2040]])","v":5772}]
["Helse Nord","Stokmarknes","Nordlandssykehuset",30018,29952,29905,29877,29865,29853,29845,29839,29831,29821,29809,29794,29780,29763,29746,29727,29702,29677,29647,478,463,447,432,394,458,410,366,384,337,328,340,346,326,332,338,354,352,356,{"$f":"AVERAGE(lokalsykehus_befolkning[[#This Row],[2022]:[2040]])","v":381.10526315789474},{"$f":"_xlfn.STDEV.P(lokalsykehus_befolkning[[#This Row],[2022]:[2040]])/lokalsykehus_befolkning[[#This Row],[Gjennomsnitt 2022-2040]]","v":0.13103676054171176},{"$f":"-(lokalsykehus_befolkning[[#This Row],[Gjennomsnitt 2022-2040]]-MIN(lokalsykehus_befolkning[[#This Row],[2022]:[2040]]))/lokalsykehus_befolkning[[#This Row],[Gjennomsnitt 2022-2040]]","v":-0.14459328821985915},{"$f":"(MAX(lokalsykehus_befolkning[[#This Row],[2022]:[2040]])-lokalsykehus_befolkning[[#This Row],[Gjennomsnitt 2022-2040]])/lokalsykehus_befolkning[[#This Row],[Gjennomsnitt 2022-2040]]","v":0.25424665101505317},{"$f":"MAX(lokalsykehus_befolkning[[#This Row],[2022]:[2040]])-MIN(lokalsykehus_befolkning[[#This Row],[2022]:[2040]])","v":152},{"$f":"SUM(lokalsykehus_befolkning[[#This Row],[2022]:[2040]])","v":7241}]
["Helse Nord","Harstad","Universitetssykehuset Nord-Norge",50710,50621,50573,50569,50607,50648,50686,50724,50759,50791,50817,50842,50865,50885,50902,50914,50922,50919,50911,674,736,708,697,679,707,708,668,657,596,611,587,582,564,584,558,598,590,586,{"$f":"AVERAGE(lokalsykehus_befolkning[[#This Row],[2022]:[2040]])","v":636.31578947368416},{"$f":"_xlfn.STDEV.P(lokalsykehus_befolkning[[#This Row],[2022]:[2040]])/lokalsykehus_befolkning[[#This Row],[Gjennomsnitt 2022-2040]]","v":8.9381399312747509E-2},{"$f":"-(lokalsykehus_befolkning[[#This Row],[Gjennomsnitt 2022-2040]]-MIN(lokalsykehus_befolkning[[#This Row],[2022]:[2040]]))/lokalsykehus_befolkning[[#This Row],[Gjennomsnitt 2022-2040]]","v":-0.12307692307692301},{"$f":"(MAX(lokalsykehus_befolkning[[#This Row],[2022]:[2040]])-lokalsykehus_befolkning[[#This Row],[Gjennomsnitt 2022-2040]])/lokalsykehus_befolkning[[#This Row],[Gjennomsnitt 2022-2040]]","v":0.15665839536807288},{"$f":"MAX(lokalsykehus_befolkning[[#This Row],[2022]:[2040]])-MIN(lokalsykehus_befolkning[[#This Row],[2022]:[2040]])","v":178},{"$f":"SUM(lokalsykehus_befolkning[[#This Row],[2022]:[2040]])","v":12090}]
["Helse Nord","Narvik","Universitetssykehuset Nord-Norge",27066,26946,26852,26786,26745,26707,26669,26632,26593,26555,26517,26477,26437,26398,26358,26320,26278,26235,26191,400,387,412,379,367,325,319,330,344,316,274,288,303,296,304,315,305,289,311,{"$f":"AVERAGE(lokalsykehus_befolkning[[#This Row],[2022]:[2040]])","v":329.68421052631578},{"$f":"_xlfn.STDEV.P(lokalsykehus_befolkning[[#This Row],[2022]:[2040]])/lokalsykehus_befolkning[[#This Row],[Gjennomsnitt 2022-2040]]","v":0.11958377397044084},{"$f":"-(lokalsykehus_befolkning[[#This Row],[Gjennomsnitt 2022-2040]]-MIN(lokalsykehus_befolkning[[#This Row],[2022]:[2040]]))/lokalsykehus_befolkning[[#This Row],[Gjennomsnitt 2022-2040]]","v":-0.16890166028097062},{"$f":"(MAX(lokalsykehus_befolkning[[#This Row],[2022]:[2040]])-lokalsykehus_befolkning[[#This Row],[Gjennomsnitt 2022-2040]])/lokalsykehus_befolkning[[#This Row],[Gjennomsnitt 2022-2040]]","v":0.24968071519795662},{"$f":"MAX(lokalsykehus_befolkning[[#This Row],[2022]:[2040]])-MIN(lokalsykehus_befolkning[[#This Row],[2022]:[2040]])","v":138},{"$f":"SUM(lokalsykehus_befolkning[[#This Row],[2022]:[2040]])","v":6264}]
["Helse Nord","Tromsø","Universitetssykehuset Nord-Norge",115061,115449,115831,116220,116621,117010,117385,117750,118105,118447,118774,119087,119390,119676,119951,120204,120432,120633,120813,1601,1536,1583,1575,1631,1640,1556,1546,1492,1353,1326,1300,1297,1341,1357,1360,1385,1393,1386,{"$f":"AVERAGE(lokalsykehus_befolkning[[#This Row],[2022]:[2040]])","v":1455.6842105263158},{"$f":"_xlfn.STDEV.P(lokalsykehus_befolkning[[#This Row],[2022]:[2040]])/lokalsykehus_befolkning[[#This Row],[Gjennomsnitt 2022-2040]]","v":8.1109338712685691E-2},{"$f":"-(lokalsykehus_befolkning[[#This Row],[Gjennomsnitt 2022-2040]]-MIN(lokalsykehus_befolkning[[#This Row],[2022]:[2040]]))/lokalsykehus_befolkning[[#This Row],[Gjennomsnitt 2022-2040]]","v":-0.10901005134138407},{"$f":"(MAX(lokalsykehus_befolkning[[#This Row],[2022]:[2040]])-lokalsykehus_befolkning[[#This Row],[Gjennomsnitt 2022-2040]])/lokalsykehus_befolkning[[#This Row],[Gjennomsnitt 2022-2040]]","v":0.12661797671559763},{"$f":"MAX(lokalsykehus_befolkning[[#This Row],[2022]:[2040]])-MIN(lokalsykehus_befolkning[[#This Row],[2022]:[2040]])","v":343},{"$f":"SUM(lokalsykehus_befolkning[[#This Row],[2022]:[2040]])","v":27658}]
["Helse Sør-Øst","Ahus","Akershus universitetssykehus",424135,429428,434045,438231,442008,445706,449321,452888,456364,459757,463063,466267,469418,472520,475548,478503,481359,484128,486762,5976,5902,6117,6188,6132,6265,6345,6054,6213,6044,5946,5879,5994,6112,6216,6183,6381,6384,6484,{"$f":"AVERAGE(lokalsykehus_befolkning[[#This Row],[2022]:[2040]])","v":6148.1578947368425},{"$f":"_xlfn.STDEV.P(lokalsykehus_befolkning[[#This Row],[2022]:[2040]])/lokalsykehus_befolkning[[#This Row],[Gjennomsnitt 2022-2040]]","v":2.7323793543508956E-2},{"$f":"-(lokalsykehus_befolkning[[#This Row],[Gjennomsnitt 2022-2040]]-MIN(lokalsykehus_befolkning[[#This Row],[2022]:[2040]]))/lokalsykehus_befolkning[[#This Row],[Gjennomsnitt 2022-2040]]","v":-4.3778624320506852E-2},{"$f":"(MAX(lokalsykehus_befolkning[[#This Row],[2022]:[2040]])-lokalsykehus_befolkning[[#This Row],[Gjennomsnitt 2022-2040]])/lokalsykehus_befolkning[[#This Row],[Gjennomsnitt 2022-2040]]","v":5.4624834139451198E-2},{"$f":"MAX(lokalsykehus_befolkning[[#This Row],[2022]:[2040]])-MIN(lokalsykehus_befolkning[[#This Row],[2022]:[2040]])","v":605},{"$f":"SUM(lokalsykehus_befolkning[[#This Row],[2022]:[2040]])","v":116815}]
["Helse Sør-Øst","Kongsvinger","Akershus universitetssykehus",48532,48498,48481,48479,48495,48520,48554,48595,48639,48686,48730,48776,48822,48866,48913,48955,48993,49028,49057,745,790,822,800,791,808,748,713,696,664,639,606,584,593,592,594,606,608,598,{"$f":"AVERAGE(lokalsykehus_befolkning[[#This Row],[2022]:[2040]])","v":684.0526315789474},{"$f":"_xlfn.STDEV.P(lokalsykehus_befolkning[[#This Row],[2022]:[2040]])/lokalsykehus_befolkning[[#This Row],[Gjennomsnitt 2022-2040]]","v":0.12636781630547012},{"$f":"-(lokalsykehus_befolkning[[#This Row],[Gjennomsnitt 2022-2040]]-MIN(lokalsykehus_befolkning[[#This Row],[2022]:[2040]]))/lokalsykehus_befolkning[[#This Row],[Gjennomsnitt 2022-2040]]","v":-0.14626452258213438},{"$f":"(MAX(lokalsykehus_befolkning[[#This Row],[2022]:[2040]])-lokalsykehus_befolkning[[#This Row],[Gjennomsnitt 2022-2040]])/lokalsykehus_befolkning[[#This Row],[Gjennomsnitt 2022-2040]]","v":0.20166192198199578},{"$f":"MAX(lokalsykehus_befolkning[[#This Row],[2022]:[2040]])-MIN(lokalsykehus_befolkning[[#This Row],[2022]:[2040]])","v":238},{"$f":"SUM(lokalsykehus_befolkning[[#This Row],[2022]:[2040]])","v":12997}]
["Helse Sør-Øst","Ski","Akershus universitetssykehus",128559,129638,130636,131565,132434,133293,134138,134970,135791,136596,137384,138159,138925,139682,140438,141183,141911,142624,143318,1885,1760,1966,1883,1828,1896,1937,1874,1943,1797,1771,1735,1841,1798,1800,1785,1816,1821,1836,{"$f":"AVERAGE(lokalsykehus_befolkning[[#This Row],[2022]:[2040]])","v":1840.6315789473683},{"$f":"_xlfn.STDEV.P(lokalsykehus_befolkning[[#This Row],[2022]:[2040]])/lokalsykehus_befolkning[[#This Row],[Gjennomsnitt 2022-2040]]","v":3.4264448432248025E-2},{"$f":"-(lokalsykehus_befolkning[[#This Row],[Gjennomsnitt 2022-2040]]-MIN(lokalsykehus_befolkning[[#This Row],[2022]:[2040]]))/lokalsykehus_befolkning[[#This Row],[Gjennomsnitt 2022-2040]]","v":-5.7388768157383002E-2},{"$f":"(MAX(lokalsykehus_befolkning[[#This Row],[2022]:[2040]])-lokalsykehus_befolkning[[#This Row],[Gjennomsnitt 2022-2040]])/lokalsykehus_befolkning[[#This Row],[Gjennomsnitt 2022-2040]]","v":6.8111632162873206E-2},{"$f":"MAX(lokalsykehus_befolkning[[#This Row],[2022]:[2040]])-MIN(lokalsykehus_befolkning[[#This Row],[2022]:[2040]])","v":231},{"$f":"SUM(lokalsykehus_befolkning[[#This Row],[2022]:[2040]])","v":34972}]
["Helse Sør-Øst","Diakonhjemmet","Oslosykehusene",144823,145780,146757,147650,148476,149259,150027,150793,151548,152269,152959,153660,154323,154953,155578,156168,156704,157191,157650,1727,1732,1761,1799,1795,1868,1884,1835,1902,1856,1832,1791,1832,1889,1936,1895,1929,1922,1960,{"$f":"AVERAGE(lokalsykehus_befolkning[[#This Row],[2022]:[2040]])","v":1849.7368421052631},{"$f":"_xlfn.STDEV.P(lokalsykehus_befolkning[[#This Row],[2022]:[2040]])/lokalsykehus_befolkning[[#This Row],[Gjennomsnitt 2022-2040]]","v":3.6295332676551925E-2},{"$f":"-(lokalsykehus_befolkning[[#This Row],[Gjennomsnitt 2022-2040]]-MIN(lokalsykehus_befolkning[[#This Row],[2022]:[2040]]))/lokalsykehus_befolkning[[#This Row],[Gjennomsnitt 2022-2040]]","v":-6.6353677621283233E-2},{"$f":"(MAX(lokalsykehus_befolkning[[#This Row],[2022]:[2040]])-lokalsykehus_befolkning[[#This Row],[Gjennomsnitt 2022-2040]])/lokalsykehus_befolkning[[#This Row],[Gjennomsnitt 2022-2040]]","v":5.9610186370749774E-2},{"$f":"MAX(lokalsykehus_befolkning[[#This Row],[2022]:[2040]])-MIN(lokalsykehus_befolkning[[#This Row],[2022]:[2040]])","v":233},{"$f":"SUM(lokalsykehus_befolkning[[#This Row],[2022]:[2040]])","v":35145}]
["Helse Sør-Øst","Lovisenberg","Oslosykehusene",163706,165039,166275,167344,168307,169228,170089,170924,171733,172539,173315,174068,174799,175501,176145,176751,177266,177714,178101,1454,1417,1447,1511,1575,1591,1652,1613,1645,1628,1622,1623,1677,1693,1754,1718,1755,1746,1788,{"$f":"AVERAGE(lokalsykehus_befolkning[[#This Row],[2022]:[2040]])","v":1626.7894736842106},{"$f":"_xlfn.STDEV.P(lokalsykehus_befolkning[[#This Row],[2022]:[2040]])/lokalsykehus_befolkning[[#This Row],[Gjennomsnitt 2022-2040]]","v":6.5055029797275496E-2},{"$f":"-(lokalsykehus_befolkning[[#This Row],[Gjennomsnitt 2022-2040]]-MIN(lokalsykehus_befolkning[[#This Row],[2022]:[2040]]))/lokalsykehus_befolkning[[#This Row],[Gjennomsnitt 2022-2040]]","v":-0.12895920282118484},{"$f":"(MAX(lokalsykehus_befolkning[[#This Row],[2022]:[2040]])-lokalsykehus_befolkning[[#This Row],[Gjennomsnitt 2022-2040]])/lokalsykehus_befolkning[[#This Row],[Gjennomsnitt 2022-2040]]","v":9.9097350286324298E-2},{"$f":"MAX(lokalsykehus_befolkning[[#This Row],[2022]:[2040]])-MIN(lokalsykehus_befolkning[[#This Row],[2022]:[2040]])","v":371},{"$f":"SUM(lokalsykehus_befolkning[[#This Row],[2022]:[2040]])","v":30909}]
["Helse Sør-Øst","Ullevål","Oslosykehusene",282598,285284,287694,289959,292121,294217,296274,298257,300197,302105,303964,305761,307526,309267,310982,312597,314151,315606,317010,3351,3370,3461,3618,3613,3640,3698,3681,3711,3679,3653,3607,3696,3746,3880,3819,3893,3868,3952,{"$f":"AVERAGE(lokalsykehus_befolkning[[#This Row],[2022]:[2040]])","v":3680.8421052631579},{"$f":"_xlfn.STDEV.P(lokalsykehus_befolkning[[#This Row],[2022]:[2040]])/lokalsykehus_befolkning[[#This Row],[Gjennomsnitt 2022-2040]]","v":4.3548515361253509E-2},{"$f":"-(lokalsykehus_befolkning[[#This Row],[Gjennomsnitt 2022-2040]]-MIN(lokalsykehus_befolkning[[#This Row],[2022]:[2040]]))/lokalsykehus_befolkning[[#This Row],[Gjennomsnitt 2022-2040]]","v":-8.9610501029512707E-2},{"$f":"(MAX(lokalsykehus_befolkning[[#This Row],[2022]:[2040]])-lokalsykehus_befolkning[[#This Row],[Gjennomsnitt 2022-2040]])/lokalsykehus_befolkning[[#This Row],[Gjennomsnitt 2022-2040]]","v":7.3667353008464873E-2},{"$f":"MAX(lokalsykehus_befolkning[[#This Row],[2022]:[2040]])-MIN(lokalsykehus_befolkning[[#This Row],[2022]:[2040]])","v":601},{"$f":"SUM(lokalsykehus_befolkning[[#This Row],[2022]:[2040]])","v":69936}]
["Helse Sør-Øst","Tønsberg","Sykehuset i Vestfold",248509,249812,251095,252368,253634,254886,256120,257342,258544,259728,260888,262029,263151,264254,265351,266420,267451,268442,269397,3499,3614,3658,3767,3544,3661,3727,3465,3475,3389,3309,3234,3300,3271,3316,3306,3401,3386,3410,{"$f":"AVERAGE(lokalsykehus_befolkning[[#This Row],[2022]:[2040]])","v":3459.5789473684213},{"$f":"_xlfn.STDEV.P(lokalsykehus_befolkning[[#This Row],[2022]:[2040]])/lokalsykehus_befolkning[[#This Row],[Gjennomsnitt 2022-2040]]","v":4.5646924341889397E-2},{"$f":"-(lokalsykehus_befolkning[[#This Row],[Gjennomsnitt 2022-2040]]-MIN(lokalsykehus_befolkning[[#This Row],[2022]:[2040]]))/lokalsykehus_befolkning[[#This Row],[Gjennomsnitt 2022-2040]]","v":-6.5204162356234469E-2},{"$f":"(MAX(lokalsykehus_befolkning[[#This Row],[2022]:[2040]])-lokalsykehus_befolkning[[#This Row],[Gjennomsnitt 2022-2040]])/lokalsykehus_befolkning[[#This Row],[Gjennomsnitt 2022-2040]]","v":8.8860828820057136E-2},{"$f":"MAX(lokalsykehus_befolkning[[#This Row],[2022]:[2040]])-MIN(lokalsykehus_befolkning[[#This Row],[2022]:[2040]])","v":533},{"$f":"SUM(lokalsykehus_befolkning[[#This Row],[2022]:[2040]])","v":65732}]
["Helse Sør-Øst","Elverum","Sykehuset Innlandet",37237,37294,37346,37400,37457,37519,37584,37649,37718,37787,37856,37923,37990,38054,38119,38178,38230,38280,38325,519,541,580,573,559,547,549,492,497,489,462,470,409,450,408,443,425,469,457,{"$f":"AVERAGE(lokalsykehus_befolkning[[#This Row],[2022]:[2040]])","v":491.5263157894737},{"$f":"_xlfn.STDEV.P(lokalsykehus_befolkning[[#This Row],[2022]:[2040]])/lokalsykehus_befolkning[[#This Row],[Gjennomsnitt 2022-2040]]","v":0.10842550581795232},{"$f":"-(lokalsykehus_befolkning[[#This Row],[Gjennomsnitt 2022-2040]]-MIN(lokalsykehus_befolkning[[#This Row],[2022]:[2040]]))/lokalsykehus_befolkning[[#This Row],[Gjennomsnitt 2022-2040]]","v":-0.16993254095727597},{"$f":"(MAX(lokalsykehus_befolkning[[#This Row],[2022]:[2040]])-lokalsykehus_befolkning[[#This Row],[Gjennomsnitt 2022-2040]])/lokalsykehus_befolkning[[#This Row],[Gjennomsnitt 2022-2040]]","v":0.17999785844308808},{"$f":"MAX(lokalsykehus_befolkning[[#This Row],[2022]:[2040]])-MIN(lokalsykehus_befolkning[[#This Row],[2022]:[2040]])","v":172},{"$f":"SUM(lokalsykehus_befolkning[[#This Row],[2022]:[2040]])","v":9339}]
["Helse Sør-Øst","Gjøvik","Sykehuset Innlandet",111257,111308,111410,111570,111780,112000,112229,112465,112706,112946,113180,113414,113643,113871,114101,114327,114545,114752,114949,1706,1678,1634,1711,1692,1641,1680,1601,1585,1470,1438,1356,1382,1373,1386,1373,1389,1409,1394,{"$f":"AVERAGE(lokalsykehus_befolkning[[#This Row],[2022]:[2040]])","v":1520.9473684210527},{"$f":"_xlfn.STDEV.P(lokalsykehus_befolkning[[#This Row],[2022]:[2040]])/lokalsykehus_befolkning[[#This Row],[Gjennomsnitt 2022-2040]]","v":8.9405604685998605E-2},{"$f":"-(lokalsykehus_befolkning[[#This Row],[Gjennomsnitt 2022-2040]]-MIN(lokalsykehus_befolkning[[#This Row],[2022]:[2040]]))/lokalsykehus_befolkning[[#This Row],[Gjennomsnitt 2022-2040]]","v":-0.10845041179320374},{"$f":"(MAX(lokalsykehus_befolkning[[#This Row],[2022]:[2040]])-lokalsykehus_befolkning[[#This Row],[Gjennomsnitt 2022-2040]])/lokalsykehus_befolkning[[#This Row],[Gjennomsnitt 2022-2040]]","v":0.12495674441137788},{"$f":"MAX(lokalsykehus_befolkning[[#This Row],[2022]:[2040]])-MIN(lokalsykehus_befolkning[[#This Row],[2022]:[2040]])","v":355},{"$f":"SUM(lokalsykehus_befolkning[[#This Row],[2022]:[2040]])","v":28898}]
["Helse Sør-Øst","Hamar","Sykehuset Innlandet",96061,96634,97159,97646,98098,98551,99003,99450,99889,100318,100735,101140,101536,101921,102296,102654,102991,103307,103606,1375,1348,1300,1392,1395,1371,1376,1309,1256,1231,1241,1208,1196,1262,1246,1168,1258,1277,1302,{"$f":"AVERAGE(lokalsykehus_befolkning[[#This Row],[2022]:[2040]])","v":1290.0526315789473},{"$f":"_xlfn.STDEV.P(lokalsykehus_befolkning[[#This Row],[2022]:[2040]])/lokalsykehus_befolkning[[#This Row],[Gjennomsnitt 2022-2040]]","v":5.2746698101703453E-2},{"$f":"-(lokalsykehus_befolkning[[#This Row],[Gjennomsnitt 2022-2040]]-MIN(lokalsykehus_befolkning[[#This Row],[2022]:[2040]]))/lokalsykehus_befolkning[[#This Row],[Gjennomsnitt 2022-2040]]","v":-9.4610583003549367E-2},{"$f":"(MAX(lokalsykehus_befolkning[[#This Row],[2022]:[2040]])-lokalsykehus_befolkning[[#This Row],[Gjennomsnitt 2022-2040]])/lokalsykehus_befolkning[[#This Row],[Gjennomsnitt 2022-2040]]","v":8.1351230059973148E-2},{"$f":"MAX(lokalsykehus_befolkning[[#This Row],[2022]:[2040]])-MIN(lokalsykehus_befolkning[[#This Row],[2022]:[2040]])","v":227},{"$f":"SUM(lokalsykehus_befolkning[[#This Row],[2022]:[2040]])","v":24511}]
["Helse Sør-Øst","Lillehammer","Sykehuset Innlandet",70985,70989,70994,71003,71023,71056,71101,71154,71214,71272,71334,71390,71445,71497,71548,71593,71626,71656,71676,1051,1034,1054,1073,980,1019,988,952,940,895,799,794,822,797,843,838,806,844,815,{"$f":"AVERAGE(lokalsykehus_befolkning[[#This Row],[2022]:[2040]])","v":912.84210526315792},{"$f":"_xlfn.STDEV.P(lokalsykehus_befolkning[[#This Row],[2022]:[2040]])/lokalsykehus_befolkning[[#This Row],[Gjennomsnitt 2022-2040]]","v":0.1090633093164696},{"$f":"-(lokalsykehus_befolkning[[#This Row],[Gjennomsnitt 2022-2040]]-MIN(lokalsykehus_befolkning[[#This Row],[2022]:[2040]]))/lokalsykehus_befolkning[[#This Row],[Gjennomsnitt 2022-2040]]","v":-0.13018911439114395},{"$f":"(MAX(lokalsykehus_befolkning[[#This Row],[2022]:[2040]])-lokalsykehus_befolkning[[#This Row],[Gjennomsnitt 2022-2040]])/lokalsykehus_befolkning[[#This Row],[Gjennomsnitt 2022-2040]]","v":0.17544972324723243},{"$f":"MAX(lokalsykehus_befolkning[[#This Row],[2022]:[2040]])-MIN(lokalsykehus_befolkning[[#This Row],[2022]:[2040]])","v":279},{"$f":"SUM(lokalsykehus_befolkning[[#This Row],[2022]:[2040]])","v":17344}]
["Helse Sør-Øst","Tynset","Sykehuset Innlandet",17086,17062,17047,17038,17039,17041,17046,17050,17054,17058,17059,17062,17065,17068,17073,17077,17081,17083,17082,247,244,254,258,251,242,239,223,228,206,189,192,205,198,206,195,214,201,194,{"$f":"AVERAGE(lokalsykehus_befolkning[[#This Row],[2022]:[2040]])","v":220.31578947368422},{"$f":"_xlfn.STDEV.P(lokalsykehus_befolkning[[#This Row],[2022]:[2040]])/lokalsykehus_befolkning[[#This Row],[Gjennomsnitt 2022-2040]]","v":0.10581466233816972},{"$f":"-(lokalsykehus_befolkning[[#This Row],[Gjennomsnitt 2022-2040]]-MIN(lokalsykehus_befolkning[[#This Row],[2022]:[2040]]))/lokalsykehus_befolkning[[#This Row],[Gjennomsnitt 2022-2040]]","v":-0.14214046822742479},{"$f":"(MAX(lokalsykehus_befolkning[[#This Row],[2022]:[2040]])-lokalsykehus_befolkning[[#This Row],[Gjennomsnitt 2022-2040]])/lokalsykehus_befolkning[[#This Row],[Gjennomsnitt 2022-2040]]","v":0.17104634495938839},{"$f":"MAX(lokalsykehus_befolkning[[#This Row],[2022]:[2040]])-MIN(lokalsykehus_befolkning[[#This Row],[2022]:[2040]])","v":69},{"$f":"SUM(lokalsykehus_befolkning[[#This Row],[2022]:[2040]])","v":4186}]
["Helse Sør-Øst","Notodden","Sykehuset Telemark",48159,48114,48109,48141,48204,48274,48347,48422,48495,48566,48637,48700,48763,48823,48880,48931,48976,49016,49049,716,717,645,664,720,684,695,640,638,602,581,571,570,566,562,536,595,569,578,{"$f":"AVERAGE(lokalsykehus_befolkning[[#This Row],[2022]:[2040]])","v":623.63157894736844},{"$f":"_xlfn.STDEV.P(lokalsykehus_befolkning[[#This Row],[2022]:[2040]])/lokalsykehus_befolkning[[#This Row],[Gjennomsnitt 2022-2040]]","v":9.4831038175327981E-2},{"$f":"-(lokalsykehus_befolkning[[#This Row],[Gjennomsnitt 2022-2040]]-MIN(lokalsykehus_befolkning[[#This Row],[2022]:[2040]]))/lokalsykehus_befolkning[[#This Row],[Gjennomsnitt 2022-2040]]","v":-0.14051818718879233},{"$f":"(MAX(lokalsykehus_befolkning[[#This Row],[2022]:[2040]])-lokalsykehus_befolkning[[#This Row],[Gjennomsnitt 2022-2040]])/lokalsykehus_befolkning[[#This Row],[Gjennomsnitt 2022-2040]]","v":0.15452780825386106},{"$f":"MAX(lokalsykehus_befolkning[[#This Row],[2022]:[2040]])-MIN(lokalsykehus_befolkning[[#This Row],[2022]:[2040]])","v":184},{"$f":"SUM(lokalsykehus_befolkning[[#This Row],[2022]:[2040]])","v":11849}]
["Helse Sør-Øst","Skien","Sykehuset Telemark",125065,125255,125481,125740,126039,126329,126617,126903,127181,127451,127714,127969,128219,128463,128708,128943,129164,129372,129565,1856,1831,1872,1882,1868,1855,1850,1746,1737,1635,1612,1517,1528,1540,1512,1538,1565,1548,1573,{"$f":"AVERAGE(lokalsykehus_befolkning[[#This Row],[2022]:[2040]])","v":1687.6315789473683},{"$f":"_xlfn.STDEV.P(lokalsykehus_befolkning[[#This Row],[2022]:[2040]])/lokalsykehus_befolkning[[#This Row],[Gjennomsnitt 2022-2040]]","v":8.5891844742085569E-2},{"$f":"-(lokalsykehus_befolkning[[#This Row],[Gjennomsnitt 2022-2040]]-MIN(lokalsykehus_befolkning[[#This Row],[2022]:[2040]]))/lokalsykehus_befolkning[[#This Row],[Gjennomsnitt 2022-2040]]","v":-0.10406985810073284},{"$f":"(MAX(lokalsykehus_befolkning[[#This Row],[2022]:[2040]])-lokalsykehus_befolkning[[#This Row],[Gjennomsnitt 2022-2040]])/lokalsykehus_befolkning[[#This Row],[Gjennomsnitt 2022-2040]]","v":0.11517230625292381},{"$f":"MAX(lokalsykehus_befolkning[[#This Row],[2022]:[2040]])-MIN(lokalsykehus_befolkning[[#This Row],[2022]:[2040]])","v":370},{"$f":"SUM(lokalsykehus_befolkning[[#This Row],[2022]:[2040]])","v":32065}]
["Helse Sør-Øst","Kalnes","Sykehuset Østfold",321458,323520,325572,327621,329689,331724,333727,335707,337654,339572,341452,343301,345120,346914,348690,350428,352110,353742,355323,4593,4740,5005,4918,4898,4868,4903,4697,4747,4543,4388,4333,4431,4355,4477,4383,4455,4494,4541,{"$f":"AVERAGE(lokalsykehus_befolkning[[#This Row],[2022]:[2040]])","v":4619.4210526315792},{"$f":"_xlfn.STDEV.P(lokalsykehus_befolkning[[#This Row],[2022]:[2040]])/lokalsykehus_befolkning[[#This Row],[Gjennomsnitt 2022-2040]]","v":4.6245971531682438E-2},{"$f":"-(lokalsykehus_befolkning[[#This Row],[Gjennomsnitt 2022-2040]]-MIN(lokalsykehus_befolkning[[#This Row],[2022]:[2040]]))/lokalsykehus_befolkning[[#This Row],[Gjennomsnitt 2022-2040]]","v":-6.2003668721302557E-2},{"$f":"(MAX(lokalsykehus_befolkning[[#This Row],[2022]:[2040]])-lokalsykehus_befolkning[[#This Row],[Gjennomsnitt 2022-2040]])/lokalsykehus_befolkning[[#This Row],[Gjennomsnitt 2022-2040]]","v":8.3469106404311266E-2},{"$f":"MAX(lokalsykehus_befolkning[[#This Row],[2022]:[2040]])-MIN(lokalsykehus_befolkning[[#This Row],[2022]:[2040]])","v":672},{"$f":"SUM(lokalsykehus_befolkning[[#This Row],[2022]:[2040]])","v":87769}]
["Helse Sør-Øst","Arendal","Sørlandet sykehus",119382,119961,120518,121066,121603,122130,122650,123158,123657,124142,124616,125082,125540,125995,126447,126893,127324,127734,128127,1589,1702,1678,1748,1701,1731,1711,1732,1699,1720,1704,1596,1567,1551,1597,1604,1625,1612,1636,{"$f":"AVERAGE(lokalsykehus_befolkning[[#This Row],[2022]:[2040]])","v":1658.0526315789473},{"$f":"_xlfn.STDEV.P(lokalsykehus_befolkning[[#This Row],[2022]:[2040]])/lokalsykehus_befolkning[[#This Row],[Gjennomsnitt 2022-2040]]","v":3.7178882795653706E-2},{"$f":"-(lokalsykehus_befolkning[[#This Row],[Gjennomsnitt 2022-2040]]-MIN(lokalsykehus_befolkning[[#This Row],[2022]:[2040]]))/lokalsykehus_befolkning[[#This Row],[Gjennomsnitt 2022-2040]]","v":-6.4565279497190695E-2},{"$f":"(MAX(lokalsykehus_befolkning[[#This Row],[2022]:[2040]])-lokalsykehus_befolkning[[#This Row],[Gjennomsnitt 2022-2040]])/lokalsykehus_befolkning[[#This Row],[Gjennomsnitt 2022-2040]]","v":5.4248801701425313E-2},{"$f":"MAX(lokalsykehus_befolkning[[#This Row],[2022]:[2040]])-MIN(lokalsykehus_befolkning[[#This Row],[2022]:[2040]])","v":197},{"$f":"SUM(lokalsykehus_befolkning[[#This Row],[2022]:[2040]])","v":31503}]
["Helse Sør-Øst","Flekkefjord","Sørlandet sykehus",44573,44425,44321,44261,44241,44229,44217,44207,44200,44191,44182,44173,44164,44160,44159,44157,44154,44151,44146,608,605,636,664,594,605,604,628,547,547,538,508,554,561,553,542,519,540,535,{"$f":"AVERAGE(lokalsykehus_befolkning[[#This Row],[2022]:[2040]])","v":573.0526315789474},{"$f":"_xlfn.STDEV.P(lokalsykehus_befolkning[[#This Row],[2022]:[2040]])/lokalsykehus_befolkning[[#This Row],[Gjennomsnitt 2022-2040]]","v":7.3891638702348508E-2},{"$f":"-(lokalsykehus_befolkning[[#This Row],[Gjennomsnitt 2022-2040]]-MIN(lokalsykehus_befolkning[[#This Row],[2022]:[2040]]))/lokalsykehus_befolkning[[#This Row],[Gjennomsnitt 2022-2040]]","v":-0.11351947097722268},{"$f":"(MAX(lokalsykehus_befolkning[[#This Row],[2022]:[2040]])-lokalsykehus_befolkning[[#This Row],[Gjennomsnitt 2022-2040]])/lokalsykehus_befolkning[[#This Row],[Gjennomsnitt 2022-2040]]","v":0.15870683321087431},{"$f":"MAX(lokalsykehus_befolkning[[#This Row],[2022]:[2040]])-MIN(lokalsykehus_befolkning[[#This Row],[2022]:[2040]])","v":156},{"$f":"SUM(lokalsykehus_befolkning[[#This Row],[2022]:[2040]])","v":10888}]
["Helse Sør-Øst","Kristiansand","Sørlandet sykehus",152405,153397,154343,155259,156154,157059,157969,158878,159781,160674,161552,162419,163273,164116,164948,165764,166547,167301,168028,2008,1981,1951,2038,2006,2092,2037,1964,2042,1942,1937,1805,1972,1939,2049,1998,2056,1994,2007,{"$f":"AVERAGE(lokalsykehus_befolkning[[#This Row],[2022]:[2040]])","v":1990.421052631579},{"$f":"_xlfn.STDEV.P(lokalsykehus_befolkning[[#This Row],[2022]:[2040]])/lokalsykehus_befolkning[[#This Row],[Gjennomsnitt 2022-2040]]","v":3.069997429395389E-2},{"$f":"-(lokalsykehus_befolkning[[#This Row],[Gjennomsnitt 2022-2040]]-MIN(lokalsykehus_befolkning[[#This Row],[2022]:[2040]]))/lokalsykehus_befolkning[[#This Row],[Gjennomsnitt 2022-2040]]","v":-9.3156697868739757E-2},{"$f":"(MAX(lokalsykehus_befolkning[[#This Row],[2022]:[2040]])-lokalsykehus_befolkning[[#This Row],[Gjennomsnitt 2022-2040]])/lokalsykehus_befolkning[[#This Row],[Gjennomsnitt 2022-2040]]","v":5.1033899201438464E-2},{"$f":"MAX(lokalsykehus_befolkning[[#This Row],[2022]:[2040]])-MIN(lokalsykehus_befolkning[[#This Row],[2022]:[2040]])","v":287},{"$f":"SUM(lokalsykehus_befolkning[[#This Row],[2022]:[2040]])","v":37818}]
["Helse Sør-Øst","Bærum","Vestre Viken",224445,225864,227360,228951,230636,232285,233901,235491,237046,238565,240042,241487,242905,244303,245690,247056,248394,249704,250987,3249,3169,3232,3250,3221,3322,3390,3284,3367,3221,3140,3082,3202,3176,3229,3263,3342,3324,3310,{"$f":"AVERAGE(lokalsykehus_befolkning[[#This Row],[2022]:[2040]])","v":3251.2105263157896},{"$f":"_xlfn.STDEV.P(lokalsykehus_befolkning[[#This Row],[2022]:[2040]])/lokalsykehus_befolkning[[#This Row],[Gjennomsnitt 2022-2040]]","v":2.3869046573286264E-2},{"$f":"-(lokalsykehus_befolkning[[#This Row],[Gjennomsnitt 2022-2040]]-MIN(lokalsykehus_befolkning[[#This Row],[2022]:[2040]]))/lokalsykehus_befolkning[[#This Row],[Gjennomsnitt 2022-2040]]","v":-5.2045391999741022E-2},{"$f":"(MAX(lokalsykehus_befolkning[[#This Row],[2022]:[2040]])-lokalsykehus_befolkning[[#This Row],[Gjennomsnitt 2022-2040]])/lokalsykehus_befolkning[[#This Row],[Gjennomsnitt 2022-2040]]","v":4.2688553251420486E-2},{"$f":"MAX(lokalsykehus_befolkning[[#This Row],[2022]:[2040]])-MIN(lokalsykehus_befolkning[[#This Row],[2022]:[2040]])","v":308},{"$f":"SUM(lokalsykehus_befolkning[[#This Row],[2022]:[2040]])","v":61773}]
["Helse Sør-Øst","Drammen","Vestre Viken",144033,144963,145862,146739,147603,148451,149286,150110,150921,151725,152512,153288,154056,154816,155570,156310,157029,157725,158403,1943,1976,2096,2123,2058,2139,2122,2058,2102,1977,1942,1909,1971,1967,1997,1949,2034,2017,2031,{"$f":"AVERAGE(lokalsykehus_befolkning[[#This Row],[2022]:[2040]])","v":2021.6315789473683},{"$f":"_xlfn.STDEV.P(lokalsykehus_befolkning[[#This Row],[2022]:[2040]])/lokalsykehus_befolkning[[#This Row],[Gjennomsnitt 2022-2040]]","v":3.3994257435582043E-2},{"$f":"-(lokalsykehus_befolkning[[#This Row],[Gjennomsnitt 2022-2040]]-MIN(lokalsykehus_befolkning[[#This Row],[2022]:[2040]]))/lokalsykehus_befolkning[[#This Row],[Gjennomsnitt 2022-2040]]","v":-5.5713207154200577E-2},{"$f":"(MAX(lokalsykehus_befolkning[[#This Row],[2022]:[2040]])-lokalsykehus_befolkning[[#This Row],[Gjennomsnitt 2022-2040]])/lokalsykehus_befolkning[[#This Row],[Gjennomsnitt 2022-2040]]","v":5.805628595975116E-2},{"$f":"MAX(lokalsykehus_befolkning[[#This Row],[2022]:[2040]])-MIN(lokalsykehus_befolkning[[#This Row],[2022]:[2040]])","v":230},{"$f":"SUM(lokalsykehus_befolkning[[#This Row],[2022]:[2040]])","v":38411}]
["Helse Sør-Øst","Kongsberg","Vestre Viken",57854,58247,58636,59025,59413,59787,60155,60514,60869,61218,61561,61899,62233,62559,62884,63198,63500,63791,64072,825,783,834,832,811,895,829,831,876,827,773,755,781,787,806,798,818,814,797,{"$f":"AVERAGE(lokalsykehus_befolkning[[#This Row],[2022]:[2040]])","v":814.31578947368416},{"$f":"_xlfn.STDEV.P(lokalsykehus_befolkning[[#This Row],[2022]:[2040]])/lokalsykehus_befolkning[[#This Row],[Gjennomsnitt 2022-2040]]","v":4.0343347858597778E-2},{"$f":"-(lokalsykehus_befolkning[[#This Row],[Gjennomsnitt 2022-2040]]-MIN(lokalsykehus_befolkning[[#This Row],[2022]:[2040]]))/lokalsykehus_befolkning[[#This Row],[Gjennomsnitt 2022-2040]]","v":-7.2841261633919283E-2},{"$f":"(MAX(lokalsykehus_befolkning[[#This Row],[2022]:[2040]])-lokalsykehus_befolkning[[#This Row],[Gjennomsnitt 2022-2040]])/lokalsykehus_befolkning[[#This Row],[Gjennomsnitt 2022-2040]]","v":9.9082213029989721E-2},{"$f":"MAX(lokalsykehus_befolkning[[#This Row],[2022]:[2040]])-MIN(lokalsykehus_befolkning[[#This Row],[2022]:[2040]])","v":140},{"$f":"SUM(lokalsykehus_befolkning[[#This Row],[2022]:[2040]])","v":15472}]
["Helse Sør-Øst","Ringerike","Vestre Viken",67433,67720,68026,68361,68719,69073,69424,69774,70117,70453,70786,71112,71433,71754,72065,72376,72673,72955,73228,1038,971,1038,999,1031,1008,999,993,971,953,898,877,922,923,964,878,901,938,917,{"$f":"AVERAGE(lokalsykehus_befolkning[[#This Row],[2022]:[2040]])","v":958.89473684210532},{"$f":"_xlfn.STDEV.P(lokalsykehus_befolkning[[#This Row],[2022]:[2040]])/lokalsykehus_befolkning[[#This Row],[Gjennomsnitt 2022-2040]]","v":5.3504272313711576E-2},{"$f":"-(lokalsykehus_befolkning[[#This Row],[Gjennomsnitt 2022-2040]]-MIN(lokalsykehus_befolkning[[#This Row],[2022]:[2040]]))/lokalsykehus_befolkning[[#This Row],[Gjennomsnitt 2022-2040]]","v":-8.5405346067292442E-2},{"$f":"(MAX(lokalsykehus_befolkning[[#This Row],[2022]:[2040]])-lokalsykehus_befolkning[[#This Row],[Gjennomsnitt 2022-2040]])/lokalsykehus_befolkning[[#This Row],[Gjennomsnitt 2022-2040]]","v":8.249629507656836E-2},{"$f":"MAX(lokalsykehus_befolkning[[#This Row],[2022]:[2040]])-MIN(lokalsykehus_befolkning[[#This Row],[2022]:[2040]])","v":161},{"$f":"SUM(lokalsykehus_befolkning[[#This Row],[2022]:[2040]])","v":18219}]
["Helse Vest","Haukeland","Helse Bergen",436434,438905,441347,443795,446297,448780,451258,453718,456162,458579,460950,463277,465559,467797,469984,472099,474112,476024,477844,5487,5628,5686,5816,5749,5669,5791,5784,5682,5637,5417,5303,5483,5619,5654,5706,5816,5624,5624,{"$f":"AVERAGE(lokalsykehus_befolkning[[#This Row],[2022]:[2040]])","v":5640.7894736842109},{"$f":"_xlfn.STDEV.P(lokalsykehus_befolkning[[#This Row],[2022]:[2040]])/lokalsykehus_befolkning[[#This Row],[Gjennomsnitt 2022-2040]]","v":2.3683333014900856E-2},{"$f":"-(lokalsykehus_befolkning[[#This Row],[Gjennomsnitt 2022-2040]]-MIN(lokalsykehus_befolkning[[#This Row],[2022]:[2040]]))/lokalsykehus_befolkning[[#This Row],[Gjennomsnitt 2022-2040]]","v":-5.9883368322836542E-2},{"$f":"(MAX(lokalsykehus_befolkning[[#This Row],[2022]:[2040]])-lokalsykehus_befolkning[[#This Row],[Gjennomsnitt 2022-2040]])/lokalsykehus_befolkning[[#This Row],[Gjennomsnitt 2022-2040]]","v":3.1061348262187947E-2},{"$f":"MAX(lokalsykehus_befolkning[[#This Row],[2022]:[2040]])-MIN(lokalsykehus_befolkning[[#This Row],[2022]:[2040]])","v":513},{"$f":"SUM(lokalsykehus_befolkning[[#This Row],[2022]:[2040]])","v":107175}]
["Helse Vest","Voss","Helse Bergen",29429,29379,29353,29350,29367,29387,29406,29431,29454,29477,29498,29519,29537,29554,29573,29587,29599,29607,29613,379,373,376,421,334,396,341,359,349,341,316,320,367,355,348,347,343,357,378,{"$f":"AVERAGE(lokalsykehus_befolkning[[#This Row],[2022]:[2040]])","v":357.89473684210526},{"$f":"_xlfn.STDEV.P(lokalsykehus_befolkning[[#This Row],[2022]:[2040]])/lokalsykehus_befolkning[[#This Row],[Gjennomsnitt 2022-2040]]","v":6.9584157804065128E-2},{"$f":"-(lokalsykehus_befolkning[[#This Row],[Gjennomsnitt 2022-2040]]-MIN(lokalsykehus_befolkning[[#This Row],[2022]:[2040]]))/lokalsykehus_befolkning[[#This Row],[Gjennomsnitt 2022-2040]]","v":-0.11705882352941176},{"$f":"(MAX(lokalsykehus_befolkning[[#This Row],[2022]:[2040]])-lokalsykehus_befolkning[[#This Row],[Gjennomsnitt 2022-2040]])/lokalsykehus_befolkning[[#This Row],[Gjennomsnitt 2022-2040]]","v":0.17632352941176471},{"$f":"MAX(lokalsykehus_befolkning[[#This Row],[2022]:[2040]])-MIN(lokalsykehus_befolkning[[#This Row],[2022]:[2040]])","v":105},{"$f":"SUM(lokalsykehus_befolkning[[#This Row],[2022]:[2040]])","v":6800}]
["Helse Vest","Haugesund","Helse Fonna",118334,118392,118546,118803,119156,119503,119839,120174,120492,120806,121112,121409,121708,122003,122301,122597,122881,123154,123411,1577,1594,1694,1657,1634,1679,1605,1628,1545,1579,1513,1497,1538,1585,1572,1515,1551,1531,1508,{"$f":"AVERAGE(lokalsykehus_befolkning[[#This Row],[2022]:[2040]])","v":1579.0526315789473},{"$f":"_xlfn.STDEV.P(lokalsykehus_befolkning[[#This Row],[2022]:[2040]])/lokalsykehus_befolkning[[#This Row],[Gjennomsnitt 2022-2040]]","v":3.6137319676656329E-2},{"$f":"-(lokalsykehus_befolkning[[#This Row],[Gjennomsnitt 2022-2040]]-MIN(lokalsykehus_befolkning[[#This Row],[2022]:[2040]]))/lokalsykehus_befolkning[[#This Row],[Gjennomsnitt 2022-2040]]","v":-5.1963202453169738E-2},{"$f":"(MAX(lokalsykehus_befolkning[[#This Row],[2022]:[2040]])-lokalsykehus_befolkning[[#This Row],[Gjennomsnitt 2022-2040]])/lokalsykehus_befolkning[[#This Row],[Gjennomsnitt 2022-2040]]","v":7.2795146990200704E-2},{"$f":"MAX(lokalsykehus_befolkning[[#This Row],[2022]:[2040]])-MIN(lokalsykehus_befolkning[[#This Row],[2022]:[2040]])","v":197},{"$f":"SUM(lokalsykehus_befolkning[[#This Row],[2022]:[2040]])","v":30002}]
["Helse Vest","Odda","Helse Fonna",11709,11622,11549,11488,11437,11389,11345,11300,11256,11213,11170,11127,11086,11046,11007,10970,10933,10898,10862,180,171,171,158,157,136,149,161,140,142,131,127,134,139,130,137,128,126,125,{"$f":"AVERAGE(lokalsykehus_befolkning[[#This Row],[2022]:[2040]])","v":144.31578947368422},{"$f":"_xlfn.STDEV.P(lokalsykehus_befolkning[[#This Row],[2022]:[2040]])/lokalsykehus_befolkning[[#This Row],[Gjennomsnitt 2022-2040]]","v":0.11555668649429779},{"$f":"-(lokalsykehus_befolkning[[#This Row],[Gjennomsnitt 2022-2040]]-MIN(lokalsykehus_befolkning[[#This Row],[2022]:[2040]]))/lokalsykehus_befolkning[[#This Row],[Gjennomsnitt 2022-2040]]","v":-0.13384390955506933},{"$f":"(MAX(lokalsykehus_befolkning[[#This Row],[2022]:[2040]])-lokalsykehus_befolkning[[#This Row],[Gjennomsnitt 2022-2040]])/lokalsykehus_befolkning[[#This Row],[Gjennomsnitt 2022-2040]]","v":0.24726477024070015},{"$f":"MAX(lokalsykehus_befolkning[[#This Row],[2022]:[2040]])-MIN(lokalsykehus_befolkning[[#This Row],[2022]:[2040]])","v":55},{"$f":"SUM(lokalsykehus_befolkning[[#This Row],[2022]:[2040]])","v":2742}]
["Helse Vest","Stord","Helse Fonna",49364,49235,49157,49127,49146,49168,49191,49212,49234,49256,49277,49297,49316,49336,49356,49376,49391,49400,49403,710,650,705,675,672,682,653,673,648,638,597,588,581,628,624,600,644,614,619,{"$f":"AVERAGE(lokalsykehus_befolkning[[#This Row],[2022]:[2040]])","v":642.15789473684208},{"$f":"_xlfn.STDEV.P(lokalsykehus_befolkning[[#This Row],[2022]:[2040]])/lokalsykehus_befolkning[[#This Row],[Gjennomsnitt 2022-2040]]","v":5.7208660382233573E-2},{"$f":"-(lokalsykehus_befolkning[[#This Row],[Gjennomsnitt 2022-2040]]-MIN(lokalsykehus_befolkning[[#This Row],[2022]:[2040]]))/lokalsykehus_befolkning[[#This Row],[Gjennomsnitt 2022-2040]]","v":-9.5238095238095205E-2},{"$f":"(MAX(lokalsykehus_befolkning[[#This Row],[2022]:[2040]])-lokalsykehus_befolkning[[#This Row],[Gjennomsnitt 2022-2040]])/lokalsykehus_befolkning[[#This Row],[Gjennomsnitt 2022-2040]]","v":0.10564707810835182},{"$f":"MAX(lokalsykehus_befolkning[[#This Row],[2022]:[2040]])-MIN(lokalsykehus_befolkning[[#This Row],[2022]:[2040]])","v":129},{"$f":"SUM(lokalsykehus_befolkning[[#This Row],[2022]:[2040]])","v":12201}]
["Helse Vest","Førde","Helse Førde",54266,54064,53907,53799,53742,53689,53640,53595,53553,53514,53478,53443,53412,53385,53363,53343,53320,53291,53259,707,719,708,746,744,743,749,671,675,604,617,596,620,610,630,641,614,633,630,{"$f":"AVERAGE(lokalsykehus_befolkning[[#This Row],[2022]:[2040]])","v":666.15789473684208},{"$f":"_xlfn.STDEV.P(lokalsykehus_befolkning[[#This Row],[2022]:[2040]])/lokalsykehus_befolkning[[#This Row],[Gjennomsnitt 2022-2040]]","v":8.0816073776675351E-2},{"$f":"-(lokalsykehus_befolkning[[#This Row],[Gjennomsnitt 2022-2040]]-MIN(lokalsykehus_befolkning[[#This Row],[2022]:[2040]]))/lokalsykehus_befolkning[[#This Row],[Gjennomsnitt 2022-2040]]","v":-0.10531721576992965},{"$f":"(MAX(lokalsykehus_befolkning[[#This Row],[2022]:[2040]])-lokalsykehus_befolkning[[#This Row],[Gjennomsnitt 2022-2040]])/lokalsykehus_befolkning[[#This Row],[Gjennomsnitt 2022-2040]]","v":0.12435806273208505},{"$f":"MAX(lokalsykehus_befolkning[[#This Row],[2022]:[2040]])-MIN(lokalsykehus_befolkning[[#This Row],[2022]:[2040]])","v":153},{"$f":"SUM(lokalsykehus_befolkning[[#This Row],[2022]:[2040]])","v":12657}]
["Helse Vest","Lærdal","Helse Førde",26082,26104,26131,26166,26206,26249,26297,26345,26394,26443,26491,26534,26578,26618,26654,26685,26708,26724,26735,336,352,388,330,344,361,362,303,288,283,298,274,277,265,318,289,299,300,322,{"$f":"AVERAGE(lokalsykehus_befolkning[[#This Row],[2022]:[2040]])","v":315.21052631578948},{"$f":"_xlfn.STDEV.P(lokalsykehus_befolkning[[#This Row],[2022]:[2040]])/lokalsykehus_befolkning[[#This Row],[Gjennomsnitt 2022-2040]]","v":0.10685579791460183},{"$f":"-(lokalsykehus_befolkning[[#This Row],[Gjennomsnitt 2022-2040]]-MIN(lokalsykehus_befolkning[[#This Row],[2022]:[2040]]))/lokalsykehus_befolkning[[#This Row],[Gjennomsnitt 2022-2040]]","v":-0.15929203539823011},{"$f":"(MAX(lokalsykehus_befolkning[[#This Row],[2022]:[2040]])-lokalsykehus_befolkning[[#This Row],[Gjennomsnitt 2022-2040]])/lokalsykehus_befolkning[[#This Row],[Gjennomsnitt 2022-2040]]","v":0.23092335949240272},{"$f":"MAX(lokalsykehus_befolkning[[#This Row],[2022]:[2040]])-MIN(lokalsykehus_befolkning[[#This Row],[2022]:[2040]])","v":123},{"$f":"SUM(lokalsykehus_befolkning[[#This Row],[2022]:[2040]])","v":5989}]
["Helse Vest","Nordfjordeid","Helse Førde",22219,22160,22113,22078,22054,22033,22015,21997,21981,21964,21948,21930,21912,21895,21877,21857,21836,21814,21789,318,305,284,318,283,313,280,266,280,261,245,253,281,265,239,258,262,264,255,{"$f":"AVERAGE(lokalsykehus_befolkning[[#This Row],[2022]:[2040]])","v":275.26315789473682},{"$f":"_xlfn.STDEV.P(lokalsykehus_befolkning[[#This Row],[2022]:[2040]])/lokalsykehus_befolkning[[#This Row],[Gjennomsnitt 2022-2040]]","v":8.4616618159644968E-2},{"$f":"-(lokalsykehus_befolkning[[#This Row],[Gjennomsnitt 2022-2040]]-MIN(lokalsykehus_befolkning[[#This Row],[2022]:[2040]]))/lokalsykehus_befolkning[[#This Row],[Gjennomsnitt 2022-2040]]","v":-0.13173996175908215},{"$f":"(MAX(lokalsykehus_befolkning[[#This Row],[2022]:[2040]])-lokalsykehus_befolkning[[#This Row],[Gjennomsnitt 2022-2040]])/lokalsykehus_befolkning[[#This Row],[Gjennomsnitt 2022-2040]]","v":0.15525812619502877},{"$f":"MAX(lokalsykehus_befolkning[[#This Row],[2022]:[2040]])-MIN(lokalsykehus_befolkning[[#This Row],[2022]:[2040]])","v":79},{"$f":"SUM(lokalsykehus_befolkning[[#This Row],[2022]:[2040]])","v":5230}]
["Helse Vest","Stavanger","Helse Stavanger",369799,372337,374728,377020,379252,381432,383571,385680,387754,389796,391796,393766,395709,397641,399557,401426,403231,404969,406643,4639,4854,4858,4959,4794,4844,4908,4867,4824,4745,4728,4731,4930,4989,5096,5035,5159,5104,5155,{"$f":"AVERAGE(lokalsykehus_befolkning[[#This Row],[2022]:[2040]])","v":4906.2631578947367},{"$f":"_xlfn.STDEV.P(lokalsykehus_befolkning[[#This Row],[2022]:[2040]])/lokalsykehus_befolkning[[#This Row],[Gjennomsnitt 2022-2040]]","v":3.0209550052814199E-2},{"$f":"-(lokalsykehus_befolkning[[#This Row],[Gjennomsnitt 2022-2040]]-MIN(lokalsykehus_befolkning[[#This Row],[2022]:[2040]]))/lokalsykehus_befolkning[[#This Row],[Gjennomsnitt 2022-2040]]","v":-5.4473873351999019E-2},{"$f":"(MAX(lokalsykehus_befolkning[[#This Row],[2022]:[2040]])-lokalsykehus_befolkning[[#This Row],[Gjennomsnitt 2022-2040]])/lokalsykehus_befolkning[[#This Row],[Gjennomsnitt 2022-2040]]","v":5.1513103551851055E-2},{"$f":"MAX(lokalsykehus_befolkning[[#This Row],[2022]:[2040]])-MIN(lokalsykehus_befolkning[[#This Row],[2022]:[2040]])","v":520},{"$f":"SUM(lokalsykehus_befolkning[[#This Row],[2022]:[2040]])","v":93219}]
[null,"Total",null,{"$f":"SUBTOTAL(109,lokalsykehus_befolkning[Hele2022])","v":5417351},{"$f":"SUBTOTAL(109,lokalsykehus_befolkning[Hele2023])","v":5444679},{"$f":"SUBTOTAL(109,lokalsykehus_befolkning[Hele2024])","v":5471238},{"$f":"SUBTOTAL(109,lokalsykehus_befolkning[Hele2025])","v":5497555},{"$f":"SUBTOTAL(109,lokalsykehus_befolkning[Hele2026])","v":5523922},{"$f":"SUBTOTAL(109,lokalsykehus_befolkning[Hele2027])","v":5549889},{"$f":"SUBTOTAL(109,lokalsykehus_befolkning[Hele2028])","v":5575492},{"$f":"SUBTOTAL(109,lokalsykehus_befolkning[Hele2029])","v":5600752},{"$f":"SUBTOTAL(109,lokalsykehus_befolkning[Hele2030])","v":5625562},{"$f":"SUBTOTAL(109,lokalsykehus_befolkning[Hele2031])","v":5649887},{"$f":"SUBTOTAL(109,lokalsykehus_befolkning[Hele2032])","v":5673571},{"$f":"SUBTOTAL(109,lokalsykehus_befolkning[Hele2033])","v":5696691},{"$f":"SUBTOTAL(109,lokalsykehus_befolkning[Hele2034])","v":5719345},{"$f":"SUBTOTAL(109,lokalsykehus_befolkning[Hele2035])","v":5741563},{"$f":"SUBTOTAL(109,lokalsykehus_befolkning[Hele2036])","v":5763380},{"$f":"SUBTOTAL(109,lokalsykehus_befolkning[Hele2037])","v":5784462},{"$f":"SUBTOTAL(109,lokalsykehus_befolkning[Hele2038])","v":5804512},{"$f":"SUBTOTAL(109,lokalsykehus_befolkning[Hele2039])","v":5823542},{"$f":"SUBTOTAL(109,lokalsykehus_befolkning[Hele2040])","v":5841616},{"$f":"SUBTOTAL(109,lokalsykehus_befolkning[2022])","v":72908},{"$f":"SUBTOTAL(109,lokalsykehus_befolkning[2023])","v":73280},{"$f":"SUBTOTAL(109,lokalsykehus_befolkning[2024])","v":75217},{"$f":"SUBTOTAL(109,lokalsykehus_befolkning[2025])","v":75959},{"$f":"SUBTOTAL(109,lokalsykehus_befolkning[2026])","v":74460},{"$f":"SUBTOTAL(109,lokalsykehus_befolkning[2027])","v":75330},{"$f":"SUBTOTAL(109,lokalsykehus_befolkning[2028])","v":75335},{"$f":"SUBTOTAL(109,lokalsykehus_befolkning[2029])","v":73014},{"$f":"SUBTOTAL(109,lokalsykehus_befolkning[2030])","v":72921},{"$f":"SUBTOTAL(109,lokalsykehus_befolkning[2031])","v":70182},{"$f":"SUBTOTAL(109,lokalsykehus_befolkning[2032])","v":68563},{"$f":"SUBTOTAL(109,lokalsykehus_befolkning[2033])","v":67152},{"$f":"SUBTOTAL(109,lokalsykehus_befolkning[2034])","v":68963},{"$f":"SUBTOTAL(109,lokalsykehus_befolkning[2035])","v":69573},{"$f":"SUBTOTAL(109,lokalsykehus_befolkning[2036])","v":70674},{"$f":"SUBTOTAL(109,lokalsykehus_befolkning[2037])","v":69961},{"$f":"SUBTOTAL(109,lokalsykehus_befolkning[2038])","v":71589},{"$f":"SUBTOTAL(109,lokalsykehus_befolkning[2039])","v":71405},{"$f":"SUBTOTAL(109,lokalsykehus_befolkning[2040])","v":71875},{"$f":"AVERAGE(lokalsykehus_befolkning[[#Totals],[2022]:[2040]])","v":72019},{"$f":"_xlfn.STDEV.P(lokalsykehus_befolkning[[#Totals],[2022]:[2040]])/lokalsykehus_befolkning[[#Totals],[Gjennomsnitt 2022-2040]]","v":3.4721421191275435E-2},{"$f":"SUBTOTAL(105,lokalsykehus_befolkning[Maksavvik ned])","v":-0.20049504950495056},{"$f":"SUBTOTAL(104,lokalsykehus_befolkning[Maksavvik opp])","v":0.27300731613400087},null,{"$f":"SUBTOTAL(109,lokalsykehus_befolkning[Sum])","v":1368361}]
[]
[null,"Verdi","Column10","Column11","Column9","Column8","Column7","Column6","Column5","Column4","Column3","Column2","Column1","Column19","Column18","Column17","Column16","Column15","Column14","Column13","Column12","2022","2023","2024","2025","2026","2027","2028","2029","2030","2031","2032","2033","2034","2035","2036","2037","2038","2039","2040"]
[null,"Andeler årskull",null,null,null,null,null,null,null,null,null,null,null,null,null,null,null,null,null,null,null,{"$f":"hf[[#Totals],[2022]]/hf[[#Totals],[Hele2022]]","v":1.3458238168433244E-2},{"$f":"Y22/$D22","v":1.3459012000523815E-2},1.3814772183998359E-2,1.3951052027125934E-2,1.3675737357519148E-2,1.3835526391914014E-2,1.3836444719697891E-2,1.3410156962421475E-2,1.3393076065641335E-2,1.2890016105632673E-2,1.2592661569212803E-2,1.2333509468602281E-2,1.2666127791923087E-2,1.2778163781556268E-2,1.2980379559566322E-2,1.2849426017585243E-2,1.3148433544016094E-2,1.3114639081569363E-2,1.3200961893253945E-2]
[null,"Fordeling 1.1.22",null,null,null,null,null,null,null,null,null,null,null,null,null,null,null,null,null,null,null,{"$f":"hf[[#Totals],[2022]]/hf[[#Totals],[Hele2022]]","v":1.3458238168433244E-2},{"$f":"befolkningsfordeling[[#This Row],[2022]]","v":1.3458238168433244E-2},{"$f":"befolkningsfordeling[[#This Row],[2023]]","v":1.3458238168433244E-2},{"$f":"befolkningsfordeling[[#This Row],[2024]]","v":1.3458238168433244E-2},{"$f":"befolkningsfordeling[[#This Row],[2025]]","v":1.3458238168433244E-2},{"$f":"befolkningsfordeling[[#This Row],[2026]]","v":1.3458238168433244E-2},{"$f":"befolkningsfordeling[[#This Row],[2027]]","v":1.3458238168433244E-2},{"$f":"befolkningsfordeling[[#This Row],[2028]]","v":1.3458238168433244E-2},{"$f":"befolkningsfordeling[[#This Row],[2029]]","v":1.3458238168433244E-2},{"$f":"befolkningsfordeling[[#This Row],[2030]]","v":1.3458238168433244E-2},{"$f":"befolkningsfordeling[[#This Row],[2031]]","v":1.3458238168433244E-2},{"$f":"befolkningsfordeling[[#This Row],[2032]]","v":1.3458238168433244E-2},{"$f":"befolkningsfordeling[[#This Row],[2033]]","v":1.3458238168433244E-2},{"$f":"befolkningsfordeling[[#This Row],[2034]]","v":1.3458238168433244E-2},{"$f":"befolkningsfordeling[[#This Row],[2035]]","v":1.3458238168433244E-2},{"$f":"befolkningsfordeling[[#This Row],[2036]]","v":1.3458238168433244E-2},{"$f":"befolkningsfordeling[[#This Row],[2037]]","v":1.3458238168433244E-2},{"$f":"befolkningsfordeling[[#This Row],[2038]]","v":1.3458238168433244E-2},{"$f":"befolkningsfordeling[[#This Row],[2039]]","v":1.3458238168433244E-2}]

{"sheet":"Underlag_Bosatte_kommune","index":6,"n_rows":376,"n_cols":45,"rows_kept":376,"cut":false,"hidden":true,"merged":[[0,7,0,25],[0,26,0,35]]}
[null,null,null,null,null,null,null,"Disse data brukes 55-åringer",null,null,null,null,null,null,null,null,null,null,null,null,null,null,null,null,null,null,"Disse data brukes totalbefolkning"]
["Kommunenr","Kommune","RHF","Helseforetak","Lokalsykehusområde","2020","2021","2022","2023","2024","2025","2026","2027","2028","2029","2030","2031","2032","2033","2034","2035","2036","2037","2038","2039","2040","2022-tot","2023-tot","2024-tot","2025-tot","2026-tot","2027-tot","2028-tot","2029-tot","2030-tot","2031-tot","2032-tot","2033-tot","2034-tot","2035-tot","2036-tot","2037-tot","2038-tot","2039-tot","2040-tot"]
[1820,"Alstahaug","Helse Nord","Helgelandssykehuset","Sandnessjøen",{"$f":"INDEX(Table11[],MATCH(TEXT(hf_kommune[[#This Row],[Kommunenr]],\"0\"),Table11[Nr],0),MATCH(hf_kommune[[#Headers],[2020]],Table11[#Headers],0))","v":109},{"$f":"INDEX(Table11[],MATCH(TEXT(hf_kommune[[#This Row],[Kommunenr]],\"0\"),Table11[Nr],0),MATCH(hf_kommune[[#Headers],[2021]],Table11[#Headers],0))","v":87},{"$f":"INDEX(Table11[],MATCH(TEXT(hf_kommune[[#This Row],[Kommunenr]],\"0\"),Table11[Nr],0),MATCH(hf_kommune[[#Headers],[2022]],Table11[#Headers],0))","v":101},{"$f":"INDEX(Table11[],MATCH(TEXT(hf_kommune[[#This Row],[Kommunenr]],\"0\"),Table11[Nr],0),MATCH(hf_kommune[[#Headers],[2023]],Table11[#Headers],0))","v":104},{"$f":"INDEX(Table11[],MATCH(TEXT(hf_kommune[[#This Row],[Kommunenr]],\"0\"),Table11[Nr],0),MATCH(hf_kommune[[#Headers],[2024]],Table11[#Headers],0))","v":120},{"$f":"INDEX(Table11[],MATCH(TEXT(hf_kommune[[#This Row],[Kommunenr]],\"0\"),Table11[Nr],0),MATCH(hf_kommune[[#Headers],[2025]],Table11[#Headers],0))","v":117},{"$f":"INDEX(Table11[],MATCH(TEXT(hf_kommune[[#This Row],[Kommunenr]],\"0\"),Table11[Nr],0),MATCH(hf_kommune[[#Headers],[2026]],Table11[#Headers],0))","v":125},{"$f":"INDEX(Table11[],MATCH(TEXT(hf_kommune[[#This Row],[Kommunenr]],\"0\"),Table11[Nr],0),MATCH(hf_kommune[[#Headers],[2027]],Table11[#Headers],0))","v":106},{"$f":"INDEX(Table11[],MATCH(TEXT(hf_kommune[[#This Row],[Kommunenr]],\"0\"),Table11[Nr],0),MATCH(hf_kommune[[#Headers],[2028]],Table11[#Headers],0))","v":96},{"$f":"INDEX(Table11[],MATCH(TEXT(hf_kommune[[#This Row],[Kommunenr]],\"0\"),Table11[Nr],0),MATCH(hf_kommune[[#Headers],[2029]],Table11[#Headers],0))","v":78},{"$f":"INDEX(Table11[],MATCH(TEXT(hf_kommune[[#This Row],[Kommunenr]],\"0\"),Table11[Nr],0),MATCH(hf_kommune[[#Headers],[2030]],Table11[#Headers],0))","v":89},{"$f":"INDEX(Table11[],MATCH(TEXT(hf_kommune[[#This Row],[Kommunenr]],\"0\"),Table11[Nr],0),MATCH(hf_kommune[[#Headers],[2031]],Table11[#Headers],0))","v":83},{"$f":"INDEX(Table11[],MATCH(TEXT(hf_kommune[[#This Row],[Kommunenr]],\"0\"),Table11[Nr],0),MATCH(hf_kommune[[#Headers],[2032]],Table11[#Headers],0))","v":72},{"$f":"INDEX(Table11[],MATCH(TEXT(hf_kommune[[#This Row],[Kommunenr]],\"0\"),Table11[Nr],0),MATCH(hf_kommune[[#Headers],[2033]],Table11[#Headers],0))","v":79},{"$f":"INDEX(Table11[],MATCH(TEXT(hf_kommune[[#This Row],[Kommunenr]],\"0\"),Table11[Nr],0),MATCH(hf_kommune[[#Headers],[2034]],Table11[#Headers],0))","v":72},{"$f":"INDEX(Table11[],MATCH(TEXT(hf_kommune[[#This Row],[Kommunenr]],\"0\"),Table11[Nr],0),MATCH(hf_kommune[[#Headers],[2035]],Table11[#Headers],0))","v":79},{"$f":"INDEX(Table11[],MATCH(TEXT(hf_kommune[[#This Row],[Kommunenr]],\"0\"),Table11[Nr],0),MATCH(hf_kommune[[#Headers],[2036]],Table11[#Headers],0))","v":70},{"$f":"INDEX(Table11[],MATCH(TEXT(hf_kommune[[#This Row],[Kommunenr]],\"0\"),Table11[Nr],0),MATCH(hf_kommune[[#Headers],[2037]],Table11[#Headers],0))","v":80},{"$f":"INDEX(Table11[],MATCH(TEXT(hf_kommune[[#This Row],[Kommunenr]],\"0\"),Table11[Nr],0),MATCH(hf_kommune[[#Headers],[2038]],Table11[#Headers],0))","v":79},{"$f":"INDEX(Table11[],MATCH(TEXT(hf_kommune[[#This Row],[Kommunenr]],\"0\"),Table11[Nr],0),MATCH(hf_kommune[[#Headers],[2039]],Table11[#Headers],0))","v":78},{"$f":"INDEX(Table11[],MATCH(TEXT(hf_kommune[[#This Row],[Kommunenr]],\"0\"),Table11[Nr],0),MATCH(hf_kommune[[#Headers],[2040]],Table11[#Headers],0))","v":75},7432,7430,7428,7427,7428,7431,7434,7438,7443,7446,7449,7450,7451,7452,7452,7451,7449,7446,7441]
[5403,"Alta","Helse Nord","Finnmarkssykehuset","Hammerfest",{"$f":"INDEX(Table11[],MATCH(TEXT(hf_kommune[[#This Row],[Kommunenr]],\"0\"),Table11[Nr],0),MATCH(hf_kommune[[#Headers],[2020]],Table11[#Headers],0))","v":284},{"$f":"INDEX(Table11[],MATCH(TEXT(hf_kommune[[#This Row],[Kommunenr]],\"0\"),Table11[Nr],0),MATCH(hf_kommune[[#Headers],[2021]],Table11[#Headers],0))","v":267},{"$f":"INDEX(Table11[],MATCH(TEXT(hf_kommune[[#This Row],[Kommunenr]],\"0\"),Table11[Nr],0),MATCH(hf_kommune[[#Headers],[2022]],Table11[#Headers],0))","v":286},{"$f":"INDEX(Table11[],MATCH(TEXT(hf_kommune[[#This Row],[Kommunenr]],\"0\"),Table11[Nr],0),MATCH(hf_kommune[[#Headers],[2023]],Table11[#Headers],0))","v":267},{"$f":"INDEX(Table11[],MATCH(TEXT(hf_kommune[[#This Row],[Kommunenr]],\"0\"),Table11[Nr],0),MATCH(hf_kommune[[#Headers],[2024]],Table11[#Headers],0))","v":328},{"$f":"INDEX(Table11[],MATCH(TEXT(hf_kommune[[#This Row],[Kommunenr]],\"0\"),Table11[Nr],0),MATCH(hf_kommune[[#Headers],[2025]],Table11[#Headers],0))","v":287},{"$f":"INDEX(Table11[],MATCH(TEXT(hf_kommune[[#This Row],[Kommunenr]],\"0\"),Table11[Nr],0),MATCH(hf_kommune[[#Headers],[2026]],Table11[#Headers],0))","v":325},{"$f":"INDEX(Table11[],MATCH(TEXT(hf_kommune[[#This Row],[Kommunenr]],\"0\"),Table11[Nr],0),MATCH(hf_kommune[[#Headers],[2027]],Table11[#Headers],0))","v":319},{"$f":"INDEX(Table11[],MATCH(TEXT(hf_kommune[[#This Row],[Kommunenr]],\"0\"),Table11[Nr],0),MATCH(hf_kommune[[#Headers],[2028]],Table11[#Headers],0))","v":287},{"$f":"INDEX(Table11[],MATCH(TEXT(hf_kommune[[#This Row],[Kommunenr]],\"0\"),Table11[Nr],0),MATCH(hf_kommune[[#Headers],[2029]],Table11[#Headers],0))","v":303},{"$f":"INDEX(Table11[],MATCH(TEXT(hf_kommune[[#This Row],[Kommunenr]],\"0\"),Table11[Nr],0),MATCH(hf_kommune[[#Headers],[2030]],Table11[#Headers],0))","v":292},{"$f":"INDEX(Table11[],MATCH(TEXT(hf_kommune[[#This Row],[Kommunenr]],\"0\"),Table11[Nr],0),MATCH(hf_kommune[[#Headers],[2031]],Table11[#Headers],0))","v":267},{"$f":"INDEX(Table11[],MATCH(TEXT(hf_kommune[[#This Row],[Kommunenr]],\"0\"),Table11[Nr],0),MATCH(hf_kommune[[#Headers],[2032]],Table11[#Headers],0))","v":245},{"$f":"INDEX(Table11[],MATCH(TEXT(hf_kommune[[#This Row],[Kommunenr]],\"0\"),Table11[Nr],0),MATCH(hf_kommune[[#Headers],[2033]],Table11[#Headers],0))","v":187},{"$f":"INDEX(Table11[],MATCH(TEXT(hf_kommune[[#This Row],[Kommunenr]],\"0\"),Table11[Nr],0),MATCH(hf_kommune[[#Headers],[2034]],Table11[#Headers],0))","v":244},{"$f":"INDEX(Table11[],MATCH(TEXT(hf_kommune[[#This Row],[Kommunenr]],\"0\"),Table11[Nr],0),MATCH(hf_kommune[[#Headers],[2035]],Table11[#Headers],0))","v":213},{"$f":"INDEX(Table11[],MATCH(TEXT(hf_kommune[[#This Row],[Kommunenr]],\"0\"),Table11[Nr],0),MATCH(hf_kommune[[#Headers],[2036]],Table11[#Headers],0))","v":232},{"$f":"INDEX(Table11[],MATCH(TEXT(hf_kommune[[#This Row],[Kommunenr]],\"0\"),Table11[Nr],0),MATCH(hf_kommune[[#Headers],[2037]],Table11[#Headers],0))","v":220},{"$f":"INDEX(Table11[],MATCH(TEXT(hf_kommune[[#This Row],[Kommunenr]],\"0\"),Table11[Nr],0),MATCH(hf_kommune[[#Headers],[2038]],Table11[#Headers],0))","v":253},{"$f":"INDEX(Table11[],MATCH(TEXT(hf_kommune[[#This Row],[Kommunenr]],\"0\"),Table11[Nr],0),MATCH(hf_kommune[[#Headers],[2039]],Table11[#Headers],0))","v":246},{"$f":"INDEX(Table11[],MATCH(TEXT(hf_kommune[[#This Row],[Kommunenr]],\"0\"),Table11[Nr],0),MATCH(hf_kommune[[#Headers],[2040]],Table11[#Headers],0))","v":252},20831,20871,20911,20953,20998,21043,21088,21133,21177,21220,21261,21301,21340,21378,21415,21451,21483,21511,21537]
[3428,"Alvdal","Helse Sør-Øst","Sykehuset Innlandet","Tynset",{"$f":"INDEX(Table11[],MATCH(TEXT(hf_kommune[[#This Row],[Kommunenr]],\"0\"),Table11[Nr],0),MATCH(hf_kommune[[#Headers],[2020]],Table11[#Headers],0))","v":26},{"$f":"INDEX(Table11[],MATCH(TEXT(hf_kommune[[#This Row],[Kommunenr]],\"0\"),Table11[Nr],0),MATCH(hf_kommune[[#Headers],[2021]],Table11[#Headers],0))","v":36},{"$f":"INDEX(Table11[],MATCH(TEXT(hf_kommune[[#This Row],[Kommunenr]],\"0\"),Table11[Nr],0),MATCH(hf_kommune[[#Headers],[2022]],Table11[#Headers],0))","v":39},{"$f":"INDEX(Table11[],MATCH(TEXT(hf_kommune[[#This Row],[Kommunenr]],\"0\"),Table11[Nr],0),MATCH(hf_kommune[[#Headers],[2023]],Table11[#Headers],0))","v":31},{"$f":"INDEX(Table11[],MATCH(TEXT(hf_kommune[[#This Row],[Kommunenr]],\"0\"),Table11[Nr],0),MATCH(hf_kommune[[#Headers],[2024]],Table11[#Headers],0))","v":31},{"$f":"INDEX(Table11[],MATCH(TEXT(hf_kommune[[#This Row],[Kommunenr]],\"0\"),Table11[Nr],0),MATCH(hf_kommune[[#Headers],[2025]],Table11[#Headers],0))","v":41},{"$f":"INDEX(Table11[],MATCH(TEXT(hf_kommune[[#This Row],[Kommunenr]],\"0\"),Table11[Nr],0),MATCH(hf_kommune[[#Headers],[2026]],Table11[#Headers],0))","v":33},{"$f":"INDEX(Table11[],MATCH(TEXT(hf_kommune[[#This Row],[Kommunenr]],\"0\"),Table11[Nr],0),MATCH(hf_kommune[[#Headers],[2027]],Table11[#Headers],0))","v":28},{"$f":"INDEX(Table11[],MATCH(TEXT(hf_kommune[[#This Row],[Kommunenr]],\"0\"),Table11[Nr],0),MATCH(hf_kommune[[#Headers],[2028]],Table11[#Headers],0))","v":29},{"$f":"INDEX(Table11[],MATCH(TEXT(hf_kommune[[#This Row],[Kommunenr]],\"0\"),Table11[Nr],0),MATCH(hf_kommune[[#Headers],[2029]],Table11[#Headers],0))","v":30},{"$f":"INDEX(Table11[],MATCH(TEXT(hf_kommune[[#This Row],[Kommunenr]],\"0\"),Table11[Nr],0),MATCH(hf_kommune[[#Headers],[2030]],Table11[#Headers],0))","v":24},{"$f":"INDEX(Table11[],MATCH(TEXT(hf_kommune[[#This Row],[Kommunenr]],\"0\"),Table11[Nr],0),MATCH(hf_kommune[[#Headers],[2031]],Table11[#Headers],0))","v":25},{"$f":"INDEX(Table11[],MATCH(TEXT(hf_kommune[[#This Row],[Kommunenr]],\"0\"),Table11[Nr],0),MATCH(hf_kommune[[#Headers],[2032]],Table11[#Headers],0))","v":29},{"$f":"INDEX(Table11[],MATCH(TEXT(hf_kommune[[#This Row],[Kommunenr]],\"0\"),Table11[Nr],0),MATCH(hf_kommune[[#Headers],[2033]],Table11[#Headers],0))","v":25},{"$f":"INDEX(Table11[],MATCH(TEXT(hf_kommune[[#This Row],[Kommunenr]],\"0\"),Table11[Nr],0),MATCH(hf_kommune[[#Headers],[2034]],Table11[#Headers],0))","v":29},{"$f":"INDEX(Table11[],MATCH(TEXT(hf_kommune[[#This Row],[Kommunenr]],\"0\"),Table11[Nr],0),MATCH(hf_kommune[[#Headers],[2035]],Table11[#Headers],0))","v":24},{"$f":"INDEX(Table11[],MATCH(TEXT(hf_kommune[[#This Row],[Kommunenr]],\"0\"),Table11[Nr],0),MATCH(hf_kommune[[#Headers],[2036]],Table11[#Headers],0))","v":28},{"$f":"INDEX(Table11[],MATCH(TEXT(hf_kommune[[#This Row],[Kommunenr]],\"0\"),Table11[Nr],0),MATCH(hf_kommune[[#Headers],[2037]],Table11[#Headers],0))","v":18},{"$f":"INDEX(Table11[],MATCH(TEXT(hf_kommune[[#This Row],[Kommunenr]],\"0\"),Table11[Nr],0),MATCH(hf_kommune[[#Headers],[2038]],Table11[#Headers],0))","v":24},{"$f":"INDEX(Table11[],MATCH(TEXT(hf_kommune[[#This Row],[Kommunenr]],\"0\"),Table11[Nr],0),MATCH(hf_kommune[[#Headers],[2039]],Table11[#Headers],0))","v":25},{"$f":"INDEX(Table11[],MATCH(TEXT(hf_kommune[[#This Row],[Kommunenr]],\"0\"),Table11[Nr],0),MATCH(hf_kommune[[#Headers],[2040]],Table11[#Headers],0))","v":24},2407,2395,2382,2369,2356,2344,2333,2322,2312,2302,2293,2284,2275,2266,2258,2250,2243,2235,2228]
[4631,"Alver","Helse Vest","Helse Bergen","Haukeland",{"$f":"INDEX(Table11[],MATCH(TEXT(hf_kommune[[#This Row],[Kommunenr]],\"0\"),Table11[Nr],0),MATCH(hf_kommune[[#Headers],[2020]],Table11[#Headers],0))","v":335},{"$f":"INDEX(Table11[],MATCH(TEXT(hf_kommune[[#This Row],[Kommunenr]],\"0\"),Table11[Nr],0),MATCH(hf_kommune[[#Headers],[2021]],Table11[#Headers],0))","v":352},{"$f":"INDEX(Table11[],MATCH(TEXT(hf_kommune[[#This Row],[Kommunenr]],\"0\"),Table11[Nr],0),MATCH(hf_kommune[[#Headers],[2022]],Table11[#Headers],0))","v":365},{"$f":"INDEX(Table11[],MATCH(TEXT(hf_kommune[[#This Row],[Kommunenr]],\"0\"),Table11[Nr],0),MATCH(hf_kommune[[#Headers],[2023]],Table11[#Headers],0))","v":411},{"$f":"INDEX(Table11[],MATCH(TEXT(hf_kommune[[#This Row],[Kommunenr]],\"0\"),Table11[Nr],0),MATCH(hf_kommune[[#Headers],[2024]],Table11[#Headers],0))","v":380},{"$f":"INDEX(Table11[],MATCH(TEXT(hf_kommune[[#This Row],[Kommunenr]],\"0\"),Table11[Nr],0),MATCH(hf_kommune[[#Headers],[2025]],Table11[#Headers],0))","v":425},{"$f":"INDEX(Table11[],MATCH(TEXT(hf_kommune[[#This Row],[Kommunenr]],\"0\"),Table11[Nr],0),MATCH(hf_kommune[[#Headers],[2026]],Table11[#Headers],0))","v":403},{"$f":"INDEX(Table11[],MATCH(TEXT(hf_kommune[[#This Row],[Kommunenr]],\"0\"),Table11[Nr],0),MATCH(hf_kommune[[#Headers],[2027]],Table11[#Headers],0))","v":422},{"$f":"INDEX(Table11[],MATCH(TEXT(hf_kommune[[#This Row],[Kommunenr]],\"0\"),Table11[Nr],0),MATCH(hf_kommune[[#Headers],[2028]],Table11[#Headers],0))","v":409},{"$f":"INDEX(Table11[],MATCH(TEXT(hf_kommune[[#This Row],[Kommunenr]],\"0\"),Table11[Nr],0),MATCH(hf_kommune[[#Headers],[2029]],Table11[#Headers],0))","v":432},{"$f":"INDEX(Table11[],MATCH(TEXT(hf_kommune[[#This Row],[Kommunenr]],\"0\"),Table11[Nr],0),MATCH(hf_kommune[[#Headers],[2030]],Table11[#Headers],0))","v":396},{"$f":"INDEX(Table11[],MATCH(TEXT(hf_kommune[[#This Row],[Kommunenr]],\"0\"),Table11[Nr],0),MATCH(hf_kommune[[#Headers],[2031]],Table11[#Headers],0))","v":391},{"$f":"INDEX(Table11[],MATCH(TEXT(hf_kommune[[#This Row],[Kommunenr]],\"0\"),Table11[Nr],0),MATCH(hf_kommune[[#Headers],[2032]],Table11[#Headers],0))","v":404},{"$f":"INDEX(Table11[],MATCH(TEXT(hf_kommune[[#This Row],[Kommunenr]],\"0\"),Table11[Nr],0),MATCH(hf_kommune[[#Headers],[2033]],Table11[#Headers],0))","v":371},{"$f":"INDEX(Table11[],MATCH(TEXT(hf_kommune[[#This Row],[Kommunenr]],\"0\"),Table11[Nr],0),MATCH(hf_kommune[[#Headers],[2034]],Table11[#Headers],0))","v":398},{"$f":"INDEX(Table11[],MATCH(TEXT(hf_kommune[[#This Row],[Kommunenr]],\"0\"),Table11[Nr],0),MATCH(hf_kommune[[#Headers],[2035]],Table11[#Headers],0))","v":403},{"$f":"INDEX(Table11[],MATCH(TEXT(hf_kommune[[#This Row],[Kommunenr]],\"0\"),Table11[Nr],0),MATCH(hf_kommune[[#Headers],[2036]],Table11[#Headers],0))","v":394},{"$f":"INDEX(Table11[],MATCH(TEXT(hf_kommune[[#This Row],[Kommunenr]],\"0\"),Table11[Nr],0),MATCH(hf_kommune[[#Headers],[2037]],Table11[#Headers],0))","v":407},{"$f":"INDEX(Table11[],MATCH(TEXT(hf_kommune[[#This Row],[Kommunenr]],\"0\"),Table11[Nr],0),MATCH(hf_kommune[[#Headers],[2038]],Table11[#Headers],0))","v":407},{"$f":"INDEX(Table11[],MATCH(TEXT(hf_kommune[[#This Row],[Kommunenr]],\"0\"),Table11[Nr],0),MATCH(hf_kommune[[#Headers],[2039]],Table11[#Headers],0))","v":375},{"$f":"INDEX(Table11[],MATCH(TEXT(hf_kommune[[#This Row],[Kommunenr]],\"0\"),Table11[Nr],0),MATCH(hf_kommune[[#Headers],[2040]],Table11[#Headers],0))","v":365},29369,29484,29623,29786,29972,30155,30335,30512,30685,30855,31021,31182,31341,31498,31653,31806,31955,32098,32237]
[1871,"Andøy","Helse Nord","Nordlandssykehuset","Stokmarknes",{"$f":"INDEX(Table11[],MATCH(TEXT(hf_kommune[[#This Row],[Kommunenr]],\"0\"),Table11[Nr],0),MATCH(hf_kommune[[#Headers],[2020]],Table11[#Headers],0))","v":69},{"$f":"INDEX(Table11[],MATCH(TEXT(hf_kommune[[#This Row],[Kommunenr]],\"0\"),Table11[Nr],0),MATCH(hf_kommune[[#Headers],[2021]],Table11[#Headers],0))","v":73},{"$f":"INDEX(Table11[],MATCH(TEXT(hf_kommune[[#This Row],[Kommunenr]],\"0\"),Table11[Nr],0),MATCH(hf_kommune[[#Headers],[2022]],Table11[#Headers],0))","v":73},{"$f":"INDEX(Table11[],MATCH(TEXT(hf_kommune[[#This Row],[Kommunenr]],\"0\"),Table11[Nr],0),MATCH(hf_kommune[[#Headers],[2023]],Table11[#Headers],0))","v":73},{"$f":"INDEX(Table11[],MATCH(TEXT(hf_kommune[[#This Row],[Kommunenr]],\"0\"),Table11[Nr],0),MATCH(hf_kommune[[#Headers],[2024]],Table11[#Headers],0))","v":64},{"$f":"INDEX(Table11[],MATCH(TEXT(hf_kommune[[#This Row],[Kommunenr]],\"0\"),Table11[Nr],0),MATCH(hf_kommune[[#Headers],[2025]],Table11[#Headers],0))","v":61},{"$f":"INDEX(Table11[],MATCH(TEXT(hf_kommune[[#This Row],[Kommunenr]],\"0\"),Table11[Nr],0),MATCH(hf_kommune[[#Headers],[2026]],Table11[#Headers],0))","v":61},{"$f":"INDEX(Table11[],MATCH(TEXT(hf_kommune[[#This Row],[Kommunenr]],\"0\"),Table11[Nr],0),MATCH(hf_kommune[[#Headers],[2027]],Table11[#Headers],0))","v":68},{"$f":"INDEX(Table11[],MATCH(TEXT(hf_kommune[[#This Row],[Kommunenr]],\"0\"),Table11[Nr],0),MATCH(hf_kommune[[#Headers],[2028]],Table11[#Headers],0))","v":52},{"$f":"INDEX(Table11[],MATCH(TEXT(hf_kommune[[#This Row],[Kommunenr]],\"0\"),Table11[Nr],0),MATCH(hf_kommune[[#Headers],[2029]],Table11[#Headers],0))","v":46},{"$f":"INDEX(Table11[],MATCH(TEXT(hf_kommune[[#This Row],[Kommunenr]],\"0\"),Table11[Nr],0),MATCH(hf_kommune[[#Headers],[2030]],Table11[#Headers],0))","v":56},{"$f":"INDEX(Table11[],MATCH(TEXT(hf_kommune[[#This Row],[Kommunenr]],\"0\"),Table11[Nr],0),MATCH(hf_kommune[[#Headers],[2031]],Table11[#Headers],0))","v":54},{"$f":"INDEX(Table11[],MATCH(TEXT(hf_kommune[[#This Row],[Kommunenr]],\"0\"),Table11[Nr],0),MATCH(hf_kommune[[#Headers],[2032]],Table11[#Headers],0))","v":45},{"$f":"INDEX(Table11[],MATCH(TEXT(hf_kommune[[#This Row],[Kommunenr]],\"0\"),Table11[Nr],0),MATCH(hf_kommune[[#Headers],[2033]],Table11[#Headers],0))","v":45},{"$f":"INDEX(Table11[],MATCH(TEXT(hf_kommune[[#This Row],[Kommunenr]],\"0\"),Table11[Nr],0),MATCH(hf_kommune[[#Headers],[2034]],Table11[#Headers],0))","v":50},{"$f":"INDEX(Table11[],MATCH(TEXT(hf_kommune[[#This Row],[Kommunenr]],\"0\"),Table11[Nr],0),MATCH(hf_kommune[[#Headers],[2035]],Table11[#Headers],0))","v":46},{"$f":"INDEX(Table11[],MATCH(TEXT(hf_kommune[[#This Row],[Kommunenr]],\"0\"),Table11[Nr],0),MATCH(hf_kommune[[#Headers],[2036]],Table11[#Headers],0))","v":48},{"$f":"INDEX(Table11[],MATCH(TEXT(hf_kommune[[#This Row],[Kommunenr]],\"0\"),Table11[Nr],0),MATCH(hf_kommune[[#Headers],[2037]],Table11[#Headers],0))","v":52},{"$f":"INDEX(Table11[],MATCH(TEXT(hf_kommune[[#This Row],[Kommunenr]],\"0\"),Table11[Nr],0),MATCH(hf_kommune[[#Headers],[2038]],Table11[#Headers],0))","v":43},{"$f":"INDEX(Table11[],MATCH(TEXT(hf_kommune[[#This Row],[Kommunenr]],\"0\"),Table11[Nr],0),MATCH(hf_kommune[[#Headers],[2039]],Table11[#Headers],0))","v":46},{"$f":"INDEX(Table11[],MATCH(TEXT(hf_kommune[[#This Row],[Kommunenr]],\"0\"),Table11[Nr],0),MATCH(hf_kommune[[#Headers],[2040]],Table11[#Headers],0))","v":50},4580,4556,4538,4527,4522,4516,4511,4506,4501,4495,4490,4484,4478,4471,4465,4458,4450,4442,4433]
[3012,"Aremark","Helse Sør-Øst","Sykehuset Østfold","Kalnes",{"$f":"INDEX(Table11[],MATCH(TEXT(hf_kommune[[#This Row],[Kommunenr]],\"0\"),Table11[Nr],0),MATCH(hf_kommune[[#Headers],[2020]],Table11[#Headers],0))","v":22},{"$f":"INDEX(Table11[],MATCH(TEXT(hf_kommune[[#This Row],[Kommunenr]],\"0\"),Table11[Nr],0),MATCH(hf_kommune[[#Headers],[2021]],Table11[#Headers],0))","v":26},{"$f":"INDEX(Table11[],MATCH(TEXT(hf_kommune[[#This Row],[Kommunenr]],\"0\"),Table11[Nr],0),MATCH(hf_kommune[[#Headers],[2022]],Table11[#Headers],0))","v":26},{"$f":"INDEX(Table11[],MATCH(TEXT(hf_kommune[[#This Row],[Kommunenr]],\"0\"),Table11[Nr],0),MATCH(hf_kommune[[#Headers],[2023]],Table11[#Headers],0))","v":32},{"$f":"INDEX(Table11[],MATCH(TEXT(hf_kommune[[#This Row],[Kommunenr]],\"0\"),Table11[Nr],0),MATCH(hf_kommune[[#Headers],[2024]],Table11[#Headers],0))","v":23},{"$f":"INDEX(Table11[],MATCH(TEXT(hf_kommune[[#This Row],[Kommunenr]],\"0\"),Table11[Nr],0),MATCH(hf_kommune[[#Headers],[2025]],Table11[#Headers],0))","v":20},{"$f":"INDEX(Table11[],MATCH(TEXT(hf_kommune[[#This Row],[Kommunenr]],\"0\"),Table11[Nr],0),MATCH(hf_kommune[[#Headers],[2026]],Table11[#Headers],0))","v":22},{"$f":"INDEX(Table11[],MATCH(TEXT(hf_kommune[[#This Row],[Kommunenr]],\"0\"),Table11[Nr],0),MATCH(hf_kommune[[#Headers],[2027]],Table11[#Headers],0))","v":17},{"$f":"INDEX(Table11[],MATCH(TEXT(hf_kommune[[#This Row],[Kommunenr]],\"0\"),Table11[Nr],0),MATCH(hf_kommune[[#Headers],[2028]],Table11[#Headers],0))","v":19},{"$f":"INDEX(Table11[],MATCH(TEXT(hf_kommune[[#This Row],[Kommunenr]],\"0\"),Table11[Nr],0),MATCH(hf_kommune[[#Headers],[2029]],Table11[#Headers],0))","v":21},{"$f":"INDEX(Table11[],MATCH(TEXT(hf_kommune[[#This Row],[Kommunenr]],\"0\"),Table11[Nr],0),MATCH(hf_kommune[[#Headers],[2030]],Table11[#Headers],0))","v":26},{"$f":"INDEX(Table11[],MATCH(TEXT(hf_kommune[[#This Row],[Kommunenr]],\"0\"),Table11[Nr],0),MATCH(hf_kommune[[#Headers],[2031]],Table11[#Headers],0))","v":14},{"$f":"INDEX(Table11[],MATCH(TEXT(hf_kommune[[#This Row],[Kommunenr]],\"0\"),Table11[Nr],0),MATCH(hf_kommune[[#Headers],[2032]],Table11[#Headers],0))","v":20},{"$f":"INDEX(Table11[],MATCH(TEXT(hf_kommune[[#This Row],[Kommunenr]],\"0\"),Table11[Nr],0),MATCH(hf_kommune[[#Headers],[2033]],Table11[#Headers],0))","v":20},{"$f":"INDEX(Table11[],MATCH(TEXT(hf_kommune[[#This Row],[Kommunenr]],\"0\"),Table11[Nr],0),MATCH(hf_kommune[[#Headers],[2034]],Table11[#Headers],0))","v":15},{"$f":"INDEX(Table11[],MATCH(TEXT(hf_kommune[[#This Row],[Kommunenr]],\"0\"),Table11[Nr],0),MATCH(hf_kommune[[#Headers],[2035]],Table11[#Headers],0))","v":16},{"$f":"INDEX(Table11[],MATCH(TEXT(hf_kommune[[#This Row],[Kommunenr]],\"0\"),Table11[Nr],0),MATCH(hf_kommune[[#Headers],[2036]],Table11[#Headers],0))","v":18},{"$f":"INDEX(Table11[],MATCH(TEXT(hf_kommune[[#This Row],[Kommunenr]],\"0\"),Table11[Nr],0),MATCH(hf_kommune[[#Headers],[2037]],Table11[#Headers],0))","v":18},{"$f":"INDEX(Table11[],MATCH(TEXT(hf_kommune[[#This Row],[Kommunenr]],\"0\"),Table11[Nr],0),MATCH(hf_kommune[[#Headers],[2038]],Table11[#Headers],0))","v":17},{"$f":"INDEX(Table11[],MATCH(TEXT(hf_kommune[[#This Row],[Kommunenr]],\"0\"),Table11[Nr],0),MATCH(hf_kommune[[#Headers],[2039]],Table11[#Headers],0))","v":19},{"$f":"INDEX(Table11[],MATCH(TEXT(hf_kommune[[#This Row],[Kommunenr]],\"0\"),Table11[Nr],0),MATCH(hf_kommune[[#Headers],[2040]],Table11[#Headers],0))","v":16},1304,1300,1300,1304,1313,1322,1330,1339,1348,1357,1365,1374,1382,1391,1399,1407,1415,1423,1430]
[4203,"Arendal","Helse Sør-Øst","Sørlandet sykehus","Arendal",{"$f":"INDEX(Table11[],MATCH(TEXT(hf_kommune[[#This Row],[Kommunenr]],\"0\"),Table11[Nr],0),MATCH(hf_kommune[[#Headers],[2020]],Table11[#Headers],0))","v":610},{"$f":"INDEX(Table11[],MATCH(TEXT(hf_kommune[[#This Row],[Kommunenr]],\"0\"),Table11[Nr],0),MATCH(hf_kommune[[#Headers],[2021]],Table11[#Headers],0))","v":657},{"$f":"INDEX(Table11[],MATCH(TEXT(hf_kommune[[#This Row],[Kommunenr]],\"0\"),Table11[Nr],0),MATCH(hf_kommune[[#Headers],[2022]],Table11[#Headers],0))","v":602},{"$f":"INDEX(Table11[],MATCH(TEXT(hf_kommune[[#This Row],[Kommunenr]],\"0\"),Table11[Nr],0),MATCH(hf_kommune[[#Headers],[2023]],Table11[#Headers],0))","v":657},{"$f":"INDEX(Table11[],MATCH(TEXT(hf_kommune[[#This Row],[Kommunenr]],\"0\"),Table11[Nr],0),MATCH(hf_kommune[[#Headers],[2024]],Table11[#Headers],0))","v":637},{"$f":"INDEX(Table11[],MATCH(TEXT(hf_kommune[[#This Row],[Kommunenr]],\"0\"),Table11[Nr],0),MATCH(hf_kommune[[#Headers],[2025]],Table11[#Headers],0))","v":708},{"$f":"INDEX(Table11[],MATCH(TEXT(hf_kommune[[#This Row],[Kommunenr]],\"0\"),Table11[Nr],0),MATCH(hf_kommune[[#Headers],[2026]],Table11[#Headers],0))","v":670},{"$f":"INDEX(Table11[],MATCH(TEXT(hf_kommune[[#This Row],[Kommunenr]],\"0\"),Table11[Nr],0),MATCH(hf_kommune[[#Headers],[2027]],Table11[#Headers],0))","v":646},{"$f":"INDEX(Table11[],MATCH(TEXT(hf_kommune[[#This Row],[Kommunenr]],\"0\"),Table11[Nr],0),MATCH(hf_kommune[[#Headers],[2028]],Table11[#Headers],0))","v":674},{"$f":"INDEX(Table11[],MATCH(TEXT(hf_kommune[[#This Row],[Kommunenr]],\"0\"),Table11[Nr],0),MATCH(hf_kommune[[#Headers],[2029]],Table11[#Headers],0))","v":676},{"$f":"INDEX(Table11[],MATCH(TEXT(hf_kommune[[#This Row],[Kommunenr]],\"0\"),Table11[Nr],0),MATCH(hf_kommune[[#Headers],[2030]],Table11[#Headers],0))","v":654},{"$f":"INDEX(Table11[],MATCH(TEXT(hf_kommune[[#This Row],[Kommunenr]],\"0\"),Table11[Nr],0),MATCH(hf_kommune[[#Headers],[2031]],Table11[#Headers],0))","v":675},{"$f":"INDEX(Table11[],MATCH(TEXT(hf_kommune[[#This Row],[Kommunenr]],\"0\"),Table11[Nr],0),MATCH(hf_kommune[[#Headers],[2032]],Table11[#Headers],0))","v":633},{"$f":"INDEX(Table11[],MATCH(TEXT(hf_kommune[[#This Row],[Kommunenr]],\"0\"),Table11[Nr],0),MATCH(hf_kommune[[#Headers],[2033]],Table11[#Headers],0))","v":608},{"$f":"INDEX(Table11[],MATCH(TEXT(hf_kommune[[#This Row],[Kommunenr]],\"0\"),Table11[Nr],0),MATCH(hf_kommune[[#Headers],[2034]],Table11[#Headers],0))","v":602},{"$f":"INDEX(Table11[],MATCH(TEXT(hf_kommune[[#This Row],[Kommunenr]],\"0\"),Table11[Nr],0),MATCH(hf_kommune[[#Headers],[2035]],Table11[#Headers],0))","v":586},{"$f":"INDEX(Table11[],MATCH(TEXT(hf_kommune[[#This Row],[Kommunenr]],\"0\"),Table11[Nr],0),MATCH(hf_kommune[[#Headers],[2036]],Table11[#Headers],0))","v":627},{"$f":"INDEX(Table11[],MATCH(TEXT(hf_kommune[[#This Row],[Kommunenr]],\"0\"),Table11[Nr],0),MATCH(hf_kommune[[#Headers],[2037]],Table11[#Headers],0))","v":628},{"$f":"INDEX(Table11[],MATCH(TEXT(hf_kommune[[#This Row],[Kommunenr]],\"0\"),Table11[Nr],0),MATCH(hf_kommune[[#Headers],[2038]],Table11[#Headers],0))","v":623},{"$f":"INDEX(Table11[],MATCH(TEXT(hf_kommune[[#This Row],[Kommunenr]],\"0\"),Table11[Nr],0),MATCH(hf_kommune[[#Headers],[2039]],Table11[#Headers],0))","v":625},{"$f":"INDEX(Table11[],MATCH(TEXT(hf_kommune[[#This Row],[Kommunenr]],\"0\"),Table11[Nr],0),MATCH(hf_kommune[[#Headers],[2040]],Table11[#Headers],0))","v":676},45217,45358,45503,45653,45810,45960,46105,46244,46380,46513,46642,46769,46894,47020,47147,47271,47392,47507,47616]
[3025,"Asker","Helse Sør-Øst","Vestre Viken","Bærum",{"$f":"INDEX(Table11[],MATCH(TEXT(hf_kommune[[#This Row],[Kommunenr]],\"0\"),Table11[Nr],0),MATCH(hf_kommune[[#Headers],[2020]],Table11[#Headers],0))","v":1379},{"$f":"INDEX(Table11[],MATCH(TEXT(hf_kommune[[#This Row],[Kommunenr]],\"0\"),Table11[Nr],0),MATCH(hf_kommune[[#Headers],[2021]],Table11[#Headers],0))","v":1407},{"$f":"INDEX(Table11[],MATCH(TEXT(hf_kommune[[#This Row],[Kommunenr]],\"0\"),Table11[Nr],0),MATCH(hf_kommune[[#Headers],[2022]],Table11[#Headers],0))","v":1446},{"$f":"INDEX(Table11[],MATCH(TEXT(hf_kommune[[#This Row],[Kommunenr]],\"0\"),Table11[Nr],0),MATCH(hf_kommune[[#Headers],[2023]],Table11[#Headers],0))","v":1452},{"$f":"INDEX(Table11[],MATCH(TEXT(hf_kommune[[#This Row],[Kommunenr]],\"0\"),Table11[Nr],0),MATCH(hf_kommune[[#Headers],[2024]],Table11[#Headers],0))","v":1467},{"$f":"INDEX(Table11[],MATCH(TEXT(hf_kommune[[#This Row],[Kommunenr]],\"0\"),Table11[Nr],0),MATCH(hf_kommune[[#Headers],[2025]],Table11[#Headers],0))","v":1468},{"$f":"INDEX(Table11[],MATCH(TEXT(hf_kommune[[#This Row],[Kommunenr]],\"0\"),Table11[Nr],0),MATCH(hf_kommune[[#Headers],[2026]],Table11[#Headers],0))","v":1392},{"$f":"INDEX(Table11[],MATCH(TEXT(hf_kommune[[#This Row],[Kommunenr]],\"0\"),Table11[Nr],0),MATCH(hf_kommune[[#Headers],[2027]],Table11[#Headers],0))","v":1454},{"$f":"INDEX(Table11[],MATCH(TEXT(hf_kommune[[#This Row],[Kommunenr]],\"0\"),Table11[Nr],0),MATCH(hf_kommune[[#Headers],[2028]],Table11[#Headers],0))","v":1496},{"$f":"INDEX(Table11[],MATCH(TEXT(hf_kommune[[#This Row],[Kommunenr]],\"0\"),Table11[Nr],0),MATCH(hf_kommune[[#Headers],[2029]],Table11[#Headers],0))","v":1504},{"$f":"INDEX(Table11[],MATCH(TEXT(hf_kommune[[#This Row],[Kommunenr]],\"0\"),Table11[Nr],0),MATCH(hf_kommune[[#Headers],[2030]],Table11[#Headers],0))","v":1495},{"$f":"INDEX(Table11[],MATCH(TEXT(hf_kommune[[#This Row],[Kommunenr]],\"0\"),Table11[Nr],0),MATCH(hf_kommune[[#Headers],[2031]],Table11[#Headers],0))","v":1406},{"$f":"INDEX(Table11[],MATCH(TEXT(hf_kommune[[#This Row],[Kommunenr]],\"0\"),Table11[Nr],0),MATCH(hf_kommune[[#Headers],[2032]],Table11[#Headers],0))","v":1371},{"$f":"INDEX(Table11[],MATCH(TEXT(hf_kommune[[#This Row],[Kommunenr]],\"0\"),Table11[Nr],0),MATCH(hf_kommune[[#Headers],[2033]],Table11[#Headers],0))","v":1358},{"$f":"INDEX(Table11[],MATCH(TEXT(hf_kommune[[#This Row],[Kommunenr]],\"0\"),Table11[Nr],0),MATCH(hf_kommune[[#Headers],[2034]],Table11[#Headers],0))","v":1404},{"$f":"INDEX(Table11[],MATCH(TEXT(hf_kommune[[#This Row],[Kommunenr]],\"0\"),Table11[Nr],0),MATCH(hf_kommune[[#Headers],[2035]],Table11[#Headers],0))","v":1420},{"$f":"INDEX(Table11[],MATCH(TEXT(hf_kommune[[#This Row],[Kommunenr]],\"0\"),Table11[Nr],0),MATCH(hf_kommune[[#Headers],[2036]],Table11[#Headers],0))","v":1384},{"$f":"INDEX(Table11[],MATCH(TEXT(hf_kommune[[#This Row],[Kommunenr]],\"0\"),Table11[Nr],0),MATCH(hf_kommune[[#Headers],[2037]],Table11[#Headers],0))","v":1415},{"$f":"INDEX(Table11[],MATCH(TEXT(hf_kommune[[#This Row],[Kommunenr]],\"0\"),Table11[Nr],0),MATCH(hf_kommune[[#Headers],[2038]],Table11[#Headers],0))","v":1454},{"$f":"INDEX(Table11[],MATCH(TEXT(hf_kommune[[#This Row],[Kommunenr]],\"0\"),Table11[Nr],0),MATCH(hf_kommune[[#Headers],[2039]],Table11[#Headers],0))","v":1459},{"$f":"INDEX(Table11[],MATCH(TEXT(hf_kommune[[#This Row],[Kommunenr]],\"0\"),Table11[Nr],0),MATCH(hf_kommune[[#Headers],[2040]],Table11[#Headers],0))","v":1421},95395,95977,96589,97239,97928,98604,99268,99922,100560,101182,101786,102378,102961,103538,104113,104681,105238,105785,106323]
[4645,"Askvoll","Helse Vest","Helse Førde","Førde",{"$f":"INDEX(Table11[],MATCH(TEXT(hf_kommune[[#This Row],[Kommunenr]],\"0\"),Table11[Nr],0),MATCH(hf_kommune[[#Headers],[2020]],Table11[#Headers],0))","v":37},{"$f":"INDEX(Table11[],MATCH(TEXT(hf_kommune[[#This Row],[Kommunenr]],\"0\"),Table11[Nr],0),MATCH(hf_kommune[[#Headers],[2021]],Table11[#Headers],0))","v":42},{"$f":"INDEX(Table11[],MATCH(TEXT(hf_kommune[[#This Row],[Kommunenr]],\"0\"),Table11[Nr],0),MATCH(hf_kommune[[#Headers],[2022]],Table11[#Headers],0))","v":41},{"$f":"INDEX(Table11[],MATCH(TEXT(hf_kommune[[#This Row],[Kommunenr]],\"0\"),Table11[Nr],0),MATCH(hf_kommune[[#Headers],[2023]],Table11[#Headers],0))","v":45},{"$f":"INDEX(Table11[],MATCH(TEXT(hf_kommune[[#This Row],[Kommunenr]],\"0\"),Table11[Nr],0),MATCH(hf_kommune[[#Headers],[2024]],Table11[#Headers],0))","v":41},{"$f":"INDEX(Table11[],MATCH(TEXT(hf_kommune[[#This Row],[Kommunenr]],\"0\"),Table11[Nr],0),MATCH(hf_kommune[[#Headers],[2025]],Table11[#Headers],0))","v":40},{"$f":"INDEX(Table11[],MATCH(TEXT(hf_kommune[[#This Row],[Kommunenr]],\"0\"),Table11[Nr],0),MATCH(hf_kommune[[#Headers],[2026]],Table11[#Headers],0))","v":37},{"$f":"INDEX(Table11[],MATCH(TEXT(hf_kommune[[#This Row],[Kommunenr]],\"0\"),Table11[Nr],0),MATCH(hf_kommune[[#Headers],[2027]],Table11[#Headers],0))","v":29},{"$f":"INDEX(Table11[],MATCH(TEXT(hf_kommune[[#This Row],[Kommunenr]],\"0\"),Table11[Nr],0),MATCH(hf_kommune[[#Headers],[2028]],Table11[#Headers],0))","v":29},{"$f":"INDEX(Table11[],MATCH(TEXT(hf_kommune[[#This Row],[Kommunenr]],\"0\"),Table11[Nr],0),MATCH(hf_kommune[[#Headers],[2029]],Table11[#Headers],0))","v":40},{"$f":"INDEX(Table11[],MATCH(TEXT(hf_kommune[[#This Row],[Kommunenr]],\"0\"),Table11[Nr],0),MATCH(hf_kommune[[#Headers],[2030]],Table11[#Headers],0))","v":32},{"$f":"INDEX(Table11[],MATCH(TEXT(hf_kommune[[#This Row],[Kommunenr]],\"0\"),Table11[Nr],0),MATCH(hf_kommune[[#Headers],[2031]],Table11[#Headers],0))","v":30},{"$f":"INDEX(Table11[],MATCH(TEXT(hf_kommune[[#This Row],[Kommunenr]],\"0\"),Table11[Nr],0),MATCH(hf_kommune[[#Headers],[2032]],Table11[#Headers],0))","v":30},{"$f":"INDEX(Table11[],MATCH(TEXT(hf_kommune[[#This Row],[Kommunenr]],\"0\"),Table11[Nr],0),MATCH(hf_kommune[[#Headers],[2033]],Table11[#Headers],0))","v":28},{"$f":"INDEX(Table11[],MATCH(TEXT(hf_kommune[[#This Row],[Kommunenr]],\"0\"),Table11[Nr],0),MATCH(hf_kommune[[#Headers],[2034]],Table11[#Headers],0))","v":31},{"$f":"INDEX(Table11[],MATCH(TEXT(hf_kommune[[#This Row],[Kommunenr]],\"0\"),Table11[Nr],0),MATCH(hf_kommune[[#Headers],[2035]],Table11[#Headers],0))","v":36},{"$f":"INDEX(Table11[],MATCH(TEXT(hf_kommune[[#This Row],[Kommunenr]],\"0\"),Table11[Nr],0),MATCH(hf_kommune[[#Headers],[2036]],Table11[#Headers],0))","v":36},{"$f":"INDEX(Table11[],MATCH(TEXT(hf_kommune[[#This Row],[Kommunenr]],\"0\"),Table11[Nr],0),MATCH(hf_kommune[[#Headers],[2037]],Table11[#Headers],0))","v":37},{"$f":"INDEX(Table11[],MATCH(TEXT(hf_kommune[[#This Row],[Kommunenr]],\"0\"),Table11[Nr],0),MATCH(hf_kommune[[#Headers],[2038]],Table11[#Headers],0))","v":23},{"$f":"INDEX(Table11[],MATCH(TEXT(hf_kommune[[#This Row],[Kommunenr]],\"0\"),Table11[Nr],0),MATCH(hf_kommune[[#Headers],[2039]],Table11[#Headers],0))","v":27},{"$f":"INDEX(Table11[],MATCH(TEXT(hf_kommune[[#This Row],[Kommunenr]],\"0\"),Table11[Nr],0),MATCH(hf_kommune[[#Headers],[2040]],Table11[#Headers],0))","v":31},2955,2932,2914,2899,2889,2879,2870,2861,2852,2843,2833,2824,2815,2806,2798,2789,2781,2773,2765]
[4627,"Askøy","Helse Vest","Helse Bergen","Haukeland",{"$f":"INDEX(Table11[],MATCH(TEXT(hf_kommune[[#This Row],[Kommunenr]],\"0\"),Table11[Nr],0),MATCH(hf_kommune[[#Headers],[2020]],Table11[#Headers],0))","v":333},{"$f":"INDEX(Table11[],MATCH(TEXT(hf_kommune[[#This Row],[Kommunenr]],\"0\"),Table11[Nr],0),MATCH(hf_kommune[[#Headers],[2021]],Table11[#Headers],0))","v":332},{"$f":"INDEX(Table11[],MATCH(TEXT(hf_kommune[[#This Row],[Kommunenr]],\"0\"),Table11[Nr],0),MATCH(hf_kommune[[#Headers],[2022]],Table11[#Headers],0))","v":368},{"$f":"INDEX(Table11[],MATCH(TEXT(hf_kommune[[#This Row],[Kommunenr]],\"0\"),Table11[Nr],0),MATCH(hf_kommune[[#Headers],[2023]],Table11[#Headers],0))","v":356},{"$f":"INDEX(Table11[],MATCH(TEXT(hf_kommune[[#This Row],[Kommunenr]],\"0\"),Table11[Nr],0),MATCH(hf_kommune[[#Headers],[2024]],Table11[#Headers],0))","v":396},{"$f":"INDEX(Table11[],MATCH(TEXT(hf_kommune[[#This Row],[Kommunenr]],\"0\"),Table11[Nr],0),MATCH(hf_kommune[[#Headers],[2025]],Table11[#Headers],0))","v":413},{"$f":"INDEX(Table11[],MATCH(TEXT(hf_kommune[[#This Row],[Kommunenr]],\"0\"),Table11[Nr],0),MATCH(hf_kommune[[#Headers],[2026]],Table11[#Headers],0))","v":442},{"$f":"INDEX(Table11[],MATCH(TEXT(hf_kommune[[#This Row],[Kommunenr]],\"0\"),Table11[Nr],0),MATCH(hf_kommune[[#Headers],[2027]],Table11[#Headers],0))","v":422},{"$f":"INDEX(Table11[],MATCH(TEXT(hf_kommune[[#This Row],[Kommunenr]],\"0\"),Table11[Nr],0),MATCH(hf_kommune[[#Headers],[2028]],Table11[#Headers],0))","v":424},{"$f":"INDEX(Table11[],MATCH(TEXT(hf_kommune[[#This Row],[Kommunenr]],\"0\"),Table11[Nr],0),MATCH(hf_kommune[[#Headers],[2029]],Table11[#Headers],0))","v":447},{"$f":"INDEX(Table11[],MATCH(TEXT(hf_kommune[[#This Row],[Kommunenr]],\"0\"),Table11[Nr],0),MATCH(hf_kommune[[#Headers],[2030]],Table11[#Headers],0))","v":449},{"$f":"INDEX(Table11[],MATCH(TEXT(hf_kommune[[#This Row],[Kommunenr]],\"0\"),Table11[Nr],0),MATCH(hf_kommune[[#Headers],[2031]],Table11[#Headers],0))","v":421},{"$f":"INDEX(Table11[],MATCH(TEXT(hf_kommune[[#This Row],[Kommunenr]],\"0\"),Table11[Nr],0),MATCH(hf_kommune[[#Headers],[2032]],Table11[#Headers],0))","v":404},{"$f":"INDEX(Table11[],MATCH(TEXT(hf_kommune[[#This Row],[Kommunenr]],\"0\"),Table11[Nr],0),MATCH(hf_kommune[[#Headers],[2033]],Table11[#Headers],0))","v":396},{"$f":"INDEX(Table11[],MATCH(TEXT(hf_kommune[[#This Row],[Kommunenr]],\"0\"),Table11[Nr],0),MATCH(hf_kommune[[#Headers],[2034]],Table11[#Headers],0))","v":395},{"$f":"INDEX(Table11[],MATCH(TEXT(hf_kommune[[#This Row],[Kommunenr]],\"0\"),Table11[Nr],0),MATCH(hf_kommune[[#Headers],[2035]],Table11[#Headers],0))","v":446},{"$f":"INDEX(Table11[],MATCH(TEXT(hf_kommune[[#This Row],[Kommunenr]],\"0\"),Table11[Nr],0),MATCH(hf_kommune[[#Headers],[2036]],Table11[#Headers],0))","v":419},{"$f":"INDEX(Table11[],MATCH(TEXT(hf_kommune[[#This Row],[Kommunenr]],\"0\"),Table11[Nr],0),MATCH(hf_kommune[[#Headers],[2037]],Table11[#Headers],0))","v":429},{"$f":"INDEX(Table11[],MATCH(TEXT(hf_kommune[[#This Row],[Kommunenr]],\"0\"),Table11[Nr],0),MATCH(hf_kommune[[#Headers],[2038]],Table11[#Headers],0))","v":434},{"$f":"INDEX(Table11[],MATCH(TEXT(hf_kommune[[#This Row],[Kommunenr]],\"0\"),Table11[Nr],0),MATCH(hf_kommune[[#Headers],[2039]],Table11[#Headers],0))","v":431},{"$f":"INDEX(Table11[],MATCH(TEXT(hf_kommune[[#This Row],[Kommunenr]],\"0\"),Table11[Nr],0),MATCH(hf_kommune[[#Headers],[2040]],Table11[#Headers],0))","v":412},29901,30104,30322,30557,30809,31053,31291,31523,31749,31972,32190,32406,32619,32833,33046,33259,33468,33675,33877]
[1547,"Aukra","Helse Midt-Norge","Helse Møre og Romsdal","Molde",{"$f":"INDEX(Table11[],MATCH(TEXT(hf_kommune[[#This Row],[Kommunenr]],\"0\"),Table11[Nr],0),MATCH(hf_kommune[[#Headers],[2020]],Table11[#Headers],0))","v":49},{"$f":"INDEX(Table11[],MATCH(TEXT(hf_kommune[[#This Row],[Kommunenr]],\"0\"),Table11[Nr],0),MATCH(hf_kommune[[#Headers],[2021]],Table11[#Headers],0))","v":31},{"$f":"INDEX(Table11[],MATCH(TEXT(hf_kommune[[#This Row],[Kommunenr]],\"0\"),Table11[Nr],0),MATCH(hf_kommune[[#Headers],[2022]],Table11[#Headers],0))","v":43},{"$f":"INDEX(Table11[],MATCH(TEXT(hf_kommune[[#This Row],[Kommunenr]],\"0\"),Table11[Nr],0),MATCH(hf_kommune[[#Headers],[2023]],Table11[#Headers],0))","v":47},{"$f":"INDEX(Table11[],MATCH(TEXT(hf_kommune[[#This Row],[Kommunenr]],\"0\"),Table11[Nr],0),MATCH(hf_kommune[[#Headers],[2024]],Table11[#Headers],0))","v":44},{"$f":"INDEX(Table11[],MATCH(TEXT(hf_kommune[[#This Row],[Kommunenr]],\"0\"),Table11[Nr],0),MATCH(hf_kommune[[#Headers],[2025]],Table11[#Headers],0))","v":48},{"$f":"INDEX(Table11[],MATCH(TEXT(hf_kommune[[#This Row],[Kommunenr]],\"0\"),Table11[Nr],0),MATCH(hf_kommune[[#Headers],[2026]],Table11[#Headers],0))","v":44},{"$f":"INDEX(Table11[],MATCH(TEXT(hf_kommune[[#This Row],[Kommunenr]],\"0\"),Table11[Nr],0),MATCH(hf_kommune[[#Headers],[2027]],Table11[#Headers],0))","v":51},{"$f":"INDEX(Table11[],MATCH(TEXT(hf_kommune[[#This Row],[Kommunenr]],\"0\"),Table11[Nr],0),MATCH(hf_kommune[[#Headers],[2028]],Table11[#Headers],0))","v":39},{"$f":"INDEX(Table11[],MATCH(TEXT(hf_kommune[[#This Row],[Kommunenr]],\"0\"),Table11[Nr],0),MATCH(hf_kommune[[#Headers],[2029]],Table11[#Headers],0))","v":51},{"$f":"INDEX(Table11[],MATCH(TEXT(hf_kommune[[#This Row],[Kommunenr]],\"0\"),Table11[Nr],0),MATCH(hf_kommune[[#Headers],[2030]],Table11[#Headers],0))","v":47},{"$f":"INDEX(Table11[],MATCH(TEXT(hf_kommune[[#This Row],[Kommunenr]],\"0\"),Table11[Nr],0),MATCH(hf_kommune[[#Headers],[2031]],Table11[#Headers],0))","v":43},{"$f":"INDEX(Table11[],MATCH(TEXT(hf_kommune[[#This Row],[Kommunenr]],\"0\"),Table11[Nr],0),MATCH(hf_kommune[[#Headers],[2032]],Table11[#Headers],0))","v":46},{"$f":"INDEX(Table11[],MATCH(TEXT(hf_kommune[[#This Row],[Kommunenr]],\"0\"),Table11[Nr],0),MATCH(hf_kommune[[#Headers],[2033]],Table11[#Headers],0))","v":40},{"$f":"INDEX(Table11[],MATCH(TEXT(hf_kommune[[#This Row],[Kommunenr]],\"0\"),Table11[Nr],0),MATCH(hf_kommune[[#Headers],[2034]],Table11[#Headers],0))","v":48},{"$f":"INDEX(Table11[],MATCH(TEXT(hf_kommune[[#This Row],[Kommunenr]],\"0\"),Table11[Nr],0),MATCH(hf_kommune[[#Headers],[2035]],Table11[#Headers],0))","v":51},{"$f":"INDEX(Table11[],MATCH(TEXT(hf_kommune[[#This Row],[Kommunenr]],\"0\"),Table11[Nr],0),MATCH(hf_kommune[[#Headers],[2036]],Table11[#Headers],0))","v":55},{"$f":"INDEX(Table11[],MATCH(TEXT(hf_kommune[[#This Row],[Kommunenr]],\"0\"),Table11[Nr],0),MATCH(hf_kommune[[#Headers],[2037]],Table11[#Headers],0))","v":43},{"$f":"INDEX(Table11[],MATCH(TEXT(hf_kommune[[#This Row],[Kommunenr]],\"0\"),Table11[Nr],0),MATCH(hf_kommune[[#Headers],[2038]],Table11[#Headers],0))","v":49},{"$f":"INDEX(Table11[],MATCH(TEXT(hf_kommune[[#This Row],[Kommunenr]],\"0\"),Table11[Nr],0),MATCH(hf_kommune[[#Headers],[2039]],Table11[#Headers],0))","v":51},{"$f":"INDEX(Table11[],MATCH(TEXT(hf_kommune[[#This Row],[Kommunenr]],\"0\"),Table11[Nr],0),MATCH(hf_kommune[[#Headers],[2040]],Table11[#Headers],0))","v":50},3528,3543,3560,3580,3603,3623,3644,3663,3682,3700,3718,3736,3755,3772,3790,3808,3824,3840,3855]
[1576,"Aure","Helse Midt-Norge","Helse Møre og Romsdal","Kristiansund",{"$f":"INDEX(Table11[],MATCH(TEXT(hf_kommune[[#This Row],[Kommunenr]],\"0\"),Table11[Nr],0),MATCH(hf_kommune[[#Headers],[2020]],Table11[#Headers],0))","v":38},{"$f":"INDEX(Table11[],MATCH(TEXT(hf_kommune[[#This Row],[Kommunenr]],\"0\"),Table11[Nr],0),MATCH(hf_kommune[[#Headers],[2021]],Table11[#Headers],0))","v":50},{"$f":"INDEX(Table11[],MATCH(TEXT(hf_kommune[[#This Row],[Kommunenr]],\"0\"),Table11[Nr],0),MATCH(hf_kommune[[#Headers],[2022]],Table11[#Headers],0))","v":51},{"$f":"INDEX(Table11[],MATCH(TEXT(hf_kommune[[#This Row],[Kommunenr]],\"0\"),Table11[Nr],0),MATCH(hf_kommune[[#Headers],[2023]],Table11[#Headers],0))","v":48},{"$f":"INDEX(Table11[],MATCH(TEXT(hf_kommune[[#This Row],[Kommunenr]],\"0\"),Table11[Nr],0),MATCH(hf_kommune[[#Headers],[2024]],Table11[#Headers],0))","v":59},{"$f":"INDEX(Table11[],MATCH(TEXT(hf_kommune[[#This Row],[Kommunenr]],\"0\"),Table11[Nr],0),MATCH(hf_kommune[[#Headers],[2025]],Table11[#Headers],0))","v":53},{"$f":"INDEX(Table11[],MATCH(TEXT(hf_kommune[[#This Row],[Kommunenr]],\"0\"),Table11[Nr],0),MATCH(hf_kommune[[#Headers],[2026]],Table11[#Headers],0))","v":61},{"$f":"INDEX(Table11[],MATCH(TEXT(hf_kommune[[#This Row],[Kommunenr]],\"0\"),Table11[Nr],0),MATCH(hf_kommune[[#Headers],[2027]],Table11[#Headers],0))","v":52},{"$f":"INDEX(Table11[],MATCH(TEXT(hf_kommune[[#This Row],[Kommunenr]],\"0\"),Table11[Nr],0),MATCH(hf_kommune[[#Headers],[2028]],Table11[#Headers],0))","v":48},{"$f":"INDEX(Table11[],MATCH(TEXT(hf_kommune[[#This Row],[Kommunenr]],\"0\"),Table11[Nr],0),MATCH(hf_kommune[[#Headers],[2029]],Table11[#Headers],0))","v":47},{"$f":"INDEX(Table11[],MATCH(TEXT(hf_kommune[[#This Row],[Kommunenr]],\"0\"),Table11[Nr],0),MATCH(hf_kommune[[#Headers],[2030]],Table11[#Headers],0))","v":42},{"$f":"INDEX(Table11[],MATCH(TEXT(hf_kommune[[#This Row],[Kommunenr]],\"0\"),Table11[Nr],0),MATCH(hf_kommune[[#Headers],[2031]],Table11[#Headers],0))","v":33},{"$f":"INDEX(Table11[],MATCH(TEXT(hf_kommune[[#This Row],[Kommunenr]],\"0\"),Table11[Nr],0),MATCH(hf_kommune[[#Headers],[2032]],Table11[#Headers],0))","v":34},{"$f":"INDEX(Table11[],MATCH(TEXT(hf_kommune[[#This Row],[Kommunenr]],\"0\"),Table11[Nr],0),MATCH(hf_kommune[[#Headers],[2033]],Table11[#Headers],0))","v":35},{"$f":"INDEX(Table11[],MATCH(TEXT(hf_kommune[[#This Row],[Kommunenr]],\"0\"),Table11[Nr],0),MATCH(hf_kommune[[#Headers],[2034]],Table11[#Headers],0))","v":35},{"$f":"INDEX(Table11[],MATCH(TEXT(hf_kommune[[#This Row],[Kommunenr]],\"0\"),Table11[Nr],0),MATCH(hf_kommune[[#Headers],[2035]],Table11[#Headers],0))","v":47},{"$f":"INDEX(Table11[],MATCH(TEXT(hf_kommune[[#This Row],[Kommunenr]],\"0\"),Table11[Nr],0),MATCH(hf_kommune[[#Headers],[2036]],Table11[#Headers],0))","v":46},{"$f":"INDEX(Table11[],MATCH(TEXT(hf_kommune[[#This Row],[Kommunenr]],\"0\"),Table11[Nr],0),MATCH(hf_kommune[[#Headers],[2037]],Table11[#Headers],0))","v":34},{"$f":"INDEX(Table11[],MATCH(TEXT(hf_kommune[[#This Row],[Kommunenr]],\"0\"),Table11[Nr],0),MATCH(hf_kommune[[#Headers],[2038]],Table11[#Headers],0))","v":37},{"$f":"INDEX(Table11[],MATCH(TEXT(hf_kommune[[#This Row],[Kommunenr]],\"0\"),Table11[Nr],0),MATCH(hf_kommune[[#Headers],[2039]],Table11[#Headers],0))","v":44},{"$f":"INDEX(Table11[],MATCH(TEXT(hf_kommune[[#This Row],[Kommunenr]],\"0\"),Table11[Nr],0),MATCH(hf_kommune[[#Headers],[2040]],Table11[#Headers],0))","v":43},3458,3444,3435,3431,3433,3436,3439,3442,3446,3450,3453,3456,3459,3461,3462,3463,3463,3462,3461]
[4641,"Aurland","Helse Vest","Helse Førde","Lærdal",{"$f":"INDEX(Table11[],MATCH(TEXT(hf_kommune[[#This Row],[Kommunenr]],\"0\"),Table11[Nr],0),MATCH(hf_kommune[[#Headers],[2020]],Table11[#Headers],0))","v":26},{"$f":"INDEX(Table11[],MATCH(TEXT(hf_kommune[[#This Row],[Kommunenr]],\"0\"),Table11[Nr],0),MATCH(hf_kommune[[#Headers],[2021]],Table11[#Headers],0))","v":27},{"$f":"INDEX(Table11[],MATCH(TEXT(hf_kommune[[#This Row],[Kommunenr]],\"0\"),Table11[Nr],0),MATCH(hf_kommune[[#Headers],[2022]],Table11[#Headers],0))","v":21},{"$f":"INDEX(Table11[],MATCH(TEXT(hf_kommune[[#This Row],[Kommunenr]],\"0\"),Table11[Nr],0),MATCH(hf_kommune[[#Headers],[2023]],Table11[#Headers],0))","v":24},{"$f":"INDEX(Table11[],MATCH(TEXT(hf_kommune[[#This Row],[Kommunenr]],\"0\"),Table11[Nr],0),MATCH(hf_kommune[[#Headers],[2024]],Table11[#Headers],0))","v":30},{"$f":"INDEX(Table11[],MATCH(TEXT(hf_kommune[[#This Row],[Kommunenr]],\"0\"),Table11[Nr],0),MATCH(hf_kommune[[#Headers],[2025]],Table11[#Headers],0))","v":23},{"$f":"INDEX(Table11[],MATCH(TEXT(hf_kommune[[#This Row],[Kommunenr]],\"0\"),Table11[Nr],0),MATCH(hf_kommune[[#Headers],[2026]],Table11[#Headers],0))","v":25},{"$f":"INDEX(Table11[],MATCH(TEXT(hf_kommune[[#This Row],[Kommunenr]],\"0\"),Table11[Nr],0),MATCH(hf_kommune[[#Headers],[2027]],Table11[#Headers],0))","v":26},{"$f":"INDEX(Table11[],MATCH(TEXT(hf_kommune[[#This Row],[Kommunenr]],\"0\"),Table11[Nr],0),MATCH(hf_kommune[[#Headers],[2028]],Table11[#Headers],0))","v":28},{"$f":"INDEX(Table11[],MATCH(TEXT(hf_kommune[[#This Row],[Kommunenr]],\"0\"),Table11[Nr],0),MATCH(hf_kommune[[#Headers],[2029]],Table11[#Headers],0))","v":26},{"$f":"INDEX(Table11[],MATCH(TEXT(hf_kommune[[#This Row],[Kommunenr]],\"0\"),Table11[Nr],0),MATCH(hf_kommune[[#Headers],[2030]],Table11[#Headers],0))","v":15},{"$f":"INDEX(Table11[],MATCH(TEXT(hf_kommune[[#This Row],[Kommunenr]],\"0\"),Table11[Nr],0),MATCH(hf_kommune[[#Headers],[2031]],Table11[#Headers],0))","v":11},{"$f":"INDEX(Table11[],MATCH(TEXT(hf_kommune[[#This Row],[Kommunenr]],\"0\"),Table11[Nr],0),MATCH(hf_kommune[[#Headers],[2032]],Table11[#Headers],0))","v":24},{"$f":"INDEX(Table11[],MATCH(TEXT(hf_kommune[[#This Row],[Kommunenr]],\"0\"),Table11[Nr],0),MATCH(hf_kommune[[#Headers],[2033]],Table11[#Headers],0))","v":24},{"$f":"INDEX(Table11[],MATCH(TEXT(hf_kommune[[#This Row],[Kommunenr]],\"0\"),Table11[Nr],0),MATCH(hf_kommune[[#Headers],[2034]],Table11[#Headers],0))","v":20},{"$f":"INDEX(Table11[],MATCH(TEXT(hf_kommune[[#This Row],[Kommunenr]],\"0\"),Table11[Nr],0),MATCH(hf_kommune[[#Headers],[2035]],Table11[#Headers],0))","v":18},{"$f":"INDEX(Table11[],MATCH(TEXT(hf_kommune[[#This Row],[Kommunenr]],\"0\"),Table11[Nr],0),MATCH(hf_kommune[[#Headers],[2036]],Table11[#Headers],0))","v":18},{"$f":"INDEX(Table11[],MATCH(TEXT(hf_kommune[[#This Row],[Kommunenr]],\"0\"),Table11[Nr],0),MATCH(hf_kommune[[#Headers],[2037]],Table11[#Headers],0))","v":23},{"$f":"INDEX(Table11[],MATCH(TEXT(hf_kommune[[#This Row],[Kommunenr]],\"0\"),Table11[Nr],0),MATCH(hf_kommune[[#Headers],[2038]],Table11[#Headers],0))","v":23},{"$f":"INDEX(Table11[],MATCH(TEXT(hf_kommune[[#This Row],[Kommunenr]],\"0\"),Table11[Nr],0),MATCH(hf_kommune[[#Headers],[2039]],Table11[#Headers],0))","v":28},{"$f":"INDEX(Table11[],MATCH(TEXT(hf_kommune[[#This Row],[Kommunenr]],\"0\"),Table11[Nr],0),MATCH(hf_kommune[[#Headers],[2040]],Table11[#Headers],0))","v":28},1806,1825,1840,1853,1863,1874,1886,1897,1909,1921,1933,1945,1957,1969,1982,1994,2005,2016,2026]
[3026,"Aurskog-Høland","Helse Sør-Øst","Akershus universitetssykehus","Ahus",{"$f":"INDEX(Table11[],MATCH(TEXT(hf_kommune[[#This Row],[Kommunenr]],\"0\"),Table11[Nr],0),MATCH(hf_kommune[[#Headers],[2020]],Table11[#Headers],0))","v":251},{"$f":"INDEX(Table11[],MATCH(TEXT(hf_kommune[[#This Row],[Kommunenr]],\"0\"),Table11[Nr],0),MATCH(hf_kommune[[#Headers],[2021]],Table11[#Headers],0))","v":245},{"$f":"INDEX(Table11[],MATCH(TEXT(hf_kommune[[#This Row],[Kommunenr]],\"0\"),Table11[Nr],0),MATCH(hf_kommune[[#Headers],[2022]],Table11[#Headers],0))","v":281},{"$f":"INDEX(Table11[],MATCH(TEXT(hf_kommune[[#This Row],[Kommunenr]],\"0\"),Table11[Nr],0),MATCH(hf_kommune[[#Headers],[2023]],Table11[#Headers],0))","v":294},{"$f":"INDEX(Table11[],MATCH(TEXT(hf_kommune[[#This Row],[Kommunenr]],\"0\"),Table11[Nr],0),MATCH(hf_kommune[[#Headers],[2024]],Table11[#Headers],0))","v":298},{"$f":"INDEX(Table11[],MATCH(TEXT(hf_kommune[[#This Row],[Kommunenr]],\"0\"),Table11[Nr],0),MATCH(hf_kommune[[#Headers],[2025]],Table11[#Headers],0))","v":302},{"$f":"INDEX(Table11[],MATCH(TEXT(hf_kommune[[#This Row],[Kommunenr]],\"0\"),Table11[Nr],0),MATCH(hf_kommune[[#Headers],[2026]],Table11[#Headers],0))","v":262},{"$f":"INDEX(Table11[],MATCH(TEXT(hf_kommune[[#This Row],[Kommunenr]],\"0\"),Table11[Nr],0),MATCH(hf_kommune[[#Headers],[2027]],Table11[#Headers],0))","v":304},{"$f":"INDEX(Table11[],MATCH(TEXT(hf_kommune[[#This Row],[Kommunenr]],\"0\"),Table11[Nr],0),MATCH(hf_kommune[[#Headers],[2028]],Table11[#Headers],0))","v":301},{"$f":"INDEX(Table11[],MATCH(TEXT(hf_kommune[[#This Row],[Kommunenr]],\"0\"),Table11[Nr],0),MATCH(hf_kommune[[#Headers],[2029]],Table11[#Headers],0))","v":283},{"$f":"INDEX(Table11[],MATCH(TEXT(hf_kommune[[#This Row],[Kommunenr]],\"0\"),Table11[Nr],0),MATCH(hf_kommune[[#Headers],[2030]],Table11[#Headers],0))","v":274},{"$f":"INDEX(Table11[],MATCH(TEXT(hf_kommune[[#This Row],[Kommunenr]],\"0\"),Table11[Nr],0),MATCH(hf_kommune[[#Headers],[2031]],Table11[#Headers],0))","v":253},{"$f":"INDEX(Table11[],MATCH(TEXT(hf_kommune[[#This Row],[Kommunenr]],\"0\"),Table11[Nr],0),MATCH(hf_kommune[[#Headers],[2032]],Table11[#Headers],0))","v":263},{"$f":"INDEX(Table11[],MATCH(TEXT(hf_kommune[[#This Row],[Kommunenr]],\"0\"),Table11[Nr],0),MATCH(hf_kommune[[#Headers],[2033]],Table11[#Headers],0))","v":267},{"$f":"INDEX(Table11[],MATCH(TEXT(hf_kommune[[#This Row],[Kommunenr]],\"0\"),Table11[Nr],0),MATCH(hf_kommune[[#Headers],[2034]],Table11[#Headers],0))","v":255},{"$f":"INDEX(Table11[],MATCH(TEXT(hf_kommune[[#This Row],[Kommunenr]],\"0\"),Table11[Nr],0),MATCH(hf_kommune[[#Headers],[2035]],Table11[#Headers],0))","v":251},{"$f":"INDEX(Table11[],MATCH(TEXT(hf_kommune[[#This Row],[Kommunenr]],\"0\"),Table11[Nr],0),MATCH(hf_kommune[[#Headers],[2036]],Table11[#Headers],0))","v":263},{"$f":"INDEX(Table11[],MATCH(TEXT(hf_kommune[[#This Row],[Kommunenr]],\"0\"),Table11[Nr],0),MATCH(hf_kommune[[#Headers],[2037]],Table11[#Headers],0))","v":255},{"$f":"INDEX(Table11[],MATCH(TEXT(hf_kommune[[#This Row],[Kommunenr]],\"0\"),Table11[Nr],0),MATCH(hf_kommune[[#Headers],[2038]],Table11[#Headers],0))","v":261},{"$f":"INDEX(Table11[],MATCH(TEXT(hf_kommune[[#This Row],[Kommunenr]],\"0\"),Table11[Nr],0),MATCH(hf_kommune[[#Headers],[2039]],Table11[#Headers],0))","v":274},{"$f":"INDEX(Table11[],MATCH(TEXT(hf_kommune[[#This Row],[Kommunenr]],\"0\"),Table11[Nr],0),MATCH(hf_kommune[[#Headers],[2040]],Table11[#Headers],0))","v":271},17494,17579,17683,17805,17944,18080,18215,18348,18479,18608,18735,18860,18983,19105,19226,19345,19462,19577,19688]
[4625,"Austevoll","Helse Vest","Helse Bergen","Haukeland",{"$f":"INDEX(Table11[],MATCH(TEXT(hf_kommune[[#This Row],[Kommunenr]],\"0\"),Table11[Nr],0),MATCH(hf_kommune[[#Headers],[2020]],Table11[#Headers],0))","v":56},{"$f":"INDEX(Table11[],MATCH(TEXT(hf_kommune[[#This Row],[Kommunenr]],\"0\"),Table11[Nr],0),MATCH(hf_kommune[[#Headers],[2021]],Table11[#Headers],0))","v":74},{"$f":"INDEX(Table11[],MATCH(TEXT(hf_kommune[[#This Row],[Kommunenr]],\"0\"),Table11[Nr],0),MATCH(hf_kommune[[#Headers],[2022]],Table11[#Headers],0))","v":72},{"$f":"INDEX(Table11[],MATCH(TEXT(hf_kommune[[#This Row],[Kommunenr]],\"0\"),Table11[Nr],0),MATCH(hf_kommune[[#Headers],[2023]],Table11[#Headers],0))","v":65},{"$f":"INDEX(Table11[],MATCH(TEXT(hf_kommune[[#This Row],[Kommunenr]],\"0\"),Table11[Nr],0),MATCH(hf_kommune[[#Headers],[2024]],Table11[#Headers],0))","v":63},{"$f":"INDEX(Table11[],MATCH(TEXT(hf_kommune[[#This Row],[Kommunenr]],\"0\"),Table11[Nr],0),MATCH(hf_kommune[[#Headers],[2025]],Table11[#Headers],0))","v":56},{"$f":"INDEX(Table11[],MATCH(TEXT(hf_kommune[[#This Row],[Kommunenr]],\"0\"),Table11[Nr],0),MATCH(hf_kommune[[#Headers],[2026]],Table11[#Headers],0))","v":69},{"$f":"INDEX(Table11[],MATCH(TEXT(hf_kommune[[#This Row],[Kommunenr]],\"0\"),Table11[Nr],0),MATCH(hf_kommune[[#Headers],[2027]],Table11[#Headers],0))","v":58},{"$f":"INDEX(Table11[],MATCH(TEXT(hf_kommune[[#This Row],[Kommunenr]],\"0\"),Table11[Nr],0),MATCH(hf_kommune[[#Headers],[2028]],Table11[#Headers],0))","v":53},{"$f":"INDEX(Table11[],MATCH(TEXT(hf_kommune[[#This Row],[Kommunenr]],\"0\"),Table11[Nr],0),MATCH(hf_kommune[[#Headers],[2029]],Table11[#Headers],0))","v":74},{"$f":"INDEX(Table11[],MATCH(TEXT(hf_kommune[[#This Row],[Kommunenr]],\"0\"),Table11[Nr],0),MATCH(hf_kommune[[#Headers],[2030]],Table11[#Headers],0))","v":72},{"$f":"INDEX(Table11[],MATCH(TEXT(hf_kommune[[#This Row],[Kommunenr]],\"0\"),Table11[Nr],0),MATCH(hf_kommune[[#Headers],[2031]],Table11[#Headers],0))","v":71},{"$f":"INDEX(Table11[],MATCH(TEXT(hf_kommune[[#This Row],[Kommunenr]],\"0\"),Table11[Nr],0),MATCH(hf_kommune[[#Headers],[2032]],Table11[#Headers],0))","v":55},{"$f":"INDEX(Table11[],MATCH(TEXT(hf_kommune[[#This Row],[Kommunenr]],\"0\"),Table11[Nr],0),MATCH(hf_kommune[[#Headers],[2033]],Table11[#Headers],0))","v":62},{"$f":"INDEX(Table11[],MATCH(TEXT(hf_kommune[[#This Row],[Kommunenr]],\"0\"),Table11[Nr],0),MATCH(hf_kommune[[#Headers],[2034]],Table11[#Headers],0))","v":59},{"$f":"INDEX(Table11[],MATCH(TEXT(hf_kommune[[#This Row],[Kommunenr]],\"0\"),Table11[Nr],0),MATCH(hf_kommune[[#Headers],[2035]],Table11[#Headers],0))","v":63},{"$f":"INDEX(Table11[],MATCH(TEXT(hf_kommune[[#This Row],[Kommunenr]],\"0\"),Table11[Nr],0),MATCH(hf_kommune[[#Headers],[2036]],Table11[#Headers],0))","v":73},{"$f":"INDEX(Table11[],MATCH(TEXT(hf_kommune[[#This Row],[Kommunenr]],\"0\"),Table11[Nr],0),MATCH(hf_kommune[[#Headers],[2037]],Table11[#Headers],0))","v":74},{"$f":"INDEX(Table11[],MATCH(TEXT(hf_kommune[[#This Row],[Kommunenr]],\"0\"),Table11[Nr],0),MATCH(hf_kommune[[#Headers],[2038]],Table11[#Headers],0))","v":74},{"$f":"INDEX(Table11[],MATCH(TEXT(hf_kommune[[#This Row],[Kommunenr]],\"0\"),Table11[Nr],0),MATCH(hf_kommune[[#Headers],[2039]],Table11[#Headers],0))","v":72},{"$f":"INDEX(Table11[],MATCH(TEXT(hf_kommune[[#This Row],[Kommunenr]],\"0\"),Table11[Nr],0),MATCH(hf_kommune[[#Headers],[2040]],Table11[#Headers],0))","v":76},5202,5199,5204,5214,5231,5248,5264,5278,5292,5306,5318,5330,5342,5353,5364,5374,5385,5396,5406]
[4632,"Austrheim","Helse Vest","Helse Bergen","Haukeland",{"$f":"INDEX(Table11[],MATCH(TEXT(hf_kommune[[#This Row],[Kommunenr]],\"0\"),Table11[Nr],0),MATCH(hf_kommune[[#Headers],[2020]],Table11[#Headers],0))","v":34},{"$f":"INDEX(Table11[],MATCH(TEXT(hf_kommune[[#This Row],[Kommunenr]],\"0\"),Table11[Nr],0),MATCH(hf_kommune[[#Headers],[2021]],Table11[#Headers],0))","v":34},{"$f":"INDEX(Table11[],MATCH(TEXT(hf_kommune[[#This Row],[Kommunenr]],\"0\"),Table11[Nr],0),MATCH(hf_kommune[[#Headers],[2022]],Table11[#Headers],0))","v":40},{"$f":"INDEX(Table11[],MATCH(TEXT(hf_kommune[[#This Row],[Kommunenr]],\"0\"),Table11[Nr],0),MATCH(hf_kommune[[#Headers],[2023]],Table11[#Headers],0))","v":50},{"$f":"INDEX(Table11[],MATCH(TEXT(hf_kommune[[#This Row],[Kommunenr]],\"0\"),Table11[Nr],0),MATCH(hf_kommune[[#Headers],[2024]],Table11[#Headers],0))","v":35},{"$f":"INDEX(Table11[],MATCH(TEXT(hf_kommune[[#This Row],[Kommunenr]],\"0\"),Table11[Nr],0),MATCH(hf_kommune[[#Headers],[2025]],Table11[#Headers],0))","v":43},{"$f":"INDEX(Table11[],MATCH(TEXT(hf_kommune[[#This Row],[Kommunenr]],\"0\"),Table11[Nr],0),MATCH(hf_kommune[[#Headers],[2026]],Table11[#Headers],0))","v":42},{"$f":"INDEX(Table11[],MATCH(TEXT(hf_kommune[[#This Row],[Kommunenr]],\"0\"),Table11[Nr],0),MATCH(hf_kommune[[#Headers],[2027]],Table11[#Headers],0))","v":32},{"$f":"INDEX(Table11[],MATCH(TEXT(hf_kommune[[#This Row],[Kommunenr]],\"0\"),Table11[Nr],0),MATCH(hf_kommune[[#Headers],[2028]],Table11[#Headers],0))","v":36},{"$f":"INDEX(Table11[],MATCH(TEXT(hf_kommune[[#This Row],[Kommunenr]],\"0\"),Table11[Nr],0),MATCH(hf_kommune[[#Headers],[2029]],Table11[#Headers],0))","v":32},{"$f":"INDEX(Table11[],MATCH(TEXT(hf_kommune[[#This Row],[Kommunenr]],\"0\"),Table11[Nr],0),MATCH(hf_kommune[[#Headers],[2030]],Table11[#Headers],0))","v":49},{"$f":"INDEX(Table11[],MATCH(TEXT(hf_kommune[[#This Row],[Kommunenr]],\"0\"),Table11[Nr],0),MATCH(hf_kommune[[#Headers],[2031]],Table11[#Headers],0))","v":47},{"$f":"INDEX(Table11[],MATCH(TEXT(hf_kommune[[#This Row],[Kommunenr]],\"0\"),Table11[Nr],0),MATCH(hf_kommune[[#Headers],[2032]],Table11[#Headers],0))","v":46},{"$f":"INDEX(Table11[],MATCH(TEXT(hf_kommune[[#This Row],[Kommunenr]],\"0\"),Table11[Nr],0),MATCH(hf_kommune[[#Headers],[2033]],Table11[#Headers],0))","v":48},{"$f":"INDEX(Table11[],MATCH(TEXT(hf_kommune[[#This Row],[Kommunenr]],\"0\"),Table11[Nr],0),MATCH(hf_kommune[[#Headers],[2034]],Table11[#Headers],0))","v":34},{"$f":"INDEX(Table11[],MATCH(TEXT(hf_kommune[[#This Row],[Kommunenr]],\"0\"),Table11[Nr],0),MATCH(hf_kommune[[#Headers],[2035]],Table11[#Headers],0))","v":44},{"$f":"INDEX(Table11[],MATCH(TEXT(hf_kommune[[#This Row],[Kommunenr]],\"0\"),Table11[Nr],0),MATCH(hf_kommune[[#Headers],[2036]],Table11[#Headers],0))","v":44},{"$f":"INDEX(Table11[],MATCH(TEXT(hf_kommune[[#This Row],[Kommunenr]],\"0\"),Table11[Nr],0),MATCH(hf_kommune[[#Headers],[2037]],Table11[#Headers],0))","v":37},{"$f":"INDEX(Table11[],MATCH(TEXT(hf_kommune[[#This Row],[Kommunenr]],\"0\"),Table11[Nr],0),MATCH(hf_kommune[[#Headers],[2038]],Table11[#Headers],0))","v":37},{"$f":"INDEX(Table11[],MATCH(TEXT(hf_kommune[[#This Row],[Kommunenr]],\"0\"),Table11[Nr],0),MATCH(hf_kommune[[#Headers],[2039]],Table11[#Headers],0))","v":44},{"$f":"INDEX(Table11[],MATCH(TEXT(hf_kommune[[#This Row],[Kommunenr]],\"0\"),Table11[Nr],0),MATCH(hf_kommune[[#Headers],[2040]],Table11[#Headers],0))","v":35},2891,2906,2925,2947,2974,3001,3028,3054,3079,3103,3127,3149,3170,3191,3211,3229,3248,3265,3282]
[1554,"Averøy","Helse Midt-Norge","Helse Møre og Romsdal","Kristiansund",{"$f":"INDEX(Table11[],MATCH(TEXT(hf_kommune[[#This Row],[Kommunenr]],\"0\"),Table11[Nr],0),MATCH(hf_kommune[[#Headers],[2020]],Table11[#Headers],0))","v":74},{"$f":"INDEX(Table11[],MATCH(TEXT(hf_kommune[[#This Row],[Kommunenr]],\"0\"),Table11[Nr],0),MATCH(hf_kommune[[#Headers],[2021]],Table11[#Headers],0))","v":87},{"$f":"INDEX(Table11[],MATCH(TEXT(hf_kommune[[#This Row],[Kommunenr]],\"0\"),Table11[Nr],0),MATCH(hf_kommune[[#Headers],[2022]],Table11[#Headers],0))","v":94},{"$f":"INDEX(Table11[],MATCH(TEXT(hf_kommune[[#This Row],[Kommunenr]],\"0\"),Table11[Nr],0),MATCH(hf_kommune[[#Headers],[2023]],Table11[#Headers],0))","v":79},{"$f":"INDEX(Table11[],MATCH(TEXT(hf_kommune[[#This Row],[Kommunenr]],\"0\"),Table11[Nr],0),MATCH(hf_kommune[[#Headers],[2024]],Table11[#Headers],0))","v":87},{"$f":"INDEX(Table11[],MATCH(TEXT(hf_kommune[[#This Row],[Kommunenr]],\"0\"),Table11[Nr],0),MATCH(hf_kommune[[#Headers],[2025]],Table11[#Headers],0))","v":80},{"$f":"INDEX(Table11[],MATCH(TEXT(hf_kommune[[#This Row],[Kommunenr]],\"0\"),Table11[Nr],0),MATCH(hf_kommune[[#Headers],[2026]],Table11[#Headers],0))","v":82},{"$f":"INDEX(Table11[],MATCH(TEXT(hf_kommune[[#This Row],[Kommunenr]],\"0\"),Table11[Nr],0),MATCH(hf_kommune[[#Headers],[2027]],Table11[#Headers],0))","v":95},{"$f":"INDEX(Table11[],MATCH(TEXT(hf_kommune[[#This Row],[Kommunenr]],\"0\"),Table11[Nr],0),MATCH(hf_kommune[[#Headers],[2028]],Table11[#Headers],0))","v":80},{"$f":"INDEX(Table11[],MATCH(TEXT(hf_kommune[[#This Row],[Kommunenr]],\"0\"),Table11[Nr],0),MATCH(hf_kommune[[#Headers],[2029]],Table11[#Headers],0))","v":95},{"$f":"INDEX(Table11[],MATCH(TEXT(hf_kommune[[#This Row],[Kommunenr]],\"0\"),Table11[Nr],0),MATCH(hf_kommune[[#Headers],[2030]],Table11[#Headers],0))","v":87},{"$f":"INDEX(Table11[],MATCH(TEXT(hf_kommune[[#This Row],[Kommunenr]],\"0\"),Table11[Nr],0),MATCH(hf_kommune[[#Headers],[2031]],Table11[#Headers],0))","v":66},{"$f":"INDEX(Table11[],MATCH(TEXT(hf_kommune[[#This Row],[Kommunenr]],\"0\"),Table11[Nr],0),MATCH(hf_kommune[[#Headers],[2032]],Table11[#Headers],0))","v":87},{"$f":"INDEX(Table11[],MATCH(TEXT(hf_kommune[[#This Row],[Kommunenr]],\"0\"),Table11[Nr],0),MATCH(hf_kommune[[#Headers],[2033]],Table11[#Headers],0))","v":72},{"$f":"INDEX(Table11[],MATCH(TEXT(hf_kommune[[#This Row],[Kommunenr]],\"0\"),Table11[Nr],0),MATCH(hf_kommune[[#Headers],[2034]],Table11[#Headers],0))","v":90},{"$f":"INDEX(Table11[],MATCH(TEXT(hf_kommune[[#This Row],[Kommunenr]],\"0\"),Table11[Nr],0),MATCH(hf_kommune[[#Headers],[2035]],Table11[#Headers],0))","v":71},{"$f":"INDEX(Table11[],MATCH(TEXT(hf_kommune[[#This Row],[Kommunenr]],\"0\"),Table11[Nr],0),MATCH(hf_kommune[[#Headers],[2036]],Table11[#Headers],0))","v":76},{"$f":"INDEX(Table11[],MATCH(TEXT(hf_kommune[[#This Row],[Kommunenr]],\"0\"),Table11[Nr],0),MATCH(hf_kommune[[#Headers],[2037]],Table11[#Headers],0))","v":78},{"$f":"INDEX(Table11[],MATCH(TEXT(hf_kommune[[#This Row],[Kommunenr]],\"0\"),Table11[Nr],0),MATCH(hf_kommune[[#Headers],[2038]],Table11[#Headers],0))","v":83},{"$f":"INDEX(Table11[],MATCH(TEXT(hf_kommune[[#This Row],[Kommunenr]],\"0\"),Table11[Nr],0),MATCH(hf_kommune[[#Headers],[2039]],Table11[#Headers],0))","v":91},{"$f":"INDEX(Table11[],MATCH(TEXT(hf_kommune[[#This Row],[Kommunenr]],\"0\"),Table11[Nr],0),MATCH(hf_kommune[[#Headers],[2040]],Table11[#Headers],0))","v":85},5735,5730,5734,5749,5772,5794,5815,5835,5854,5872,5889,5906,5922,5938,5954,5969,5983,5997,6009]
[5422,"Balsfjord","Helse Nord","Universitetssykehuset Nord-Norge","Tromsø",{"$f":"INDEX(Table11[],MATCH(TEXT(hf_kommune[[#This Row],[Kommunenr]],\"0\"),Table11[Nr],0),MATCH(hf_kommune[[#Headers],[2020]],Table11[#Headers],0))","v":112},{"$f":"INDEX(Table11[],MATCH(TEXT(hf_kommune[[#This Row],[Kommunenr]],\"0\"),Table11[Nr],0),MATCH(hf_kommune[[#Headers],[2021]],Table11[#Headers],0))","v":86},{"$f":"INDEX(Table11[],MATCH(TEXT(hf_kommune[[#This Row],[Kommunenr]],\"0\"),Table11[Nr],0),MATCH(hf_kommune[[#Headers],[2022]],Table11[#Headers],0))","v":78},{"$f":"INDEX(Table11[],MATCH(TEXT(hf_kommune[[#This Row],[Kommunenr]],\"0\"),Table11[Nr],0),MATCH(hf_kommune[[#Headers],[2023]],Table11[#Headers],0))","v":91},{"$f":"INDEX(Table11[],MATCH(TEXT(hf_kommune[[#This Row],[Kommunenr]],\"0\"),Table11[Nr],0),MATCH(hf_kommune[[#Headers],[2024]],Table11[#Headers],0))","v":97},{"$f":"INDEX(Table11[],MATCH(TEXT(hf_kommune[[#This Row],[Kommunenr]],\"0\"),Table11[Nr],0),MATCH(hf_kommune[[#Headers],[2025]],Table11[#Headers],0))","v":106},{"$f":"INDEX(Table11[],MATCH(TEXT(hf_kommune[[#This Row],[Kommunenr]],\"0\"),Table11[Nr],0),MATCH(hf_kommune[[#Headers],[2026]],Table11[#Headers],0))","v":95},{"$f":"INDEX(Table11[],MATCH(TEXT(hf_kommune[[#This Row],[Kommunenr]],\"0\"),Table11[Nr],0),MATCH(hf_kommune[[#Headers],[2027]],Table11[#Headers],0))","v":76},{"$f":"INDEX(Table11[],MATCH(TEXT(hf_kommune[[#This Row],[Kommunenr]],\"0\"),Table11[Nr],0),MATCH(hf_kommune[[#Headers],[2028]],Table11[#Headers],0))","v":81},{"$f":"INDEX(Table11[],MATCH(TEXT(hf_kommune[[#This Row],[Kommunenr]],\"0\"),Table11[Nr],0),MATCH(hf_kommune[[#Headers],[2029]],Table11[#Headers],0))","v":86},{"$f":"INDEX(Table11[],MATCH(TEXT(hf_kommune[[#This Row],[Kommunenr]],\"0\"),Table11[Nr],0),MATCH(hf_kommune[[#Headers],[2030]],Table11[#Headers],0))","v":73},{"$f":"INDEX(Table11[],MATCH(TEXT(hf_kommune[[#This Row],[Kommunenr]],\"0\"),Table11[Nr],0),MATCH(hf_kommune[[#Headers],[2031]],Table11[#Headers],0))","v":79},{"$f":"INDEX(Table11[],MATCH(TEXT(hf_kommune[[#This Row],[Kommunenr]],\"0\"),Table11[Nr],0),MATCH(hf_kommune[[#Headers],[2032]],Table11[#Headers],0))","v":63},{"$f":"INDEX(Table11[],MATCH(TEXT(hf_kommune[[#This Row],[Kommunenr]],\"0\"),Table11[Nr],0),MATCH(hf_kommune[[#Headers],[2033]],Table11[#Headers],0))","v":55},{"$f":"INDEX(Table11[],MATCH(TEXT(hf_kommune[[#This Row],[Kommunenr]],\"0\"),Table11[Nr],0),MATCH(hf_kommune[[#Headers],[2034]],Table11[#Headers],0))","v":72},{"$f":"INDEX(Table11[],MATCH(TEXT(hf_kommune[[#This Row],[Kommunenr]],\"0\"),Table11[Nr],0),MATCH(hf_kommune[[#Headers],[2035]],Table11[#Headers],0))","v":62},{"$f":"INDEX(Table11[],MATCH(TEXT(hf_kommune[[#This Row],[Kommunenr]],\"0\"),Table11[Nr],0),MATCH(hf_kommune[[#Headers],[2036]],Table11[#Headers],0))","v":68},{"$f":"INDEX(Table11[],MATCH(TEXT(hf_kommune[[#This Row],[Kommunenr]],\"0\"),Table11[Nr],0),MATCH(hf_kommune[[#Headers],[2037]],Table11[#Headers],0))","v":69},{"$f":"INDEX(Table11[],MATCH(TEXT(hf_kommune[[#This Row],[Kommunenr]],\"0\"),Table11[Nr],0),MATCH(hf_kommune[[#Headers],[2038]],Table11[#Headers],0))","v":70},{"$f":"INDEX(Table11[],MATCH(TEXT(hf_kommune[[#This Row],[Kommunenr]],\"0\"),Table11[Nr],0),MATCH(hf_kommune[[#Headers],[2039]],Table11[#Headers],0))","v":69},{"$f":"INDEX(Table11[],MATCH(TEXT(hf_kommune[[#This Row],[Kommunenr]],\"0\"),Table11[Nr],0),MATCH(hf_kommune[[#Headers],[2040]],Table11[#Headers],0))","v":69},5541,5536,5532,5529,5527,5527,5526,5526,5527,5528,5529,5531,5534,5538,5542,5546,5551,5556,5561]
[3813,"Bamble","Helse Sør-Øst","Sykehuset Telemark","Skien",{"$f":"INDEX(Table11[],MATCH(TEXT(hf_kommune[[#This Row],[Kommunenr]],\"0\"),Table11[Nr],0),MATCH(hf_kommune[[#Headers],[2020]],Table11[#Headers],0))","v":212},{"$f":"INDEX(Table11[],MATCH(TEXT(hf_kommune[[#This Row],[Kommunenr]],\"0\"),Table11[Nr],0),MATCH(hf_kommune[[#Headers],[2021]],Table11[#Headers],0))","v":197},{"$f":"INDEX(Table11[],MATCH(TEXT(hf_kommune[[#This Row],[Kommunenr]],\"0\"),Table11[Nr],0),MATCH(hf_kommune[[#Headers],[2022]],Table11[#Headers],0))","v":222},{"$f":"INDEX(Table11[],MATCH(TEXT(hf_kommune[[#This Row],[Kommunenr]],\"0\"),Table11[Nr],0),MATCH(hf_kommune[[#Headers],[2023]],Table11[#Headers],0))","v":198},{"$f":"INDEX(Table11[],MATCH(TEXT(hf_kommune[[#This Row],[Kommunenr]],\"0\"),Table11[Nr],0),MATCH(hf_kommune[[#Headers],[2024]],Table11[#Headers],0))","v":224},{"$f":"INDEX(Table11[],MATCH(TEXT(hf_kommune[[#This Row],[Kommunenr]],\"0\"),Table11[Nr],0),MATCH(hf_kommune[[#Headers],[2025]],Table11[#Headers],0))","v":197},{"$f":"INDEX(Table11[],MATCH(TEXT(hf_kommune[[#This Row],[Kommunenr]],\"0\"),Table11[Nr],0),MATCH(hf_kommune[[#Headers],[2026]],Table11[#Headers],0))","v":203},{"$f":"INDEX(Table11[],MATCH(TEXT(hf_kommune[[#This Row],[Kommunenr]],\"0\"),Table11[Nr],0),MATCH(hf_kommune[[#Headers],[2027]],Table11[#Headers],0))","v":221},{"$f":"INDEX(Table11[],MATCH(TEXT(hf_kommune[[#This Row],[Kommunenr]],\"0\"),Table11[Nr],0),MATCH(hf_kommune[[#Headers],[2028]],Table11[#Headers],0))","v":215},{"$f":"INDEX(Table11[],MATCH(TEXT(hf_kommune[[#This Row],[Kommunenr]],\"0\"),Table11[Nr],0),MATCH(hf_kommune[[#Headers],[2029]],Table11[#Headers],0))","v":194},{"$f":"INDEX(Table11[],MATCH(TEXT(hf_kommune[[#This Row],[Kommunenr]],\"0\"),Table11[Nr],0),MATCH(hf_kommune[[#Headers],[2030]],Table11[#Headers],0))","v":173},{"$f":"INDEX(Table11[],MATCH(TEXT(hf_kommune[[#This Row],[Kommunenr]],\"0\"),Table11[Nr],0),MATCH(hf_kommune[[#Headers],[2031]],Table11[#Headers],0))","v":186},{"$f":"INDEX(Table11[],MATCH(TEXT(hf_kommune[[#This Row],[Kommunenr]],\"0\"),Table11[Nr],0),MATCH(hf_kommune[[#Headers],[2032]],Table11[#Headers],0))","v":190},{"$f":"INDEX(Table11[],MATCH(TEXT(hf_kommune[[#This Row],[Kommunenr]],\"0\"),Table11[Nr],0),MATCH(hf_kommune[[#Headers],[2033]],Table11[#Headers],0))","v":158},{"$f":"INDEX(Table11[],MATCH(TEXT(hf_kommune[[#This Row],[Kommunenr]],\"0\"),Table11[Nr],0),MATCH(hf_kommune[[#Headers],[2034]],Table11[#Headers],0))","v":150},{"$f":"INDEX(Table11[],MATCH(TEXT(hf_kommune[[#This Row],[Kommunenr]],\"0\"),Table11[Nr],0),MATCH(hf_kommune[[#Headers],[2035]],Table11[#Headers],0))","v":177},{"$f":"INDEX(Table11[],MATCH(TEXT(hf_kommune[[#This Row],[Kommunenr]],\"0\"),Table11[Nr],0),MATCH(hf_kommune[[#Headers],[2036]],Table11[#Headers],0))","v":164},{"$f":"INDEX(Table11[],MATCH(TEXT(hf_kommune[[#This Row],[Kommunenr]],\"0\"),Table11[Nr],0),MATCH(hf_kommune[[#Headers],[2037]],Table11[#Headers],0))","v":154},{"$f":"INDEX(Table11[],MATCH(TEXT(hf_kommune[[#This Row],[Kommunenr]],\"0\"),Table11[Nr],0),MATCH(hf_kommune[[#Headers],[2038]],Table11[#Headers],0))","v":174},{"$f":"INDEX(Table11[],MATCH(TEXT(hf_kommune[[#This Row],[Kommunenr]],\"0\"),Table11[Nr],0),MATCH(hf_kommune[[#Headers],[2039]],Table11[#Headers],0))","v":172},{"$f":"INDEX(Table11[],MATCH(TEXT(hf_kommune[[#This Row],[Kommunenr]],\"0\"),Table11[Nr],0),MATCH(hf_kommune[[#Headers],[2040]],Table11[#Headers],0))","v":183},14048,14049,14049,14049,14050,14051,14052,14054,14056,14058,14060,14062,14064,14065,14067,14067,14065,14061,14056]
[5416,"Bardu","Helse Nord","Universitetssykehuset Nord-Norge","Tromsø",{"$f":"INDEX(Table11[],MATCH(TEXT(hf_kommune[[#This Row],[Kommunenr]],\"0\"),Table11[Nr],0),MATCH(hf_kommune[[#Headers],[2020]],Table11[#Headers],0))","v":36},{"$f":"INDEX(Table11[],MATCH(TEXT(hf_kommune[[#This Row],[Kommunenr]],\"0\"),Table11[Nr],0),MATCH(hf_kommune[[#Headers],[2021]],Table11[#Headers],0))","v":50},{"$f":"INDEX(Table11[],MATCH(TEXT(hf_kommune[[#This Row],[Kommunenr]],\"0\"),Table11[Nr],0),MATCH(hf_kommune[[#Headers],[2022]],Table11[#Headers],0))","v":42},{"$f":"INDEX(Table11[],MATCH(TEXT(hf_kommune[[#This Row],[Kommunenr]],\"0\"),Table11[Nr],0),MATCH(hf_kommune[[#Headers],[2023]],Table11[#Headers],0))","v":52},{"$f":"INDEX(Table11[],MATCH(TEXT(hf_kommune[[#This Row],[Kommunenr]],\"0\"),Table11[Nr],0),MATCH(hf_kommune[[#Headers],[2024]],Table11[#Headers],0))","v":46},{"$f":"INDEX(Table11[],MATCH(TEXT(hf_kommune[[#This Row],[Kommunenr]],\"0\"),Table11[Nr],0),MATCH(hf_kommune[[#Headers],[2025]],Table11[#Headers],0))","v":47},{"$f":"INDEX(Table11[],MATCH(TEXT(hf_kommune[[#This Row],[Kommunenr]],\"0\"),Table11[Nr],0),MATCH(hf_kommune[[#Headers],[2026]],Table11[#Headers],0))","v":45},{"$f":"INDEX(Table11[],MATCH(TEXT(hf_kommune[[#This Row],[Kommunenr]],\"0\"),Table11[Nr],0),MATCH(hf_kommune[[#Headers],[2027]],Table11[#Headers],0))","v":57},{"$f":"INDEX(Table11[],MATCH(TEXT(hf_kommune[[#This Row],[Kommunenr]],\"0\"),Table11[Nr],0),MATCH(hf_kommune[[#Headers],[2028]],Table11[#Headers],0))","v":49},{"$f":"INDEX(Table11[],MATCH(TEXT(hf_kommune[[#This Row],[Kommunenr]],\"0\"),Table11[Nr],0),MATCH(hf_kommune[[#Headers],[2029]],Table11[#Headers],0))","v":50},{"$f":"INDEX(Table11[],MATCH(TEXT(hf_kommune[[#This Row],[Kommunenr]],\"0\"),Table11[Nr],0),MATCH(hf_kommune[[#Headers],[2030]],Table11[#Headers],0))","v":41},{"$f":"INDEX(Table11[],MATCH(TEXT(hf_kommune[[#This Row],[Kommunenr]],\"0\"),Table11[Nr],0),MATCH(hf_kommune[[#Headers],[2031]],Table11[#Headers],0))","v":44},{"$f":"INDEX(Table11[],MATCH(TEXT(hf_kommune[[#This Row],[Kommunenr]],\"0\"),Table11[Nr],0),MATCH(hf_kommune[[#Headers],[2032]],Table11[#Headers],0))","v":51},{"$f":"INDEX(Table11[],MATCH(TEXT(hf_kommune[[#This Row],[Kommunenr]],\"0\"),Table11[Nr],0),MATCH(hf_kommune[[#Headers],[2033]],Table11[#Headers],0))","v":41},{"$f":"INDEX(Table11[],MATCH(TEXT(hf_kommune[[#This Row],[Kommunenr]],\"0\"),Table11[Nr],0),MATCH(hf_kommune[[#Headers],[2034]],Table11[#Headers],0))","v":39},{"$f":"INDEX(Table11[],MATCH(TEXT(hf_kommune[[#This Row],[Kommunenr]],\"0\"),Table11[Nr],0),MATCH(hf_kommune[[#Headers],[2035]],Table11[#Headers],0))","v":35},{"$f":"INDEX(Table11[],MATCH(TEXT(hf_kommune[[#This Row],[Kommunenr]],\"0\"),Table11[Nr],0),MATCH(hf_kommune[[#Headers],[2036]],Table11[#Headers],0))","v":45},{"$f":"INDEX(Table11[],MATCH(TEXT(hf_kommune[[#This Row],[Kommunenr]],\"0\"),Table11[Nr],0),MATCH(hf_kommune[[#Headers],[2037]],Table11[#Headers],0))","v":42},{"$f":"INDEX(Table11[],MATCH(TEXT(hf_kommune[[#This Row],[Kommunenr]],\"0\"),Table11[Nr],0),MATCH(hf_kommune[[#Headers],[2038]],Table11[#Headers],0))","v":42},{"$f":"INDEX(Table11[],MATCH(TEXT(hf_kommune[[#This Row],[Kommunenr]],\"0\"),Table11[Nr],0),MATCH(hf_kommune[[#Headers],[2039]],Table11[#Headers],0))","v":45},{"$f":"INDEX(Table11[],MATCH(TEXT(hf_kommune[[#This Row],[Kommunenr]],\"0\"),Table11[Nr],0),MATCH(hf_kommune[[#Headers],[2040]],Table11[#Headers],0))","v":31},4104,4147,4181,4207,4225,4242,4257,4272,4286,4299,4311,4321,4331,4340,4348,4354,4359,4363,4366]
[1839,"Beiarn","Helse Nord","Nordlandssykehuset","Bodø",{"$f":"INDEX(Table11[],MATCH(TEXT(hf_kommune[[#This Row],[Kommunenr]],\"0\"),Table11[Nr],0),MATCH(hf_kommune[[#Headers],[2020]],Table11[#Headers],0))","v":24},{"$f":"INDEX(Table11[],MATCH(TEXT(hf_kommune[[#This Row],[Kommunenr]],\"0\"),Table11[Nr],0),MATCH(hf_kommune[[#Headers],[2021]],Table11[#Headers],0))","v":17},{"$f":"INDEX(Table11[],MATCH(TEXT(hf_kommune[[#This Row],[Kommunenr]],\"0\"),Table11[Nr],0),MATCH(hf_kommune[[#Headers],[2022]],Table11[#Headers],0))","v":16},{"$f":"INDEX(Table11[],MATCH(TEXT(hf_kommune[[#This Row],[Kommunenr]],\"0\"),Table11[Nr],0),MATCH(hf_kommune[[#Headers],[2023]],Table11[#Headers],0))","v":14},{"$f":"INDEX(Table11[],MATCH(TEXT(hf_kommune[[#This Row],[Kommunenr]],\"0\"),Table11[Nr],0),MATCH(hf_kommune[[#Headers],[2024]],Table11[#Headers],0))","v":16},{"$f":"INDEX(Table11[],MATCH(TEXT(hf_kommune[[#This Row],[Kommunenr]],\"0\"),Table11[Nr],0),MATCH(hf_kommune[[#Headers],[2025]],Table11[#Headers],0))","v":12},{"$f":"INDEX(Table11[],MATCH(TEXT(hf_kommune[[#This Row],[Kommunenr]],\"0\"),Table11[Nr],0),MATCH(hf_kommune[[#Headers],[2026]],Table11[#Headers],0))","v":12},{"$f":"INDEX(Table11[],MATCH(TEXT(hf_kommune[[#This Row],[Kommunenr]],\"0\"),Table11[Nr],0),MATCH(hf_kommune[[#Headers],[2027]],Table11[#Headers],0))","v":19},{"$f":"INDEX(Table11[],MATCH(TEXT(hf_kommune[[#This Row],[Kommunenr]],\"0\"),Table11[Nr],0),MATCH(hf_kommune[[#Headers],[2028]],Table11[#Headers],0))","v":16},{"$f":"INDEX(Table11[],MATCH(TEXT(hf_kommune[[#This Row],[Kommunenr]],\"0\"),Table11[Nr],0),MATCH(hf_kommune[[#Headers],[2029]],Table11[#Headers],0))","v":13},{"$f":"INDEX(Table11[],MATCH(TEXT(hf_kommune[[#This Row],[Kommunenr]],\"0\"),Table11[Nr],0),MATCH(hf_kommune[[#Headers],[2030]],Table11[#Headers],0))","v":7},{"$f":"INDEX(Table11[],MATCH(TEXT(hf_kommune[[#This Row],[Kommunenr]],\"0\"),Table11[Nr],0),MATCH(hf_kommune[[#Headers],[2031]],Table11[#Headers],0))","v":10},{"$f":"INDEX(Table11[],MATCH(TEXT(hf_kommune[[#This Row],[Kommunenr]],\"0\"),Table11[Nr],0),MATCH(hf_kommune[[#Headers],[2032]],Table11[#Headers],0))","v":6},{"$f":"INDEX(Table11[],MATCH(TEXT(hf_kommune[[#This Row],[Kommunenr]],\"0\"),Table11[Nr],0),MATCH(hf_kommune[[#Headers],[2033]],Table11[#Headers],0))","v":10},{"$f":"INDEX(Table11[],MATCH(TEXT(hf_kommune[[#This Row],[Kommunenr]],\"0\"),Table11[Nr],0),MATCH(hf_kommune[[#Headers],[2034]],Table11[#Headers],0))","v":12},{"$f":"INDEX(Table11[],MATCH(TEXT(hf_kommune[[#This Row],[Kommunenr]],\"0\"),Table11[Nr],0),MATCH(hf_kommune[[#Headers],[2035]],Table11[#Headers],0))","v":15},{"$f":"INDEX(Table11[],MATCH(TEXT(hf_kommune[[#This Row],[Kommunenr]],\"0\"),Table11[Nr],0),MATCH(hf_kommune[[#Headers],[2036]],Table11[#Headers],0))","v":13},{"$f":"INDEX(Table11[],MATCH(TEXT(hf_kommune[[#This Row],[Kommunenr]],\"0\"),Table11[Nr],0),MATCH(hf_kommune[[#Headers],[2037]],Table11[#Headers],0))","v":15},{"$f":"INDEX(Table11[],MATCH(TEXT(hf_kommune[[#This Row],[Kommunenr]],\"0\"),Table11[Nr],0),MATCH(hf_kommune[[#Headers],[2038]],Table11[#Headers],0))","v":15},{"$f":"INDEX(Table11[],MATCH(TEXT(hf_kommune[[#This Row],[Kommunenr]],\"0\"),Table11[Nr],0),MATCH(hf_kommune[[#Headers],[2039]],Table11[#Headers],0))","v":13},{"$f":"INDEX(Table11[],MATCH(TEXT(hf_kommune[[#This Row],[Kommunenr]],\"0\"),Table11[Nr],0),MATCH(hf_kommune[[#Headers],[2040]],Table11[#Headers],0))","v":11},1000,993,986,981,976,972,968,964,959,955,951,947,943,938,934,930,925,921,916]
[4601,"Bergen","Helse Vest","Helse Bergen","Haukeland",{"$f":"INDEX(Table11[],MATCH(TEXT(hf_kommune[[#This Row],[Kommunenr]],\"0\"),Table11[Nr],0),MATCH(hf_kommune[[#Headers],[2020]],Table11[#Headers],0))","v":3273},{"$f":"INDEX(Table11[],MATCH(TEXT(hf_kommune[[#This Row],[Kommunenr]],\"0\"),Table11[Nr],0),MATCH(hf_kommune[[#Headers],[2021]],Table11[#Headers],0))","v":3330},{"$f":"INDEX(Table11[],MATCH(TEXT(hf_kommune[[#This Row],[Kommunenr]],\"0\"),Table11[Nr],0),MATCH(hf_kommune[[#Headers],[2022]],Table11[#Headers],0))","v":3566},{"$f":"INDEX(Table11[],MATCH(TEXT(hf_kommune[[#This Row],[Kommunenr]],\"0\"),Table11[Nr],0),MATCH(hf_kommune[[#Headers],[2023]],Table11[#Headers],0))","v":3636},{"$f":"INDEX(Table11[],MATCH(TEXT(hf_kommune[[#This Row],[Kommunenr]],\"0\"),Table11[Nr],0),MATCH(hf_kommune[[#Headers],[2024]],Table11[#Headers],0))","v":3723},{"$f":"INDEX(Table11[],MATCH(TEXT(hf_kommune[[#This Row],[Kommunenr]],\"0\"),Table11[Nr],0),MATCH(hf_kommune[[#Headers],[2025]],Table11[#Headers],0))","v":3775},{"$f":"INDEX(Table11[],MATCH(TEXT(hf_kommune[[#This Row],[Kommunenr]],\"0\"),Table11[Nr],0),MATCH(hf_kommune[[#Headers],[2026]],Table11[#Headers],0))","v":3598},{"$f":"INDEX(Table11[],MATCH(TEXT(hf_kommune[[#This Row],[Kommunenr]],\"0\"),Table11[Nr],0),MATCH(hf_kommune[[#Headers],[2027]],Table11[#Headers],0))","v":3651},{"$f":"INDEX(Table11[],MATCH(TEXT(hf_kommune[[#This Row],[Kommunenr]],\"0\"),Table11[Nr],0),MATCH(hf_kommune[[#Headers],[2028]],Table11[#Headers],0))","v":3771},{"$f":"INDEX(Table11[],MATCH(TEXT(hf_kommune[[#This Row],[Kommunenr]],\"0\"),Table11[Nr],0),MATCH(hf_kommune[[#Headers],[2029]],Table11[#Headers],0))","v":3702},{"$f":"INDEX(Table11[],MATCH(TEXT(hf_kommune[[#This Row],[Kommunenr]],\"0\"),Table11[Nr],0),MATCH(hf_kommune[[#Headers],[2030]],Table11[#Headers],0))","v":3602},{"$f":"INDEX(Table11[],MATCH(TEXT(hf_kommune[[#This Row],[Kommunenr]],\"0\"),Table11[Nr],0),MATCH(hf_kommune[[#Headers],[2031]],Table11[#Headers],0))","v":3648},{"$f":"INDEX(Table11[],MATCH(TEXT(hf_kommune[[#This Row],[Kommunenr]],\"0\"),Table11[Nr],0),MATCH(hf_kommune[[#Headers],[2032]],Table11[#Headers],0))","v":3435},{"$f":"INDEX(Table11[],MATCH(TEXT(hf_kommune[[#This Row],[Kommunenr]],\"0\"),Table11[Nr],0),MATCH(hf_kommune[[#Headers],[2033]],Table11[#Headers],0))","v":3355},{"$f":"INDEX(Table11[],MATCH(TEXT(hf_kommune[[#This Row],[Kommunenr]],\"0\"),Table11[Nr],0),MATCH(hf_kommune[[#Headers],[2034]],Table11[#Headers],0))","v":3526},{"$f":"INDEX(Table11[],MATCH(TEXT(hf_kommune[[#This Row],[Kommunenr]],\"0\"),Table11[Nr],0),MATCH(hf_kommune[[#Headers],[2035]],Table11[#Headers],0))","v":3539},{"$f":"INDEX(Table11[],MATCH(TEXT(hf_kommune[[#This Row],[Kommunenr]],\"0\"),Table11[Nr],0),MATCH(hf_kommune[[#Headers],[2036]],Table11[#Headers],0))","v":3598},{"$f":"INDEX(Table11[],MATCH(TEXT(hf_kommune[[#This Row],[Kommunenr]],\"0\"),Table11[Nr],0),MATCH(hf_kommune[[#Headers],[2037]],Table11[#Headers],0))","v":3587},{"$f":"INDEX(Table11[],MATCH(TEXT(hf_kommune[[#This Row],[Kommunenr]],\"0\"),Table11[Nr],0),MATCH(hf_kommune[[#Headers],[2038]],Table11[#Headers],0))","v":3734},{"$f":"INDEX(Table11[],MATCH(TEXT(hf_kommune[[#This Row],[Kommunenr]],\"0\"),Table11[Nr],0),MATCH(hf_kommune[[#Headers],[2039]],Table11[#Headers],0))","v":3528},{"$f":"INDEX(Table11[],MATCH(TEXT(hf_kommune[[#This Row],[Kommunenr]],\"0\"),Table11[Nr],0),MATCH(hf_kommune[[#Headers],[2040]],Table11[#Headers],0))","v":3590},287349,289014,290532,291952,293310,294675,296054,297442,298834,300221,301586,302925,304239,305519,306761,307945,309054,310089,311056]
[5440,"Berlevåg","Helse Nord","Finnmarkssykehuset","Kirkenes",{"$f":"INDEX(Table11[],MATCH(TEXT(hf_kommune[[#This Row],[Kommunenr]],\"0\"),Table11[Nr],0),MATCH(hf_kommune[[#Headers],[2020]],Table11[#Headers],0))","v":16},{"$f":"INDEX(Table11[],MATCH(TEXT(hf_kommune[[#This Row],[Kommunenr]],\"0\"),Table11[Nr],0),MATCH(hf_kommune[[#Headers],[2021]],Table11[#Headers],0))","v":18},{"$f":"INDEX(Table11[],MATCH(TEXT(hf_kommune[[#This Row],[Kommunenr]],\"0\"),Table11[Nr],0),MATCH(hf_kommune[[#Headers],[2022]],Table11[#Headers],0))","v":15},{"$f":"INDEX(Table11[],MATCH(TEXT(hf_kommune[[#This Row],[Kommunenr]],\"0\"),Table11[Nr],0),MATCH(hf_kommune[[#Headers],[2023]],Table11[#Headers],0))","v":18},{"$f":"INDEX(Table11[],MATCH(TEXT(hf_kommune[[#This Row],[Kommunenr]],\"0\"),Table11[Nr],0),MATCH(hf_kommune[[#Headers],[2024]],Table11[#Headers],0))","v":7},{"$f":"INDEX(Table11[],MATCH(TEXT(hf_kommune[[#This Row],[Kommunenr]],\"0\"),Table11[Nr],0),MATCH(hf_kommune[[#Headers],[2025]],Table11[#Headers],0))","v":14},{"$f":"INDEX(Table11[],MATCH(TEXT(hf_kommune[[#This Row],[Kommunenr]],\"0\"),Table11[Nr],0),MATCH(hf_kommune[[#Headers],[2026]],Table11[#Headers],0))","v":19},{"$f":"INDEX(Table11[],MATCH(TEXT(hf_kommune[[#This Row],[Kommunenr]],\"0\"),Table11[Nr],0),MATCH(hf_kommune[[#Headers],[2027]],Table11[#Headers],0))","v":12},{"$f":"INDEX(Table11[],MATCH(TEXT(hf_kommune[[#This Row],[Kommunenr]],\"0\"),Table11[Nr],0),MATCH(hf_kommune[[#Headers],[2028]],Table11[#Headers],0))","v":19},{"$f":"INDEX(Table11[],MATCH(TEXT(hf_kommune[[#This Row],[Kommunenr]],\"0\"),Table11[Nr],0),MATCH(hf_kommune[[#Headers],[2029]],Table11[#Headers],0))","v":14},{"$f":"INDEX(Table11[],MATCH(TEXT(hf_kommune[[#This Row],[Kommunenr]],\"0\"),Table11[Nr],0),MATCH(hf_kommune[[#Headers],[2030]],Table11[#Headers],0))","v":11},{"$f":"INDEX(Table11[],MATCH(TEXT(hf_kommune[[#This Row],[Kommunenr]],\"0\"),Table11[Nr],0),MATCH(hf_kommune[[#Headers],[2031]],Table11[#Headers],0))","v":11},{"$f":"INDEX(Table11[],MATCH(TEXT(hf_kommune[[#This Row],[Kommunenr]],\"0\"),Table11[Nr],0),MATCH(hf_kommune[[#Headers],[2032]],Table11[#Headers],0))","v":11},{"$f":"INDEX(Table11[],MATCH(TEXT(hf_kommune[[#This Row],[Kommunenr]],\"0\"),Table11[Nr],0),MATCH(hf_kommune[[#Headers],[2033]],Table11[#Headers],0))","v":9},{"$f":"INDEX(Table11[],MATCH(TEXT(hf_kommune[[#This Row],[Kommunenr]],\"0\"),Table11[Nr],0),MATCH(hf_kommune[[#Headers],[2034]],Table11[#Headers],0))","v":15},{"$f":"INDEX(Table11[],MATCH(TEXT(hf_kommune[[#This Row],[Kommunenr]],\"0\"),Table11[Nr],0),MATCH(hf_kommune[[#Headers],[2035]],Table11[#Headers],0))","v":13},{"$f":"INDEX(Table11[],MATCH(TEXT(hf_kommune[[#This Row],[Kommunenr]],\"0\"),Table11[Nr],0),MATCH(hf_kommune[[#Headers],[2036]],Table11[#Headers],0))","v":10},{"$f":"INDEX(Table11[],MATCH(TEXT(hf_kommune[[#This Row],[Kommunenr]],\"0\"),Table11[Nr],0),MATCH(hf_kommune[[#Headers],[2037]],Table11[#Headers],0))","v":10},{"$f":"INDEX(Table11[],MATCH(TEXT(hf_kommune[[#This Row],[Kommunenr]],\"0\"),Table11[Nr],0),MATCH(hf_kommune[[#Headers],[2038]],Table11[#Headers],0))","v":10},{"$f":"INDEX(Table11[],MATCH(TEXT(hf_kommune[[#This Row],[Kommunenr]],\"0\"),Table11[Nr],0),MATCH(hf_kommune[[#Headers],[2039]],Table11[#Headers],0))","v":10},{"$f":"INDEX(Table11[],MATCH(TEXT(hf_kommune[[#This Row],[Kommunenr]],\"0\"),Table11[Nr],0),MATCH(hf_kommune[[#Headers],[2040]],Table11[#Headers],0))","v":10},941,939,938,940,943,947,951,954,958,962,965,968,971,974,977,979,980,982,983]
[1811,"Bindal","Helse Midt-Norge","Helse Nord-Trøndelag","Namsos",{"$f":"INDEX(Table11[],MATCH(TEXT(hf_kommune[[#This Row],[Kommunenr]],\"0\"),Table11[Nr],0),MATCH(hf_kommune[[#Headers],[2020]],Table11[#Headers],0))","v":16},{"$f":"INDEX(Table11[],MATCH(TEXT(hf_kommune[[#This Row],[Kommunenr]],\"0\"),Table11[Nr],0),MATCH(hf_kommune[[#Headers],[2021]],Table11[#Headers],0))","v":20},{"$f":"INDEX(Table11[],MATCH(TEXT(hf_kommune[[#This Row],[Kommunenr]],\"0\"),Table11[Nr],0),MATCH(hf_kommune[[#Headers],[2022]],Table11[#Headers],0))","v":18},{"$f":"INDEX(Table11[],MATCH(TEXT(hf_kommune[[#This Row],[Kommunenr]],\"0\"),Table11[Nr],0),MATCH(hf_kommune[[#Headers],[2023]],Table11[#Headers],0))","v":18},{"$f":"INDEX(Table11[],MATCH(TEXT(hf_kommune[[#This Row],[Kommunenr]],\"0\"),Table11[Nr],0),MATCH(hf_kommune[[#Headers],[2024]],Table11[#Headers],0))","v":19},{"$f":"INDEX(Table11[],MATCH(TEXT(hf_kommune[[#This Row],[Kommunenr]],\"0\"),Table11[Nr],0),MATCH(hf_kommune[[#Headers],[2025]],Table11[#Headers],0))","v":19},{"$f":"INDEX(Table11[],MATCH(TEXT(hf_kommune[[#This Row],[Kommunenr]],\"0\"),Table11[Nr],0),MATCH(hf_kommune[[#Headers],[2026]],Table11[#Headers],0))","v":24},{"$f":"INDEX(Table11[],MATCH(TEXT(hf_kommune[[#This Row],[Kommunenr]],\"0\"),Table11[Nr],0),MATCH(hf_kommune[[#Headers],[2027]],Table11[#Headers],0))","v":21},{"$f":"INDEX(Table11[],MATCH(TEXT(hf_kommune[[#This Row],[Kommunenr]],\"0\"),Table11[Nr],0),MATCH(hf_kommune[[#Headers],[2028]],Table11[#Headers],0))","v":15},{"$f":"INDEX(Table11[],MATCH(TEXT(hf_kommune[[#This Row],[Kommunenr]],\"0\"),Table11[Nr],0),MATCH(hf_kommune[[#Headers],[2029]],Table11[#Headers],0))","v":12},{"$f":"INDEX(Table11[],MATCH(TEXT(hf_kommune[[#This Row],[Kommunenr]],\"0\"),Table11[Nr],0),MATCH(hf_kommune[[#Headers],[2030]],Table11[#Headers],0))","v":13},{"$f":"INDEX(Table11[],MATCH(TEXT(hf_kommune[[#This Row],[Kommunenr]],\"0\"),Table11[Nr],0),MATCH(hf_kommune[[#Headers],[2031]],Table11[#Headers],0))","v":19},{"$f":"INDEX(Table11[],MATCH(TEXT(hf_kommune[[#This Row],[Kommunenr]],\"0\"),Table11[Nr],0),MATCH(hf_kommune[[#Headers],[2032]],Table11[#Headers],0))","v":20},{"$f":"INDEX(Table11[],MATCH(TEXT(hf_kommune[[#This Row],[Kommunenr]],\"0\"),Table11[Nr],0),MATCH(hf_kommune[[#Headers],[2033]],Table11[#Headers],0))","v":11},{"$f":"INDEX(Table11[],MATCH(TEXT(hf_kommune[[#This Row],[Kommunenr]],\"0\"),Table11[Nr],0),MATCH(hf_kommune[[#Headers],[2034]],Table11[#Headers],0))","v":19},{"$f":"INDEX(Table11[],MATCH(TEXT(hf_kommune[[#This Row],[Kommunenr]],\"0\"),Table11[Nr],0),MATCH(hf_kommune[[#Headers],[2035]],Table11[#Headers],0))","v":14},{"$f":"INDEX(Table11[],MATCH(TEXT(hf_kommune[[#This Row],[Kommunenr]],\"0\"),Table11[Nr],0),MATCH(hf_kommune[[#Headers],[2036]],Table11[#Headers],0))","v":18},{"$f":"INDEX(Table11[],MATCH(TEXT(hf_kommune[[#This Row],[Kommunenr]],\"0\"),Table11[Nr],0),MATCH(hf_kommune[[#Headers],[2037]],Table11[#Headers],0))","v":12},{"$f":"INDEX(Table11[],MATCH(TEXT(hf_kommune[[#This Row],[Kommunenr]],\"0\"),Table11[Nr],0),MATCH(hf_kommune[[#Headers],[2038]],Table11[#Headers],0))","v":14},{"$f":"INDEX(Table11[],MATCH(TEXT(hf_kommune[[#This Row],[Kommunenr]],\"0\"),Table11[Nr],0),MATCH(hf_kommune[[#Headers],[2039]],Table11[#Headers],0))","v":20},{"$f":"INDEX(Table11[],MATCH(TEXT(hf_kommune[[#This Row],[Kommunenr]],\"0\"),Table11[Nr],0),MATCH(hf_kommune[[#Headers],[2040]],Table11[#Headers],0))","v":15},1398,1386,1375,1366,1358,1350,1342,1335,1328,1322,1315,1308,1301,1295,1288,1281,1274,1267,1260]
[4216,"Birkenes","Helse Sør-Øst","Sørlandet sykehus","Arendal",{"$f":"INDEX(Table11[],MATCH(TEXT(hf_kommune[[#This Row],[Kommunenr]],\"0\"),Table11[Nr],0),MATCH(hf_kommune[[#Headers],[2020]],Table11[#Headers],0))","v":62},{"$f":"INDEX(Table11[],MATCH(TEXT(hf_kommune[[#This Row],[Kommunenr]],\"0\"),Table11[Nr],0),MATCH(hf_kommune[[#Headers],[2021]],Table11[#Headers],0))","v":68},{"$f":"INDEX(Table11[],MATCH(TEXT(hf_kommune[[#This Row],[Kommunenr]],\"0\"),Table11[Nr],0),MATCH(hf_kommune[[#Headers],[2022]],Table11[#Headers],0))","v":78},{"$f":"INDEX(Table11[],MATCH(TEXT(hf_kommune[[#This Row],[Kommunenr]],\"0\"),Table11[Nr],0),MATCH(hf_kommune[[#Headers],[2023]],Table11[#Headers],0))","v":72},{"$f":"INDEX(Table11[],MATCH(TEXT(hf_kommune[[#This Row],[Kommunenr]],\"0\"),Table11[Nr],0),MATCH(hf_kommune[[#Headers],[2024]],Table11[#Headers],0))","v":81},{"$f":"INDEX(Table11[],MATCH(TEXT(hf_kommune[[#This Row],[Kommunenr]],\"0\"),Table11[Nr],0),MATCH(hf_kommune[[#Headers],[2025]],Table11[#Headers],0))","v":66},{"$f":"INDEX(Table11[],MATCH(TEXT(hf_kommune[[#This Row],[Kommunenr]],\"0\"),Table11[Nr],0),MATCH(hf_kommune[[#Headers],[2026]],Table11[#Headers],0))","v":73},{"$f":"INDEX(Table11[],MATCH(TEXT(hf_kommune[[#This Row],[Kommunenr]],\"0\"),Table11[Nr],0),MATCH(hf_kommune[[#Headers],[2027]],Table11[#Headers],0))","v":77},{"$f":"INDEX(Table11[],MATCH(TEXT(hf_kommune[[#This Row],[Kommunenr]],\"0\"),Table11[Nr],0),MATCH(hf_kommune[[#Headers],[2028]],Table11[#Headers],0))","v":71},{"$f":"INDEX(Table11[],MATCH(TEXT(hf_kommune[[#This Row],[Kommunenr]],\"0\"),Table11[Nr],0),MATCH(hf_kommune[[#Headers],[2029]],Table11[#Headers],0))","v":67},{"$f":"INDEX(Table11[],MATCH(TEXT(hf_kommune[[#This Row],[Kommunenr]],\"0\"),Table11[Nr],0),MATCH(hf_kommune[[#Headers],[2030]],Table11[#Headers],0))","v":79},{"$f":"INDEX(Table11[],MATCH(TEXT(hf_kommune[[#This Row],[Kommunenr]],\"0\"),Table11[Nr],0),MATCH(hf_kommune[[#Headers],[2031]],Table11[#Headers],0))","v":67},{"$f":"INDEX(Table11[],MATCH(TEXT(hf_kommune[[#This Row],[Kommunenr]],\"0\"),Table11[Nr],0),MATCH(hf_kommune[[#Headers],[2032]],Table11[#Headers],0))","v":86},{"$f":"INDEX(Table11[],MATCH(TEXT(hf_kommune[[#This Row],[Kommunenr]],\"0\"),Table11[Nr],0),MATCH(hf_kommune[[#Headers],[2033]],Table11[#Headers],0))","v":65},{"$f":"INDEX(Table11[],MATCH(TEXT(hf_kommune[[#This Row],[Kommunenr]],\"0\"),Table11[Nr],0),MATCH(hf_kommune[[#Headers],[2034]],Table11[#Headers],0))","v":74},{"$f":"INDEX(Table11[],MATCH(TEXT(hf_kommune[[#This Row],[Kommunenr]],\"0\"),Table11[Nr],0),MATCH(hf_kommune[[#Headers],[2035]],Table11[#Headers],0))","v":78},{"$f":"INDEX(Table11[],MATCH(TEXT(hf_kommune[[#This Row],[Kommunenr]],\"0\"),Table11[Nr],0),MATCH(hf_kommune[[#Headers],[2036]],Table11[#Headers],0))","v":62},{"$f":"INDEX(Table11[],MATCH(TEXT(hf_kommune[[#This Row],[Kommunenr]],\"0\"),Table11[Nr],0),MATCH(hf_kommune[[#Headers],[2037]],Table11[#Headers],0))","v":82},{"$f":"INDEX(Table11[],MATCH(TEXT(hf_kommune[[#This Row],[Kommunenr]],\"0\"),Table11[Nr],0),MATCH(hf_kommune[[#Headers],[2038]],Table11[#Headers],0))","v":83},{"$f":"INDEX(Table11[],MATCH(TEXT(hf_kommune[[#This Row],[Kommunenr]],\"0\"),Table11[Nr],0),MATCH(hf_kommune[[#Headers],[2039]],Table11[#Headers],0))","v":77},{"$f":"INDEX(Table11[],MATCH(TEXT(hf_kommune[[#This Row],[Kommunenr]],\"0\"),Table11[Nr],0),MATCH(hf_kommune[[#Headers],[2040]],Table11[#Headers],0))","v":77},5285,5319,5354,5389,5425,5459,5492,5525,5557,5588,5619,5649,5679,5709,5739,5769,5798,5827,5855]
[1114,"Bjerkreim","Helse Vest","Helse Stavanger","Stavanger",{"$f":"INDEX(Table11[],MATCH(TEXT(hf_kommune[[#This Row],[Kommunenr]],\"0\"),Table11[Nr],0),MATCH(hf_kommune[[#Headers],[2020]],Table11[#Headers],0))","v":35},{"$f":"INDEX(Table11[],MATCH(TEXT(hf_kommune[[#This Row],[Kommunenr]],\"0\"),Table11[Nr],0),MATCH(hf_kommune[[#Headers],[2021]],Table11[#Headers],0))","v":41},{"$f":"INDEX(Table11[],MATCH(TEXT(hf_kommune[[#This Row],[Kommunenr]],\"0\"),Table11[Nr],0),MATCH(hf_kommune[[#Headers],[2022]],Table11[#Headers],0))","v":42},{"$f":"INDEX(Table11[],MATCH(TEXT(hf_kommune[[#This Row],[Kommunenr]],\"0\"),Table11[Nr],0),MATCH(hf_kommune[[#Headers],[2023]],Table11[#Headers],0))","v":43},{"$f":"INDEX(Table11[],MATCH(TEXT(hf_kommune[[#This Row],[Kommunenr]],\"0\"),Table11[Nr],0),MATCH(hf_kommune[[#Headers],[2024]],Table11[#Headers],0))","v":39},{"$f":"INDEX(Table11[],MATCH(TEXT(hf_kommune[[#This Row],[Kommunenr]],\"0\"),Table11[Nr],0),MATCH(hf_kommune[[#Headers],[2025]],Table11[#Headers],0))","v":35},{"$f":"INDEX(Table11[],MATCH(TEXT(hf_kommune[[#This Row],[Kommunenr]],\"0\"),Table11[Nr],0),MATCH(hf_kommune[[#Headers],[2026]],Table11[#Headers],0))","v":29},{"$f":"INDEX(Table11[],MATCH(TEXT(hf_kommune[[#This Row],[Kommunenr]],\"0\"),Table11[Nr],0),MATCH(hf_kommune[[#Headers],[2027]],Table11[#Headers],0))","v":33},{"$f":"INDEX(Table11[],MATCH(TEXT(hf_kommune[[#This Row],[Kommunenr]],\"0\"),Table11[Nr],0),MATCH(hf_kommune[[#Headers],[2028]],Table11[#Headers],0))","v":36},{"$f":"INDEX(Table11[],MATCH(TEXT(hf_kommune[[#This Row],[Kommunenr]],\"0\"),Table11[Nr],0),MATCH(hf_kommune[[#Headers],[2029]],Table11[#Headers],0))","v":34},{"$f":"INDEX(Table11[],MATCH(TEXT(hf_kommune[[#This Row],[Kommunenr]],\"0\"),Table11[Nr],0),MATCH(hf_kommune[[#Headers],[2030]],Table11[#Headers],0))","v":48},{"$f":"INDEX(Table11[],MATCH(TEXT(hf_kommune[[#This Row],[Kommunenr]],\"0\"),Table11[Nr],0),MATCH(hf_kommune[[#Headers],[2031]],Table11[#Headers],0))","v":33},{"$f":"INDEX(Table11[],MATCH(TEXT(hf_kommune[[#This Row],[Kommunenr]],\"0\"),Table11[Nr],0),MATCH(hf_kommune[[#Headers],[2032]],Table11[#Headers],0))","v":33},{"$f":"INDEX(Table11[],MATCH(TEXT(hf_kommune[[#This Row],[Kommunenr]],\"0\"),Table11[Nr],0),MATCH(hf_kommune[[#Headers],[2033]],Table11[#Headers],0))","v":32},{"$f":"INDEX(Table11[],MATCH(TEXT(hf_kommune[[#This Row],[Kommunenr]],\"0\"),Table11[Nr],0),MATCH(hf_kommune[[#Headers],[2034]],Table11[#Headers],0))","v":32},{"$f":"INDEX(Table11[],MATCH(TEXT(hf_kommune[[#This Row],[Kommunenr]],\"0\"),Table11[Nr],0),MATCH(hf_kommune[[#Headers],[2035]],Table11[#Headers],0))","v":37},{"$f":"INDEX(Table11[],MATCH(TEXT(hf_kommune[[#This Row],[Kommunenr]],\"0\"),Table11[Nr],0),MATCH(hf_kommune[[#Headers],[2036]],Table11[#Headers],0))","v":35},{"$f":"INDEX(Table11[],MATCH(TEXT(hf_kommune[[#This Row],[Kommunenr]],\"0\"),Table11[Nr],0),MATCH(hf_kommune[[#Headers],[2037]],Table11[#Headers],0))","v":37},{"$f":"INDEX(Table11[],MATCH(TEXT(hf_kommune[[#This Row],[Kommunenr]],\"0\"),Table11[Nr],0),MATCH(hf_kommune[[#Headers],[2038]],Table11[#Headers],0))","v":38},{"$f":"INDEX(Table11[],MATCH(TEXT(hf_kommune[[#This Row],[Kommunenr]],\"0\"),Table11[Nr],0),MATCH(hf_kommune[[#Headers],[2039]],Table11[#Headers],0))","v":43},{"$f":"INDEX(Table11[],MATCH(TEXT(hf_kommune[[#This Row],[Kommunenr]],\"0\"),Table11[Nr],0),MATCH(hf_kommune[[#Headers],[2040]],Table11[#Headers],0))","v":45},2779,2781,2787,2797,2812,2827,2841,2854,2868,2882,2896,2910,2923,2937,2951,2965,2979,2993,3007]
[4624,"Bjørnafjorden","Helse Vest","Helse Bergen","Haukeland",{"$f":"INDEX(Table11[],MATCH(TEXT(hf_kommune[[#This Row],[Kommunenr]],\"0\"),Table11[Nr],0),MATCH(hf_kommune[[#Headers],[2020]],Table11[#Headers],0))","v":310},{"$f":"INDEX(Table11[],MATCH(TEXT(hf_kommune[[#This Row],[Kommunenr]],\"0\"),Table11[Nr],0),MATCH(hf_kommune[[#Headers],[2021]],Table11[#Headers],0))","v":303},{"$f":"INDEX(Table11[],MATCH(TEXT(hf_kommune[[#This Row],[Kommunenr]],\"0\"),Table11[Nr],0),MATCH(hf_kommune[[#Headers],[2022]],Table11[#Headers],0))","v":316},{"$f":"INDEX(Table11[],MATCH(TEXT(hf_kommune[[#This Row],[Kommunenr]],\"0\"),Table11[Nr],0),MATCH(hf_kommune[[#Headers],[2023]],Table11[#Headers],0))","v":312},{"$f":"INDEX(Table11[],MATCH(TEXT(hf_kommune[[#This Row],[Kommunenr]],\"0\"),Table11[Nr],0),MATCH(hf_kommune[[#Headers],[2024]],Table11[#Headers],0))","v":306},{"$f":"INDEX(Table11[],MATCH(TEXT(hf_kommune[[#This Row],[Kommunenr]],\"0\"),Table11[Nr],0),MATCH(hf_kommune[[#Headers],[2025]],Table11[#Headers],0))","v":314},{"$f":"INDEX(Table11[],MATCH(TEXT(hf_kommune[[#This Row],[Kommunenr]],\"0\"),Table11[Nr],0),MATCH(hf_kommune[[#Headers],[2026]],Table11[#Headers],0))","v":360},{"$f":"INDEX(Table11[],MATCH(TEXT(hf_kommune[[#This Row],[Kommunenr]],\"0\"),Table11[Nr],0),MATCH(hf_kommune[[#Headers],[2027]],Table11[#Headers],0))","v":319},{"$f":"INDEX(Table11[],MATCH(TEXT(hf_kommune[[#This Row],[Kommunenr]],\"0\"),Table11[Nr],0),MATCH(hf_kommune[[#Headers],[2028]],Table11[#Headers],0))","v":323},{"$f":"INDEX(Table11[],MATCH(TEXT(hf_kommune[[#This Row],[Kommunenr]],\"0\"),Table11[Nr],0),MATCH(hf_kommune[[#Headers],[2029]],Table11[#Headers],0))","v":368},{"$f":"INDEX(Table11[],MATCH(TEXT(hf_kommune[[#This Row],[Kommunenr]],\"0\"),Table11[Nr],0),MATCH(hf_kommune[[#Headers],[2030]],Table11[#Headers],0))","v":365},{"$f":"INDEX(Table11[],MATCH(TEXT(hf_kommune[[#This Row],[Kommunenr]],\"0\"),Table11[Nr],0),MATCH(hf_kommune[[#Headers],[2031]],Table11[#Headers],0))","v":332},{"$f":"INDEX(Table11[],MATCH(TEXT(hf_kommune[[#This Row],[Kommunenr]],\"0\"),Table11[Nr],0),MATCH(hf_kommune[[#Headers],[2032]],Table11[#Headers],0))","v":331},{"$f":"INDEX(Table11[],MATCH(TEXT(hf_kommune[[#This Row],[Kommunenr]],\"0\"),Table11[Nr],0),MATCH(hf_kommune[[#Headers],[2033]],Table11[#Headers],0))","v":372},{"$f":"INDEX(Table11[],MATCH(TEXT(hf_kommune[[#This Row],[Kommunenr]],\"0\"),Table11[Nr],0),MATCH(hf_kommune[[#Headers],[2034]],Table11[#Headers],0))","v":351},{"$f":"INDEX(Table11[],MATCH(TEXT(hf_kommune[[#This Row],[Kommunenr]],\"0\"),Table11[Nr],0),MATCH(hf_kommune[[#Headers],[2035]],Table11[#Headers],0))","v":350},{"$f":"INDEX(Table11[],MATCH(TEXT(hf_kommune[[#This Row],[Kommunenr]],\"0\"),Table11[Nr],0),MATCH(hf_kommune[[#Headers],[2036]],Table11[#Headers],0))","v":351},{"$f":"INDEX(Table11[],MATCH(TEXT(hf_kommune[[#This Row],[Kommunenr]],\"0\"),Table11[Nr],0),MATCH(hf_kommune[[#Headers],[2037]],Table11[#Headers],0))","v":381},{"$f":"INDEX(Table11[],MATCH(TEXT(hf_kommune[[#This Row],[Kommunenr]],\"0\"),Table11[Nr],0),MATCH(hf_kommune[[#Headers],[2038]],Table11[#Headers],0))","v":376},{"$f":"INDEX(Table11[],MATCH(TEXT(hf_kommune[[#This Row],[Kommunenr]],\"0\"),Table11[Nr],0),MATCH(hf_kommune[[#Headers],[2039]],Table11[#Headers],0))","v":354},{"$f":"INDEX(Table11[],MATCH(TEXT(hf_kommune[[#This Row],[Kommunenr]],\"0\"),Table11[Nr],0),MATCH(hf_kommune[[#Headers],[2040]],Table11[#Headers],0))","v":371},25285,25497,25727,25972,26236,26491,26739,26980,27216,27445,27668,27888,28103,28316,28527,28734,28937,29133,29325]
[1804,"Bodø","Helse Nord","Nordlandssykehuset","Bodø",{"$f":"INDEX(Table11[],MATCH(TEXT(hf_kommune[[#This Row],[Kommunenr]],\"0\"),Table11[Nr],0),MATCH(hf_kommune[[#Headers],[2020]],Table11[#Headers],0))","v":705},{"$f":"INDEX(Table11[],MATCH(TEXT(hf_kommune[[#This Row],[Kommunenr]],\"0\"),Table11[Nr],0),MATCH(hf_kommune[[#Headers],[2021]],Table11[#Headers],0))","v":674},{"$f":"INDEX(Table11[],MATCH(TEXT(hf_kommune[[#This Row],[Kommunenr]],\"0\"),Table11[Nr],0),MATCH(hf_kommune[[#Headers],[2022]],Table11[#Headers],0))","v":683},{"$f":"INDEX(Table11[],MATCH(TEXT(hf_kommune[[#This Row],[Kommunenr]],\"0\"),Table11[Nr],0),MATCH(hf_kommune[[#Headers],[2023]],Table11[#Headers],0))","v":733},{"$f":"INDEX(Table11[],MATCH(TEXT(hf_kommune[[#This Row],[Kommunenr]],\"0\"),Table11[Nr],0),MATCH(hf_kommune[[#Headers],[2024]],Table11[#Headers],0))","v":756},{"$f":"INDEX(Table11[],MATCH(TEXT(hf_kommune[[#This Row],[Kommunenr]],\"0\"),Table11[Nr],0),MATCH(hf_kommune[[#Headers],[2025]],Table11[#Headers],0))","v":747},{"$f":"INDEX(Table11[],MATCH(TEXT(hf_kommune[[#This Row],[Kommunenr]],\"0\"),Table11[Nr],0),MATCH(hf_kommune[[#Headers],[2026]],Table11[#Headers],0))","v":711},{"$f":"INDEX(Table11[],MATCH(TEXT(hf_kommune[[#This Row],[Kommunenr]],\"0\"),Table11[Nr],0),MATCH(hf_kommune[[#Headers],[2027]],Table11[#Headers],0))","v":695},{"$f":"INDEX(Table11[],MATCH(TEXT(hf_kommune[[#This Row],[Kommunenr]],\"0\"),Table11[Nr],0),MATCH(hf_kommune[[#Headers],[2028]],Table11[#Headers],0))","v":658},{"$f":"INDEX(Table11[],MATCH(TEXT(hf_kommune[[#This Row],[Kommunenr]],\"0\"),Table11[Nr],0),MATCH(hf_kommune[[#Headers],[2029]],Table11[#Headers],0))","v":648},{"$f":"INDEX(Table11[],MATCH(TEXT(hf_kommune[[#This Row],[Kommunenr]],\"0\"),Table11[Nr],0),MATCH(hf_kommune[[#Headers],[2030]],Table11[#Headers],0))","v":671},{"$f":"INDEX(Table11[],MATCH(TEXT(hf_kommune[[#This Row],[Kommunenr]],\"0\"),Table11[Nr],0),MATCH(hf_kommune[[#Headers],[2031]],Table11[#Headers],0))","v":650},{"$f":"INDEX(Table11[],MATCH(TEXT(hf_kommune[[#This Row],[Kommunenr]],\"0\"),Table11[Nr],0),MATCH(hf_kommune[[#Headers],[2032]],Table11[#Headers],0))","v":619},{"$f":"INDEX(Table11[],MATCH(TEXT(hf_kommune[[#This Row],[Kommunenr]],\"0\"),Table11[Nr],0),MATCH(hf_kommune[[#Headers],[2033]],Table11[#Headers],0))","v":597},{"$f":"INDEX(Table11[],MATCH(TEXT(hf_kommune[[#This Row],[Kommunenr]],\"0\"),Table11[Nr],0),MATCH(hf_kommune[[#Headers],[2034]],Table11[#Headers],0))","v":605},{"$f":"INDEX(Table11[],MATCH(TEXT(hf_kommune[[#This Row],[Kommunenr]],\"0\"),Table11[Nr],0),MATCH(hf_kommune[[#Headers],[2035]],Table11[#Headers],0))","v":655},{"$f":"INDEX(Table11[],MATCH(TEXT(hf_kommune[[#This Row],[Kommunenr]],\"0\"),Table11[Nr],0),MATCH(hf_kommune[[#Headers],[2036]],Table11[#Headers],0))","v":639},{"$f":"INDEX(Table11[],MATCH(TEXT(hf_kommune[[#This Row],[Kommunenr]],\"0\"),Table11[Nr],0),MATCH(hf_kommune[[#Headers],[2037]],Table11[#Headers],0))","v":660},{"$f":"INDEX(Table11[],MATCH(TEXT(hf_kommune[[#This Row],[Kommunenr]],\"0\"),Table11[Nr],0),MATCH(hf_kommune[[#Headers],[2038]],Table11[#Headers],0))","v":636},{"$f":"INDEX(Table11[],MATCH(TEXT(hf_kommune[[#This Row],[Kommunenr]],\"0\"),Table11[Nr],0),MATCH(hf_kommune[[#Headers],[2039]],Table11[#Headers],0))","v":636},{"$f":"INDEX(Table11[],MATCH(TEXT(hf_kommune[[#This Row],[Kommunenr]],\"0\"),Table11[Nr],0),MATCH(hf_kommune[[#Headers],[2040]],Table11[#Headers],0))","v":636},52697,52907,53103,53289,53468,53645,53817,53984,54145,54300,54449,54591,54728,54861,54991,55116,55232,55342,55444]
[1145,"Bokn","Helse Vest","Helse Fonna","Haugesund",{"$f":"INDEX(Table11[],MATCH(TEXT(hf_kommune[[#This Row],[Kommunenr]],\"0\"),Table11[Nr],0),MATCH(hf_kommune[[#Headers],[2020]],Table11[#Headers],0))","v":11},{"$f":"INDEX(Table11[],MATCH(TEXT(hf_kommune[[#This Row],[Kommunenr]],\"0\"),Table11[Nr],0),MATCH(hf_kommune[[#Headers],[2021]],Table11[#Headers],0))","v":11},{"$f":"INDEX(Table11[],MATCH(TEXT(hf_kommune[[#This Row],[Kommunenr]],\"0\"),Table11[Nr],0),MATCH(hf_kommune[[#Headers],[2022]],Table11[#Headers],0))","v":13},{"$f":"INDEX(Table11[],MATCH(TEXT(hf_kommune[[#This Row],[Kommunenr]],\"0\"),Table11[Nr],0),MATCH(hf_kommune[[#Headers],[2023]],Table11[#Headers],0))","v":11},{"$f":"INDEX(Table11[],MATCH(TEXT(hf_kommune[[#This Row],[Kommunenr]],\"0\"),Table11[Nr],0),MATCH(hf_kommune[[#Headers],[2024]],Table11[#Headers],0))","v":10},{"$f":"INDEX(Table11[],MATCH(TEXT(hf_kommune[[#This Row],[Kommunenr]],\"0\"),Table11[Nr],0),MATCH(hf_kommune[[#Headers],[2025]],Table11[#Headers],0))","v":18},{"$f":"INDEX(Table11[],MATCH(TEXT(hf_kommune[[#This Row],[Kommunenr]],\"0\"),Table11[Nr],0),MATCH(hf_kommune[[#Headers],[2026]],Table11[#Headers],0))","v":17},{"$f":"INDEX(Table11[],MATCH(TEXT(hf_kommune[[#This Row],[Kommunenr]],\"0\"),Table11[Nr],0),MATCH(hf_kommune[[#Headers],[2027]],Table11[#Headers],0))","v":15},{"$f":"INDEX(Table11[],MATCH(TEXT(hf_kommune[[#This Row],[Kommunenr]],\"0\"),Table11[Nr],0),MATCH(hf_kommune[[#Headers],[2028]],Table11[#Headers],0))","v":13},{"$f":"INDEX(Table11[],MATCH(TEXT(hf_kommune[[#This Row],[Kommunenr]],\"0\"),Table11[Nr],0),MATCH(hf_kommune[[#Headers],[2029]],Table11[#Headers],0))","v":14},{"$f":"INDEX(Table11[],MATCH(TEXT(hf_kommune[[#This Row],[Kommunenr]],\"0\"),Table11[Nr],0),MATCH(hf_kommune[[#Headers],[2030]],Table11[#Headers],0))","v":13},{"$f":"INDEX(Table11[],MATCH(TEXT(hf_kommune[[#This Row],[Kommunenr]],\"0\"),Table11[Nr],0),MATCH(hf_kommune[[#Headers],[2031]],Table11[#Headers],0))","v":10},{"$f":"INDEX(Table11[],MATCH(TEXT(hf_kommune[[#This Row],[Kommunenr]],\"0\"),Table11[Nr],0),MATCH(hf_kommune[[#Headers],[2032]],Table11[#Headers],0))","v":16},{"$f":"INDEX(Table11[],MATCH(TEXT(hf_kommune[[#This Row],[Kommunenr]],\"0\"),Table11[Nr],0),MATCH(hf_kommune[[#Headers],[2033]],Table11[#Headers],0))","v":11},{"$f":"INDEX(Table11[],MATCH(TEXT(hf_kommune[[#This Row],[Kommunenr]],\"0\"),Table11[Nr],0),MATCH(hf_kommune[[#Headers],[2034]],Table11[#Headers],0))","v":6},{"$f":"INDEX(Table11[],MATCH(TEXT(hf_kommune[[#This Row],[Kommunenr]],\"0\"),Table11[Nr],0),MATCH(hf_kommune[[#Headers],[2035]],Table11[#Headers],0))","v":10},{"$f":"INDEX(Table11[],MATCH(TEXT(hf_kommune[[#This Row],[Kommunenr]],\"0\"),Table11[Nr],0),MATCH(hf_kommune[[#Headers],[2036]],Table11[#Headers],0))","v":9},{"$f":"INDEX(Table11[],MATCH(TEXT(hf_kommune[[#This Row],[Kommunenr]],\"0\"),Table11[Nr],0),MATCH(hf_kommune[[#Headers],[2037]],Table11[#Headers],0))","v":6},{"$f":"INDEX(Table11[],MATCH(TEXT(hf_kommune[[#This Row],[Kommunenr]],\"0\"),Table11[Nr],0),MATCH(hf_kommune[[#Headers],[2038]],Table11[#Headers],0))","v":10},{"$f":"INDEX(Table11[],MATCH(TEXT(hf_kommune[[#This Row],[Kommunenr]],\"0\"),Table11[Nr],0),MATCH(hf_kommune[[#Headers],[2039]],Table11[#Headers],0))","v":8},{"$f":"INDEX(Table11[],MATCH(TEXT(hf_kommune[[#This Row],[Kommunenr]],\"0\"),Table11[Nr],0),MATCH(hf_kommune[[#Headers],[2040]],Table11[#Headers],0))","v":11},836,830,827,826,827,829,830,833,835,838,840,843,846,849,852,855,858,860,862]
[4648,"Bremanger","Helse Vest","Helse Førde","Førde",{"$f":"INDEX(Table11[],MATCH(TEXT(hf_kommune[[#This Row],[Kommunenr]],\"0\"),Table11[Nr],0),MATCH(hf_kommune[[#Headers],[2020]],Table11[#Headers],0))","v":45},{"$f":"INDEX(Table11[],MATCH(TEXT(hf_kommune[[#This Row],[Kommunenr]],\"0\"),Table11[Nr],0),MATCH(hf_kommune[[#Headers],[2021]],Table11[#Headers],0))","v":58},{"$f":"INDEX(Table11[],MATCH(TEXT(hf_kommune[[#This Row],[Kommunenr]],\"0\"),Table11[Nr],0),MATCH(hf_kommune[[#Headers],[2022]],Table11[#Headers],0))","v":51},{"$f":"INDEX(Table11[],MATCH(TEXT(hf_kommune[[#This Row],[Kommunenr]],\"0\"),Table11[Nr],0),MATCH(hf_kommune[[#Headers],[2023]],Table11[#Headers],0))","v":53},{"$f":"INDEX(Table11[],MATCH(TEXT(hf_kommune[[#This Row],[Kommunenr]],\"0\"),Table11[Nr],0),MATCH(hf_kommune[[#Headers],[2024]],Table11[#Headers],0))","v":47},{"$f":"INDEX(Table11[],MATCH(TEXT(hf_kommune[[#This Row],[Kommunenr]],\"0\"),Table11[Nr],0),MATCH(hf_kommune[[#Headers],[2025]],Table11[#Headers],0))","v":48},{"$f":"INDEX(Table11[],MATCH(TEXT(hf_kommune[[#This Row],[Kommunenr]],\"0\"),Table11[Nr],0),MATCH(hf_kommune[[#Headers],[2026]],Table11[#Headers],0))","v":52},{"$f":"INDEX(Table11[],MATCH(TEXT(hf_kommune[[#This Row],[Kommunenr]],\"0\"),Table11[Nr],0),MATCH(hf_kommune[[#Headers],[2027]],Table11[#Headers],0))","v":47},{"$f":"INDEX(Table11[],MATCH(TEXT(hf_kommune[[#This Row],[Kommunenr]],\"0\"),Table11[Nr],0),MATCH(hf_kommune[[#Headers],[2028]],Table11[#Headers],0))","v":59},{"$f":"INDEX(Table11[],MATCH(TEXT(hf_kommune[[#This Row],[Kommunenr]],\"0\"),Table11[Nr],0),MATCH(hf_kommune[[#Headers],[2029]],Table11[#Headers],0))","v":50},{"$f":"INDEX(Table11[],MATCH(TEXT(hf_kommune[[#This Row],[Kommunenr]],\"0\"),Table11[Nr],0),MATCH(hf_kommune[[#Headers],[2030]],Table11[#Headers],0))","v":43},{"$f":"INDEX(Table11[],MATCH(TEXT(hf_kommune[[#This Row],[Kommunenr]],\"0\"),Table11[Nr],0),MATCH(hf_kommune[[#Headers],[2031]],Table11[#Headers],0))","v":39},{"$f":"INDEX(Table11[],MATCH(TEXT(hf_kommune[[#This Row],[Kommunenr]],\"0\"),Table11[Nr],0),MATCH(hf_kommune[[#Headers],[2032]],Table11[#Headers],0))","v":36},{"$f":"INDEX(Table11[],MATCH(TEXT(hf_kommune[[#This Row],[Kommunenr]],\"0\"),Table11[Nr],0),MATCH(hf_kommune[[#Headers],[2033]],Table11[#Headers],0))","v":39},{"$f":"INDEX(Table11[],MATCH(TEXT(hf_kommune[[#This Row],[Kommunenr]],\"0\"),Table11[Nr],0),MATCH(hf_kommune[[#Headers],[2034]],Table11[#Headers],0))","v":38},{"$f":"INDEX(Table11[],MATCH(TEXT(hf_kommune[[#This Row],[Kommunenr]],\"0\"),Table11[Nr],0),MATCH(hf_kommune[[#Headers],[2035]],Table11[#Headers],0))","v":36},{"$f":"INDEX(Table11[],MATCH(TEXT(hf_kommune[[#This Row],[Kommunenr]],\"0\"),Table11[Nr],0),MATCH(hf_kommune[[#Headers],[2036]],Table11[#Headers],0))","v":39},{"$f":"INDEX(Table11[],MATCH(TEXT(hf_kommune[[#This Row],[Kommunenr]],\"0\"),Table11[Nr],0),MATCH(hf_kommune[[#Headers],[2037]],Table11[#Headers],0))","v":38},{"$f":"INDEX(Table11[],MATCH(TEXT(hf_kommune[[#This Row],[Kommunenr]],\"0\"),Table11[Nr],0),MATCH(hf_kommune[[#Headers],[2038]],Table11[#Headers],0))","v":39},{"$f":"INDEX(Table11[],MATCH(TEXT(hf_kommune[[#This Row],[Kommunenr]],\"0\"),Table11[Nr],0),MATCH(hf_kommune[[#Headers],[2039]],Table11[#Headers],0))","v":35},{"$f":"INDEX(Table11[],MATCH(TEXT(hf_kommune[[#This Row],[Kommunenr]],\"0\"),Table11[Nr],0),MATCH(hf_kommune[[#Headers],[2040]],Table11[#Headers],0))","v":29},3505,3459,3422,3393,3372,3353,3335,3318,3302,3288,3275,3263,3251,3240,3230,3221,3211,3202,3193]
[1813,"Brønnøy","Helse Nord","Helgelandssykehuset","Sandnessjøen",{"$f":"INDEX(Table11[],MATCH(TEXT(hf_kommune[[#This Row],[Kommunenr]],\"0\"),Table11[Nr],0),MATCH(hf_kommune[[#Headers],[2020]],Table11[#Headers],0))","v":116},{"$f":"INDEX(Table11[],MATCH(TEXT(hf_kommune[[#This Row],[Kommunenr]],\"0\"),Table11[Nr],0),MATCH(hf_kommune[[#Headers],[2021]],Table11[#Headers],0))","v":124},{"$f":"INDEX(Table11[],MATCH(TEXT(hf_kommune[[#This Row],[Kommunenr]],\"0\"),Table11[Nr],0),MATCH(hf_kommune[[#Headers],[2022]],Table11[#Headers],0))","v":135},{"$f":"INDEX(Table11[],MATCH(TEXT(hf_kommune[[#This Row],[Kommunenr]],\"0\"),Table11[Nr],0),MATCH(hf_kommune[[#Headers],[2023]],Table11[#Headers],0))","v":103},{"$f":"INDEX(Table11[],MATCH(TEXT(hf_kommune[[#This Row],[Kommunenr]],\"0\"),Table11[Nr],0),MATCH(hf_kommune[[#Headers],[2024]],Table11[#Headers],0))","v":115},{"$f":"INDEX(Table11[],MATCH(TEXT(hf_kommune[[#This Row],[Kommunenr]],\"0\"),Table11[Nr],0),MATCH(hf_kommune[[#Headers],[2025]],Table11[#Headers],0))","v":138},{"$f":"INDEX(Table11[],MATCH(TEXT(hf_kommune[[#This Row],[Kommunenr]],\"0\"),Table11[Nr],0),MATCH(hf_kommune[[#Headers],[2026]],Table11[#Headers],0))","v":121},{"$f":"INDEX(Table11[],MATCH(TEXT(hf_kommune[[#This Row],[Kommunenr]],\"0\"),Table11[Nr],0),MATCH(hf_kommune[[#Headers],[2027]],Table11[#Headers],0))","v":105},{"$f":"INDEX(Table11[],MATCH(TEXT(hf_kommune[[#This Row],[Kommunenr]],\"0\"),Table11[Nr],0),MATCH(hf_kommune[[#Headers],[2028]],Table11[#Headers],0))","v":125},{"$f":"INDEX(Table11[],MATCH(TEXT(hf_kommune[[#This Row],[Kommunenr]],\"0\"),Table11[Nr],0),MATCH(hf_kommune[[#Headers],[2029]],Table11[#Headers],0))","v":92},{"$f":"INDEX(Table11[],MATCH(TEXT(hf_kommune[[#This Row],[Kommunenr]],\"0\"),Table11[Nr],0),MATCH(hf_kommune[[#Headers],[2030]],Table11[#Headers],0))","v":106},{"$f":"INDEX(Table11[],MATCH(TEXT(hf_kommune[[#This Row],[Kommunenr]],\"0\"),Table11[Nr],0),MATCH(hf_kommune[[#Headers],[2031]],Table11[#Headers],0))","v":81},{"$f":"INDEX(Table11[],MATCH(TEXT(hf_kommune[[#This Row],[Kommunenr]],\"0\"),Table11[Nr],0),MATCH(hf_kommune[[#Headers],[2032]],Table11[#Headers],0))","v":82},{"$f":"INDEX(Table11[],MATCH(TEXT(hf_kommune[[#This Row],[Kommunenr]],\"0\"),Table11[Nr],0),MATCH(hf_kommune[[#Headers],[2033]],Table11[#Headers],0))","v":80},{"$f":"INDEX(Table11[],MATCH(TEXT(hf_kommune[[#This Row],[Kommunenr]],\"0\"),Table11[Nr],0),MATCH(hf_kommune[[#Headers],[2034]],Table11[#Headers],0))","v":81},{"$f":"INDEX(Table11[],MATCH(TEXT(hf_kommune[[#This Row],[Kommunenr]],\"0\"),Table11[Nr],0),MATCH(hf_kommune[[#Headers],[2035]],Table11[#Headers],0))","v":94},{"$f":"INDEX(Table11[],MATCH(TEXT(hf_kommune[[#This Row],[Kommunenr]],\"0\"),Table11[Nr],0),MATCH(hf_kommune[[#Headers],[2036]],Table11[#Headers],0))","v":94},{"$f":"INDEX(Table11[],MATCH(TEXT(hf_kommune[[#This Row],[Kommunenr]],\"0\"),Table11[Nr],0),MATCH(hf_kommune[[#Headers],[2037]],Table11[#Headers],0))","v":87},{"$f":"INDEX(Table11[],MATCH(TEXT(hf_kommune[[#This Row],[Kommunenr]],\"0\"),Table11[Nr],0),MATCH(hf_kommune[[#Headers],[2038]],Table11[#Headers],0))","v":77},{"$f":"INDEX(Table11[],MATCH(TEXT(hf_kommune[[#This Row],[Kommunenr]],\"0\"),Table11[Nr],0),MATCH(hf_kommune[[#Headers],[2039]],Table11[#Headers],0))","v":93},{"$f":"INDEX(Table11[],MATCH(TEXT(hf_kommune[[#This Row],[Kommunenr]],\"0\"),Table11[Nr],0),MATCH(hf_kommune[[#Headers],[2040]],Table11[#Headers],0))","v":90},7840,7816,7800,7791,7788,7785,7782,7780,7775,7771,7766,7761,7756,7751,7747,7744,7741,7738,7734]
[4220,"Bygland","Helse Sør-Øst","Sørlandet sykehus","Arendal",{"$f":"INDEX(Table11[],MATCH(TEXT(hf_kommune[[#This Row],[Kommunenr]],\"0\"),Table11[Nr],0),MATCH(hf_kommune[[#Headers],[2020]],Table11[#Headers],0))","v":14},{"$f":"INDEX(Table11[],MATCH(TEXT(hf_kommune[[#This Row],[Kommunenr]],\"0\"),Table11[Nr],0),MATCH(hf_kommune[[#Headers],[2021]],Table11[#Headers],0))","v":19},{"$f":"INDEX(Table11[],MATCH(TEXT(hf_kommune[[#This Row],[Kommunenr]],\"0\"),Table11[Nr],0),MATCH(hf_kommune[[#Headers],[2022]],Table11[#Headers],0))","v":10},{"$f":"INDEX(Table11[],MATCH(TEXT(hf_kommune[[#This Row],[Kommunenr]],\"0\"),Table11[Nr],0),MATCH(hf_kommune[[#Headers],[2023]],Table11[#Headers],0))","v":14},{"$f":"INDEX(Table11[],MATCH(TEXT(hf_kommune[[#This Row],[Kommunenr]],\"0\"),Table11[Nr],0),MATCH(hf_kommune[[#Headers],[2024]],Table11[#Headers],0))","v":14},{"$f":"INDEX(Table11[],MATCH(TEXT(hf_kommune[[#This Row],[Kommunenr]],\"0\"),Table11[Nr],0),MATCH(hf_kommune[[#Headers],[2025]],Table11[#Headers],0))","v":18},{"$f":"INDEX(Table11[],MATCH(TEXT(hf_kommune[[#This Row],[Kommunenr]],\"0\"),Table11[Nr],0),MATCH(hf_kommune[[#Headers],[2026]],Table11[#Headers],0))","v":26},{"$f":"INDEX(Table11[],MATCH(TEXT(hf_kommune[[#This Row],[Kommunenr]],\"0\"),Table11[Nr],0),MATCH(hf_kommune[[#Headers],[2027]],Table11[#Headers],0))","v":19},{"$f":"INDEX(Table11[],MATCH(TEXT(hf_kommune[[#This Row],[Kommunenr]],\"0\"),Table11[Nr],0),MATCH(hf_kommune[[#Headers],[2028]],Table11[#Headers],0))","v":17},{"$f":"INDEX(Table11[],MATCH(TEXT(hf_kommune[[#This Row],[Kommunenr]],\"0\"),Table11[Nr],0),MATCH(hf_kommune[[#Headers],[2029]],Table11[#Headers],0))","v":17},{"$f":"INDEX(Table11[],MATCH(TEXT(hf_kommune[[#This Row],[Kommunenr]],\"0\"),Table11[Nr],0),MATCH(hf_kommune[[#Headers],[2030]],Table11[#Headers],0))","v":18},{"$f":"INDEX(Table11[],MATCH(TEXT(hf_kommune[[#This Row],[Kommunenr]],\"0\"),Table11[Nr],0),MATCH(hf_kommune[[#Headers],[2031]],Table11[#Headers],0))","v":17},{"$f":"INDEX(Table11[],MATCH(TEXT(hf_kommune[[#This Row],[Kommunenr]],\"0\"),Table11[Nr],0),MATCH(hf_kommune[[#Headers],[2032]],Table11[#Headers],0))","v":18},{"$f":"INDEX(Table11[],MATCH(TEXT(hf_kommune[[#This Row],[Kommunenr]],\"0\"),Table11[Nr],0),MATCH(hf_kommune[[#Headers],[2033]],Table11[#Headers],0))","v":18},{"$f":"INDEX(Table11[],MATCH(TEXT(hf_kommune[[#This Row],[Kommunenr]],\"0\"),Table11[Nr],0),MATCH(hf_kommune[[#Headers],[2034]],Table11[#Headers],0))","v":13},{"$f":"INDEX(Table11[],MATCH(TEXT(hf_kommune[[#This Row],[Kommunenr]],\"0\"),Table11[Nr],0),MATCH(hf_kommune[[#Headers],[2035]],Table11[#Headers],0))","v":14},{"$f":"INDEX(Table11[],MATCH(TEXT(hf_kommune[[#This Row],[Kommunenr]],\"0\"),Table11[Nr],0),MATCH(hf_kommune[[#Headers],[2036]],Table11[#Headers],0))","v":16},{"$f":"INDEX(Table11[],MATCH(TEXT(hf_kommune[[#This Row],[Kommunenr]],\"0\"),Table11[Nr],0),MATCH(hf_kommune[[#Headers],[2037]],Table11[#Headers],0))","v":17},{"$f":"INDEX(Table11[],MATCH(TEXT(hf_kommune[[#This Row],[Kommunenr]],\"0\"),Table11[Nr],0),MATCH(hf_kommune[[#Headers],[2038]],Table11[#Headers],0))","v":16},{"$f":"INDEX(Table11[],MATCH(TEXT(hf_kommune[[#This Row],[Kommunenr]],\"0\"),Table11[Nr],0),MATCH(hf_kommune[[#Headers],[2039]],Table11[#Headers],0))","v":13},{"$f":"INDEX(Table11[],MATCH(TEXT(hf_kommune[[#This Row],[Kommunenr]],\"0\"),Table11[Nr],0),MATCH(hf_kommune[[#Headers],[2040]],Table11[#Headers],0))","v":15},1142,1138,1137,1140,1147,1154,1160,1167,1174,1180,1187,1193,1199,1205,1210,1215,1220,1224,1227]
[4222,"Bykle","Helse Sør-Øst","Sørlandet sykehus","Arendal",{"$f":"INDEX(Table11[],MATCH(TEXT(hf_kommune[[#This Row],[Kommunenr]],\"0\"),Table11[Nr],0),MATCH(hf_kommune[[#Headers],[2020]],Table11[#Headers],0))","v":18},{"$f":"INDEX(Table11[],MATCH(TEXT(hf_kommune[[#This Row],[Kommunenr]],\"0\"),Table11[Nr],0),MATCH(hf_kommune[[#Headers],[2021]],Table11[#Headers],0))","v":19},{"$f":"INDEX(Table11[],MATCH(TEXT(hf_kommune[[#This Row],[Kommunenr]],\"0\"),Table11[Nr],0),MATCH(hf_kommune[[#Headers],[2022]],Table11[#Headers],0))","v":8},{"$f":"INDEX(Table11[],MATCH(TEXT(hf_kommune[[#This Row],[Kommunenr]],\"0\"),Table11[Nr],0),MATCH(hf_kommune[[#Headers],[2023]],Table11[#Headers],0))","v":21},{"$f":"INDEX(Table11[],MATCH(TEXT(hf_kommune[[#This Row],[Kommunenr]],\"0\"),Table11[Nr],0),MATCH(hf_kommune[[#Headers],[2024]],Table11[#Headers],0))","v":15},{"$f":"INDEX(Table11[],MATCH(TEXT(hf_kommune[[#This Row],[Kommunenr]],\"0\"),Table11[Nr],0),MATCH(hf_kommune[[#Headers],[2025]],Table11[#Headers],0))","v":16},{"$f":"INDEX(Table11[],MATCH(TEXT(hf_kommune[[#This Row],[Kommunenr]],\"0\"),Table11[Nr],0),MATCH(hf_kommune[[#Headers],[2026]],Table11[#Headers],0))","v":17},{"$f":"INDEX(Table11[],MATCH(TEXT(hf_kommune[[#This Row],[Kommunenr]],\"0\"),Table11[Nr],0),MATCH(hf_kommune[[#Headers],[2027]],Table11[#Headers],0))","v":15},{"$f":"INDEX(Table11[],MATCH(TEXT(hf_kommune[[#This Row],[Kommunenr]],\"0\"),Table11[Nr],0),MATCH(hf_kommune[[#Headers],[2028]],Table11[#Headers],0))","v":20},{"$f":"INDEX(Table11[],MATCH(TEXT(hf_kommune[[#This Row],[Kommunenr]],\"0\"),Table11[Nr],0),MATCH(hf_kommune[[#Headers],[2029]],Table11[#Headers],0))","v":12},{"$f":"INDEX(Table11[],MATCH(TEXT(hf_kommune[[#This Row],[Kommunenr]],\"0\"),Table11[Nr],0),MATCH(hf_kommune[[#Headers],[2030]],Table11[#Headers],0))","v":14},{"$f":"INDEX(Table11[],MATCH(TEXT(hf_kommune[[#This Row],[Kommunenr]],\"0\"),Table11[Nr],0),MATCH(hf_kommune[[#Headers],[2031]],Table11[#Headers],0))","v":13},{"$f":"INDEX(Table11[],MATCH(TEXT(hf_kommune[[#This Row],[Kommunenr]],\"0\"),Table11[Nr],0),MATCH(hf_kommune[[#Headers],[2032]],Table11[#Headers],0))","v":15},{"$f":"INDEX(Table11[],MATCH(TEXT(hf_kommune[[#This Row],[Kommunenr]],\"0\"),Table11[Nr],0),MATCH(hf_kommune[[#Headers],[2033]],Table11[#Headers],0))","v":14},{"$f":"INDEX(Table11[],MATCH(TEXT(hf_kommune[[#This Row],[Kommunenr]],\"0\"),Table11[Nr],0),MATCH(hf_kommune[[#Headers],[2034]],Table11[#Headers],0))","v":16},{"$f":"INDEX(Table11[],MATCH(TEXT(hf_kommune[[#This Row],[Kommunenr]],\"0\"),Table11[Nr],0),MATCH(hf_kommune[[#Headers],[2035]],Table11[#Headers],0))","v":14},{"$f":"INDEX(Table11[],MATCH(TEXT(hf_kommune[[#This Row],[Kommunenr]],\"0\"),Table11[Nr],0),MATCH(hf_kommune[[#Headers],[2036]],Table11[#Headers],0))","v":10},{"$f":"INDEX(Table11[],MATCH(TEXT(hf_kommune[[#This Row],[Kommunenr]],\"0\"),Table11[Nr],0),MATCH(hf_kommune[[#Headers],[2037]],Table11[#Headers],0))","v":13},{"$f":"INDEX(Table11[],MATCH(TEXT(hf_kommune[[#This Row],[Kommunenr]],\"0\"),Table11[Nr],0),MATCH(hf_kommune[[#Headers],[2038]],Table11[#Headers],0))","v":20},{"$f":"INDEX(Table11[],MATCH(TEXT(hf_kommune[[#This Row],[Kommunenr]],\"0\"),Table11[Nr],0),MATCH(hf_kommune[[#Headers],[2039]],Table11[#Headers],0))","v":17},{"$f":"INDEX(Table11[],MATCH(TEXT(hf_kommune[[#This Row],[Kommunenr]],\"0\"),Table11[Nr],0),MATCH(hf_kommune[[#Headers],[2040]],Table11[#Headers],0))","v":15},1007,1025,1042,1056,1067,1077,1087,1097,1105,1113,1120,1127,1134,1140,1147,1153,1159,1165,1170]
[3024,"Bærum","Helse Sør-Øst","Vestre Viken","Bærum",{"$f":"INDEX(Table11[],MATCH(TEXT(hf_kommune[[#This Row],[Kommunenr]],\"0\"),Table11[Nr],0),MATCH(hf_kommune[[#Headers],[2020]],Table11[#Headers],0))","v":1696},{"$f":"INDEX(Table11[],MATCH(TEXT(hf_kommune[[#This Row],[Kommunenr]],\"0\"),Table11[Nr],0),MATCH(hf_kommune[[#Headers],[2021]],Table11[#Headers],0))","v":1664},{"$f":"INDEX(Table11[],MATCH(TEXT(hf_kommune[[#This Row],[Kommunenr]],\"0\"),Table11[Nr],0),MATCH(hf_kommune[[#Headers],[2022]],Table11[#Headers],0))","v":1808},{"$f":"INDEX(Table11[],MATCH(TEXT(hf_kommune[[#This Row],[Kommunenr]],\"0\"),Table11[Nr],0),MATCH(hf_kommune[[#Headers],[2023]],Table11[#Headers],0))","v":1763},{"$f":"INDEX(Table11[],MATCH(TEXT(hf_kommune[[#This Row],[Kommunenr]],\"0\"),Table11[Nr],0),MATCH(hf_kommune[[#Headers],[2024]],Table11[#Headers],0))","v":1757},{"$f":"INDEX(Table11[],MATCH(TEXT(hf_kommune[[#This Row],[Kommunenr]],\"0\"),Table11[Nr],0),MATCH(hf_kommune[[#Headers],[2025]],Table11[#Headers],0))","v":1798},{"$f":"INDEX(Table11[],MATCH(TEXT(hf_kommune[[#This Row],[Kommunenr]],\"0\"),Table11[Nr],0),MATCH(hf_kommune[[#Headers],[2026]],Table11[#Headers],0))","v":1837},{"$f":"INDEX(Table11[],MATCH(TEXT(hf_kommune[[#This Row],[Kommunenr]],\"0\"),Table11[Nr],0),MATCH(hf_kommune[[#Headers],[2027]],Table11[#Headers],0))","v":1875},{"$f":"INDEX(Table11[],MATCH(TEXT(hf_kommune[[#This Row],[Kommunenr]],\"0\"),Table11[Nr],0),MATCH(hf_kommune[[#Headers],[2028]],Table11[#Headers],0))","v":1921},{"$f":"INDEX(Table11[],MATCH(TEXT(hf_kommune[[#This Row],[Kommunenr]],\"0\"),Table11[Nr],0),MATCH(hf_kommune[[#Headers],[2029]],Table11[#Headers],0))","v":1822},{"$f":"INDEX(Table11[],MATCH(TEXT(hf_kommune[[#This Row],[Kommunenr]],\"0\"),Table11[Nr],0),MATCH(hf_kommune[[#Headers],[2030]],Table11[#Headers],0))","v":1907},{"$f":"INDEX(Table11[],MATCH(TEXT(hf_kommune[[#This Row],[Kommunenr]],\"0\"),Table11[Nr],0),MATCH(hf_kommune[[#Headers],[2031]],Table11[#Headers],0))","v":1850},{"$f":"INDEX(Table11[],MATCH(TEXT(hf_kommune[[#This Row],[Kommunenr]],\"0\"),Table11[Nr],0),MATCH(hf_kommune[[#Headers],[2032]],Table11[#Headers],0))","v":1770},{"$f":"INDEX(Table11[],MATCH(TEXT(hf_kommune[[#This Row],[Kommunenr]],\"0\"),Table11[Nr],0),MATCH(hf_kommune[[#Headers],[2033]],Table11[#Headers],0))","v":1717},{"$f":"INDEX(Table11[],MATCH(TEXT(hf_kommune[[#This Row],[Kommunenr]],\"0\"),Table11[Nr],0),MATCH(hf_kommune[[#Headers],[2034]],Table11[#Headers],0))","v":1835},{"$f":"INDEX(Table11[],MATCH(TEXT(hf_kommune[[#This Row],[Kommunenr]],\"0\"),Table11[Nr],0),MATCH(hf_kommune[[#Headers],[2035]],Table11[#Headers],0))","v":1776},{"$f":"INDEX(Table11[],MATCH(TEXT(hf_kommune[[#This Row],[Kommunenr]],\"0\"),Table11[Nr],0),MATCH(hf_kommune[[#Headers],[2036]],Table11[#Headers],0))","v":1855},{"$f":"INDEX(Table11[],MATCH(TEXT(hf_kommune[[#This Row],[Kommunenr]],\"0\"),Table11[Nr],0),MATCH(hf_kommune[[#Headers],[2037]],Table11[#Headers],0))","v":1871},{"$f":"INDEX(Table11[],MATCH(TEXT(hf_kommune[[#This Row],[Kommunenr]],\"0\"),Table11[Nr],0),MATCH(hf_kommune[[#Headers],[2038]],Table11[#Headers],0))","v":1890},{"$f":"INDEX(Table11[],MATCH(TEXT(hf_kommune[[#This Row],[Kommunenr]],\"0\"),Table11[Nr],0),MATCH(hf_kommune[[#Headers],[2039]],Table11[#Headers],0))","v":1916},{"$f":"INDEX(Table11[],MATCH(TEXT(hf_kommune[[#This Row],[Kommunenr]],\"0\"),Table11[Nr],0),MATCH(hf_kommune[[#Headers],[2040]],Table11[#Headers],0))","v":1904},129050,129887,130771,131712,132708,133681,134633,135569,136486,137383,138256,139109,139944,140765,141577,142375,143156,143919,144664]
[1867,"Bø (Nordland)","Helse Nord","Nordlandssykehuset","Stokmarknes",{"$f":"INDEX(Table11[],MATCH(TEXT(hf_kommune[[#This Row],[Kommunenr]],\"0\"),Table11[Nr],0),MATCH(hf_kommune[[#Headers],[2020]],Table11[#Headers],0))","v":45},{"$f":"INDEX(Table11[],MATCH(TEXT(hf_kommune[[#This Row],[Kommunenr]],\"0\"),Table11[Nr],0),MATCH(hf_kommune[[#Headers],[2021]],Table11[#Headers],0))","v":51},{"$f":"INDEX(Table11[],MATCH(TEXT(hf_kommune[[#This Row],[Kommunenr]],\"0\"),Table11[Nr],0),MATCH(hf_kommune[[#Headers],[2022]],Table11[#Headers],0))","v":38},{"$f":"INDEX(Table11[],MATCH(TEXT(hf_kommune[[#This Row],[Kommunenr]],\"0\"),Table11[Nr],0),MATCH(hf_kommune[[#Headers],[2023]],Table11[#Headers],0))","v":39},{"$f":"INDEX(Table11[],MATCH(TEXT(hf_kommune[[#This Row],[Kommunenr]],\"0\"),Table11[Nr],0),MATCH(hf_kommune[[#Headers],[2024]],Table11[#Headers],0))","v":49},{"$f":"INDEX(Table11[],MATCH(TEXT(hf_kommune[[#This Row],[Kommunenr]],\"0\"),Table11[Nr],0),MATCH(hf_kommune[[#Headers],[2025]],Table11[#Headers],0))","v":45},{"$f":"INDEX(Table11[],MATCH(TEXT(hf_kommune[[#This Row],[Kommunenr]],\"0\"),Table11[Nr],0),MATCH(hf_kommune[[#Headers],[2026]],Table11[#Headers],0))","v":33},{"$f":"INDEX(Table11[],MATCH(TEXT(hf_kommune[[#This Row],[Kommunenr]],\"0\"),Table11[Nr],0),MATCH(hf_kommune[[#Headers],[2027]],Table11[#Headers],0))","v":35},{"$f":"INDEX(Table11[],MATCH(TEXT(hf_kommune[[#This Row],[Kommunenr]],\"0\"),Table11[Nr],0),MATCH(hf_kommune[[#Headers],[2028]],Table11[#Headers],0))","v":41},{"$f":"INDEX(Table11[],MATCH(TEXT(hf_kommune[[#This Row],[Kommunenr]],\"0\"),Table11[Nr],0),MATCH(hf_kommune[[#Headers],[2029]],Table11[#Headers],0))","v":38},{"$f":"INDEX(Table11[],MATCH(TEXT(hf_kommune[[#This Row],[Kommunenr]],\"0\"),Table11[Nr],0),MATCH(hf_kommune[[#Headers],[2030]],Table11[#Headers],0))","v":29},{"$f":"INDEX(Table11[],MATCH(TEXT(hf_kommune[[#This Row],[Kommunenr]],\"0\"),Table11[Nr],0),MATCH(hf_kommune[[#Headers],[2031]],Table11[#Headers],0))","v":27},{"$f":"INDEX(Table11[],MATCH(TEXT(hf_kommune[[#This Row],[Kommunenr]],\"0\"),Table11[Nr],0),MATCH(hf_kommune[[#Headers],[2032]],Table11[#Headers],0))","v":23},{"$f":"INDEX(Table11[],MATCH(TEXT(hf_kommune[[#This Row],[Kommunenr]],\"0\"),Table11[Nr],0),MATCH(hf_kommune[[#Headers],[2033]],Table11[#Headers],0))","v":30},{"$f":"INDEX(Table11[],MATCH(TEXT(hf_kommune[[#This Row],[Kommunenr]],\"0\"),Table11[Nr],0),MATCH(hf_kommune[[#Headers],[2034]],Table11[#Headers],0))","v":32},{"$f":"INDEX(Table11[],MATCH(TEXT(hf_kommune[[#This Row],[Kommunenr]],\"0\"),Table11[Nr],0),MATCH(hf_kommune[[#Headers],[2035]],Table11[#Headers],0))","v":32},{"$f":"INDEX(Table11[],MATCH(TEXT(hf_kommune[[#This Row],[Kommunenr]],\"0\"),Table11[Nr],0),MATCH(hf_kommune[[#Headers],[2036]],Table11[#Headers],0))","v":24},{"$f":"INDEX(Table11[],MATCH(TEXT(hf_kommune[[#This Row],[Kommunenr]],\"0\"),Table11[Nr],0),MATCH(hf_kommune[[#Headers],[2037]],Table11[#Headers],0))","v":24},{"$f":"INDEX(Table11[],MATCH(TEXT(hf_kommune[[#This Row],[Kommunenr]],\"0\"),Table11[Nr],0),MATCH(hf_kommune[[#Headers],[2038]],Table11[#Headers],0))","v":23},{"$f":"INDEX(Table11[],MATCH(TEXT(hf_kommune[[#This Row],[Kommunenr]],\"0\"),Table11[Nr],0),MATCH(hf_kommune[[#Headers],[2039]],Table11[#Headers],0))","v":27},{"$f":"INDEX(Table11[],MATCH(TEXT(hf_kommune[[#This Row],[Kommunenr]],\"0\"),Table11[Nr],0),MATCH(hf_kommune[[#Headers],[2040]],Table11[#Headers],0))","v":26},2530,2514,2502,2492,2484,2477,2471,2465,2460,2455,2450,2445,2441,2436,2432,2427,2422,2417,2412]
[4613,"Bømlo","Helse Vest","Helse Fonna","Stord",{"$f":"INDEX(Table11[],MATCH(TEXT(hf_kommune[[#This Row],[Kommunenr]],\"0\"),Table11[Nr],0),MATCH(hf_kommune[[#Headers],[2020]],Table11[#Headers],0))","v":162},{"$f":"INDEX(Table11[],MATCH(TEXT(hf_kommune[[#This Row],[Kommunenr]],\"0\"),Table11[Nr],0),MATCH(hf_kommune[[#Headers],[2021]],Table11[#Headers],0))","v":153},{"$f":"INDEX(Table11[],MATCH(TEXT(hf_kommune[[#This Row],[Kommunenr]],\"0\"),Table11[Nr],0),MATCH(hf_kommune[[#Headers],[2022]],Table11[#Headers],0))","v":151},{"$f":"INDEX(Table11[],MATCH(TEXT(hf_kommune[[#This Row],[Kommunenr]],\"0\"),Table11[Nr],0),MATCH(hf_kommune[[#Headers],[2023]],Table11[#Headers],0))","v":166},{"$f":"INDEX(Table11[],MATCH(TEXT(hf_kommune[[#This Row],[Kommunenr]],\"0\"),Table11[Nr],0),MATCH(hf_kommune[[#Headers],[2024]],Table11[#Headers],0))","v":161},{"$f":"INDEX(Table11[],MATCH(TEXT(hf_kommune[[#This Row],[Kommunenr]],\"0\"),Table11[Nr],0),MATCH(hf_kommune[[#Headers],[2025]],Table11[#Headers],0))","v":150},{"$f":"INDEX(Table11[],MATCH(TEXT(hf_kommune[[#This Row],[Kommunenr]],\"0\"),Table11[Nr],0),MATCH(hf_kommune[[#Headers],[2026]],Table11[#Headers],0))","v":157},{"$f":"INDEX(Table11[],MATCH(TEXT(hf_kommune[[#This Row],[Kommunenr]],\"0\"),Table11[Nr],0),MATCH(hf_kommune[[#Headers],[2027]],Table11[#Headers],0))","v":177},{"$f":"INDEX(Table11[],MATCH(TEXT(hf_kommune[[#This Row],[Kommunenr]],\"0\"),Table11[Nr],0),MATCH(hf_kommune[[#Headers],[2028]],Table11[#Headers],0))","v":170},{"$f":"INDEX(Table11[],MATCH(TEXT(hf_kommune[[#This Row],[Kommunenr]],\"0\"),Table11[Nr],0),MATCH(hf_kommune[[#Headers],[2029]],Table11[#Headers],0))","v":156},{"$f":"INDEX(Table11[],MATCH(TEXT(hf_kommune[[#This Row],[Kommunenr]],\"0\"),Table11[Nr],0),MATCH(hf_kommune[[#Headers],[2030]],Table11[#Headers],0))","v":169},{"$f":"INDEX(Table11[],MATCH(TEXT(hf_kommune[[#This Row],[Kommunenr]],\"0\"),Table11[Nr],0),MATCH(hf_kommune[[#Headers],[2031]],Table11[#Headers],0))","v":141},{"$f":"INDEX(Table11[],MATCH(TEXT(hf_kommune[[#This Row],[Kommunenr]],\"0\"),Table11[Nr],0),MATCH(hf_kommune[[#Headers],[2032]],Table11[#Headers],0))","v":144},{"$f":"INDEX(Table11[],MATCH(TEXT(hf_kommune[[#This Row],[Kommunenr]],\"0\"),Table11[Nr],0),MATCH(hf_kommune[[#Headers],[2033]],Table11[#Headers],0))","v":142},{"$f":"INDEX(Table11[],MATCH(TEXT(hf_kommune[[#This Row],[Kommunenr]],\"0\"),Table11[Nr],0),MATCH(hf_kommune[[#Headers],[2034]],Table11[#Headers],0))","v":136},{"$f":"INDEX(Table11[],MATCH(TEXT(hf_kommune[[#This Row],[Kommunenr]],\"0\"),Table11[Nr],0),MATCH(hf_kommune[[#Headers],[2035]],Table11[#Headers],0))","v":167},{"$f":"INDEX(Table11[],MATCH(TEXT(hf_kommune[[#This Row],[Kommunenr]],\"0\"),Table11[Nr],0),MATCH(hf_kommune[[#Headers],[2036]],Table11[#Headers],0))","v":148},{"$f":"INDEX(Table11[],MATCH(TEXT(hf_kommune[[#This Row],[Kommunenr]],\"0\"),Table11[Nr],0),MATCH(hf_kommune[[#Headers],[2037]],Table11[#Headers],0))","v":149},{"$f":"INDEX(Table11[],MATCH(TEXT(hf_kommune[[#This Row],[Kommunenr]],\"0\"),Table11[Nr],0),MATCH(hf_kommune[[#Headers],[2038]],Table11[#Headers],0))","v":163},{"$f":"INDEX(Table11[],MATCH(TEXT(hf_kommune[[#This Row],[Kommunenr]],\"0\"),Table11[Nr],0),MATCH(hf_kommune[[#Headers],[2039]],Table11[#Headers],0))","v":145},{"$f":"INDEX(Table11[],MATCH(TEXT(hf_kommune[[#This Row],[Kommunenr]],\"0\"),Table11[Nr],0),MATCH(hf_kommune[[#Headers],[2040]],Table11[#Headers],0))","v":154},11784,11731,11693,11669,11660,11653,11647,11642,11638,11634,11631,11628,11625,11623,11622,11621,11620,11618,11615]
[5443,"Båtsfjord","Helse Nord","Finnmarkssykehuset","Kirkenes",{"$f":"INDEX(Table11[],MATCH(TEXT(hf_kommune[[#This Row],[Kommunenr]],\"0\"),Table11[Nr],0),MATCH(hf_kommune[[#Headers],[2020]],Table11[#Headers],0))","v":37},{"$f":"INDEX(Table11[],MATCH(TEXT(hf_kommune[[#This Row],[Kommunenr]],\"0\"),Table11[Nr],0),MATCH(hf_kommune[[#Headers],[2021]],Table11[#Headers],0))","v":20},{"$f":"INDEX(Table11[],MATCH(TEXT(hf_kommune[[#This Row],[Kommunenr]],\"0\"),Table11[Nr],0),MATCH(hf_kommune[[#Headers],[2022]],Table11[#Headers],0))","v":38},{"$f":"INDEX(Table11[],MATCH(TEXT(hf_kommune[[#This Row],[Kommunenr]],\"0\"),Table11[Nr],0),MATCH(hf_kommune[[#Headers],[2023]],Table11[#Headers],0))","v":44},{"$f":"INDEX(Table11[],MATCH(TEXT(hf_kommune[[#This Row],[Kommunenr]],\"0\"),Table11[Nr],0),MATCH(hf_kommune[[#Headers],[2024]],Table11[#Headers],0))","v":43},{"$f":"INDEX(Table11[],MATCH(TEXT(hf_kommune[[#This Row],[Kommunenr]],\"0\"),Table11[Nr],0),MATCH(hf_kommune[[#Headers],[2025]],Table11[#Headers],0))","v":28},{"$f":"INDEX(Table11[],MATCH(TEXT(hf_kommune[[#This Row],[Kommunenr]],\"0\"),Table11[Nr],0),MATCH(hf_kommune[[#Headers],[2026]],Table11[#Headers],0))","v":34},{"$f":"INDEX(Table11[],MATCH(TEXT(hf_kommune[[#This Row],[Kommunenr]],\"0\"),Table11[Nr],0),MATCH(hf_kommune[[#Headers],[2027]],Table11[#Headers],0))","v":37},{"$f":"INDEX(Table11[],MATCH(TEXT(hf_kommune[[#This Row],[Kommunenr]],\"0\"),Table11[Nr],0),MATCH(hf_kommune[[#Headers],[2028]],Table11[#Headers],0))","v":32},{"$f":"INDEX(Table11[],MATCH(TEXT(hf_kommune[[#This Row],[Kommunenr]],\"0\"),Table11[Nr],0),MATCH(hf_kommune[[#Headers],[2029]],Table11[#Headers],0))","v":35},{"$f":"INDEX(Table11[],MATCH(TEXT(hf_kommune[[#This Row],[Kommunenr]],\"0\"),Table11[Nr],0),MATCH(hf_kommune[[#Headers],[2030]],Table11[#Headers],0))","v":22},{"$f":"INDEX(Table11[],MATCH(TEXT(hf_kommune[[#This Row],[Kommunenr]],\"0\"),Table11[Nr],0),MATCH(hf_kommune[[#Headers],[2031]],Table11[#Headers],0))","v":23},{"$f":"INDEX(Table11[],MATCH(TEXT(hf_kommune[[#This Row],[Kommunenr]],\"0\"),Table11[Nr],0),MATCH(hf_kommune[[#Headers],[2032]],Table11[#Headers],0))","v":27},{"$f":"INDEX(Table11[],MATCH(TEXT(hf_kommune[[#This Row],[Kommunenr]],\"0\"),Table11[Nr],0),MATCH(hf_kommune[[#Headers],[2033]],Table11[#Headers],0))","v":30},{"$f":"INDEX(Table11[],MATCH(TEXT(hf_kommune[[#This Row],[Kommunenr]],\"0\"),Table11[Nr],0),MATCH(hf_kommune[[#Headers],[2034]],Table11[#Headers],0))","v":27},{"$f":"INDEX(Table11[],MATCH(TEXT(hf_kommune[[#This Row],[Kommunenr]],\"0\"),Table11[Nr],0),MATCH(hf_kommune[[#Headers],[2035]],Table11[#Headers],0))","v":26},{"$f":"INDEX(Table11[],MATCH(TEXT(hf_kommune[[#This Row],[Kommunenr]],\"0\"),Table11[Nr],0),MATCH(hf_kommune[[#Headers],[2036]],Table11[#Headers],0))","v":25},{"$f":"INDEX(Table11[],MATCH(TEXT(hf_kommune[[#This Row],[Kommunenr]],\"0\"),Table11[Nr],0),MATCH(hf_kommune[[#Headers],[2037]],Table11[#Headers],0))","v":25},{"$f":"INDEX(Table11[],MATCH(TEXT(hf_kommune[[#This Row],[Kommunenr]],\"0\"),Table11[Nr],0),MATCH(hf_kommune[[#Headers],[2038]],Table11[#Headers],0))","v":24},{"$f":"INDEX(Table11[],MATCH(TEXT(hf_kommune[[#This Row],[Kommunenr]],\"0\"),Table11[Nr],0),MATCH(hf_kommune[[#Headers],[2039]],Table11[#Headers],0))","v":31},{"$f":"INDEX(Table11[],MATCH(TEXT(hf_kommune[[#This Row],[Kommunenr]],\"0\"),Table11[Nr],0),MATCH(hf_kommune[[#Headers],[2040]],Table11[#Headers],0))","v":25},2171,2160,2155,2156,2162,2168,2174,2180,2186,2191,2197,2201,2206,2210,2213,2217,2219,2222,2224]
[5441,"Deatnu - Tana","Helse Nord","Finnmarkssykehuset","Kirkenes",{"$f":"INDEX(Table11[],MATCH(TEXT(hf_kommune[[#This Row],[Kommunenr]],\"0\"),Table11[Nr],0),MATCH(hf_kommune[[#Headers],[2020]],Table11[#Headers],0))","v":38},{"$f":"INDEX(Table11[],MATCH(TEXT(hf_kommune[[#This Row],[Kommunenr]],\"0\"),Table11[Nr],0),MATCH(hf_kommune[[#Headers],[2021]],Table11[#Headers],0))","v":47},{"$f":"INDEX(Table11[],MATCH(TEXT(hf_kommune[[#This Row],[Kommunenr]],\"0\"),Table11[Nr],0),MATCH(hf_kommune[[#Headers],[2022]],Table11[#Headers],0))","v":32},{"$f":"INDEX(Table11[],MATCH(TEXT(hf_kommune[[#This Row],[Kommunenr]],\"0\"),Table11[Nr],0),MATCH(hf_kommune[[#Headers],[2023]],Table11[#Headers],0))","v":37},{"$f":"INDEX(Table11[],MATCH(TEXT(hf_kommune[[#This Row],[Kommunenr]],\"0\"),Table11[Nr],0),MATCH(hf_kommune[[#Headers],[2024]],Table11[#Headers],0))","v":46},{"$f":"INDEX(Table11[],MATCH(TEXT(hf_kommune[[#This Row],[Kommunenr]],\"0\"),Table11[Nr],0),MATCH(hf_kommune[[#Headers],[2025]],Table11[#Headers],0))","v":63},{"$f":"INDEX(Table11[],MATCH(TEXT(hf_kommune[[#This Row],[Kommunenr]],\"0\"),Table11[Nr],0),MATCH(hf_kommune[[#Headers],[2026]],Table11[#Headers],0))","v":50},{"$f":"INDEX(Table11[],MATCH(TEXT(hf_kommune[[#This Row],[Kommunenr]],\"0\"),Table11[Nr],0),MATCH(hf_kommune[[#Headers],[2027]],Table11[#Headers],0))","v":35},{"$f":"INDEX(Table11[],MATCH(TEXT(hf_kommune[[#This Row],[Kommunenr]],\"0\"),Table11[Nr],0),MATCH(hf_kommune[[#Headers],[2028]],Table11[#Headers],0))","v":44},{"$f":"INDEX(Table11[],MATCH(TEXT(hf_kommune[[#This Row],[Kommunenr]],\"0\"),Table11[Nr],0),MATCH(hf_kommune[[#Headers],[2029]],Table11[#Headers],0))","v":58},{"$f":"INDEX(Table11[],MATCH(TEXT(hf_kommune[[#This Row],[Kommunenr]],\"0\"),Table11[Nr],0),MATCH(hf_kommune[[#Headers],[2030]],Table11[#Headers],0))","v":39},{"$f":"INDEX(Table11[],MATCH(TEXT(hf_kommune[[#This Row],[Kommunenr]],\"0\"),Table11[Nr],0),MATCH(hf_kommune[[#Headers],[2031]],Table11[#Headers],0))","v":36},{"$f":"INDEX(Table11[],MATCH(TEXT(hf_kommune[[#This Row],[Kommunenr]],\"0\"),Table11[Nr],0),MATCH(hf_kommune[[#Headers],[2032]],Table11[#Headers],0))","v":35},{"$f":"INDEX(Table11[],MATCH(TEXT(hf_kommune[[#This Row],[Kommunenr]],\"0\"),Table11[Nr],0),MATCH(hf_kommune[[#Headers],[2033]],Table11[#Headers],0))","v":32},{"$f":"INDEX(Table11[],MATCH(TEXT(hf_kommune[[#This Row],[Kommunenr]],\"0\"),Table11[Nr],0),MATCH(hf_kommune[[#Headers],[2034]],Table11[#Headers],0))","v":31},{"$f":"INDEX(Table11[],MATCH(TEXT(hf_kommune[[#This Row],[Kommunenr]],\"0\"),Table11[Nr],0),MATCH(hf_kommune[[#Headers],[2035]],Table11[#Headers],0))","v":38},{"$f":"INDEX(Table11[],MATCH(TEXT(hf_kommune[[#This Row],[Kommunenr]],\"0\"),Table11[Nr],0),MATCH(hf_kommune[[#Headers],[2036]],Table11[#Headers],0))","v":31},{"$f":"INDEX(Table11[],MATCH(TEXT(hf_kommune[[#This Row],[Kommunenr]],\"0\"),Table11[Nr],0),MATCH(hf_kommune[[#Headers],[2037]],Table11[#Headers],0))","v":34},{"$f":"INDEX(Table11[],MATCH(TEXT(hf_kommune[[#This Row],[Kommunenr]],\"0\"),Table11[Nr],0),MATCH(hf_kommune[[#Headers],[2038]],Table11[#Headers],0))","v":33},{"$f":"INDEX(Table11[],MATCH(TEXT(hf_kommune[[#This Row],[Kommunenr]],\"0\"),Table11[Nr],0),MATCH(hf_kommune[[#Headers],[2039]],Table11[#Headers],0))","v":31},{"$f":"INDEX(Table11[],MATCH(TEXT(hf_kommune[[#This Row],[Kommunenr]],\"0\"),Table11[Nr],0),MATCH(hf_kommune[[#Headers],[2040]],Table11[#Headers],0))","v":34},2941,2948,2952,2952,2950,2948,2947,2946,2945,2945,2944,2944,2944,2943,2943,2942,2941,2939,2937]
[3431,"Dovre","Helse Sør-Øst","Sykehuset Innlandet","Lillehammer",{"$f":"INDEX(Table11[],MATCH(TEXT(hf_kommune[[#This Row],[Kommunenr]],\"0\"),Table11[Nr],0),MATCH(hf_kommune[[#Headers],[2020]],Table11[#Headers],0))","v":24},{"$f":"INDEX(Table11[],MATCH(TEXT(hf_kommune[[#This Row],[Kommunenr]],\"0\"),Table11[Nr],0),MATCH(hf_kommune[[#Headers],[2021]],Table11[#Headers],0))","v":39},{"$f":"INDEX(Table11[],MATCH(TEXT(hf_kommune[[#This Row],[Kommunenr]],\"0\"),Table11[Nr],0),MATCH(hf_kommune[[#Headers],[2022]],Table11[#Headers],0))","v":40},{"$f":"INDEX(Table11[],MATCH(TEXT(hf_kommune[[#This Row],[Kommunenr]],\"0\"),Table11[Nr],0),MATCH(hf_kommune[[#Headers],[2023]],Table11[#Headers],0))","v":36},{"$f":"INDEX(Table11[],MATCH(TEXT(hf_kommune[[#This Row],[Kommunenr]],\"0\"),Table11[Nr],0),MATCH(hf_kommune[[#Headers],[2024]],Table11[#Headers],0))","v":38},{"$f":"INDEX(Table11[],MATCH(TEXT(hf_kommune[[#This Row],[Kommunenr]],\"0\"),Table11[Nr],0),MATCH(hf_kommune[[#Headers],[2025]],Table11[#Headers],0))","v":35},{"$f":"INDEX(Table11[],MATCH(TEXT(hf_kommune[[#This Row],[Kommunenr]],\"0\"),Table11[Nr],0),MATCH(hf_kommune[[#Headers],[2026]],Table11[#Headers],0))","v":31},{"$f":"INDEX(Table11[],MATCH(TEXT(hf_kommune[[#This Row],[Kommunenr]],\"0\"),Table11[Nr],0),MATCH(hf_kommune[[#Headers],[2027]],Table11[#Headers],0))","v":36},{"$f":"INDEX(Table11[],MATCH(TEXT(hf_kommune[[#This Row],[Kommunenr]],\"0\"),Table11[Nr],0),MATCH(hf_kommune[[#Headers],[2028]],Table11[#Headers],0))","v":36},{"$f":"INDEX(Table11[],MATCH(TEXT(hf_kommune[[#This Row],[Kommunenr]],\"0\"),Table11[Nr],0),MATCH(hf_kommune[[#Headers],[2029]],Table11[#Headers],0))","v":33},{"$f":"INDEX(Table11[],MATCH(TEXT(hf_kommune[[#This Row],[Kommunenr]],\"0\"),Table11[Nr],0),MATCH(hf_kommune[[#Headers],[2030]],Table11[#Headers],0))","v":29},{"$f":"INDEX(Table11[],MATCH(TEXT(hf_kommune[[#This Row],[Kommunenr]],\"0\"),Table11[Nr],0),MATCH(hf_kommune[[#Headers],[2031]],Table11[#Headers],0))","v":30},{"$f":"INDEX(Table11[],MATCH(TEXT(hf_kommune[[#This Row],[Kommunenr]],\"0\"),Table11[Nr],0),MATCH(hf_kommune[[#Headers],[2032]],Table11[#Headers],0))","v":21},{"$f":"INDEX(Table11[],MATCH(TEXT(hf_kommune[[#This Row],[Kommunenr]],\"0\"),Table11[Nr],0),MATCH(hf_kommune[[#Headers],[2033]],Table11[#Headers],0))","v":22},{"$f":"INDEX(Table11[],MATCH(TEXT(hf_kommune[[#This Row],[Kommunenr]],\"0\"),Table11[Nr],0),MATCH(hf_kommune[[#Headers],[2034]],Table11[#Headers],0))","v":30},{"$f":"INDEX(Table11[],MATCH(TEXT(hf_kommune[[#This Row],[Kommunenr]],\"0\"),Table11[Nr],0),MATCH(hf_kommune[[#Headers],[2035]],Table11[#Headers],0))","v":26},{"$f":"INDEX(Table11[],MATCH(TEXT(hf_kommune[[#This Row],[Kommunenr]],\"0\"),Table11[Nr],0),MATCH(hf_kommune[[#Headers],[2036]],Table11[#Headers],0))","v":28},{"$f":"INDEX(Table11[],MATCH(TEXT(hf_kommune[[#This Row],[Kommunenr]],\"0\"),Table11[Nr],0),MATCH(hf_kommune[[#Headers],[2037]],Table11[#Headers],0))","v":24},{"$f":"INDEX(Table11[],MATCH(TEXT(hf_kommune[[#This Row],[Kommunenr]],\"0\"),Table11[Nr],0),MATCH(hf_kommune[[#Headers],[2038]],Table11[#Headers],0))","v":26},{"$f":"INDEX(Table11[],MATCH(TEXT(hf_kommune[[#This Row],[Kommunenr]],\"0\"),Table11[Nr],0),MATCH(hf_kommune[[#Headers],[2039]],Table11[#Headers],0))","v":27},{"$f":"INDEX(Table11[],MATCH(TEXT(hf_kommune[[#This Row],[Kommunenr]],\"0\"),Table11[Nr],0),MATCH(hf_kommune[[#Headers],[2040]],Table11[#Headers],0))","v":24},2494,2477,2467,2463,2465,2467,2469,2471,2473,2475,2477,2478,2479,2479,2479,2479,2478,2477,2475]
[3005,"Drammen","Helse Sør-Øst","Vestre Viken","Drammen",{"$f":"INDEX(Table11[],MATCH(TEXT(hf_kommune[[#This Row],[Kommunenr]],\"0\"),Table11[Nr],0),MATCH(hf_kommune[[#Headers],[2020]],Table11[#Headers],0))","v":1267},{"$f":"INDEX(Table11[],MATCH(TEXT(hf_kommune[[#This Row],[Kommunenr]],\"0\"),Table11[Nr],0),MATCH(hf_kommune[[#Headers],[2021]],Table11[#Headers],0))","v":1310},{"$f":"INDEX(Table11[],MATCH(TEXT(hf_kommune[[#This Row],[Kommunenr]],\"0\"),Table11[Nr],0),MATCH(hf_kommune[[#Headers],[2022]],Table11[#Headers],0))","v":1319},{"$f":"INDEX(Table11[],MATCH(TEXT(hf_kommune[[#This Row],[Kommunenr]],\"0\"),Table11[Nr],0),MATCH(hf_kommune[[#Headers],[2023]],Table11[#Headers],0))","v":1395},{"$f":"INDEX(Table11[],MATCH(TEXT(hf_kommune[[#This Row],[Kommunenr]],\"0\"),Table11[Nr],0),MATCH(hf_kommune[[#Headers],[2024]],Table11[#Headers],0))","v":1479},{"$f":"INDEX(Table11[],MATCH(TEXT(hf_kommune[[#This Row],[Kommunenr]],\"0\"),Table11[Nr],0),MATCH(hf_kommune[[#Headers],[2025]],Table11[#Headers],0))","v":1473},{"$f":"INDEX(Table11[],MATCH(TEXT(hf_kommune[[#This Row],[Kommunenr]],\"0\"),Table11[Nr],0),MATCH(hf_kommune[[#Headers],[2026]],Table11[#Headers],0))","v":1471},{"$f":"INDEX(Table11[],MATCH(TEXT(hf_kommune[[#This Row],[Kommunenr]],\"0\"),Table11[Nr],0),MATCH(hf_kommune[[#Headers],[2027]],Table11[#Headers],0))","v":1453},{"$f":"INDEX(Table11[],MATCH(TEXT(hf_kommune[[#This Row],[Kommunenr]],\"0\"),Table11[Nr],0),MATCH(hf_kommune[[#Headers],[2028]],Table11[#Headers],0))","v":1486},{"$f":"INDEX(Table11[],MATCH(TEXT(hf_kommune[[#This Row],[Kommunenr]],\"0\"),Table11[Nr],0),MATCH(hf_kommune[[#Headers],[2029]],Table11[#Headers],0))","v":1445},{"$f":"INDEX(Table11[],MATCH(TEXT(hf_kommune[[#This Row],[Kommunenr]],\"0\"),Table11[Nr],0),MATCH(hf_kommune[[#Headers],[2030]],Table11[#Headers],0))","v":1478},{"$f":"INDEX(Table11[],MATCH(TEXT(hf_kommune[[#This Row],[Kommunenr]],\"0\"),Table11[Nr],0),MATCH(hf_kommune[[#Headers],[2031]],Table11[#Headers],0))","v":1402},{"$f":"INDEX(Table11[],MATCH(TEXT(hf_kommune[[#This Row],[Kommunenr]],\"0\"),Table11[Nr],0),MATCH(hf_kommune[[#Headers],[2032]],Table11[#Headers],0))","v":1361},{"$f":"INDEX(Table11[],MATCH(TEXT(hf_kommune[[#This Row],[Kommunenr]],\"0\"),Table11[Nr],0),MATCH(hf_kommune[[#Headers],[2033]],Table11[#Headers],0))","v":1328},{"$f":"INDEX(Table11[],MATCH(TEXT(hf_kommune[[#This Row],[Kommunenr]],\"0\"),Table11[Nr],0),MATCH(hf_kommune[[#Headers],[2034]],Table11[#Headers],0))","v":1356},{"$f":"INDEX(Table11[],MATCH(TEXT(hf_kommune[[#This Row],[Kommunenr]],\"0\"),Table11[Nr],0),MATCH(hf_kommune[[#Headers],[2035]],Table11[#Headers],0))","v":1362},{"$f":"INDEX(Table11[],MATCH(TEXT(hf_kommune[[#This Row],[Kommunenr]],\"0\"),Table11[Nr],0),MATCH(hf_kommune[[#Headers],[2036]],Table11[#Headers],0))","v":1392},{"$f":"INDEX(Table11[],MATCH(TEXT(hf_kommune[[#This Row],[Kommunenr]],\"0\"),Table11[Nr],0),MATCH(hf_kommune[[#Headers],[2037]],Table11[#Headers],0))","v":1365},{"$f":"INDEX(Table11[],MATCH(TEXT(hf_kommune[[#This Row],[Kommunenr]],\"0\"),Table11[Nr],0),MATCH(hf_kommune[[#Headers],[2038]],Table11[#Headers],0))","v":1423},{"$f":"INDEX(Table11[],MATCH(TEXT(hf_kommune[[#This Row],[Kommunenr]],\"0\"),Table11[Nr],0),MATCH(hf_kommune[[#Headers],[2039]],Table11[#Headers],0))","v":1399},{"$f":"INDEX(Table11[],MATCH(TEXT(hf_kommune[[#This Row],[Kommunenr]],\"0\"),Table11[Nr],0),MATCH(hf_kommune[[#Headers],[2040]],Table11[#Headers],0))","v":1434},102306,102837,103366,103899,104442,104974,105499,106019,106535,107050,107559,108063,108564,109062,109557,110044,110516,110974,111419]
[3815,"Drangedal","Helse Sør-Øst","Sykehuset Telemark","Skien",{"$f":"INDEX(Table11[],MATCH(TEXT(hf_kommune[[#This Row],[Kommunenr]],\"0\"),Table11[Nr],0),MATCH(hf_kommune[[#Headers],[2020]],Table11[#Headers],0))","v":55},{"$f":"INDEX(Table11[],MATCH(TEXT(hf_kommune[[#This Row],[Kommunenr]],\"0\"),Table11[Nr],0),MATCH(hf_kommune[[#Headers],[2021]],Table11[#Headers],0))","v":56},{"$f":"INDEX(Table11[],MATCH(TEXT(hf_kommune[[#This Row],[Kommunenr]],\"0\"),Table11[Nr],0),MATCH(hf_kommune[[#Headers],[2022]],Table11[#Headers],0))","v":67},{"$f":"INDEX(Table11[],MATCH(TEXT(hf_kommune[[#This Row],[Kommunenr]],\"0\"),Table11[Nr],0),MATCH(hf_kommune[[#Headers],[2023]],Table11[#Headers],0))","v":65},{"$f":"INDEX(Table11[],MATCH(TEXT(hf_kommune[[#This Row],[Kommunenr]],\"0\"),Table11[Nr],0),MATCH(hf_kommune[[#Headers],[2024]],Table11[#Headers],0))","v":66},{"$f":"INDEX(Table11[],MATCH(TEXT(hf_kommune[[#This Row],[Kommunenr]],\"0\"),Table11[Nr],0),MATCH(hf_kommune[[#Headers],[2025]],Table11[#Headers],0))","v":52},{"$f":"INDEX(Table11[],MATCH(TEXT(hf_kommune[[#This Row],[Kommunenr]],\"0\"),Table11[Nr],0),MATCH(hf_kommune[[#Headers],[2026]],Table11[#Headers],0))","v":56},{"$f":"INDEX(Table11[],MATCH(TEXT(hf_kommune[[#This Row],[Kommunenr]],\"0\"),Table11[Nr],0),MATCH(hf_kommune[[#Headers],[2027]],Table11[#Headers],0))","v":65},{"$f":"INDEX(Table11[],MATCH(TEXT(hf_kommune[[#This Row],[Kommunenr]],\"0\"),Table11[Nr],0),MATCH(hf_kommune[[#Headers],[2028]],Table11[#Headers],0))","v":76},{"$f":"INDEX(Table11[],MATCH(TEXT(hf_kommune[[#This Row],[Kommunenr]],\"0\"),Table11[Nr],0),MATCH(hf_kommune[[#Headers],[2029]],Table11[#Headers],0))","v":55},{"$f":"INDEX(Table11[],MATCH(TEXT(hf_kommune[[#This Row],[Kommunenr]],\"0\"),Table11[Nr],0),MATCH(hf_kommune[[#Headers],[2030]],Table11[#Headers],0))","v":64},{"$f":"INDEX(Table11[],MATCH(TEXT(hf_kommune[[#This Row],[Kommunenr]],\"0\"),Table11[Nr],0),MATCH(hf_kommune[[#Headers],[2031]],Table11[#Headers],0))","v":54},{"$f":"INDEX(Table11[],MATCH(TEXT(hf_kommune[[#This Row],[Kommunenr]],\"0\"),Table11[Nr],0),MATCH(hf_kommune[[#Headers],[2032]],Table11[#Headers],0))","v":61},{"$f":"INDEX(Table11[],MATCH(TEXT(hf_kommune[[#This Row],[Kommunenr]],\"0\"),Table11[Nr],0),MATCH(hf_kommune[[#Headers],[2033]],Table11[#Headers],0))","v":51},{"$f":"INDEX(Table11[],MATCH(TEXT(hf_kommune[[#This Row],[Kommunenr]],\"0\"),Table11[Nr],0),MATCH(hf_kommune[[#Headers],[2034]],Table11[#Headers],0))","v":50},{"$f":"INDEX(Table11[],MATCH(TEXT(hf_kommune[[#This Row],[Kommunenr]],\"0\"),Table11[Nr],0),MATCH(hf_kommune[[#Headers],[2035]],Table11[#Headers],0))","v":53},{"$f":"INDEX(Table11[],MATCH(TEXT(hf_kommune[[#This Row],[Kommunenr]],\"0\"),Table11[Nr],0),MATCH(hf_kommune[[#Headers],[2036]],Table11[#Headers],0))","v":54},{"$f":"INDEX(Table11[],MATCH(TEXT(hf_kommune[[#This Row],[Kommunenr]],\"0\"),Table11[Nr],0),MATCH(hf_kommune[[#Headers],[2037]],Table11[#Headers],0))","v":49},{"$f":"INDEX(Table11[],MATCH(TEXT(hf_kommune[[#This Row],[Kommunenr]],\"0\"),Table11[Nr],0),MATCH(hf_kommune[[#Headers],[2038]],Table11[#Headers],0))","v":50},{"$f":"INDEX(Table11[],MATCH(TEXT(hf_kommune[[#This Row],[Kommunenr]],\"0\"),Table11[Nr],0),MATCH(hf_kommune[[#Headers],[2039]],Table11[#Headers],0))","v":53},{"$f":"INDEX(Table11[],MATCH(TEXT(hf_kommune[[#This Row],[Kommunenr]],\"0\"),Table11[Nr],0),MATCH(hf_kommune[[#Headers],[2040]],Table11[#Headers],0))","v":51},4011,3991,3974,3959,3947,3936,3926,3917,3909,3900,3892,3885,3878,3871,3865,3860,3854,3849,3843]
[5420,"Dyrøy","Helse Nord","Universitetssykehuset Nord-Norge","Harstad",{"$f":"INDEX(Table11[],MATCH(TEXT(hf_kommune[[#This Row],[Kommunenr]],\"0\"),Table11[Nr],0),MATCH(hf_kommune[[#Headers],[2020]],Table11[#Headers],0))","v":11},{"$f":"INDEX(Table11[],MATCH(TEXT(hf_kommune[[#This Row],[Kommunenr]],\"0\"),Table11[Nr],0),MATCH(hf_kommune[[#Headers],[2021]],Table11[#Headers],0))","v":17},{"$f":"INDEX(Table11[],MATCH(TEXT(hf_kommune[[#This Row],[Kommunenr]],\"0\"),Table11[Nr],0),MATCH(hf_kommune[[#Headers],[2022]],Table11[#Headers],0))","v":15},{"$f":"INDEX(Table11[],MATCH(TEXT(hf_kommune[[#This Row],[Kommunenr]],\"0\"),Table11[Nr],0),MATCH(hf_kommune[[#Headers],[2023]],Table11[#Headers],0))","v":10},{"$f":"INDEX(Table11[],MATCH(TEXT(hf_kommune[[#This Row],[Kommunenr]],\"0\"),Table11[Nr],0),MATCH(hf_kommune[[#Headers],[2024]],Table11[#Headers],0))","v":18},{"$f":"INDEX(Table11[],MATCH(TEXT(hf_kommune[[#This Row],[Kommunenr]],\"0\"),Table11[Nr],0),MATCH(hf_kommune[[#Headers],[2025]],Table11[#Headers],0))","v":16},{"$f":"INDEX(Table11[],MATCH(TEXT(hf_kommune[[#This Row],[Kommunenr]],\"0\"),Table11[Nr],0),MATCH(hf_kommune[[#Headers],[2026]],Table11[#Headers],0))","v":14},{"$f":"INDEX(Table11[],MATCH(TEXT(hf_kommune[[#This Row],[Kommunenr]],\"0\"),Table11[Nr],0),MATCH(hf_kommune[[#Headers],[2027]],Table11[#Headers],0))","v":24},{"$f":"INDEX(Table11[],MATCH(TEXT(hf_kommune[[#This Row],[Kommunenr]],\"0\"),Table11[Nr],0),MATCH(hf_kommune[[#Headers],[2028]],Table11[#Headers],0))","v":17},{"$f":"INDEX(Table11[],MATCH(TEXT(hf_kommune[[#This Row],[Kommunenr]],\"0\"),Table11[Nr],0),MATCH(hf_kommune[[#Headers],[2029]],Table11[#Headers],0))","v":15},{"$f":"INDEX(Table11[],MATCH(TEXT(hf_kommune[[#This Row],[Kommunenr]],\"0\"),Table11[Nr],0),MATCH(hf_kommune[[#Headers],[2030]],Table11[#Headers],0))","v":14},{"$f":"INDEX(Table11[],MATCH(TEXT(hf_kommune[[#This Row],[Kommunenr]],\"0\"),Table11[Nr],0),MATCH(hf_kommune[[#Headers],[2031]],Table11[#Headers],0))","v":14},{"$f":"INDEX(Table11[],MATCH(TEXT(hf_kommune[[#This Row],[Kommunenr]],\"0\"),Table11[Nr],0),MATCH(hf_kommune[[#Headers],[2032]],Table11[#Headers],0))","v":9},{"$f":"INDEX(Table11[],MATCH(TEXT(hf_kommune[[#This Row],[Kommunenr]],\"0\"),Table11[Nr],0),MATCH(hf_kommune[[#Headers],[2033]],Table11[#Headers],0))","v":13},{"$f":"INDEX(Table11[],MATCH(TEXT(hf_kommune[[#This Row],[Kommunenr]],\"0\"),Table11[Nr],0),MATCH(hf_kommune[[#Headers],[2034]],Table11[#Headers],0))","v":10},{"$f":"INDEX(Table11[],MATCH(TEXT(hf_kommune[[#This Row],[Kommunenr]],\"0\"),Table11[Nr],0),MATCH(hf_kommune[[#Headers],[2035]],Table11[#Headers],0))","v":8},{"$f":"INDEX(Table11[],MATCH(TEXT(hf_kommune[[#This Row],[Kommunenr]],\"0\"),Table11[Nr],0),MATCH(hf_kommune[[#Headers],[2036]],Table11[#Headers],0))","v":14},{"$f":"INDEX(Table11[],MATCH(TEXT(hf_kommune[[#This Row],[Kommunenr]],\"0\"),Table11[Nr],0),MATCH(hf_kommune[[#Headers],[2037]],Table11[#Headers],0))","v":11},{"$f":"INDEX(Table11[],MATCH(TEXT(hf_kommune[[#This Row],[Kommunenr]],\"0\"),Table11[Nr],0),MATCH(hf_kommune[[#Headers],[2038]],Table11[#Headers],0))","v":11},{"$f":"INDEX(Table11[],MATCH(TEXT(hf_kommune[[#This Row],[Kommunenr]],\"0\"),Table11[Nr],0),MATCH(hf_kommune[[#Headers],[2039]],Table11[#Headers],0))","v":11},{"$f":"INDEX(Table11[],MATCH(TEXT(hf_kommune[[#This Row],[Kommunenr]],\"0\"),Table11[Nr],0),MATCH(hf_kommune[[#Headers],[2040]],Table11[#Headers],0))","v":11},1057,1049,1043,1039,1038,1037,1037,1036,1035,1035,1034,1033,1032,1031,1030,1028,1027,1025,1023]
[1827,"Dønna","Helse Nord","Helgelandssykehuset","Sandnessjøen",{"$f":"INDEX(Table11[],MATCH(TEXT(hf_kommune[[#This Row],[Kommunenr]],\"0\"),Table11[Nr],0),MATCH(hf_kommune[[#Headers],[2020]],Table11[#Headers],0))","v":22},{"$f":"INDEX(Table11[],MATCH(TEXT(hf_kommune[[#This Row],[Kommunenr]],\"0\"),Table11[Nr],0),MATCH(hf_kommune[[#Headers],[2021]],Table11[#Headers],0))","v":15},{"$f":"INDEX(Table11[],MATCH(TEXT(hf_kommune[[#This Row],[Kommunenr]],\"0\"),Table11[Nr],0),MATCH(hf_kommune[[#Headers],[2022]],Table11[#Headers],0))","v":20},{"$f":"INDEX(Table11[],MATCH(TEXT(hf_kommune[[#This Row],[Kommunenr]],\"0\"),Table11[Nr],0),MATCH(hf_kommune[[#Headers],[2023]],Table11[#Headers],0))","v":20},{"$f":"INDEX(Table11[],MATCH(TEXT(hf_kommune[[#This Row],[Kommunenr]],\"0\"),Table11[Nr],0),MATCH(hf_kommune[[#Headers],[2024]],Table11[#Headers],0))","v":15},{"$f":"INDEX(Table11[],MATCH(TEXT(hf_kommune[[#This Row],[Kommunenr]],\"0\"),Table11[Nr],0),MATCH(hf_kommune[[#Headers],[2025]],Table11[#Headers],0))","v":23},{"$f":"INDEX(Table11[],MATCH(TEXT(hf_kommune[[#This Row],[Kommunenr]],\"0\"),Table11[Nr],0),MATCH(hf_kommune[[#Headers],[2026]],Table11[#Headers],0))","v":19},{"$f":"INDEX(Table11[],MATCH(TEXT(hf_kommune[[#This Row],[Kommunenr]],\"0\"),Table11[Nr],0),MATCH(hf_kommune[[#Headers],[2027]],Table11[#Headers],0))","v":27},{"$f":"INDEX(Table11[],MATCH(TEXT(hf_kommune[[#This Row],[Kommunenr]],\"0\"),Table11[Nr],0),MATCH(hf_kommune[[#Headers],[2028]],Table11[#Headers],0))","v":24},{"$f":"INDEX(Table11[],MATCH(TEXT(hf_kommune[[#This Row],[Kommunenr]],\"0\"),Table11[Nr],0),MATCH(hf_kommune[[#Headers],[2029]],Table11[#Headers],0))","v":14},{"$f":"INDEX(Table11[],MATCH(TEXT(hf_kommune[[#This Row],[Kommunenr]],\"0\"),Table11[Nr],0),MATCH(hf_kommune[[#Headers],[2030]],Table11[#Headers],0))","v":17},{"$f":"INDEX(Table11[],MATCH(TEXT(hf_kommune[[#This Row],[Kommunenr]],\"0\"),Table11[Nr],0),MATCH(hf_kommune[[#Headers],[2031]],Table11[#Headers],0))","v":12},{"$f":"INDEX(Table11[],MATCH(TEXT(hf_kommune[[#This Row],[Kommunenr]],\"0\"),Table11[Nr],0),MATCH(hf_kommune[[#Headers],[2032]],Table11[#Headers],0))","v":20},{"$f":"INDEX(Table11[],MATCH(TEXT(hf_kommune[[#This Row],[Kommunenr]],\"0\"),Table11[Nr],0),MATCH(hf_kommune[[#Headers],[2033]],Table11[#Headers],0))","v":13},{"$f":"INDEX(Table11[],MATCH(TEXT(hf_kommune[[#This Row],[Kommunenr]],\"0\"),Table11[Nr],0),MATCH(hf_kommune[[#Headers],[2034]],Table11[#Headers],0))","v":17},{"$f":"INDEX(Table11[],MATCH(TEXT(hf_kommune[[#This Row],[Kommunenr]],\"0\"),Table11[Nr],0),MATCH(hf_kommune[[#Headers],[2035]],Table11[#Headers],0))","v":15},{"$f":"INDEX(Table11[],MATCH(TEXT(hf_kommune[[#This Row],[Kommunenr]],\"0\"),Table11[Nr],0),MATCH(hf_kommune[[#Headers],[2036]],Table11[#Headers],0))","v":11},{"$f":"INDEX(Table11[],MATCH(TEXT(hf_kommune[[#This Row],[Kommunenr]],\"0\"),Table11[Nr],0),MATCH(hf_kommune[[#Headers],[2037]],Table11[#Headers],0))","v":13},{"$f":"INDEX(Table11[],MATCH(TEXT(hf_kommune[[#This Row],[Kommunenr]],\"0\"),Table11[Nr],0),MATCH(hf_kommune[[#Headers],[2038]],Table11[#Headers],0))","v":18},{"$f":"INDEX(Table11[],MATCH(TEXT(hf_kommune[[#This Row],[Kommunenr]],\"0\"),Table11[Nr],0),MATCH(hf_kommune[[#Headers],[2039]],Table11[#Headers],0))","v":15},{"$f":"INDEX(Table11[],MATCH(TEXT(hf_kommune[[#This Row],[Kommunenr]],\"0\"),Table11[Nr],0),MATCH(hf_kommune[[#Headers],[2040]],Table11[#Headers],0))","v":15},1337,1325,1316,1309,1304,1300,1295,1291,1287,1283,1281,1278,1275,1273,1271,1269,1267,1265,1262]
[4619,"Eidfjord","Helse Vest","Helse Fonna","Odda",{"$f":"INDEX(Table11[],MATCH(TEXT(hf_kommune[[#This Row],[Kommunenr]],\"0\"),Table11[Nr],0),MATCH(hf_kommune[[#Headers],[2020]],Table11[#Headers],0))","v":19},{"$f":"INDEX(Table11[],MATCH(TEXT(hf_kommune[[#This Row],[Kommunenr]],\"0\"),Table11[Nr],0),MATCH(hf_kommune[[#Headers],[2021]],Table11[#Headers],0))","v":14},{"$f":"INDEX(Table11[],MATCH(TEXT(hf_kommune[[#This Row],[Kommunenr]],\"0\"),Table11[Nr],0),MATCH(hf_kommune[[#Headers],[2022]],Table11[#Headers],0))","v":22},{"$f":"INDEX(Table11[],MATCH(TEXT(hf_kommune[[#This Row],[Kommunenr]],\"0\"),Table11[Nr],0),MATCH(hf_kommune[[#Headers],[2023]],Table11[#Headers],0))","v":17},{"$f":"INDEX(Table11[],MATCH(TEXT(hf_kommune[[#This Row],[Kommunenr]],\"0\"),Table11[Nr],0),MATCH(hf_kommune[[#Headers],[2024]],Table11[#Headers],0))","v":16},{"$f":"INDEX(Table11[],MATCH(TEXT(hf_kommune[[#This Row],[Kommunenr]],\"0\"),Table11[Nr],0),MATCH(hf_kommune[[#Headers],[2025]],Table11[#Headers],0))","v":22},{"$f":"INDEX(Table11[],MATCH(TEXT(hf_kommune[[#This Row],[Kommunenr]],\"0\"),Table11[Nr],0),MATCH(hf_kommune[[#Headers],[2026]],Table11[#Headers],0))","v":10},{"$f":"INDEX(Table11[],MATCH(TEXT(hf_kommune[[#This Row],[Kommunenr]],\"0\"),Table11[Nr],0),MATCH(hf_kommune[[#Headers],[2027]],Table11[#Headers],0))","v":10},{"$f":"INDEX(Table11[],MATCH(TEXT(hf_kommune[[#This Row],[Kommunenr]],\"0\"),Table11[Nr],0),MATCH(hf_kommune[[#Headers],[2028]],Table11[#Headers],0))","v":11},{"$f":"INDEX(Table11[],MATCH(TEXT(hf_kommune[[#This Row],[Kommunenr]],\"0\"),Table11[Nr],0),MATCH(hf_kommune[[#Headers],[2029]],Table11[#Headers],0))","v":16},{"$f":"INDEX(Table11[],MATCH(TEXT(hf_kommune[[#This Row],[Kommunenr]],\"0\"),Table11[Nr],0),MATCH(hf_kommune[[#Headers],[2030]],Table11[#Headers],0))","v":9},{"$f":"INDEX(Table11[],MATCH(TEXT(hf_kommune[[#This Row],[Kommunenr]],\"0\"),Table11[Nr],0),MATCH(hf_kommune[[#Headers],[2031]],Table11[#Headers],0))","v":12},{"$f":"INDEX(Table11[],MATCH(TEXT(hf_kommune[[#This Row],[Kommunenr]],\"0\"),Table11[Nr],0),MATCH(hf_kommune[[#Headers],[2032]],Table11[#Headers],0))","v":13},{"$f":"INDEX(Table11[],MATCH(TEXT(hf_kommune[[#This Row],[Kommunenr]],\"0\"),Table11[Nr],0),MATCH(hf_kommune[[#Headers],[2033]],Table11[#Headers],0))","v":10},{"$f":"INDEX(Table11[],MATCH(TEXT(hf_kommune[[#This Row],[Kommunenr]],\"0\"),Table11[Nr],0),MATCH(hf_kommune[[#Headers],[2034]],Table11[#Headers],0))","v":11},{"$f":"INDEX(Table11[],MATCH(TEXT(hf_kommune[[#This Row],[Kommunenr]],\"0\"),Table11[Nr],0),MATCH(hf_kommune[[#Headers],[2035]],Table11[#Headers],0))","v":14},{"$f":"INDEX(Table11[],MATCH(TEXT(hf_kommune[[#This Row],[Kommunenr]],\"0\"),Table11[Nr],0),MATCH(hf_kommune[[#Headers],[2036]],Table11[#Headers],0))","v":10},{"$f":"INDEX(Table11[],MATCH(TEXT(hf_kommune[[#This Row],[Kommunenr]],\"0\"),Table11[Nr],0),MATCH(hf_kommune[[#Headers],[2037]],Table11[#Headers],0))","v":9},{"$f":"INDEX(Table11[],MATCH(TEXT(hf_kommune[[#This Row],[Kommunenr]],\"0\"),Table11[Nr],0),MATCH(hf_kommune[[#Headers],[2038]],Table11[#Headers],0))","v":11},{"$f":"INDEX(Table11[],MATCH(TEXT(hf_kommune[[#This Row],[Kommunenr]],\"0\"),Table11[Nr],0),MATCH(hf_kommune[[#Headers],[2039]],Table11[#Headers],0))","v":12},{"$f":"INDEX(Table11[],MATCH(TEXT(hf_kommune[[#This Row],[Kommunenr]],\"0\"),Table11[Nr],0),MATCH(hf_kommune[[#Headers],[2040]],Table11[#Headers],0))","v":12},900,898,897,896,896,895,896,896,896,897,898,898,899,899,899,899,899,899,899]
[3416,"Eidskog","Helse Sør-Øst","Akershus universitetssykehus","Kongsvinger",{"$f":"INDEX(Table11[],MATCH(TEXT(hf_kommune[[#This Row],[Kommunenr]],\"0\"),Table11[Nr],0),MATCH(hf_kommune[[#Headers],[2020]],Table11[#Headers],0))","v":108},{"$f":"INDEX(Table11[],MATCH(TEXT(hf_kommune[[#This Row],[Kommunenr]],\"0\"),Table11[Nr],0),MATCH(hf_kommune[[#Headers],[2021]],Table11[#Headers],0))","v":105},{"$f":"INDEX(Table11[],MATCH(TEXT(hf_kommune[[#This Row],[Kommunenr]],\"0\"),Table11[Nr],0),MATCH(hf_kommune[[#Headers],[2022]],Table11[#Headers],0))","v":112},{"$f":"INDEX(Table11[],MATCH(TEXT(hf_kommune[[#This Row],[Kommunenr]],\"0\"),Table11[Nr],0),MATCH(hf_kommune[[#Headers],[2023]],Table11[#Headers],0))","v":113},{"$f":"INDEX(Table11[],MATCH(TEXT(hf_kommune[[#This Row],[Kommunenr]],\"0\"),Table11[Nr],0),MATCH(hf_kommune[[#Headers],[2024]],Table11[#Headers],0))","v":123},{"$f":"INDEX(Table11[],MATCH(TEXT(hf_kommune[[#This Row],[Kommunenr]],\"0\"),Table11[Nr],0),MATCH(hf_kommune[[#Headers],[2025]],Table11[#Headers],0))","v":88},{"$f":"INDEX(Table11[],MATCH(TEXT(hf_kommune[[#This Row],[Kommunenr]],\"0\"),Table11[Nr],0),MATCH(hf_kommune[[#Headers],[2026]],Table11[#Headers],0))","v":101},{"$f":"INDEX(Table11[],MATCH(TEXT(hf_kommune[[#This Row],[Kommunenr]],\"0\"),Table11[Nr],0),MATCH(hf_kommune[[#Headers],[2027]],Table11[#Headers],0))","v":104},{"$f":"INDEX(Table11[],MATCH(TEXT(hf_kommune[[#This Row],[Kommunenr]],\"0\"),Table11[Nr],0),MATCH(hf_kommune[[#Headers],[2028]],Table11[#Headers],0))","v":101},{"$f":"INDEX(Table11[],MATCH(TEXT(hf_kommune[[#This Row],[Kommunenr]],\"0\"),Table11[Nr],0),MATCH(hf_kommune[[#Headers],[2029]],Table11[#Headers],0))","v":100},{"$f":"INDEX(Table11[],MATCH(TEXT(hf_kommune[[#This Row],[Kommunenr]],\"0\"),Table11[Nr],0),MATCH(hf_kommune[[#Headers],[2030]],Table11[#Headers],0))","v":91},{"$f":"INDEX(Table11[],MATCH(TEXT(hf_kommune[[#This Row],[Kommunenr]],\"0\"),Table11[Nr],0),MATCH(hf_kommune[[#Headers],[2031]],Table11[#Headers],0))","v":75},{"$f":"INDEX(Table11[],MATCH(TEXT(hf_kommune[[#This Row],[Kommunenr]],\"0\"),Table11[Nr],0),MATCH(hf_kommune[[#Headers],[2032]],Table11[#Headers],0))","v":81},{"$f":"INDEX(Table11[],MATCH(TEXT(hf_kommune[[#This Row],[Kommunenr]],\"0\"),Table11[Nr],0),MATCH(hf_kommune[[#Headers],[2033]],Table11[#Headers],0))","v":74},{"$f":"INDEX(Table11[],MATCH(TEXT(hf_kommune[[#This Row],[Kommunenr]],\"0\"),Table11[Nr],0),MATCH(hf_kommune[[#Headers],[2034]],Table11[#Headers],0))","v":85},{"$f":"INDEX(Table11[],MATCH(TEXT(hf_kommune[[#This Row],[Kommunenr]],\"0\"),Table11[Nr],0),MATCH(hf_kommune[[#Headers],[2035]],Table11[#Headers],0))","v":68},{"$f":"INDEX(Table11[],MATCH(TEXT(hf_kommune[[#This Row],[Kommunenr]],\"0\"),Table11[Nr],0),MATCH(hf_kommune[[#Headers],[2036]],Table11[#Headers],0))","v":78},{"$f":"INDEX(Table11[],MATCH(TEXT(hf_kommune[[#This Row],[Kommunenr]],\"0\"),Table11[Nr],0),MATCH(hf_kommune[[#Headers],[2037]],Table11[#Headers],0))","v":74},{"$f":"INDEX(Table11[],MATCH(TEXT(hf_kommune[[#This Row],[Kommunenr]],\"0\"),Table11[Nr],0),MATCH(hf_kommune[[#Headers],[2038]],Table11[#Headers],0))","v":75},{"$f":"INDEX(Table11[],MATCH(TEXT(hf_kommune[[#This Row],[Kommunenr]],\"0\"),Table11[Nr],0),MATCH(hf_kommune[[#Headers],[2039]],Table11[#Headers],0))","v":76},{"$f":"INDEX(Table11[],MATCH(TEXT(hf_kommune[[#This Row],[Kommunenr]],\"0\"),Table11[Nr],0),MATCH(hf_kommune[[#Headers],[2040]],Table11[#Headers],0))","v":68},6066,6053,6046,6043,6046,6050,6057,6064,6072,6081,6090,6100,6109,6119,6128,6137,6145,6152,6158]
[3035,"Eidsvoll","Helse Sør-Øst","Akershus universitetssykehus","Ahus",{"$f":"INDEX(Table11[],MATCH(TEXT(hf_kommune[[#This Row],[Kommunenr]],\"0\"),Table11[Nr],0),MATCH(hf_kommune[[#Headers],[2020]],Table11[#Headers],0))","v":350},{"$f":"INDEX(Table11[],MATCH(TEXT(hf_kommune[[#This Row],[Kommunenr]],\"0\"),Table11[Nr],0),MATCH(hf_kommune[[#Headers],[2021]],Table11[#Headers],0))","v":332},{"$f":"INDEX(Table11[],MATCH(TEXT(hf_kommune[[#This Row],[Kommunenr]],\"0\"),Table11[Nr],0),MATCH(hf_kommune[[#Headers],[2022]],Table11[#Headers],0))","v":367},{"$f":"INDEX(Table11[],MATCH(TEXT(hf_kommune[[#This Row],[Kommunenr]],\"0\"),Table11[Nr],0),MATCH(hf_kommune[[#Headers],[2023]],Table11[#Headers],0))","v":366},{"$f":"INDEX(Table11[],MATCH(TEXT(hf_kommune[[#This Row],[Kommunenr]],\"0\"),Table11[Nr],0),MATCH(hf_kommune[[#Headers],[2024]],Table11[#Headers],0))","v":397},{"$f":"INDEX(Table11[],MATCH(TEXT(hf_kommune[[#This Row],[Kommunenr]],\"0\"),Table11[Nr],0),MATCH(hf_kommune[[#Headers],[2025]],Table11[#Headers],0))","v":386},{"$f":"INDEX(Table11[],MATCH(TEXT(hf_kommune[[#This Row],[Kommunenr]],\"0\"),Table11[Nr],0),MATCH(hf_kommune[[#Headers],[2026]],Table11[#Headers],0))","v":377},{"$f":"INDEX(Table11[],MATCH(TEXT(hf_kommune[[#This Row],[Kommunenr]],\"0\"),Table11[Nr],0),MATCH(hf_kommune[[#Headers],[2027]],Table11[#Headers],0))","v":397},{"$f":"INDEX(Table11[],MATCH(TEXT(hf_kommune[[#This Row],[Kommunenr]],\"0\"),Table11[Nr],0),MATCH(hf_kommune[[#Headers],[2028]],Table11[#Headers],0))","v":377},{"$f":"INDEX(Table11[],MATCH(TEXT(hf_kommune[[#This Row],[Kommunenr]],\"0\"),Table11[Nr],0),MATCH(hf_kommune[[#Headers],[2029]],Table11[#Headers],0))","v":372},{"$f":"INDEX(Table11[],MATCH(TEXT(hf_kommune[[#This Row],[Kommunenr]],\"0\"),Table11[Nr],0),MATCH(hf_kommune[[#Headers],[2030]],Table11[#Headers],0))","v":404},{"$f":"INDEX(Table11[],MATCH(TEXT(hf_kommune[[#This Row],[Kommunenr]],\"0\"),Table11[Nr],0),MATCH(hf_kommune[[#Headers],[2031]],Table11[#Headers],0))","v":384},{"$f":"INDEX(Table11[],MATCH(TEXT(hf_kommune[[#This Row],[Kommunenr]],\"0\"),Table11[Nr],0),MATCH(hf_kommune[[#Headers],[2032]],Table11[#Headers],0))","v":374},{"$f":"INDEX(Table11[],MATCH(TEXT(hf_kommune[[#This Row],[Kommunenr]],\"0\"),Table11[Nr],0),MATCH(hf_kommune[[#Headers],[2033]],Table11[#Headers],0))","v":373},{"$f":"INDEX(Table11[],MATCH(TEXT(hf_kommune[[#This Row],[Kommunenr]],\"0\"),Table11[Nr],0),MATCH(hf_kommune[[#Headers],[2034]],Table11[#Headers],0))","v":403},{"$f":"INDEX(Table11[],MATCH(TEXT(hf_kommune[[#This Row],[Kommunenr]],\"0\"),Table11[Nr],0),MATCH(hf_kommune[[#Headers],[2035]],Table11[#Headers],0))","v":400},{"$f":"INDEX(Table11[],MATCH(TEXT(hf_kommune[[#This Row],[Kommunenr]],\"0\"),Table11[Nr],0),MATCH(hf_kommune[[#Headers],[2036]],Table11[#Headers],0))","v":432},{"$f":"INDEX(Table11[],MATCH(TEXT(hf_kommune[[#This Row],[Kommunenr]],\"0\"),Table11[Nr],0),MATCH(hf_kommune[[#Headers],[2037]],Table11[#Headers],0))","v":401},{"$f":"INDEX(Table11[],MATCH(TEXT(hf_kommune[[#This Row],[Kommunenr]],\"0\"),Table11[Nr],0),MATCH(hf_kommune[[#Headers],[2038]],Table11[#Headers],0))","v":415},{"$f":"INDEX(Table11[],MATCH(TEXT(hf_kommune[[#This Row],[Kommunenr]],\"0\"),Table11[Nr],0),MATCH(hf_kommune[[#Headers],[2039]],Table11[#Headers],0))","v":420},{"$f":"INDEX(Table11[],MATCH(TEXT(hf_kommune[[#This Row],[Kommunenr]],\"0\"),Table11[Nr],0),MATCH(hf_kommune[[#Headers],[2040]],Table11[#Headers],0))","v":434},26140,26482,26809,27125,27430,27722,28003,28275,28539,28795,29043,29285,29521,29753,29980,30201,30416,30624,30824]
[1101,"Eigersund","Helse Vest","Helse Stavanger","Stavanger",{"$f":"INDEX(Table11[],MATCH(TEXT(hf_kommune[[#This Row],[Kommunenr]],\"0\"),Table11[Nr],0),MATCH(hf_kommune[[#Headers],[2020]],Table11[#Headers],0))","v":170},{"$f":"INDEX(Table11[],MATCH(TEXT(hf_kommune[[#This Row],[Kommunenr]],\"0\"),Table11[Nr],0),MATCH(hf_kommune[[#Headers],[2021]],Table11[#Headers],0))","v":171},{"$f":"INDEX(Table11[],MATCH(TEXT(hf_kommune[[#This Row],[Kommunenr]],\"0\"),Table11[Nr],0),MATCH(hf_kommune[[#Headers],[2022]],Table11[#Headers],0))","v":210},{"$f":"INDEX(Table11[],MATCH(TEXT(hf_kommune[[#This Row],[Kommunenr]],\"0\"),Table11[Nr],0),MATCH(hf_kommune[[#Headers],[2023]],Table11[#Headers],0))","v":211},{"$f":"INDEX(Table11[],MATCH(TEXT(hf_kommune[[#This Row],[Kommunenr]],\"0\"),Table11[Nr],0),MATCH(hf_kommune[[#Headers],[2024]],Table11[#Headers],0))","v":209},{"$f":"INDEX(Table11[],MATCH(TEXT(hf_kommune[[#This Row],[Kommunenr]],\"0\"),Table11[Nr],0),MATCH(hf_kommune[[#Headers],[2025]],Table11[#Headers],0))","v":203},{"$f":"INDEX(Table11[],MATCH(TEXT(hf_kommune[[#This Row],[Kommunenr]],\"0\"),Table11[Nr],0),MATCH(hf_kommune[[#Headers],[2026]],Table11[#Headers],0))","v":203},{"$f":"INDEX(Table11[],MATCH(TEXT(hf_kommune[[#This Row],[Kommunenr]],\"0\"),Table11[Nr],0),MATCH(hf_kommune[[#Headers],[2027]],Table11[#Headers],0))","v":213},{"$f":"INDEX(Table11[],MATCH(TEXT(hf_kommune[[#This Row],[Kommunenr]],\"0\"),Table11[Nr],0),MATCH(hf_kommune[[#Headers],[2028]],Table11[#Headers],0))","v":210},{"$f":"INDEX(Table11[],MATCH(TEXT(hf_kommune[[#This Row],[Kommunenr]],\"0\"),Table11[Nr],0),MATCH(hf_kommune[[#Headers],[2029]],Table11[#Headers],0))","v":190},{"$f":"INDEX(Table11[],MATCH(TEXT(hf_kommune[[#This Row],[Kommunenr]],\"0\"),Table11[Nr],0),MATCH(hf_kommune[[#Headers],[2030]],Table11[#Headers],0))","v":209},{"$f":"INDEX(Table11[],MATCH(TEXT(hf_kommune[[#This Row],[Kommunenr]],\"0\"),Table11[Nr],0),MATCH(hf_kommune[[#Headers],[2031]],Table11[#Headers],0))","v":174},{"$f":"INDEX(Table11[],MATCH(TEXT(hf_kommune[[#This Row],[Kommunenr]],\"0\"),Table11[Nr],0),MATCH(hf_kommune[[#Headers],[2032]],Table11[#Headers],0))","v":189},{"$f":"INDEX(Table11[],MATCH(TEXT(hf_kommune[[#This Row],[Kommunenr]],\"0\"),Table11[Nr],0),MATCH(hf_kommune[[#Headers],[2033]],Table11[#Headers],0))","v":179},{"$f":"INDEX(Table11[],MATCH(TEXT(hf_kommune[[#This Row],[Kommunenr]],\"0\"),Table11[Nr],0),MATCH(hf_kommune[[#Headers],[2034]],Table11[#Headers],0))","v":170},{"$f":"INDEX(Table11[],MATCH(TEXT(hf_kommune[[#This Row],[Kommunenr]],\"0\"),Table11[Nr],0),MATCH(hf_kommune[[#Headers],[2035]],Table11[#Headers],0))","v":190},{"$f":"INDEX(Table11[],MATCH(TEXT(hf_kommune[[#This Row],[Kommunenr]],\"0\"),Table11[Nr],0),MATCH(hf_kommune[[#Headers],[2036]],Table11[#Headers],0))","v":175},{"$f":"INDEX(Table11[],MATCH(TEXT(hf_kommune[[#This Row],[Kommunenr]],\"0\"),Table11[Nr],0),MATCH(hf_kommune[[#Headers],[2037]],Table11[#Headers],0))","v":181},{"$f":"INDEX(Table11[],MATCH(TEXT(hf_kommune[[#This Row],[Kommunenr]],\"0\"),Table11[Nr],0),MATCH(hf_kommune[[#Headers],[2038]],Table11[#Headers],0))","v":187},{"$f":"INDEX(Table11[],MATCH(TEXT(hf_kommune[[#This Row],[Kommunenr]],\"0\"),Table11[Nr],0),MATCH(hf_kommune[[#Headers],[2039]],Table11[#Headers],0))","v":190},{"$f":"INDEX(Table11[],MATCH(TEXT(hf_kommune[[#This Row],[Kommunenr]],\"0\"),Table11[Nr],0),MATCH(hf_kommune[[#Headers],[2040]],Table11[#Headers],0))","v":187},14661,14620,14599,14597,14615,14634,14653,14672,14690,14708,14725,14742,14758,14775,14792,14808,14821,14833,14843]
[3420,"Elverum","Helse Sør-Øst","Sykehuset Innlandet","Elverum",{"$f":"INDEX(Table11[],MATCH(TEXT(hf_kommune[[#This Row],[Kommunenr]],\"0\"),Table11[Nr],0),MATCH(hf_kommune[[#Headers],[2020]],Table11[#Headers],0))","v":310},{"$f":"INDEX(Table11[],MATCH(TEXT(hf_kommune[[#This Row],[Kommunenr]],\"0\"),Table11[Nr],0),MATCH(hf_kommune[[#Headers],[2021]],Table11[#Headers],0))","v":290},{"$f":"INDEX(Table11[],MATCH(TEXT(hf_kommune[[#This Row],[Kommunenr]],\"0\"),Table11[Nr],0),MATCH(hf_kommune[[#Headers],[2022]],Table11[#Headers],0))","v":291},{"$f":"INDEX(Table11[],MATCH(TEXT(hf_kommune[[#This Row],[Kommunenr]],\"0\"),Table11[Nr],0),MATCH(hf_kommune[[#Headers],[2023]],Table11[#Headers],0))","v":277},{"$f":"INDEX(Table11[],MATCH(TEXT(hf_kommune[[#This Row],[Kommunenr]],\"0\"),Table11[Nr],0),MATCH(hf_kommune[[#Headers],[2024]],Table11[#Headers],0))","v":319},{"$f":"INDEX(Table11[],MATCH(TEXT(hf_kommune[[#This Row],[Kommunenr]],\"0\"),Table11[Nr],0),MATCH(hf_kommune[[#Headers],[2025]],Table11[#Headers],0))","v":311},{"$f":"INDEX(Table11[],MATCH(TEXT(hf_kommune[[#This Row],[Kommunenr]],\"0\"),Table11[Nr],0),MATCH(hf_kommune[[#Headers],[2026]],Table11[#Headers],0))","v":325},{"$f":"INDEX(Table11[],MATCH(TEXT(hf_kommune[[#This Row],[Kommunenr]],\"0\"),Table11[Nr],0),MATCH(hf_kommune[[#Headers],[2027]],Table11[#Headers],0))","v":305},{"$f":"INDEX(Table11[],MATCH(TEXT(hf_kommune[[#This Row],[Kommunenr]],\"0\"),Table11[Nr],0),MATCH(hf_kommune[[#Headers],[2028]],Table11[#Headers],0))","v":305},{"$f":"INDEX(Table11[],MATCH(TEXT(hf_kommune[[#This Row],[Kommunenr]],\"0\"),Table11[Nr],0),MATCH(hf_kommune[[#Headers],[2029]],Table11[#Headers],0))","v":268},{"$f":"INDEX(Table11[],MATCH(TEXT(hf_kommune[[#This Row],[Kommunenr]],\"0\"),Table11[Nr],0),MATCH(hf_kommune[[#Headers],[2030]],Table11[#Headers],0))","v":277},{"$f":"INDEX(Table11[],MATCH(TEXT(hf_kommune[[#This Row],[Kommunenr]],\"0\"),Table11[Nr],0),MATCH(hf_kommune[[#Headers],[2031]],Table11[#Headers],0))","v":275},{"$f":"INDEX(Table11[],MATCH(TEXT(hf_kommune[[#This Row],[Kommunenr]],\"0\"),Table11[Nr],0),MATCH(hf_kommune[[#Headers],[2032]],Table11[#Headers],0))","v":260},{"$f":"INDEX(Table11[],MATCH(TEXT(hf_kommune[[#This Row],[Kommunenr]],\"0\"),Table11[Nr],0),MATCH(hf_kommune[[#Headers],[2033]],Table11[#Headers],0))","v":266},{"$f":"INDEX(Table11[],MATCH(TEXT(hf_kommune[[#This Row],[Kommunenr]],\"0\"),Table11[Nr],0),MATCH(hf_kommune[[#Headers],[2034]],Table11[#Headers],0))","v":240},{"$f":"INDEX(Table11[],MATCH(TEXT(hf_kommune[[#This Row],[Kommunenr]],\"0\"),Table11[Nr],0),MATCH(hf_kommune[[#Headers],[2035]],Table11[#Headers],0))","v":269},{"$f":"INDEX(Table11[],MATCH(TEXT(hf_kommune[[#This Row],[Kommunenr]],\"0\"),Table11[Nr],0),MATCH(hf_kommune[[#Headers],[2036]],Table11[#Headers],0))","v":228},{"$f":"INDEX(Table11[],MATCH(TEXT(hf_kommune[[#This Row],[Kommunenr]],\"0\"),Table11[Nr],0),MATCH(hf_kommune[[#Headers],[2037]],Table11[#Headers],0))","v":248},{"$f":"INDEX(Table11[],MATCH(TEXT(hf_kommune[[#This Row],[Kommunenr]],\"0\"),Table11[Nr],0),MATCH(hf_kommune[[#Headers],[2038]],Table11[#Headers],0))","v":242},{"$f":"INDEX(Table11[],MATCH(TEXT(hf_kommune[[#This Row],[Kommunenr]],\"0\"),Table11[Nr],0),MATCH(hf_kommune[[#Headers],[2039]],Table11[#Headers],0))","v":266},{"$f":"INDEX(Table11[],MATCH(TEXT(hf_kommune[[#This Row],[Kommunenr]],\"0\"),Table11[Nr],0),MATCH(hf_kommune[[#Headers],[2040]],Table11[#Headers],0))","v":262},21338,21394,21449,21504,21561,21618,21674,21730,21785,21838,21891,21942,21993,22042,22092,22139,22184,22227,22268]
[3028,"Enebakk","Helse Sør-Øst","Akershus universitetssykehus","Ski",{"$f":"INDEX(Table11[],MATCH(TEXT(hf_kommune[[#This Row],[Kommunenr]],\"0\"),Table11[Nr],0),MATCH(hf_kommune[[#Headers],[2020]],Table11[#Headers],0))","v":169},{"$f":"INDEX(Table11[],MATCH(TEXT(hf_kommune[[#This Row],[Kommunenr]],\"0\"),Table11[Nr],0),MATCH(hf_kommune[[#Headers],[2021]],Table11[#Headers],0))","v":161},{"$f":"INDEX(Table11[],MATCH(TEXT(hf_kommune[[#This Row],[Kommunenr]],\"0\"),Table11[Nr],0),MATCH(hf_kommune[[#Headers],[2022]],Table11[#Headers],0))","v":167},{"$f":"INDEX(Table11[],MATCH(TEXT(hf_kommune[[#This Row],[Kommunenr]],\"0\"),Table11[Nr],0),MATCH(hf_kommune[[#Headers],[2023]],Table11[#Headers],0))","v":152},{"$f":"INDEX(Table11[],MATCH(TEXT(hf_kommune[[#This Row],[Kommunenr]],\"0\"),Table11[Nr],0),MATCH(hf_kommune[[#Headers],[2024]],Table11[#Headers],0))","v":189},{"$f":"INDEX(Table11[],MATCH(TEXT(hf_kommune[[#This Row],[Kommunenr]],\"0\"),Table11[Nr],0),MATCH(hf_kommune[[#Headers],[2025]],Table11[#Headers],0))","v":172},{"$f":"INDEX(Table11[],MATCH(TEXT(hf_kommune[[#This Row],[Kommunenr]],\"0\"),Table11[Nr],0),MATCH(hf_kommune[[#Headers],[2026]],Table11[#Headers],0))","v":158},{"$f":"INDEX(Table11[],MATCH(TEXT(hf_kommune[[#This Row],[Kommunenr]],\"0\"),Table11[Nr],0),MATCH(hf_kommune[[#Headers],[2027]],Table11[#Headers],0))","v":172},{"$f":"INDEX(Table11[],MATCH(TEXT(hf_kommune[[#This Row],[Kommunenr]],\"0\"),Table11[Nr],0),MATCH(hf_kommune[[#Headers],[2028]],Table11[#Headers],0))","v":172},{"$f":"INDEX(Table11[],MATCH(TEXT(hf_kommune[[#This Row],[Kommunenr]],\"0\"),Table11[Nr],0),MATCH(hf_kommune[[#Headers],[2029]],Table11[#Headers],0))","v":182},{"$f":"INDEX(Table11[],MATCH(TEXT(hf_kommune[[#This Row],[Kommunenr]],\"0\"),Table11[Nr],0),MATCH(hf_kommune[[#Headers],[2030]],Table11[#Headers],0))","v":184},{"$f":"INDEX(Table11[],MATCH(TEXT(hf_kommune[[#This Row],[Kommunenr]],\"0\"),Table11[Nr],0),MATCH(hf_kommune[[#Headers],[2031]],Table11[#Headers],0))","v":171},{"$f":"INDEX(Table11[],MATCH(TEXT(hf_kommune[[#This Row],[Kommunenr]],\"0\"),Table11[Nr],0),MATCH(hf_kommune[[#Headers],[2032]],Table11[#Headers],0))","v":162},{"$f":"INDEX(Table11[],MATCH(TEXT(hf_kommune[[#This Row],[Kommunenr]],\"0\"),Table11[Nr],0),MATCH(hf_kommune[[#Headers],[2033]],Table11[#Headers],0))","v":169},{"$f":"INDEX(Table11[],MATCH(TEXT(hf_kommune[[#This Row],[Kommunenr]],\"0\"),Table11[Nr],0),MATCH(hf_kommune[[#Headers],[2034]],Table11[#Headers],0))","v":171},{"$f":"INDEX(Table11[],MATCH(TEXT(hf_kommune[[#This Row],[Kommunenr]],\"0\"),Table11[Nr],0),MATCH(hf_kommune[[#Headers],[2035]],Table11[#Headers],0))","v":166},{"$f":"INDEX(Table11[],MATCH(TEXT(hf_kommune[[#This Row],[Kommunenr]],\"0\"),Table11[Nr],0),MATCH(hf_kommune[[#Headers],[2036]],Table11[#Headers],0))","v":165},{"$f":"INDEX(Table11[],MATCH(TEXT(hf_kommune[[#This Row],[Kommunenr]],\"0\"),Table11[Nr],0),MATCH(hf_kommune[[#Headers],[2037]],Table11[#Headers],0))","v":159},{"$f":"INDEX(Table11[],MATCH(TEXT(hf_kommune[[#This Row],[Kommunenr]],\"0\"),Table11[Nr],0),MATCH(hf_kommune[[#Headers],[2038]],Table11[#Headers],0))","v":169},{"$f":"INDEX(Table11[],MATCH(TEXT(hf_kommune[[#This Row],[Kommunenr]],\"0\"),Table11[Nr],0),MATCH(hf_kommune[[#Headers],[2039]],Table11[#Headers],0))","v":177},{"$f":"INDEX(Table11[],MATCH(TEXT(hf_kommune[[#This Row],[Kommunenr]],\"0\"),Table11[Nr],0),MATCH(hf_kommune[[#Headers],[2040]],Table11[#Headers],0))","v":177},11226,11302,11382,11466,11554,11637,11716,11792,11866,11938,12008,12077,12147,12217,12287,12356,12423,12489,12553]
[3425,"Engerdal","Helse Sør-Øst","Sykehuset Innlandet","Elverum",{"$f":"INDEX(Table11[],MATCH(TEXT(hf_kommune[[#This Row],[Kommunenr]],\"0\"),Table11[Nr],0),MATCH(hf_kommune[[#Headers],[2020]],Table11[#Headers],0))","v":23},{"$f":"INDEX(Table11[],MATCH(TEXT(hf_kommune[[#This Row],[Kommunenr]],\"0\"),Table11[Nr],0),MATCH(hf_kommune[[#Headers],[2021]],Table11[#Headers],0))","v":24},{"$f":"INDEX(Table11[],MATCH(TEXT(hf_kommune[[#This Row],[Kommunenr]],\"0\"),Table11[Nr],0),MATCH(hf_kommune[[#Headers],[2022]],Table11[#Headers],0))","v":25},{"$f":"INDEX(Table11[],MATCH(TEXT(hf_kommune[[#This Row],[Kommunenr]],\"0\"),Table11[Nr],0),MATCH(hf_kommune[[#Headers],[2023]],Table11[#Headers],0))","v":16},{"$f":"INDEX(Table11[],MATCH(TEXT(hf_kommune[[#This Row],[Kommunenr]],\"0\"),Table11[Nr],0),MATCH(hf_kommune[[#Headers],[2024]],Table11[#Headers],0))","v":24},{"$f":"INDEX(Table11[],MATCH(TEXT(hf_kommune[[#This Row],[Kommunenr]],\"0\"),Table11[Nr],0),MATCH(hf_kommune[[#Headers],[2025]],Table11[#Headers],0))","v":21},{"$f":"INDEX(Table11[],MATCH(TEXT(hf_kommune[[#This Row],[Kommunenr]],\"0\"),Table11[Nr],0),MATCH(hf_kommune[[#Headers],[2026]],Table11[#Headers],0))","v":15},{"$f":"INDEX(Table11[],MATCH(TEXT(hf_kommune[[#This Row],[Kommunenr]],\"0\"),Table11[Nr],0),MATCH(hf_kommune[[#Headers],[2027]],Table11[#Headers],0))","v":26},{"$f":"INDEX(Table11[],MATCH(TEXT(hf_kommune[[#This Row],[Kommunenr]],\"0\"),Table11[Nr],0),MATCH(hf_kommune[[#Headers],[2028]],Table11[#Headers],0))","v":21},{"$f":"INDEX(Table11[],MATCH(TEXT(hf_kommune[[#This Row],[Kommunenr]],\"0\"),Table11[Nr],0),MATCH(hf_kommune[[#Headers],[2029]],Table11[#Headers],0))","v":23},{"$f":"INDEX(Table11[],MATCH(TEXT(hf_kommune[[#This Row],[Kommunenr]],\"0\"),Table11[Nr],0),MATCH(hf_kommune[[#Headers],[2030]],Table11[#Headers],0))","v":14},{"$f":"INDEX(Table11[],MATCH(TEXT(hf_kommune[[#This Row],[Kommunenr]],\"0\"),Table11[Nr],0),MATCH(hf_kommune[[#Headers],[2031]],Table11[#Headers],0))","v":15},{"$f":"INDEX(Table11[],MATCH(TEXT(hf_kommune[[#This Row],[Kommunenr]],\"0\"),Table11[Nr],0),MATCH(hf_kommune[[#Headers],[2032]],Table11[#Headers],0))","v":12},{"$f":"INDEX(Table11[],MATCH(TEXT(hf_kommune[[#This Row],[Kommunenr]],\"0\"),Table11[Nr],0),MATCH(hf_kommune[[#Headers],[2033]],Table11[#Headers],0))","v":16},{"$f":"INDEX(Table11[],MATCH(TEXT(hf_kommune[[#This Row],[Kommunenr]],\"0\"),Table11[Nr],0),MATCH(hf_kommune[[#Headers],[2034]],Table11[#Headers],0))","v":17},{"$f":"INDEX(Table11[],MATCH(TEXT(hf_kommune[[#This Row],[Kommunenr]],\"0\"),Table11[Nr],0),MATCH(hf_kommune[[#Headers],[2035]],Table11[#Headers],0))","v":14},{"$f":"INDEX(Table11[],MATCH(TEXT(hf_kommune[[#This Row],[Kommunenr]],\"0\"),Table11[Nr],0),MATCH(hf_kommune[[#Headers],[2036]],Table11[#Headers],0))","v":12},{"$f":"INDEX(Table11[],MATCH(TEXT(hf_kommune[[#This Row],[Kommunenr]],\"0\"),Table11[Nr],0),MATCH(hf_kommune[[#Headers],[2037]],Table11[#Headers],0))","v":17},{"$f":"INDEX(Table11[],MATCH(TEXT(hf_kommune[[#This Row],[Kommunenr]],\"0\"),Table11[Nr],0),MATCH(hf_kommune[[#Headers],[2038]],Table11[#Headers],0))","v":13},{"$f":"INDEX(Table11[],MATCH(TEXT(hf_kommune[[#This Row],[Kommunenr]],\"0\"),Table11[Nr],0),MATCH(hf_kommune[[#Headers],[2039]],Table11[#Headers],0))","v":10},{"$f":"INDEX(Table11[],MATCH(TEXT(hf_kommune[[#This Row],[Kommunenr]],\"0\"),Table11[Nr],0),MATCH(hf_kommune[[#Headers],[2040]],Table11[#Headers],0))","v":10},1261,1261,1261,1260,1259,1258,1257,1255,1254,1253,1252,1250,1249,1247,1246,1244,1241,1239,1236]
[4611,"Etne","Helse Vest","Helse Fonna","Haugesund",{"$f":"INDEX(Table11[],MATCH(TEXT(hf_kommune[[#This Row],[Kommunenr]],\"0\"),Table11[Nr],0),MATCH(hf_kommune[[#Headers],[2020]],Table11[#Headers],0))","v":58},{"$f":"INDEX(Table11[],MATCH(TEXT(hf_kommune[[#This Row],[Kommunenr]],\"0\"),Table11[Nr],0),MATCH(hf_kommune[[#Headers],[2021]],Table11[#Headers],0))","v":41},{"$f":"INDEX(Table11[],MATCH(TEXT(hf_kommune[[#This Row],[Kommunenr]],\"0\"),Table11[Nr],0),MATCH(hf_kommune[[#Headers],[2022]],Table11[#Headers],0))","v":58},{"$f":"INDEX(Table11[],MATCH(TEXT(hf_kommune[[#This Row],[Kommunenr]],\"0\"),Table11[Nr],0),MATCH(hf_kommune[[#Headers],[2023]],Table11[#Headers],0))","v":58},{"$f":"INDEX(Table11[],MATCH(TEXT(hf_kommune[[#This Row],[Kommunenr]],\"0\"),Table11[Nr],0),MATCH(hf_kommune[[#Headers],[2024]],Table11[#Headers],0))","v":52},{"$f":"INDEX(Table11[],MATCH(TEXT(hf_kommune[[#This Row],[Kommunenr]],\"0\"),Table11[Nr],0),MATCH(hf_kommune[[#Headers],[2025]],Table11[#Headers],0))","v":58},{"$f":"INDEX(Table11[],MATCH(TEXT(hf_kommune[[#This Row],[Kommunenr]],\"0\"),Table11[Nr],0),MATCH(hf_kommune[[#Headers],[2026]],Table11[#Headers],0))","v":60},{"$f":"INDEX(Table11[],MATCH(TEXT(hf_kommune[[#This Row],[Kommunenr]],\"0\"),Table11[Nr],0),MATCH(hf_kommune[[#Headers],[2027]],Table11[#Headers],0))","v":56},{"$f":"INDEX(Table11[],MATCH(TEXT(hf_kommune[[#This Row],[Kommunenr]],\"0\"),Table11[Nr],0),MATCH(hf_kommune[[#Headers],[2028]],Table11[#Headers],0))","v":54},{"$f":"INDEX(Table11[],MATCH(TEXT(hf_kommune[[#This Row],[Kommunenr]],\"0\"),Table11[Nr],0),MATCH(hf_kommune[[#Headers],[2029]],Table11[#Headers],0))","v":63},{"$f":"INDEX(Table11[],MATCH(TEXT(hf_kommune[[#This Row],[Kommunenr]],\"0\"),Table11[Nr],0),MATCH(hf_kommune[[#Headers],[2030]],Table11[#Headers],0))","v":50},{"$f":"INDEX(Table11[],MATCH(TEXT(hf_kommune[[#This Row],[Kommunenr]],\"0\"),Table11[Nr],0),MATCH(hf_kommune[[#Headers],[2031]],Table11[#Headers],0))","v":50},{"$f":"INDEX(Table11[],MATCH(TEXT(hf_kommune[[#This Row],[Kommunenr]],\"0\"),Table11[Nr],0),MATCH(hf_kommune[[#Headers],[2032]],Table11[#Headers],0))","v":35},{"$f":"INDEX(Table11[],MATCH(TEXT(hf_kommune[[#This Row],[Kommunenr]],\"0\"),Table11[Nr],0),MATCH(hf_kommune[[#Headers],[2033]],Table11[#Headers],0))","v":47},{"$f":"INDEX(Table11[],MATCH(TEXT(hf_kommune[[#This Row],[Kommunenr]],\"0\"),Table11[Nr],0),MATCH(hf_kommune[[#Headers],[2034]],Table11[#Headers],0))","v":44},{"$f":"INDEX(Table11[],MATCH(TEXT(hf_kommune[[#This Row],[Kommunenr]],\"0\"),Table11[Nr],0),MATCH(hf_kommune[[#Headers],[2035]],Table11[#Headers],0))","v":41},{"$f":"INDEX(Table11[],MATCH(TEXT(hf_kommune[[#This Row],[Kommunenr]],\"0\"),Table11[Nr],0),MATCH(hf_kommune[[#Headers],[2036]],Table11[#Headers],0))","v":59},{"$f":"INDEX(Table11[],MATCH(TEXT(hf_kommune[[#This Row],[Kommunenr]],\"0\"),Table11[Nr],0),MATCH(hf_kommune[[#Headers],[2037]],Table11[#Headers],0))","v":50},{"$f":"INDEX(Table11[],MATCH(TEXT(hf_kommune[[#This Row],[Kommunenr]],\"0\"),Table11[Nr],0),MATCH(hf_kommune[[#Headers],[2038]],Table11[#Headers],0))","v":52},{"$f":"INDEX(Table11[],MATCH(TEXT(hf_kommune[[#This Row],[Kommunenr]],\"0\"),Table11[Nr],0),MATCH(hf_kommune[[#Headers],[2039]],Table11[#Headers],0))","v":46},{"$f":"INDEX(Table11[],MATCH(TEXT(hf_kommune[[#This Row],[Kommunenr]],\"0\"),Table11[Nr],0),MATCH(hf_kommune[[#Headers],[2040]],Table11[#Headers],0))","v":51},3981,3954,3936,3928,3929,3931,3933,3936,3939,3941,3943,3945,3947,3948,3949,3950,3951,3952,3951]
[3450,"Etnedal","Helse Sør-Øst","Sykehuset Innlandet","Gjøvik",{"$f":"INDEX(Table11[],MATCH(TEXT(hf_kommune[[#This Row],[Kommunenr]],\"0\"),Table11[Nr],0),MATCH(hf_kommune[[#Headers],[2020]],Table11[#Headers],0))","v":23},{"$f":"INDEX(Table11[],MATCH(TEXT(hf_kommune[[#This Row],[Kommunenr]],\"0\"),Table11[Nr],0),MATCH(hf_kommune[[#Headers],[2021]],Table11[#Headers],0))","v":21},{"$f":"INDEX(Table11[],MATCH(TEXT(hf_kommune[[#This Row],[Kommunenr]],\"0\"),Table11[Nr],0),MATCH(hf_kommune[[#Headers],[2022]],Table11[#Headers],0))","v":24},{"$f":"INDEX(Table11[],MATCH(TEXT(hf_kommune[[#This Row],[Kommunenr]],\"0\"),Table11[Nr],0),MATCH(hf_kommune[[#Headers],[2023]],Table11[#Headers],0))","v":20},{"$f":"INDEX(Table11[],MATCH(TEXT(hf_kommune[[#This Row],[Kommunenr]],\"0\"),Table11[Nr],0),MATCH(hf_kommune[[#Headers],[2024]],Table11[#Headers],0))","v":21},{"$f":"INDEX(Table11[],MATCH(TEXT(hf_kommune[[#This Row],[Kommunenr]],\"0\"),Table11[Nr],0),MATCH(hf_kommune[[#Headers],[2025]],Table11[#Headers],0))","v":25},{"$f":"INDEX(Table11[],MATCH(TEXT(hf_kommune[[#This Row],[Kommunenr]],\"0\"),Table11[Nr],0),MATCH(hf_kommune[[#Headers],[2026]],Table11[#Headers],0))","v":22},{"$f":"INDEX(Table11[],MATCH(TEXT(hf_kommune[[#This Row],[Kommunenr]],\"0\"),Table11[Nr],0),MATCH(hf_kommune[[#Headers],[2027]],Table11[#Headers],0))","v":22},{"$f":"INDEX(Table11[],MATCH(TEXT(hf_kommune[[#This Row],[Kommunenr]],\"0\"),Table11[Nr],0),MATCH(hf_kommune[[#Headers],[2028]],Table11[#Headers],0))","v":25},{"$f":"INDEX(Table11[],MATCH(TEXT(hf_kommune[[#This Row],[Kommunenr]],\"0\"),Table11[Nr],0),MATCH(hf_kommune[[#Headers],[2029]],Table11[#Headers],0))","v":12},{"$f":"INDEX(Table11[],MATCH(TEXT(hf_kommune[[#This Row],[Kommunenr]],\"0\"),Table11[Nr],0),MATCH(hf_kommune[[#Headers],[2030]],Table11[#Headers],0))","v":16},{"$f":"INDEX(Table11[],MATCH(TEXT(hf_kommune[[#This Row],[Kommunenr]],\"0\"),Table11[Nr],0),MATCH(hf_kommune[[#Headers],[2031]],Table11[#Headers],0))","v":20},{"$f":"INDEX(Table11[],MATCH(TEXT(hf_kommune[[#This Row],[Kommunenr]],\"0\"),Table11[Nr],0),MATCH(hf_kommune[[#Headers],[2032]],Table11[#Headers],0))","v":17},{"$f":"INDEX(Table11[],MATCH(TEXT(hf_kommune[[#This Row],[Kommunenr]],\"0\"),Table11[Nr],0),MATCH(hf_kommune[[#Headers],[2033]],Table11[#Headers],0))","v":18},{"$f":"INDEX(Table11[],MATCH(TEXT(hf_kommune[[#This Row],[Kommunenr]],\"0\"),Table11[Nr],0),MATCH(hf_kommune[[#Headers],[2034]],Table11[#Headers],0))","v":15},{"$f":"INDEX(Table11[],MATCH(TEXT(hf_kommune[[#This Row],[Kommunenr]],\"0\"),Table11[Nr],0),MATCH(hf_kommune[[#Headers],[2035]],Table11[#Headers],0))","v":18},{"$f":"INDEX(Table11[],MATCH(TEXT(hf_kommune[[#This Row],[Kommunenr]],\"0\"),Table11[Nr],0),MATCH(hf_kommune[[#Headers],[2036]],Table11[#Headers],0))","v":19},{"$f":"INDEX(Table11[],MATCH(TEXT(hf_kommune[[#This Row],[Kommunenr]],\"0\"),Table11[Nr],0),MATCH(hf_kommune[[#Headers],[2037]],Table11[#Headers],0))","v":16},{"$f":"INDEX(Table11[],MATCH(TEXT(hf_kommune[[#This Row],[Kommunenr]],\"0\"),Table11[Nr],0),MATCH(hf_kommune[[#Headers],[2038]],Table11[#Headers],0))","v":15},{"$f":"INDEX(Table11[],MATCH(TEXT(hf_kommune[[#This Row],[Kommunenr]],\"0\"),Table11[Nr],0),MATCH(hf_kommune[[#Headers],[2039]],Table11[#Headers],0))","v":18},{"$f":"INDEX(Table11[],MATCH(TEXT(hf_kommune[[#This Row],[Kommunenr]],\"0\"),Table11[Nr],0),MATCH(hf_kommune[[#Headers],[2040]],Table11[#Headers],0))","v":19},1266,1263,1261,1261,1263,1265,1267,1269,1270,1272,1274,1277,1279,1281,1284,1287,1290,1293,1296]
[1853,"Evenes","Helse Nord","Universitetssykehuset Nord-Norge","Narvik",{"$f":"INDEX(Table11[],MATCH(TEXT(hf_kommune[[#This Row],[Kommunenr]],\"0\"),Table11[Nr],0),MATCH(hf_kommune[[#Headers],[2020]],Table11[#Headers],0))","v":15},{"$f":"INDEX(Table11[],MATCH(TEXT(hf_kommune[[#This Row],[Kommunenr]],\"0\"),Table11[Nr],0),MATCH(hf_kommune[[#Headers],[2021]],Table11[#Headers],0))","v":22},{"$f":"INDEX(Table11[],MATCH(TEXT(hf_kommune[[#This Row],[Kommunenr]],\"0\"),Table11[Nr],0),MATCH(hf_kommune[[#Headers],[2022]],Table11[#Headers],0))","v":22},{"$f":"INDEX(Table11[],MATCH(TEXT(hf_kommune[[#This Row],[Kommunenr]],\"0\"),Table11[Nr],0),MATCH(hf_kommune[[#Headers],[2023]],Table11[#Headers],0))","v":16},{"$f":"INDEX(Table11[],MATCH(TEXT(hf_kommune[[#This Row],[Kommunenr]],\"0\"),Table11[Nr],0),MATCH(hf_kommune[[#Headers],[2024]],Table11[#Headers],0))","v":23},{"$f":"INDEX(Table11[],MATCH(TEXT(hf_kommune[[#This Row],[Kommunenr]],\"0\"),Table11[Nr],0),MATCH(hf_kommune[[#Headers],[2025]],Table11[#Headers],0))","v":25},{"$f":"INDEX(Table11[],MATCH(TEXT(hf_kommune[[#This Row],[Kommunenr]],\"0\"),Table11[Nr],0),MATCH(hf_kommune[[#Headers],[2026]],Table11[#Headers],0))","v":18},{"$f":"INDEX(Table11[],MATCH(TEXT(hf_kommune[[#This Row],[Kommunenr]],\"0\"),Table11[Nr],0),MATCH(hf_kommune[[#Headers],[2027]],Table11[#Headers],0))","v":20},{"$f":"INDEX(Table11[],MATCH(TEXT(hf_kommune[[#This Row],[Kommunenr]],\"0\"),Table11[Nr],0),MATCH(hf_kommune[[#Headers],[2028]],Table11[#Headers],0))","v":18},{"$f":"INDEX(Table11[],MATCH(TEXT(hf_kommune[[#This Row],[Kommunenr]],\"0\"),Table11[Nr],0),MATCH(hf_kommune[[#Headers],[2029]],Table11[#Headers],0))","v":21},{"$f":"INDEX(Table11[],MATCH(TEXT(hf_kommune[[#This Row],[Kommunenr]],\"0\"),Table11[Nr],0),MATCH(hf_kommune[[#Headers],[2030]],Table11[#Headers],0))","v":19},{"$f":"INDEX(Table11[],MATCH(TEXT(hf_kommune[[#This Row],[Kommunenr]],\"0\"),Table11[Nr],0),MATCH(hf_kommune[[#Headers],[2031]],Table11[#Headers],0))","v":20},{"$f":"INDEX(Table11[],MATCH(TEXT(hf_kommune[[#This Row],[Kommunenr]],\"0\"),Table11[Nr],0),MATCH(hf_kommune[[#Headers],[2032]],Table11[#Headers],0))","v":14},{"$f":"INDEX(Table11[],MATCH(TEXT(hf_kommune[[#This Row],[Kommunenr]],\"0\"),Table11[Nr],0),MATCH(hf_kommune[[#Headers],[2033]],Table11[#Headers],0))","v":16},{"$f":"INDEX(Table11[],MATCH(TEXT(hf_kommune[[#This Row],[Kommunenr]],\"0\"),Table11[Nr],0),MATCH(hf_kommune[[#Headers],[2034]],Table11[#Headers],0))","v":20},{"$f":"INDEX(Table11[],MATCH(TEXT(hf_kommune[[#This Row],[Kommunenr]],\"0\"),Table11[Nr],0),MATCH(hf_kommune[[#Headers],[2035]],Table11[#Headers],0))","v":20},{"$f":"INDEX(Table11[],MATCH(TEXT(hf_kommune[[#This Row],[Kommunenr]],\"0\"),Table11[Nr],0),MATCH(hf_kommune[[#Headers],[2036]],Table11[#Headers],0))","v":19},{"$f":"INDEX(Table11[],MATCH(TEXT(hf_kommune[[#This Row],[Kommunenr]],\"0\"),Table11[Nr],0),MATCH(hf_kommune[[#Headers],[2037]],Table11[#Headers],0))","v":18},{"$f":"INDEX(Table11[],MATCH(TEXT(hf_kommune[[#This Row],[Kommunenr]],\"0\"),Table11[Nr],0),MATCH(hf_kommune[[#Headers],[2038]],Table11[#Headers],0))","v":22},{"$f":"INDEX(Table11[],MATCH(TEXT(hf_kommune[[#This Row],[Kommunenr]],\"0\"),Table11[Nr],0),MATCH(hf_kommune[[#Headers],[2039]],Table11[#Headers],0))","v":17},{"$f":"INDEX(Table11[],MATCH(TEXT(hf_kommune[[#This Row],[Kommunenr]],\"0\"),Table11[Nr],0),MATCH(hf_kommune[[#Headers],[2040]],Table11[#Headers],0))","v":22},1338,1337,1338,1342,1348,1354,1360,1366,1371,1376,1380,1383,1386,1389,1391,1393,1394,1395,1395]
[4219,"Evje og Hornnes","Helse Sør-Øst","Sørlandet sykehus","Arendal",{"$f":"INDEX(Table11[],MATCH(TEXT(hf_kommune[[#This Row],[Kommunenr]],\"0\"),Table11[Nr],0),MATCH(hf_kommune[[#Headers],[2020]],Table11[#Headers],0))","v":43},{"$f":"INDEX(Table11[],MATCH(TEXT(hf_kommune[[#This Row],[Kommunenr]],\"0\"),Table11[Nr],0),MATCH(hf_kommune[[#Headers],[2021]],Table11[#Headers],0))","v":56},{"$f":"INDEX(Table11[],MATCH(TEXT(hf_kommune[[#This Row],[Kommunenr]],\"0\"),Table11[Nr],0),MATCH(hf_kommune[[#Headers],[2022]],Table11[#Headers],0))","v":37},{"$f":"INDEX(Table11[],MATCH(TEXT(hf_kommune[[#This Row],[Kommunenr]],\"0\"),Table11[Nr],0),MATCH(hf_kommune[[#Headers],[2023]],Table11[#Headers],0))","v":40},{"$f":"INDEX(Table11[],MATCH(TEXT(hf_kommune[[#This Row],[Kommunenr]],\"0\"),Table11[Nr],0),MATCH(hf_kommune[[#Headers],[2024]],Table11[#Headers],0))","v":48},{"$f":"INDEX(Table11[],MATCH(TEXT(hf_kommune[[#This Row],[Kommunenr]],\"0\"),Table11[Nr],0),MATCH(hf_kommune[[#Headers],[2025]],Table11[#Headers],0))","v":47},{"$f":"INDEX(Table11[],MATCH(TEXT(hf_kommune[[#This Row],[Kommunenr]],\"0\"),Table11[Nr],0),MATCH(hf_kommune[[#Headers],[2026]],Table11[#Headers],0))","v":40},{"$f":"INDEX(Table11[],MATCH(TEXT(hf_kommune[[#This Row],[Kommunenr]],\"0\"),Table11[Nr],0),MATCH(hf_kommune[[#Headers],[2027]],Table11[#Headers],0))","v":44},{"$f":"INDEX(Table11[],MATCH(TEXT(hf_kommune[[#This Row],[Kommunenr]],\"0\"),Table11[Nr],0),MATCH(hf_kommune[[#Headers],[2028]],Table11[#Headers],0))","v":44},{"$f":"INDEX(Table11[],MATCH(TEXT(hf_kommune[[#This Row],[Kommunenr]],\"0\"),Table11[Nr],0),MATCH(hf_kommune[[#Headers],[2029]],Table11[#Headers],0))","v":49},{"$f":"INDEX(Table11[],MATCH(TEXT(hf_kommune[[#This Row],[Kommunenr]],\"0\"),Table11[Nr],0),MATCH(hf_kommune[[#Headers],[2030]],Table11[#Headers],0))","v":58},{"$f":"INDEX(Table11[],MATCH(TEXT(hf_kommune[[#This Row],[Kommunenr]],\"0\"),Table11[Nr],0),MATCH(hf_kommune[[#Headers],[2031]],Table11[#Headers],0))","v":43},{"$f":"INDEX(Table11[],MATCH(TEXT(hf_kommune[[#This Row],[Kommunenr]],\"0\"),Table11[Nr],0),MATCH(hf_kommune[[#Headers],[2032]],Table11[#Headers],0))","v":61},{"$f":"INDEX(Table11[],MATCH(TEXT(hf_kommune[[#This Row],[Kommunenr]],\"0\"),Table11[Nr],0),MATCH(hf_kommune[[#Headers],[2033]],Table11[#Headers],0))","v":58},{"$f":"INDEX(Table11[],MATCH(TEXT(hf_kommune[[#This Row],[Kommunenr]],\"0\"),Table11[Nr],0),MATCH(hf_kommune[[#Headers],[2034]],Table11[#Headers],0))","v":56},{"$f":"INDEX(Table11[],MATCH(TEXT(hf_kommune[[#This Row],[Kommunenr]],\"0\"),Table11[Nr],0),MATCH(hf_kommune[[#Headers],[2035]],Table11[#Headers],0))","v":53},{"$f":"INDEX(Table11[],MATCH(TEXT(hf_kommune[[#This Row],[Kommunenr]],\"0\"),Table11[Nr],0),MATCH(hf_kommune[[#Headers],[2036]],Table11[#Headers],0))","v":51},{"$f":"INDEX(Table11[],MATCH(TEXT(hf_kommune[[#This Row],[Kommunenr]],\"0\"),Table11[Nr],0),MATCH(hf_kommune[[#Headers],[2037]],Table11[#Headers],0))","v":58},{"$f":"INDEX(Table11[],MATCH(TEXT(hf_kommune[[#This Row],[Kommunenr]],\"0\"),Table11[Nr],0),MATCH(hf_kommune[[#Headers],[2038]],Table11[#Headers],0))","v":52},{"$f":"INDEX(Table11[],MATCH(TEXT(hf_kommune[[#This Row],[Kommunenr]],\"0\"),Table11[Nr],0),MATCH(hf_kommune[[#Headers],[2039]],Table11[#Headers],0))","v":60},{"$f":"INDEX(Table11[],MATCH(TEXT(hf_kommune[[#This Row],[Kommunenr]],\"0\"),Table11[Nr],0),MATCH(hf_kommune[[#Headers],[2040]],Table11[#Headers],0))","v":45},3623,3623,3624,3628,3634,3640,3645,3649,3654,3658,3662,3667,3671,3676,3681,3687,3693,3698,3704]
[4206,"Farsund","Helse Sør-Øst","Sørlandet sykehus","Flekkefjord",{"$f":"INDEX(Table11[],MATCH(TEXT(hf_kommune[[#This Row],[Kommunenr]],\"0\"),Table11[Nr],0),MATCH(hf_kommune[[#Headers],[2020]],Table11[#Headers],0))","v":114},{"$f":"INDEX(Table11[],MATCH(TEXT(hf_kommune[[#This Row],[Kommunenr]],\"0\"),Table11[Nr],0),MATCH(hf_kommune[[#Headers],[2021]],Table11[#Headers],0))","v":139},{"$f":"INDEX(Table11[],MATCH(TEXT(hf_kommune[[#This Row],[Kommunenr]],\"0\"),Table11[Nr],0),MATCH(hf_kommune[[#Headers],[2022]],Table11[#Headers],0))","v":134},{"$f":"INDEX(Table11[],MATCH(TEXT(hf_kommune[[#This Row],[Kommunenr]],\"0\"),Table11[Nr],0),MATCH(hf_kommune[[#Headers],[2023]],Table11[#Headers],0))","v":134},{"$f":"INDEX(Table11[],MATCH(TEXT(hf_kommune[[#This Row],[Kommunenr]],\"0\"),Table11[Nr],0),MATCH(hf_kommune[[#Headers],[2024]],Table11[#Headers],0))","v":135},{"$f":"INDEX(Table11[],MATCH(TEXT(hf_kommune[[#This Row],[Kommunenr]],\"0\"),Table11[Nr],0),MATCH(hf_kommune[[#Headers],[2025]],Table11[#Headers],0))","v":149},{"$f":"INDEX(Table11[],MATCH(TEXT(hf_kommune[[#This Row],[Kommunenr]],\"0\"),Table11[Nr],0),MATCH(hf_kommune[[#Headers],[2026]],Table11[#Headers],0))","v":140},{"$f":"INDEX(Table11[],MATCH(TEXT(hf_kommune[[#This Row],[Kommunenr]],\"0\"),Table11[Nr],0),MATCH(hf_kommune[[#Headers],[2027]],Table11[#Headers],0))","v":132},{"$f":"INDEX(Table11[],MATCH(TEXT(hf_kommune[[#This Row],[Kommunenr]],\"0\"),Table11[Nr],0),MATCH(hf_kommune[[#Headers],[2028]],Table11[#Headers],0))","v":148},{"$f":"INDEX(Table11[],MATCH(TEXT(hf_kommune[[#This Row],[Kommunenr]],\"0\"),Table11[Nr],0),MATCH(hf_kommune[[#Headers],[2029]],Table11[#Headers],0))","v":140},{"$f":"INDEX(Table11[],MATCH(TEXT(hf_kommune[[#This Row],[Kommunenr]],\"0\"),Table11[Nr],0),MATCH(hf_kommune[[#Headers],[2030]],Table11[#Headers],0))","v":116},{"$f":"INDEX(Table11[],MATCH(TEXT(hf_kommune[[#This Row],[Kommunenr]],\"0\"),Table11[Nr],0),MATCH(hf_kommune[[#Headers],[2031]],Table11[#Headers],0))","v":133},{"$f":"INDEX(Table11[],MATCH(TEXT(hf_kommune[[#This Row],[Kommunenr]],\"0\"),Table11[Nr],0),MATCH(hf_kommune[[#Headers],[2032]],Table11[#Headers],0))","v":120},{"$f":"INDEX(Table11[],MATCH(TEXT(hf_kommune[[#This Row],[Kommunenr]],\"0\"),Table11[Nr],0),MATCH(hf_kommune[[#Headers],[2033]],Table11[#Headers],0))","v":113},{"$f":"INDEX(Table11[],MATCH(TEXT(hf_kommune[[#This Row],[Kommunenr]],\"0\"),Table11[Nr],0),MATCH(hf_kommune[[#Headers],[2034]],Table11[#Headers],0))","v":116},{"$f":"INDEX(Table11[],MATCH(TEXT(hf_kommune[[#This Row],[Kommunenr]],\"0\"),Table11[Nr],0),MATCH(hf_kommune[[#Headers],[2035]],Table11[#Headers],0))","v":118},{"$f":"INDEX(Table11[],MATCH(TEXT(hf_kommune[[#This Row],[Kommunenr]],\"0\"),Table11[Nr],0),MATCH(hf_kommune[[#Headers],[2036]],Table11[#Headers],0))","v":126},{"$f":"INDEX(Table11[],MATCH(TEXT(hf_kommune[[#This Row],[Kommunenr]],\"0\"),Table11[Nr],0),MATCH(hf_kommune[[#Headers],[2037]],Table11[#Headers],0))","v":113},{"$f":"INDEX(Table11[],MATCH(TEXT(hf_kommune[[#This Row],[Kommunenr]],\"0\"),Table11[Nr],0),MATCH(hf_kommune[[#Headers],[2038]],Table11[#Headers],0))","v":101},{"$f":"INDEX(Table11[],MATCH(TEXT(hf_kommune[[#This Row],[Kommunenr]],\"0\"),Table11[Nr],0),MATCH(hf_kommune[[#Headers],[2039]],Table11[#Headers],0))","v":111},{"$f":"INDEX(Table11[],MATCH(TEXT(hf_kommune[[#This Row],[Kommunenr]],\"0\"),Table11[Nr],0),MATCH(hf_kommune[[#Headers],[2040]],Table11[#Headers],0))","v":108},9594,9561,9534,9513,9497,9483,9469,9456,9444,9432,9420,9408,9396,9385,9374,9363,9352,9340,9328]
[1841,"Fauske - Fuossko","Helse Nord","Nordlandssykehuset","Bodø",{"$f":"INDEX(Table11[],MATCH(TEXT(hf_kommune[[#This Row],[Kommunenr]],\"0\"),Table11[Nr],0),MATCH(hf_kommune[[#Headers],[2020]],Table11[#Headers],0))","v":118},{"$f":"INDEX(Table11[],MATCH(TEXT(hf_kommune[[#This Row],[Kommunenr]],\"0\"),Table11[Nr],0),MATCH(hf_kommune[[#Headers],[2021]],Table11[#Headers],0))","v":147},{"$f":"INDEX(Table11[],MATCH(TEXT(hf_kommune[[#This Row],[Kommunenr]],\"0\"),Table11[Nr],0),MATCH(hf_kommune[[#Headers],[2022]],Table11[#Headers],0))","v":135},{"$f":"INDEX(Table11[],MATCH(TEXT(hf_kommune[[#This Row],[Kommunenr]],\"0\"),Table11[Nr],0),MATCH(hf_kommune[[#Headers],[2023]],Table11[#Headers],0))","v":129},{"$f":"INDEX(Table11[],MATCH(TEXT(hf_kommune[[#This Row],[Kommunenr]],\"0\"),Table11[Nr],0),MATCH(hf_kommune[[#Headers],[2024]],Table11[#Headers],0))","v":154},{"$f":"INDEX(Table11[],MATCH(TEXT(hf_kommune[[#This Row],[Kommunenr]],\"0\"),Table11[Nr],0),MATCH(hf_kommune[[#Headers],[2025]],Table11[#Headers],0))","v":148},{"$f":"INDEX(Table11[],MATCH(TEXT(hf_kommune[[#This Row],[Kommunenr]],\"0\"),Table11[Nr],0),MATCH(hf_kommune[[#Headers],[2026]],Table11[#Headers],0))","v":126},{"$f":"INDEX(Table11[],MATCH(TEXT(hf_kommune[[#This Row],[Kommunenr]],\"0\"),Table11[Nr],0),MATCH(hf_kommune[[#Headers],[2027]],Table11[#Headers],0))","v":140},{"$f":"INDEX(Table11[],MATCH(TEXT(hf_kommune[[#This Row],[Kommunenr]],\"0\"),Table11[Nr],0),MATCH(hf_kommune[[#Headers],[2028]],Table11[#Headers],0))","v":136},{"$f":"INDEX(Table11[],MATCH(TEXT(hf_kommune[[#This Row],[Kommunenr]],\"0\"),Table11[Nr],0),MATCH(hf_kommune[[#Headers],[2029]],Table11[#Headers],0))","v":131},{"$f":"INDEX(Table11[],MATCH(TEXT(hf_kommune[[#This Row],[Kommunenr]],\"0\"),Table11[Nr],0),MATCH(hf_kommune[[#Headers],[2030]],Table11[#Headers],0))","v":124},{"$f":"INDEX(Table11[],MATCH(TEXT(hf_kommune[[#This Row],[Kommunenr]],\"0\"),Table11[Nr],0),MATCH(hf_kommune[[#Headers],[2031]],Table11[#Headers],0))","v":115},{"$f":"INDEX(Table11[],MATCH(TEXT(hf_kommune[[#This Row],[Kommunenr]],\"0\"),Table11[Nr],0),MATCH(hf_kommune[[#Headers],[2032]],Table11[#Headers],0))","v":118},{"$f":"INDEX(Table11[],MATCH(TEXT(hf_kommune[[#This Row],[Kommunenr]],\"0\"),Table11[Nr],0),MATCH(hf_kommune[[#Headers],[2033]],Table11[#Headers],0))","v":113},{"$f":"INDEX(Table11[],MATCH(TEXT(hf_kommune[[#This Row],[Kommunenr]],\"0\"),Table11[Nr],0),MATCH(hf_kommune[[#Headers],[2034]],Table11[#Headers],0))","v":115},{"$f":"INDEX(Table11[],MATCH(TEXT(hf_kommune[[#This Row],[Kommunenr]],\"0\"),Table11[Nr],0),MATCH(hf_kommune[[#Headers],[2035]],Table11[#Headers],0))","v":102},{"$f":"INDEX(Table11[],MATCH(TEXT(hf_kommune[[#This Row],[Kommunenr]],\"0\"),Table11[Nr],0),MATCH(hf_kommune[[#Headers],[2036]],Table11[#Headers],0))","v":115},{"$f":"INDEX(Table11[],MATCH(TEXT(hf_kommune[[#This Row],[Kommunenr]],\"0\"),Table11[Nr],0),MATCH(hf_kommune[[#Headers],[2037]],Table11[#Headers],0))","v":118},{"$f":"INDEX(Table11[],MATCH(TEXT(hf_kommune[[#This Row],[Kommunenr]],\"0\"),Table11[Nr],0),MATCH(hf_kommune[[#Headers],[2038]],Table11[#Headers],0))","v":107},{"$f":"INDEX(Table11[],MATCH(TEXT(hf_kommune[[#This Row],[Kommunenr]],\"0\"),Table11[Nr],0),MATCH(hf_kommune[[#Headers],[2039]],Table11[#Headers],0))","v":113},{"$f":"INDEX(Table11[],MATCH(TEXT(hf_kommune[[#This Row],[Kommunenr]],\"0\"),Table11[Nr],0),MATCH(hf_kommune[[#Headers],[2040]],Table11[#Headers],0))","v":107},9672,9648,9627,9609,9595,9582,9570,9560,9550,9542,9533,9524,9515,9505,9495,9483,9470,9454,9438]
[4633,"Fedje","Helse Vest","Helse Bergen","Haukeland",{"$f":"INDEX(Table11[],MATCH(TEXT(hf_kommune[[#This Row],[Kommunenr]],\"0\"),Table11[Nr],0),MATCH(hf_kommune[[#Headers],[2020]],Table11[#Headers],0))","v":12},{"$f":"INDEX(Table11[],MATCH(TEXT(hf_kommune[[#This Row],[Kommunenr]],\"0\"),Table11[Nr],0),MATCH(hf_kommune[[#Headers],[2021]],Table11[#Headers],0))","v":11},{"$f":"INDEX(Table11[],MATCH(TEXT(hf_kommune[[#This Row],[Kommunenr]],\"0\"),Table11[Nr],0),MATCH(hf_kommune[[#Headers],[2022]],Table11[#Headers],0))","v":9},{"$f":"INDEX(Table11[],MATCH(TEXT(hf_kommune[[#This Row],[Kommunenr]],\"0\"),Table11[Nr],0),MATCH(hf_kommune[[#Headers],[2023]],Table11[#Headers],0))","v":7},{"$f":"INDEX(Table11[],MATCH(TEXT(hf_kommune[[#This Row],[Kommunenr]],\"0\"),Table11[Nr],0),MATCH(hf_kommune[[#Headers],[2024]],Table11[#Headers],0))","v":8},{"$f":"INDEX(Table11[],MATCH(TEXT(hf_kommune[[#This Row],[Kommunenr]],\"0\"),Table11[Nr],0),MATCH(hf_kommune[[#Headers],[2025]],Table11[#Headers],0))","v":8},{"$f":"INDEX(Table11[],MATCH(TEXT(hf_kommune[[#This Row],[Kommunenr]],\"0\"),Table11[Nr],0),MATCH(hf_kommune[[#Headers],[2026]],Table11[#Headers],0))","v":6},{"$f":"INDEX(Table11[],MATCH(TEXT(hf_kommune[[#This Row],[Kommunenr]],\"0\"),Table11[Nr],0),MATCH(hf_kommune[[#Headers],[2027]],Table11[#Headers],0))","v":7},{"$f":"INDEX(Table11[],MATCH(TEXT(hf_kommune[[#This Row],[Kommunenr]],\"0\"),Table11[Nr],0),MATCH(hf_kommune[[#Headers],[2028]],Table11[#Headers],0))","v":10},{"$f":"INDEX(Table11[],MATCH(TEXT(hf_kommune[[#This Row],[Kommunenr]],\"0\"),Table11[Nr],0),MATCH(hf_kommune[[#Headers],[2029]],Table11[#Headers],0))","v":5},{"$f":"INDEX(Table11[],MATCH(TEXT(hf_kommune[[#This Row],[Kommunenr]],\"0\"),Table11[Nr],0),MATCH(hf_kommune[[#Headers],[2030]],Table11[#Headers],0))","v":4},{"$f":"INDEX(Table11[],MATCH(TEXT(hf_kommune[[#This Row],[Kommunenr]],\"0\"),Table11[Nr],0),MATCH(hf_kommune[[#Headers],[2031]],Table11[#Headers],0))","v":8},{"$f":"INDEX(Table11[],MATCH(TEXT(hf_kommune[[#This Row],[Kommunenr]],\"0\"),Table11[Nr],0),MATCH(hf_kommune[[#Headers],[2032]],Table11[#Headers],0))","v":7},{"$f":"INDEX(Table11[],MATCH(TEXT(hf_kommune[[#This Row],[Kommunenr]],\"0\"),Table11[Nr],0),MATCH(hf_kommune[[#Headers],[2033]],Table11[#Headers],0))","v":6},{"$f":"INDEX(Table11[],MATCH(TEXT(hf_kommune[[#This Row],[Kommunenr]],\"0\"),Table11[Nr],0),MATCH(hf_kommune[[#Headers],[2034]],Table11[#Headers],0))","v":7},{"$f":"INDEX(Table11[],MATCH(TEXT(hf_kommune[[#This Row],[Kommunenr]],\"0\"),Table11[Nr],0),MATCH(hf_kommune[[#Headers],[2035]],Table11[#Headers],0))","v":8},{"$f":"INDEX(Table11[],MATCH(TEXT(hf_kommune[[#This Row],[Kommunenr]],\"0\"),Table11[Nr],0),MATCH(hf_kommune[[#Headers],[2036]],Table11[#Headers],0))","v":5},{"$f":"INDEX(Table11[],MATCH(TEXT(hf_kommune[[#This Row],[Kommunenr]],\"0\"),Table11[Nr],0),MATCH(hf_kommune[[#Headers],[2037]],Table11[#Headers],0))","v":3},{"$f":"INDEX(Table11[],MATCH(TEXT(hf_kommune[[#This Row],[Kommunenr]],\"0\"),Table11[Nr],0),MATCH(hf_kommune[[#Headers],[2038]],Table11[#Headers],0))","v":6},{"$f":"INDEX(Table11[],MATCH(TEXT(hf_kommune[[#This Row],[Kommunenr]],\"0\"),Table11[Nr],0),MATCH(hf_kommune[[#Headers],[2039]],Table11[#Headers],0))","v":7},{"$f":"INDEX(Table11[],MATCH(TEXT(hf_kommune[[#This Row],[Kommunenr]],\"0\"),Table11[Nr],0),MATCH(hf_kommune[[#Headers],[2040]],Table11[#Headers],0))","v":4},546,544,543,541,539,538,538,537,537,537,537,538,538,539,540,541,541,542,542]
[4615,"Fitjar","Helse Vest","Helse Fonna","Stord",{"$f":"INDEX(Table11[],MATCH(TEXT(hf_kommune[[#This Row],[Kommunenr]],\"0\"),Table11[Nr],0),MATCH(hf_kommune[[#Headers],[2020]],Table11[#Headers],0))","v":45},{"$f":"INDEX(Table11[],MATCH(TEXT(hf_kommune[[#This Row],[Kommunenr]],\"0\"),Table11[Nr],0),MATCH(hf_kommune[[#Headers],[2021]],Table11[#Headers],0))","v":32},{"$f":"INDEX(Table11[],MATCH(TEXT(hf_kommune[[#This Row],[Kommunenr]],\"0\"),Table11[Nr],0),MATCH(hf_kommune[[#Headers],[2022]],Table11[#Headers],0))","v":42},{"$f":"INDEX(Table11[],MATCH(TEXT(hf_kommune[[#This Row],[Kommunenr]],\"0\"),Table11[Nr],0),MATCH(hf_kommune[[#Headers],[2023]],Table11[#Headers],0))","v":30},{"$f":"INDEX(Table11[],MATCH(TEXT(hf_kommune[[#This Row],[Kommunenr]],\"0\"),Table11[Nr],0),MATCH(hf_kommune[[#Headers],[2024]],Table11[#Headers],0))","v":37},{"$f":"INDEX(Table11[],MATCH(TEXT(hf_kommune[[#This Row],[Kommunenr]],\"0\"),Table11[Nr],0),MATCH(hf_kommune[[#Headers],[2025]],Table11[#Headers],0))","v":40},{"$f":"INDEX(Table11[],MATCH(TEXT(hf_kommune[[#This Row],[Kommunenr]],\"0\"),Table11[Nr],0),MATCH(hf_kommune[[#Headers],[2026]],Table11[#Headers],0))","v":36},{"$f":"INDEX(Table11[],MATCH(TEXT(hf_kommune[[#This Row],[Kommunenr]],\"0\"),Table11[Nr],0),MATCH(hf_kommune[[#Headers],[2027]],Table11[#Headers],0))","v":36},{"$f":"INDEX(Table11[],MATCH(TEXT(hf_kommune[[#This Row],[Kommunenr]],\"0\"),Table11[Nr],0),MATCH(hf_kommune[[#Headers],[2028]],Table11[#Headers],0))","v":35},{"$f":"INDEX(Table11[],MATCH(TEXT(hf_kommune[[#This Row],[Kommunenr]],\"0\"),Table11[Nr],0),MATCH(hf_kommune[[#Headers],[2029]],Table11[#Headers],0))","v":43},{"$f":"INDEX(Table11[],MATCH(TEXT(hf_kommune[[#This Row],[Kommunenr]],\"0\"),Table11[Nr],0),MATCH(hf_kommune[[#Headers],[2030]],Table11[#Headers],0))","v":54},{"$f":"INDEX(Table11[],MATCH(TEXT(hf_kommune[[#This Row],[Kommunenr]],\"0\"),Table11[Nr],0),MATCH(hf_kommune[[#Headers],[2031]],Table11[#Headers],0))","v":54},{"$f":"INDEX(Table11[],MATCH(TEXT(hf_kommune[[#This Row],[Kommunenr]],\"0\"),Table11[Nr],0),MATCH(hf_kommune[[#Headers],[2032]],Table11[#Headers],0))","v":50},{"$f":"INDEX(Table11[],MATCH(TEXT(hf_kommune[[#This Row],[Kommunenr]],\"0\"),Table11[Nr],0),MATCH(hf_kommune[[#Headers],[2033]],Table11[#Headers],0))","v":40},{"$f":"INDEX(Table11[],MATCH(TEXT(hf_kommune[[#This Row],[Kommunenr]],\"0\"),Table11[Nr],0),MATCH(hf_kommune[[#Headers],[2034]],Table11[#Headers],0))","v":49},{"$f":"INDEX(Table11[],MATCH(TEXT(hf_kommune[[#This Row],[Kommunenr]],\"0\"),Table11[Nr],0),MATCH(hf_kommune[[#Headers],[2035]],Table11[#Headers],0))","v":48},{"$f":"INDEX(Table11[],MATCH(TEXT(hf_kommune[[#This Row],[Kommunenr]],\"0\"),Table11[Nr],0),MATCH(hf_kommune[[#Headers],[2036]],Table11[#Headers],0))","v":48},{"$f":"INDEX(Table11[],MATCH(TEXT(hf_kommune[[#This Row],[Kommunenr]],\"0\"),Table11[Nr],0),MATCH(hf_kommune[[#Headers],[2037]],Table11[#Headers],0))","v":45},{"$f":"INDEX(Table11[],MATCH(TEXT(hf_kommune[[#This Row],[Kommunenr]],\"0\"),Table11[Nr],0),MATCH(hf_kommune[[#Headers],[2038]],Table11[#Headers],0))","v":39},{"$f":"INDEX(Table11[],MATCH(TEXT(hf_kommune[[#This Row],[Kommunenr]],\"0\"),Table11[Nr],0),MATCH(hf_kommune[[#Headers],[2039]],Table11[#Headers],0))","v":44},{"$f":"INDEX(Table11[],MATCH(TEXT(hf_kommune[[#This Row],[Kommunenr]],\"0\"),Table11[Nr],0),MATCH(hf_kommune[[#Headers],[2040]],Table11[#Headers],0))","v":41},3169,3167,3169,3175,3186,3197,3208,3219,3229,3239,3249,3259,3268,3277,3284,3291,3297,3302,3306]
[4646,"Fjaler","Helse Vest","Helse Førde","Førde",{"$f":"INDEX(Table11[],MATCH(TEXT(hf_kommune[[#This Row],[Kommunenr]],\"0\"),Table11[Nr],0),MATCH(hf_kommune[[#Headers],[2020]],Table11[#Headers],0))","v":29},{"$f":"INDEX(Table11[],MATCH(TEXT(hf_kommune[[#This Row],[Kommunenr]],\"0\"),Table11[Nr],0),MATCH(hf_kommune[[#Headers],[2021]],Table11[#Headers],0))","v":26},{"$f":"INDEX(Table11[],MATCH(TEXT(hf_kommune[[#This Row],[Kommunenr]],\"0\"),Table11[Nr],0),MATCH(hf_kommune[[#Headers],[2022]],Table11[#Headers],0))","v":40},{"$f":"INDEX(Table11[],MATCH(TEXT(hf_kommune[[#This Row],[Kommunenr]],\"0\"),Table11[Nr],0),MATCH(hf_kommune[[#Headers],[2023]],Table11[#Headers],0))","v":35},{"$f":"INDEX(Table11[],MATCH(TEXT(hf_kommune[[#This Row],[Kommunenr]],\"0\"),Table11[Nr],0),MATCH(hf_kommune[[#Headers],[2024]],Table11[#Headers],0))","v":29},{"$f":"INDEX(Table11[],MATCH(TEXT(hf_kommune[[#This Row],[Kommunenr]],\"0\"),Table11[Nr],0),MATCH(hf_kommune[[#Headers],[2025]],Table11[#Headers],0))","v":30},{"$f":"INDEX(Table11[],MATCH(TEXT(hf_kommune[[#This Row],[Kommunenr]],\"0\"),Table11[Nr],0),MATCH(hf_kommune[[#Headers],[2026]],Table11[#Headers],0))","v":40},{"$f":"INDEX(Table11[],MATCH(TEXT(hf_kommune[[#This Row],[Kommunenr]],\"0\"),Table11[Nr],0),MATCH(hf_kommune[[#Headers],[2027]],Table11[#Headers],0))","v":28},{"$f":"INDEX(Table11[],MATCH(TEXT(hf_kommune[[#This Row],[Kommunenr]],\"0\"),Table11[Nr],0),MATCH(hf_kommune[[#Headers],[2028]],Table11[#Headers],0))","v":41},{"$f":"INDEX(Table11[],MATCH(TEXT(hf_kommune[[#This Row],[Kommunenr]],\"0\"),Table11[Nr],0),MATCH(hf_kommune[[#Headers],[2029]],Table11[#Headers],0))","v":29},{"$f":"INDEX(Table11[],MATCH(TEXT(hf_kommune[[#This Row],[Kommunenr]],\"0\"),Table11[Nr],0),MATCH(hf_kommune[[#Headers],[2030]],Table11[#Headers],0))","v":34},{"$f":"INDEX(Table11[],MATCH(TEXT(hf_kommune[[#This Row],[Kommunenr]],\"0\"),Table11[Nr],0),MATCH(hf_kommune[[#Headers],[2031]],Table11[#Headers],0))","v":27},{"$f":"INDEX(Table11[],MATCH(TEXT(hf_kommune[[#This Row],[Kommunenr]],\"0\"),Table11[Nr],0),MATCH(hf_kommune[[#Headers],[2032]],Table11[#Headers],0))","v":28},{"$f":"INDEX(Table11[],MATCH(TEXT(hf_kommune[[#This Row],[Kommunenr]],\"0\"),Table11[Nr],0),MATCH(hf_kommune[[#Headers],[2033]],Table11[#Headers],0))","v":27},{"$f":"INDEX(Table11[],MATCH(TEXT(hf_kommune[[#This Row],[Kommunenr]],\"0\"),Table11[Nr],0),MATCH(hf_kommune[[#Headers],[2034]],Table11[#Headers],0))","v":27},{"$f":"INDEX(Table11[],MATCH(TEXT(hf_kommune[[#This Row],[Kommunenr]],\"0\"),Table11[Nr],0),MATCH(hf_kommune[[#Headers],[2035]],Table11[#Headers],0))","v":27},{"$f":"INDEX(Table11[],MATCH(TEXT(hf_kommune[[#This Row],[Kommunenr]],\"0\"),Table11[Nr],0),MATCH(hf_kommune[[#Headers],[2036]],Table11[#Headers],0))","v":28},{"$f":"INDEX(Table11[],MATCH(TEXT(hf_kommune[[#This Row],[Kommunenr]],\"0\"),Table11[Nr],0),MATCH(hf_kommune[[#Headers],[2037]],Table11[#Headers],0))","v":27},{"$f":"INDEX(Table11[],MATCH(TEXT(hf_kommune[[#This Row],[Kommunenr]],\"0\"),Table11[Nr],0),MATCH(hf_kommune[[#Headers],[2038]],Table11[#Headers],0))","v":34},{"$f":"INDEX(Table11[],MATCH(TEXT(hf_kommune[[#This Row],[Kommunenr]],\"0\"),Table11[Nr],0),MATCH(hf_kommune[[#Headers],[2039]],Table11[#Headers],0))","v":28},{"$f":"INDEX(Table11[],MATCH(TEXT(hf_kommune[[#This Row],[Kommunenr]],\"0\"),Table11[Nr],0),MATCH(hf_kommune[[#Headers],[2040]],Table11[#Headers],0))","v":34},2840,2864,2881,2893,2901,2909,2917,2925,2933,2942,2950,2957,2965,2972,2979,2986,2993,2998,3004]
[1578,"Fjord","Helse Midt-Norge","Helse Møre og Romsdal","Ålesund",{"$f":"INDEX(Table11[],MATCH(TEXT(hf_kommune[[#This Row],[Kommunenr]],\"0\"),Table11[Nr],0),MATCH(hf_kommune[[#Headers],[2020]],Table11[#Headers],0))","v":31},{"$f":"INDEX(Table11[],MATCH(TEXT(hf_kommune[[#This Row],[Kommunenr]],\"0\"),Table11[Nr],0),MATCH(hf_kommune[[#Headers],[2021]],Table11[#Headers],0))","v":32},{"$f":"INDEX(Table11[],MATCH(TEXT(hf_kommune[[#This Row],[Kommunenr]],\"0\"),Table11[Nr],0),MATCH(hf_kommune[[#Headers],[2022]],Table11[#Headers],0))","v":45},{"$f":"INDEX(Table11[],MATCH(TEXT(hf_kommune[[#This Row],[Kommunenr]],\"0\"),Table11[Nr],0),MATCH(hf_kommune[[#Headers],[2023]],Table11[#Headers],0))","v":31},{"$f":"INDEX(Table11[],MATCH(TEXT(hf_kommune[[#This Row],[Kommunenr]],\"0\"),Table11[Nr],0),MATCH(hf_kommune[[#Headers],[2024]],Table11[#Headers],0))","v":45},{"$f":"INDEX(Table11[],MATCH(TEXT(hf_kommune[[#This Row],[Kommunenr]],\"0\"),Table11[Nr],0),MATCH(hf_kommune[[#Headers],[2025]],Table11[#Headers],0))","v":32},{"$f":"INDEX(Table11[],MATCH(TEXT(hf_kommune[[#This Row],[Kommunenr]],\"0\"),Table11[Nr],0),MATCH(hf_kommune[[#Headers],[2026]],Table11[#Headers],0))","v":27},{"$f":"INDEX(Table11[],MATCH(TEXT(hf_kommune[[#This Row],[Kommunenr]],\"0\"),Table11[Nr],0),MATCH(hf_kommune[[#Headers],[2027]],Table11[#Headers],0))","v":35},{"$f":"INDEX(Table11[],MATCH(TEXT(hf_kommune[[#This Row],[Kommunenr]],\"0\"),Table11[Nr],0),MATCH(hf_kommune[[#Headers],[2028]],Table11[#Headers],0))","v":40},{"$f":"INDEX(Table11[],MATCH(TEXT(hf_kommune[[#This Row],[Kommunenr]],\"0\"),Table11[Nr],0),MATCH(hf_kommune[[#Headers],[2029]],Table11[#Headers],0))","v":36},{"$f":"INDEX(Table11[],MATCH(TEXT(hf_kommune[[#This Row],[Kommunenr]],\"0\"),Table11[Nr],0),MATCH(hf_kommune[[#Headers],[2030]],Table11[#Headers],0))","v":28},{"$f":"INDEX(Table11[],MATCH(TEXT(hf_kommune[[#This Row],[Kommunenr]],\"0\"),Table11[Nr],0),MATCH(hf_kommune[[#Headers],[2031]],Table11[#Headers],0))","v":28},{"$f":"INDEX(Table11[],MATCH(TEXT(hf_kommune[[#This Row],[Kommunenr]],\"0\"),Table11[Nr],0),MATCH(hf_kommune[[#Headers],[2032]],Table11[#Headers],0))","v":34},{"$f":"INDEX(Table11[],MATCH(TEXT(hf_kommune[[#This Row],[Kommunenr]],\"0\"),Table11[Nr],0),MATCH(hf_kommune[[#Headers],[2033]],Table11[#Headers],0))","v":24},{"$f":"INDEX(Table11[],MATCH(TEXT(hf_kommune[[#This Row],[Kommunenr]],\"0\"),Table11[Nr],0),MATCH(hf_kommune[[#Headers],[2034]],Table11[#Headers],0))","v":30},{"$f":"INDEX(Table11[],MATCH(TEXT(hf_kommune[[#This Row],[Kommunenr]],\"0\"),Table11[Nr],0),MATCH(hf_kommune[[#Headers],[2035]],Table11[#Headers],0))","v":33},{"$f":"INDEX(Table11[],MATCH(TEXT(hf_kommune[[#This Row],[Kommunenr]],\"0\"),Table11[Nr],0),MATCH(hf_kommune[[#Headers],[2036]],Table11[#Headers],0))","v":37},{"$f":"INDEX(Table11[],MATCH(TEXT(hf_kommune[[#This Row],[Kommunenr]],\"0\"),Table11[Nr],0),MATCH(hf_kommune[[#Headers],[2037]],Table11[#Headers],0))","v":27},{"$f":"INDEX(Table11[],MATCH(TEXT(hf_kommune[[#This Row],[Kommunenr]],\"0\"),Table11[Nr],0),MATCH(hf_kommune[[#Headers],[2038]],Table11[#Headers],0))","v":30},{"$f":"INDEX(Table11[],MATCH(TEXT(hf_kommune[[#This Row],[Kommunenr]],\"0\"),Table11[Nr],0),MATCH(hf_kommune[[#Headers],[2039]],Table11[#Headers],0))","v":28},{"$f":"INDEX(Table11[],MATCH(TEXT(hf_kommune[[#This Row],[Kommunenr]],\"0\"),Table11[Nr],0),MATCH(hf_kommune[[#Headers],[2040]],Table11[#Headers],0))","v":30},2543,2537,2529,2522,2513,2506,2500,2495,2491,2488,2486,2485,2484,2483,2483,2483,2482,2482,2480]
[1859,"Flakstad","Helse Nord","Nordlandssykehuset","Lofoten",{"$f":"INDEX(Table11[],MATCH(TEXT(hf_kommune[[#This Row],[Kommunenr]],\"0\"),Table11[Nr],0),MATCH(hf_kommune[[#Headers],[2020]],Table11[#Headers],0))","v":16},{"$f":"INDEX(Table11[],MATCH(TEXT(hf_kommune[[#This Row],[Kommunenr]],\"0\"),Table11[Nr],0),MATCH(hf_kommune[[#Headers],[2021]],Table11[#Headers],0))","v":19},{"$f":"INDEX(Table11[],MATCH(TEXT(hf_kommune[[#This Row],[Kommunenr]],\"0\"),Table11[Nr],0),MATCH(hf_kommune[[#Headers],[2022]],Table11[#Headers],0))","v":23},{"$f":"INDEX(Table11[],MATCH(TEXT(hf_kommune[[#This Row],[Kommunenr]],\"0\"),Table11[Nr],0),MATCH(hf_kommune[[#Headers],[2023]],Table11[#Headers],0))","v":26},{"$f":"INDEX(Table11[],MATCH(TEXT(hf_kommune[[#This Row],[Kommunenr]],\"0\"),Table11[Nr],0),MATCH(hf_kommune[[#Headers],[2024]],Table11[#Headers],0))","v":13},{"$f":"INDEX(Table11[],MATCH(TEXT(hf_kommune[[#This Row],[Kommunenr]],\"0\"),Table11[Nr],0),MATCH(hf_kommune[[#Headers],[2025]],Table11[#Headers],0))","v":19},{"$f":"INDEX(Table11[],MATCH(TEXT(hf_kommune[[#This Row],[Kommunenr]],\"0\"),Table11[Nr],0),MATCH(hf_kommune[[#Headers],[2026]],Table11[#Headers],0))","v":23},{"$f":"INDEX(Table11[],MATCH(TEXT(hf_kommune[[#This Row],[Kommunenr]],\"0\"),Table11[Nr],0),MATCH(hf_kommune[[#Headers],[2027]],Table11[#Headers],0))","v":15},{"$f":"INDEX(Table11[],MATCH(TEXT(hf_kommune[[#This Row],[Kommunenr]],\"0\"),Table11[Nr],0),MATCH(hf_kommune[[#Headers],[2028]],Table11[#Headers],0))","v":11},{"$f":"INDEX(Table11[],MATCH(TEXT(hf_kommune[[#This Row],[Kommunenr]],\"0\"),Table11[Nr],0),MATCH(hf_kommune[[#Headers],[2029]],Table11[#Headers],0))","v":15},{"$f":"INDEX(Table11[],MATCH(TEXT(hf_kommune[[#This Row],[Kommunenr]],\"0\"),Table11[Nr],0),MATCH(hf_kommune[[#Headers],[2030]],Table11[#Headers],0))","v":19},{"$f":"INDEX(Table11[],MATCH(TEXT(hf_kommune[[#This Row],[Kommunenr]],\"0\"),Table11[Nr],0),MATCH(hf_kommune[[#Headers],[2031]],Table11[#Headers],0))","v":15},{"$f":"INDEX(Table11[],MATCH(TEXT(hf_kommune[[#This Row],[Kommunenr]],\"0\"),Table11[Nr],0),MATCH(hf_kommune[[#Headers],[2032]],Table11[#Headers],0))","v":12},{"$f":"INDEX(Table11[],MATCH(TEXT(hf_kommune[[#This Row],[Kommunenr]],\"0\"),Table11[Nr],0),MATCH(hf_kommune[[#Headers],[2033]],Table11[#Headers],0))","v":14},{"$f":"INDEX(Table11[],MATCH(TEXT(hf_kommune[[#This Row],[Kommunenr]],\"0\"),Table11[Nr],0),MATCH(hf_kommune[[#Headers],[2034]],Table11[#Headers],0))","v":19},{"$f":"INDEX(Table11[],MATCH(TEXT(hf_kommune[[#This Row],[Kommunenr]],\"0\"),Table11[Nr],0),MATCH(hf_kommune[[#Headers],[2035]],Table11[#Headers],0))","v":14},{"$f":"INDEX(Table11[],MATCH(TEXT(hf_kommune[[#This Row],[Kommunenr]],\"0\"),Table11[Nr],0),MATCH(hf_kommune[[#Headers],[2036]],Table11[#Headers],0))","v":12},{"$f":"INDEX(Table11[],MATCH(TEXT(hf_kommune[[#This Row],[Kommunenr]],\"0\"),Table11[Nr],0),MATCH(hf_kommune[[#Headers],[2037]],Table11[#Headers],0))","v":16},{"$f":"INDEX(Table11[],MATCH(TEXT(hf_kommune[[#This Row],[Kommunenr]],\"0\"),Table11[Nr],0),MATCH(hf_kommune[[#Headers],[2038]],Table11[#Headers],0))","v":13},{"$f":"INDEX(Table11[],MATCH(TEXT(hf_kommune[[#This Row],[Kommunenr]],\"0\"),Table11[Nr],0),MATCH(hf_kommune[[#Headers],[2039]],Table11[#Headers],0))","v":16},{"$f":"INDEX(Table11[],MATCH(TEXT(hf_kommune[[#This Row],[Kommunenr]],\"0\"),Table11[Nr],0),MATCH(hf_kommune[[#Headers],[2040]],Table11[#Headers],0))","v":14},1270,1270,1270,1270,1270,1271,1272,1273,1275,1276,1278,1279,1281,1283,1284,1285,1287,1287,1288]
[5049,"Flatanger","Helse Midt-Norge","Helse Nord-Trøndelag","Namsos",{"$f":"INDEX(Table11[],MATCH(TEXT(hf_kommune[[#This Row],[Kommunenr]],\"0\"),Table11[Nr],0),MATCH(hf_kommune[[#Headers],[2020]],Table11[#Headers],0))","v":15},{"$f":"INDEX(Table11[],MATCH(TEXT(hf_kommune[[#This Row],[Kommunenr]],\"0\"),Table11[Nr],0),MATCH(hf_kommune[[#Headers],[2021]],Table11[#Headers],0))","v":21},{"$f":"INDEX(Table11[],MATCH(TEXT(hf_kommune[[#This Row],[Kommunenr]],\"0\"),Table11[Nr],0),MATCH(hf_kommune[[#Headers],[2022]],Table11[#Headers],0))","v":14},{"$f":"INDEX(Table11[],MATCH(TEXT(hf_kommune[[#This Row],[Kommunenr]],\"0\"),Table11[Nr],0),MATCH(hf_kommune[[#Headers],[2023]],Table11[#Headers],0))","v":17},{"$f":"INDEX(Table11[],MATCH(TEXT(hf_kommune[[#This Row],[Kommunenr]],\"0\"),Table11[Nr],0),MATCH(hf_kommune[[#Headers],[2024]],Table11[#Headers],0))","v":14},{"$f":"INDEX(Table11[],MATCH(TEXT(hf_kommune[[#This Row],[Kommunenr]],\"0\"),Table11[Nr],0),MATCH(hf_kommune[[#Headers],[2025]],Table11[#Headers],0))","v":19},{"$f":"INDEX(Table11[],MATCH(TEXT(hf_kommune[[#This Row],[Kommunenr]],\"0\"),Table11[Nr],0),MATCH(hf_kommune[[#Headers],[2026]],Table11[#Headers],0))","v":12},{"$f":"INDEX(Table11[],MATCH(TEXT(hf_kommune[[#This Row],[Kommunenr]],\"0\"),Table11[Nr],0),MATCH(hf_kommune[[#Headers],[2027]],Table11[#Headers],0))","v":13},{"$f":"INDEX(Table11[],MATCH(TEXT(hf_kommune[[#This Row],[Kommunenr]],\"0\"),Table11[Nr],0),MATCH(hf_kommune[[#Headers],[2028]],Table11[#Headers],0))","v":16},{"$f":"INDEX(Table11[],MATCH(TEXT(hf_kommune[[#This Row],[Kommunenr]],\"0\"),Table11[Nr],0),MATCH(hf_kommune[[#Headers],[2029]],Table11[#Headers],0))","v":17},{"$f":"INDEX(Table11[],MATCH(TEXT(hf_kommune[[#This Row],[Kommunenr]],\"0\"),Table11[Nr],0),MATCH(hf_kommune[[#Headers],[2030]],Table11[#Headers],0))","v":10},{"$f":"INDEX(Table11[],MATCH(TEXT(hf_kommune[[#This Row],[Kommunenr]],\"0\"),Table11[Nr],0),MATCH(hf_kommune[[#Headers],[2031]],Table11[#Headers],0))","v":12},{"$f":"INDEX(Table11[],MATCH(TEXT(hf_kommune[[#This Row],[Kommunenr]],\"0\"),Table11[Nr],0),MATCH(hf_kommune[[#Headers],[2032]],Table11[#Headers],0))","v":13},{"$f":"INDEX(Table11[],MATCH(TEXT(hf_kommune[[#This Row],[Kommunenr]],\"0\"),Table11[Nr],0),MATCH(hf_kommune[[#Headers],[2033]],Table11[#Headers],0))","v":10},{"$f":"INDEX(Table11[],MATCH(TEXT(hf_kommune[[#This Row],[Kommunenr]],\"0\"),Table11[Nr],0),MATCH(hf_kommune[[#Headers],[2034]],Table11[#Headers],0))","v":12},{"$f":"INDEX(Table11[],MATCH(TEXT(hf_kommune[[#This Row],[Kommunenr]],\"0\"),Table11[Nr],0),MATCH(hf_kommune[[#Headers],[2035]],Table11[#Headers],0))","v":13},{"$f":"INDEX(Table11[],MATCH(TEXT(hf_kommune[[#This Row],[Kommunenr]],\"0\"),Table11[Nr],0),MATCH(hf_kommune[[#Headers],[2036]],Table11[#Headers],0))","v":10},{"$f":"INDEX(Table11[],MATCH(TEXT(hf_kommune[[#This Row],[Kommunenr]],\"0\"),Table11[Nr],0),MATCH(hf_kommune[[#Headers],[2037]],Table11[#Headers],0))","v":11},{"$f":"INDEX(Table11[],MATCH(TEXT(hf_kommune[[#This Row],[Kommunenr]],\"0\"),Table11[Nr],0),MATCH(hf_kommune[[#Headers],[2038]],Table11[#Headers],0))","v":15},{"$f":"INDEX(Table11[],MATCH(TEXT(hf_kommune[[#This Row],[Kommunenr]],\"0\"),Table11[Nr],0),MATCH(hf_kommune[[#Headers],[2039]],Table11[#Headers],0))","v":15},{"$f":"INDEX(Table11[],MATCH(TEXT(hf_kommune[[#This Row],[Kommunenr]],\"0\"),Table11[Nr],0),MATCH(hf_kommune[[#Headers],[2040]],Table11[#Headers],0))","v":9},1124,1134,1141,1146,1150,1154,1158,1162,1166,1171,1174,1177,1180,1182,1184,1185,1186,1187,1187]
[4207,"Flekkefjord","Helse Sør-Øst","Sørlandet sykehus","Flekkefjord",{"$f":"INDEX(Table11[],MATCH(TEXT(hf_kommune[[#This Row],[Kommunenr]],\"0\"),Table11[Nr],0),MATCH(hf_kommune[[#Headers],[2020]],Table11[#Headers],0))","v":137},{"$f":"INDEX(Table11[],MATCH(TEXT(hf_kommune[[#This Row],[Kommunenr]],\"0\"),Table11[Nr],0),MATCH(hf_kommune[[#Headers],[2021]],Table11[#Headers],0))","v":110},{"$f":"INDEX(Table11[],MATCH(TEXT(hf_kommune[[#This Row],[Kommunenr]],\"0\"),Table11[Nr],0),MATCH(hf_kommune[[#Headers],[2022]],Table11[#Headers],0))","v":116},{"$f":"INDEX(Table11[],MATCH(TEXT(hf_kommune[[#This Row],[Kommunenr]],\"0\"),Table11[Nr],0),MATCH(hf_kommune[[#Headers],[2023]],Table11[#Headers],0))","v":128},{"$f":"INDEX(Table11[],MATCH(TEXT(hf_kommune[[#This Row],[Kommunenr]],\"0\"),Table11[Nr],0),MATCH(hf_kommune[[#Headers],[2024]],Table11[#Headers],0))","v":132},{"$f":"INDEX(Table11[],MATCH(TEXT(hf_kommune[[#This Row],[Kommunenr]],\"0\"),Table11[Nr],0),MATCH(hf_kommune[[#Headers],[2025]],Table11[#Headers],0))","v":146},{"$f":"INDEX(Table11[],MATCH(TEXT(hf_kommune[[#This Row],[Kommunenr]],\"0\"),Table11[Nr],0),MATCH(hf_kommune[[#Headers],[2026]],Table11[#Headers],0))","v":111},{"$f":"INDEX(Table11[],MATCH(TEXT(hf_kommune[[#This Row],[Kommunenr]],\"0\"),Table11[Nr],0),MATCH(hf_kommune[[#Headers],[2027]],Table11[#Headers],0))","v":123},{"$f":"INDEX(Table11[],MATCH(TEXT(hf_kommune[[#This Row],[Kommunenr]],\"0\"),Table11[Nr],0),MATCH(hf_kommune[[#Headers],[2028]],Table11[#Headers],0))","v":119},{"$f":"INDEX(Table11[],MATCH(TEXT(hf_kommune[[#This Row],[Kommunenr]],\"0\"),Table11[Nr],0),MATCH(hf_kommune[[#Headers],[2029]],Table11[#Headers],0))","v":128},{"$f":"INDEX(Table11[],MATCH(TEXT(hf_kommune[[#This Row],[Kommunenr]],\"0\"),Table11[Nr],0),MATCH(hf_kommune[[#Headers],[2030]],Table11[#Headers],0))","v":98},{"$f":"INDEX(Table11[],MATCH(TEXT(hf_kommune[[#This Row],[Kommunenr]],\"0\"),Table11[Nr],0),MATCH(hf_kommune[[#Headers],[2031]],Table11[#Headers],0))","v":110},{"$f":"INDEX(Table11[],MATCH(TEXT(hf_kommune[[#This Row],[Kommunenr]],\"0\"),Table11[Nr],0),MATCH(hf_kommune[[#Headers],[2032]],Table11[#Headers],0))","v":100},{"$f":"INDEX(Table11[],MATCH(TEXT(hf_kommune[[#This Row],[Kommunenr]],\"0\"),Table11[Nr],0),MATCH(hf_kommune[[#Headers],[2033]],Table11[#Headers],0))","v":101},{"$f":"INDEX(Table11[],MATCH(TEXT(hf_kommune[[#This Row],[Kommunenr]],\"0\"),Table11[Nr],0),MATCH(hf_kommune[[#Headers],[2034]],Table11[#Headers],0))","v":102},{"$f":"INDEX(Table11[],MATCH(TEXT(hf_kommune[[#This Row],[Kommunenr]],\"0\"),Table11[Nr],0),MATCH(hf_kommune[[#Headers],[2035]],Table11[#Headers],0))","v":107},{"$f":"INDEX(Table11[],MATCH(TEXT(hf_kommune[[#This Row],[Kommunenr]],\"0\"),Table11[Nr],0),MATCH(hf_kommune[[#Headers],[2036]],Table11[#Headers],0))","v":109},{"$f":"INDEX(Table11[],MATCH(TEXT(hf_kommune[[#This Row],[Kommunenr]],\"0\"),Table11[Nr],0),MATCH(hf_kommune[[#Headers],[2037]],Table11[#Headers],0))","v":105},{"$f":"INDEX(Table11[],MATCH(TEXT(hf_kommune[[#This Row],[Kommunenr]],\"0\"),Table11[Nr],0),MATCH(hf_kommune[[#Headers],[2038]],Table11[#Headers],0))","v":95},{"$f":"INDEX(Table11[],MATCH(TEXT(hf_kommune[[#This Row],[Kommunenr]],\"0\"),Table11[Nr],0),MATCH(hf_kommune[[#Headers],[2039]],Table11[#Headers],0))","v":100},{"$f":"INDEX(Table11[],MATCH(TEXT(hf_kommune[[#This Row],[Kommunenr]],\"0\"),Table11[Nr],0),MATCH(hf_kommune[[#Headers],[2040]],Table11[#Headers],0))","v":102},8902,8856,8818,8787,8765,8744,8724,8705,8686,8668,8651,8634,8618,8604,8591,8578,8565,8553,8541]
[3050,"Flesberg","Helse Sør-Øst","Vestre Viken","Kongsberg",{"$f":"INDEX(Table11[],MATCH(TEXT(hf_kommune[[#This Row],[Kommunenr]],\"0\"),Table11[Nr],0),MATCH(hf_kommune[[#Headers],[2020]],Table11[#Headers],0))","v":33},{"$f":"INDEX(Table11[],MATCH(TEXT(hf_kommune[[#This Row],[Kommunenr]],\"0\"),Table11[Nr],0),MATCH(hf_kommune[[#Headers],[2021]],Table11[#Headers],0))","v":45},{"$f":"INDEX(Table11[],MATCH(TEXT(hf_kommune[[#This Row],[Kommunenr]],\"0\"),Table11[Nr],0),MATCH(hf_kommune[[#Headers],[2022]],Table11[#Headers],0))","v":34},{"$f":"INDEX(Table11[],MATCH(TEXT(hf_kommune[[#This Row],[Kommunenr]],\"0\"),Table11[Nr],0),MATCH(hf_kommune[[#Headers],[2023]],Table11[#Headers],0))","v":27},{"$f":"INDEX(Table11[],MATCH(TEXT(hf_kommune[[#This Row],[Kommunenr]],\"0\"),Table11[Nr],0),MATCH(hf_kommune[[#Headers],[2024]],Table11[#Headers],0))","v":39},{"$f":"INDEX(Table11[],MATCH(TEXT(hf_kommune[[#This Row],[Kommunenr]],\"0\"),Table11[Nr],0),MATCH(hf_kommune[[#Headers],[2025]],Table11[#Headers],0))","v":46},{"$f":"INDEX(Table11[],MATCH(TEXT(hf_kommune[[#This Row],[Kommunenr]],\"0\"),Table11[Nr],0),MATCH(hf_kommune[[#Headers],[2026]],Table11[#Headers],0))","v":33},{"$f":"INDEX(Table11[],MATCH(TEXT(hf_kommune[[#This Row],[Kommunenr]],\"0\"),Table11[Nr],0),MATCH(hf_kommune[[#Headers],[2027]],Table11[#Headers],0))","v":48},{"$f":"INDEX(Table11[],MATCH(TEXT(hf_kommune[[#This Row],[Kommunenr]],\"0\"),Table11[Nr],0),MATCH(hf_kommune[[#Headers],[2028]],Table11[#Headers],0))","v":43},{"$f":"INDEX(Table11[],MATCH(TEXT(hf_kommune[[#This Row],[Kommunenr]],\"0\"),Table11[Nr],0),MATCH(hf_kommune[[#Headers],[2029]],Table11[#Headers],0))","v":42},{"$f":"INDEX(Table11[],MATCH(TEXT(hf_kommune[[#This Row],[Kommunenr]],\"0\"),Table11[Nr],0),MATCH(hf_kommune[[#Headers],[2030]],Table11[#Headers],0))","v":41},{"$f":"INDEX(Table11[],MATCH(TEXT(hf_kommune[[#This Row],[Kommunenr]],\"0\"),Table11[Nr],0),MATCH(hf_kommune[[#Headers],[2031]],Table11[#Headers],0))","v":36},{"$f":"INDEX(Table11[],MATCH(TEXT(hf_kommune[[#This Row],[Kommunenr]],\"0\"),Table11[Nr],0),MATCH(hf_kommune[[#Headers],[2032]],Table11[#Headers],0))","v":27},{"$f":"INDEX(Table11[],MATCH(TEXT(hf_kommune[[#This Row],[Kommunenr]],\"0\"),Table11[Nr],0),MATCH(hf_kommune[[#Headers],[2033]],Table11[#Headers],0))","v":28},{"$f":"INDEX(Table11[],MATCH(TEXT(hf_kommune[[#This Row],[Kommunenr]],\"0\"),Table11[Nr],0),MATCH(hf_kommune[[#Headers],[2034]],Table11[#Headers],0))","v":25},{"$f":"INDEX(Table11[],MATCH(TEXT(hf_kommune[[#This Row],[Kommunenr]],\"0\"),Table11[Nr],0),MATCH(hf_kommune[[#Headers],[2035]],Table11[#Headers],0))","v":32},{"$f":"INDEX(Table11[],MATCH(TEXT(hf_kommune[[#This Row],[Kommunenr]],\"0\"),Table11[Nr],0),MATCH(hf_kommune[[#Headers],[2036]],Table11[#Headers],0))","v":34},{"$f":"INDEX(Table11[],MATCH(TEXT(hf_kommune[[#This Row],[Kommunenr]],\"0\"),Table11[Nr],0),MATCH(hf_kommune[[#Headers],[2037]],Table11[#Headers],0))","v":39},{"$f":"INDEX(Table11[],MATCH(TEXT(hf_kommune[[#This Row],[Kommunenr]],\"0\"),Table11[Nr],0),MATCH(hf_kommune[[#Headers],[2038]],Table11[#Headers],0))","v":38},{"$f":"INDEX(Table11[],MATCH(TEXT(hf_kommune[[#This Row],[Kommunenr]],\"0\"),Table11[Nr],0),MATCH(hf_kommune[[#Headers],[2039]],Table11[#Headers],0))","v":33},{"$f":"INDEX(Table11[],MATCH(TEXT(hf_kommune[[#This Row],[Kommunenr]],\"0\"),Table11[Nr],0),MATCH(hf_kommune[[#Headers],[2040]],Table11[#Headers],0))","v":39},2717,2737,2758,2781,2805,2828,2852,2874,2897,2918,2940,2961,2981,3000,3020,3038,3055,3072,3089]
[3039,"Flå","Helse Sør-Øst","Vestre Viken","Ringerike",{"$f":"INDEX(Table11[],MATCH(TEXT(hf_kommune[[#This Row],[Kommunenr]],\"0\"),Table11[Nr],0),MATCH(hf_kommune[[#Headers],[2020]],Table11[#Headers],0))","v":19},{"$f":"INDEX(Table11[],MATCH(TEXT(hf_kommune[[#This Row],[Kommunenr]],\"0\"),Table11[Nr],0),MATCH(hf_kommune[[#Headers],[2021]],Table11[#Headers],0))","v":18},{"$f":"INDEX(Table11[],MATCH(TEXT(hf_kommune[[#This Row],[Kommunenr]],\"0\"),Table11[Nr],0),MATCH(hf_kommune[[#Headers],[2022]],Table11[#Headers],0))","v":13},{"$f":"INDEX(Table11[],MATCH(TEXT(hf_kommune[[#This Row],[Kommunenr]],\"0\"),Table11[Nr],0),MATCH(hf_kommune[[#Headers],[2023]],Table11[#Headers],0))","v":19},{"$f":"INDEX(Table11[],MATCH(TEXT(hf_kommune[[#This Row],[Kommunenr]],\"0\"),Table11[Nr],0),MATCH(hf_kommune[[#Headers],[2024]],Table11[#Headers],0))","v":17},{"$f":"INDEX(Table11[],MATCH(TEXT(hf_kommune[[#This Row],[Kommunenr]],\"0\"),Table11[Nr],0),MATCH(hf_kommune[[#Headers],[2025]],Table11[#Headers],0))","v":13},{"$f":"INDEX(Table11[],MATCH(TEXT(hf_kommune[[#This Row],[Kommunenr]],\"0\"),Table11[Nr],0),MATCH(hf_kommune[[#Headers],[2026]],Table11[#Headers],0))","v":18},{"$f":"INDEX(Table11[],MATCH(TEXT(hf_kommune[[#This Row],[Kommunenr]],\"0\"),Table11[Nr],0),MATCH(hf_kommune[[#Headers],[2027]],Table11[#Headers],0))","v":15},{"$f":"INDEX(Table11[],MATCH(TEXT(hf_kommune[[#This Row],[Kommunenr]],\"0\"),Table11[Nr],0),MATCH(hf_kommune[[#Headers],[2028]],Table11[#Headers],0))","v":18},{"$f":"INDEX(Table11[],MATCH(TEXT(hf_kommune[[#This Row],[Kommunenr]],\"0\"),Table11[Nr],0),MATCH(hf_kommune[[#Headers],[2029]],Table11[#Headers],0))","v":13},{"$f":"INDEX(Table11[],MATCH(TEXT(hf_kommune[[#This Row],[Kommunenr]],\"0\"),Table11[Nr],0),MATCH(hf_kommune[[#Headers],[2030]],Table11[#Headers],0))","v":18},{"$f":"INDEX(Table11[],MATCH(TEXT(hf_kommune[[#This Row],[Kommunenr]],\"0\"),Table11[Nr],0),MATCH(hf_kommune[[#Headers],[2031]],Table11[#Headers],0))","v":16},{"$f":"INDEX(Table11[],MATCH(TEXT(hf_kommune[[#This Row],[Kommunenr]],\"0\"),Table11[Nr],0),MATCH(hf_kommune[[#Headers],[2032]],Table11[#Headers],0))","v":12},{"$f":"INDEX(Table11[],MATCH(TEXT(hf_kommune[[#This Row],[Kommunenr]],\"0\"),Table11[Nr],0),MATCH(hf_kommune[[#Headers],[2033]],Table11[#Headers],0))","v":15},{"$f":"INDEX(Table11[],MATCH(TEXT(hf_kommune[[#This Row],[Kommunenr]],\"0\"),Table11[Nr],0),MATCH(hf_kommune[[#Headers],[2034]],Table11[#Headers],0))","v":12},{"$f":"INDEX(Table11[],MATCH(TEXT(hf_kommune[[#This Row],[Kommunenr]],\"0\"),Table11[Nr],0),MATCH(hf_kommune[[#Headers],[2035]],Table11[#Headers],0))","v":11},{"$f":"INDEX(Table11[],MATCH(TEXT(hf_kommune[[#This Row],[Kommunenr]],\"0\"),Table11[Nr],0),MATCH(hf_kommune[[#Headers],[2036]],Table11[#Headers],0))","v":13},{"$f":"INDEX(Table11[],MATCH(TEXT(hf_kommune[[#This Row],[Kommunenr]],\"0\"),Table11[Nr],0),MATCH(hf_kommune[[#Headers],[2037]],Table11[#Headers],0))","v":16},{"$f":"INDEX(Table11[],MATCH(TEXT(hf_kommune[[#This Row],[Kommunenr]],\"0\"),Table11[Nr],0),MATCH(hf_kommune[[#Headers],[2038]],Table11[#Headers],0))","v":13},{"$f":"INDEX(Table11[],MATCH(TEXT(hf_kommune[[#This Row],[Kommunenr]],\"0\"),Table11[Nr],0),MATCH(hf_kommune[[#Headers],[2039]],Table11[#Headers],0))","v":16},{"$f":"INDEX(Table11[],MATCH(TEXT(hf_kommune[[#This Row],[Kommunenr]],\"0\"),Table11[Nr],0),MATCH(hf_kommune[[#Headers],[2040]],Table11[#Headers],0))","v":16},1050,1052,1056,1062,1069,1075,1082,1090,1097,1104,1111,1119,1126,1134,1141,1149,1156,1163,1170]
[3429,"Folldal","Helse Sør-Øst","Sykehuset Innlandet","Tynset",{"$f":"INDEX(Table11[],MATCH(TEXT(hf_kommune[[#This Row],[Kommunenr]],\"0\"),Table11[Nr],0),MATCH(hf_kommune[[#Headers],[2020]],Table11[#Headers],0))","v":25},{"$f":"INDEX(Table11[],MATCH(TEXT(hf_kommune[[#This Row],[Kommunenr]],\"0\"),Table11[Nr],0),MATCH(hf_kommune[[#Headers],[2021]],Table11[#Headers],0))","v":27},{"$f":"INDEX(Table11[],MATCH(TEXT(hf_kommune[[#This Row],[Kommunenr]],\"0\"),Table11[Nr],0),MATCH(hf_kommune[[#Headers],[2022]],Table11[#Headers],0))","v":17},{"$f":"INDEX(Table11[],MATCH(TEXT(hf_kommune[[#This Row],[Kommunenr]],\"0\"),Table11[Nr],0),MATCH(hf_kommune[[#Headers],[2023]],Table11[#Headers],0))","v":18},{"$f":"INDEX(Table11[],MATCH(TEXT(hf_kommune[[#This Row],[Kommunenr]],\"0\"),Table11[Nr],0),MATCH(hf_kommune[[#Headers],[2024]],Table11[#Headers],0))","v":29},{"$f":"INDEX(Table11[],MATCH(TEXT(hf_kommune[[#This Row],[Kommunenr]],\"0\"),Table11[Nr],0),MATCH(hf_kommune[[#Headers],[2025]],Table11[#Headers],0))","v":23},{"$f":"INDEX(Table11[],MATCH(TEXT(hf_kommune[[#This Row],[Kommunenr]],\"0\"),Table11[Nr],0),MATCH(hf_kommune[[#Headers],[2026]],Table11[#Headers],0))","v":19},{"$f":"INDEX(Table11[],MATCH(TEXT(hf_kommune[[#This Row],[Kommunenr]],\"0\"),Table11[Nr],0),MATCH(hf_kommune[[#Headers],[2027]],Table11[#Headers],0))","v":27},{"$f":"INDEX(Table11[],MATCH(TEXT(hf_kommune[[#This Row],[Kommunenr]],\"0\"),Table11[Nr],0),MATCH(hf_kommune[[#Headers],[2028]],Table11[#Headers],0))","v":20},{"$f":"INDEX(Table11[],MATCH(TEXT(hf_kommune[[#This Row],[Kommunenr]],\"0\"),Table11[Nr],0),MATCH(hf_kommune[[#Headers],[2029]],Table11[#Headers],0))","v":18},{"$f":"INDEX(Table11[],MATCH(TEXT(hf_kommune[[#This Row],[Kommunenr]],\"0\"),Table11[Nr],0),MATCH(hf_kommune[[#Headers],[2030]],Table11[#Headers],0))","v":25},{"$f":"INDEX(Table11[],MATCH(TEXT(hf_kommune[[#This Row],[Kommunenr]],\"0\"),Table11[Nr],0),MATCH(hf_kommune[[#Headers],[2031]],Table11[#Headers],0))","v":18},{"$f":"INDEX(Table11[],MATCH(TEXT(hf_kommune[[#This Row],[Kommunenr]],\"0\"),Table11[Nr],0),MATCH(hf_kommune[[#Headers],[2032]],Table11[#Headers],0))","v":18},{"$f":"INDEX(Table11[],MATCH(TEXT(hf_kommune[[#This Row],[Kommunenr]],\"0\"),Table11[Nr],0),MATCH(hf_kommune[[#Headers],[2033]],Table11[#Headers],0))","v":22},{"$f":"INDEX(Table11[],MATCH(TEXT(hf_kommune[[#This Row],[Kommunenr]],\"0\"),Table11[Nr],0),MATCH(hf_kommune[[#Headers],[2034]],Table11[#Headers],0))","v":21},{"$f":"INDEX(Table11[],MATCH(TEXT(hf_kommune[[#This Row],[Kommunenr]],\"0\"),Table11[Nr],0),MATCH(hf_kommune[[#Headers],[2035]],Table11[#Headers],0))","v":22},{"$f":"INDEX(Table11[],MATCH(TEXT(hf_kommune[[#This Row],[Kommunenr]],\"0\"),Table11[Nr],0),MATCH(hf_kommune[[#Headers],[2036]],Table11[#Headers],0))","v":22},{"$f":"INDEX(Table11[],MATCH(TEXT(hf_kommune[[#This Row],[Kommunenr]],\"0\"),Table11[Nr],0),MATCH(hf_kommune[[#Headers],[2037]],Table11[#Headers],0))","v":15},{"$f":"INDEX(Table11[],MATCH(TEXT(hf_kommune[[#This Row],[Kommunenr]],\"0\"),Table11[Nr],0),MATCH(hf_kommune[[#Headers],[2038]],Table11[#Headers],0))","v":18},{"$f":"INDEX(Table11[],MATCH(TEXT(hf_kommune[[#This Row],[Kommunenr]],\"0\"),Table11[Nr],0),MATCH(hf_kommune[[#Headers],[2039]],Table11[#Headers],0))","v":16},{"$f":"INDEX(Table11[],MATCH(TEXT(hf_kommune[[#This Row],[Kommunenr]],\"0\"),Table11[Nr],0),MATCH(hf_kommune[[#Headers],[2040]],Table11[#Headers],0))","v":20},1524,1515,1508,1501,1496,1491,1486,1482,1477,1473,1469,1465,1461,1458,1455,1452,1449,1446,1443]
[3004,"Fredrikstad","Helse Sør-Øst","Sykehuset Østfold","Kalnes",{"$f":"INDEX(Table11[],MATCH(TEXT(hf_kommune[[#This Row],[Kommunenr]],\"0\"),Table11[Nr],0),MATCH(hf_kommune[[#Headers],[2020]],Table11[#Headers],0))","v":1188},{"$f":"INDEX(Table11[],MATCH(TEXT(hf_kommune[[#This Row],[Kommunenr]],\"0\"),Table11[Nr],0),MATCH(hf_kommune[[#Headers],[2021]],Table11[#Headers],0))","v":1225},{"$f":"INDEX(Table11[],MATCH(TEXT(hf_kommune[[#This Row],[Kommunenr]],\"0\"),Table11[Nr],0),MATCH(hf_kommune[[#Headers],[2022]],Table11[#Headers],0))","v":1197},{"$f":"INDEX(Table11[],MATCH(TEXT(hf_kommune[[#This Row],[Kommunenr]],\"0\"),Table11[Nr],0),MATCH(hf_kommune[[#Headers],[2023]],Table11[#Headers],0))","v":1261},{"$f":"INDEX(Table11[],MATCH(TEXT(hf_kommune[[#This Row],[Kommunenr]],\"0\"),Table11[Nr],0),MATCH(hf_kommune[[#Headers],[2024]],Table11[#Headers],0))","v":1358},{"$f":"INDEX(Table11[],MATCH(TEXT(hf_kommune[[#This Row],[Kommunenr]],\"0\"),Table11[Nr],0),MATCH(hf_kommune[[#Headers],[2025]],Table11[#Headers],0))","v":1303},{"$f":"INDEX(Table11[],MATCH(TEXT(hf_kommune[[#This Row],[Kommunenr]],\"0\"),Table11[Nr],0),MATCH(hf_kommune[[#Headers],[2026]],Table11[#Headers],0))","v":1309},{"$f":"INDEX(Table11[],MATCH(TEXT(hf_kommune[[#This Row],[Kommunenr]],\"0\"),Table11[Nr],0),MATCH(hf_kommune[[#Headers],[2027]],Table11[#Headers],0))","v":1218},{"$f":"INDEX(Table11[],MATCH(TEXT(hf_kommune[[#This Row],[Kommunenr]],\"0\"),Table11[Nr],0),MATCH(hf_kommune[[#Headers],[2028]],Table11[#Headers],0))","v":1223},{"$f":"INDEX(Table11[],MATCH(TEXT(hf_kommune[[#This Row],[Kommunenr]],\"0\"),Table11[Nr],0),MATCH(hf_kommune[[#Headers],[2029]],Table11[#Headers],0))","v":1217},{"$f":"INDEX(Table11[],MATCH(TEXT(hf_kommune[[#This Row],[Kommunenr]],\"0\"),Table11[Nr],0),MATCH(hf_kommune[[#Headers],[2030]],Table11[#Headers],0))","v":1201},{"$f":"INDEX(Table11[],MATCH(TEXT(hf_kommune[[#This Row],[Kommunenr]],\"0\"),Table11[Nr],0),MATCH(hf_kommune[[#Headers],[2031]],Table11[#Headers],0))","v":1126},{"$f":"INDEX(Table11[],MATCH(TEXT(hf_kommune[[#This Row],[Kommunenr]],\"0\"),Table11[Nr],0),MATCH(hf_kommune[[#Headers],[2032]],Table11[#Headers],0))","v":1076},{"$f":"INDEX(Table11[],MATCH(TEXT(hf_kommune[[#This Row],[Kommunenr]],\"0\"),Table11[Nr],0),MATCH(hf_kommune[[#Headers],[2033]],Table11[#Headers],0))","v":1096},{"$f":"INDEX(Table11[],MATCH(TEXT(hf_kommune[[#This Row],[Kommunenr]],\"0\"),Table11[Nr],0),MATCH(hf_kommune[[#Headers],[2034]],Table11[#Headers],0))","v":1124},{"$f":"INDEX(Table11[],MATCH(TEXT(hf_kommune[[#This Row],[Kommunenr]],\"0\"),Table11[Nr],0),MATCH(hf_kommune[[#Headers],[2035]],Table11[#Headers],0))","v":1084},{"$f":"INDEX(Table11[],MATCH(TEXT(hf_kommune[[#This Row],[Kommunenr]],\"0\"),Table11[Nr],0),MATCH(hf_kommune[[#Headers],[2036]],Table11[#Headers],0))","v":1098},{"$f":"INDEX(Table11[],MATCH(TEXT(hf_kommune[[#This Row],[Kommunenr]],\"0\"),Table11[Nr],0),MATCH(hf_kommune[[#Headers],[2037]],Table11[#Headers],0))","v":1097},{"$f":"INDEX(Table11[],MATCH(TEXT(hf_kommune[[#This Row],[Kommunenr]],\"0\"),Table11[Nr],0),MATCH(hf_kommune[[#Headers],[2038]],Table11[#Headers],0))","v":1126},{"$f":"INDEX(Table11[],MATCH(TEXT(hf_kommune[[#This Row],[Kommunenr]],\"0\"),Table11[Nr],0),MATCH(hf_kommune[[#Headers],[2039]],Table11[#Headers],0))","v":1174},{"$f":"INDEX(Table11[],MATCH(TEXT(hf_kommune[[#This Row],[Kommunenr]],\"0\"),Table11[Nr],0),MATCH(hf_kommune[[#Headers],[2040]],Table11[#Headers],0))","v":1180},83356,83854,84350,84849,85353,85855,86353,86849,87342,87832,88316,88794,89267,89734,90196,90647,91083,91505,91912]
[3022,"Frogn","Helse Sør-Øst","Akershus universitetssykehus","Ski",{"$f":"INDEX(Table11[],MATCH(TEXT(hf_kommune[[#This Row],[Kommunenr]],\"0\"),Table11[Nr],0),MATCH(hf_kommune[[#Headers],[2020]],Table11[#Headers],0))","v":243},{"$f":"INDEX(Table11[],MATCH(TEXT(hf_kommune[[#This Row],[Kommunenr]],\"0\"),Table11[Nr],0),MATCH(hf_kommune[[#Headers],[2021]],Table11[#Headers],0))","v":272},{"$f":"INDEX(Table11[],MATCH(TEXT(hf_kommune[[#This Row],[Kommunenr]],\"0\"),Table11[Nr],0),MATCH(hf_kommune[[#Headers],[2022]],Table11[#Headers],0))","v":276},{"$f":"INDEX(Table11[],MATCH(TEXT(hf_kommune[[#This Row],[Kommunenr]],\"0\"),Table11[Nr],0),MATCH(hf_kommune[[#Headers],[2023]],Table11[#Headers],0))","v":256},{"$f":"INDEX(Table11[],MATCH(TEXT(hf_kommune[[#This Row],[Kommunenr]],\"0\"),Table11[Nr],0),MATCH(hf_kommune[[#Headers],[2024]],Table11[#Headers],0))","v":310},{"$f":"INDEX(Table11[],MATCH(TEXT(hf_kommune[[#This Row],[Kommunenr]],\"0\"),Table11[Nr],0),MATCH(hf_kommune[[#Headers],[2025]],Table11[#Headers],0))","v":270},{"$f":"INDEX(Table11[],MATCH(TEXT(hf_kommune[[#This Row],[Kommunenr]],\"0\"),Table11[Nr],0),MATCH(hf_kommune[[#Headers],[2026]],Table11[#Headers],0))","v":294},{"$f":"INDEX(Table11[],MATCH(TEXT(hf_kommune[[#This Row],[Kommunenr]],\"0\"),Table11[Nr],0),MATCH(hf_kommune[[#Headers],[2027]],Table11[#Headers],0))","v":272},{"$f":"INDEX(Table11[],MATCH(TEXT(hf_kommune[[#This Row],[Kommunenr]],\"0\"),Table11[Nr],0),MATCH(hf_kommune[[#Headers],[2028]],Table11[#Headers],0))","v":284},{"$f":"INDEX(Table11[],MATCH(TEXT(hf_kommune[[#This Row],[Kommunenr]],\"0\"),Table11[Nr],0),MATCH(hf_kommune[[#Headers],[2029]],Table11[#Headers],0))","v":262},{"$f":"INDEX(Table11[],MATCH(TEXT(hf_kommune[[#This Row],[Kommunenr]],\"0\"),Table11[Nr],0),MATCH(hf_kommune[[#Headers],[2030]],Table11[#Headers],0))","v":261},{"$f":"INDEX(Table11[],MATCH(TEXT(hf_kommune[[#This Row],[Kommunenr]],\"0\"),Table11[Nr],0),MATCH(hf_kommune[[#Headers],[2031]],Table11[#Headers],0))","v":232},{"$f":"INDEX(Table11[],MATCH(TEXT(hf_kommune[[#This Row],[Kommunenr]],\"0\"),Table11[Nr],0),MATCH(hf_kommune[[#Headers],[2032]],Table11[#Headers],0))","v":240},{"$f":"INDEX(Table11[],MATCH(TEXT(hf_kommune[[#This Row],[Kommunenr]],\"0\"),Table11[Nr],0),MATCH(hf_kommune[[#Headers],[2033]],Table11[#Headers],0))","v":235},{"$f":"INDEX(Table11[],MATCH(TEXT(hf_kommune[[#This Row],[Kommunenr]],\"0\"),Table11[Nr],0),MATCH(hf_kommune[[#Headers],[2034]],Table11[#Headers],0))","v":241},{"$f":"INDEX(Table11[],MATCH(TEXT(hf_kommune[[#This Row],[Kommunenr]],\"0\"),Table11[Nr],0),MATCH(hf_kommune[[#Headers],[2035]],Table11[#Headers],0))","v":221},{"$f":"INDEX(Table11[],MATCH(TEXT(hf_kommune[[#This Row],[Kommunenr]],\"0\"),Table11[Nr],0),MATCH(hf_kommune[[#Headers],[2036]],Table11[#Headers],0))","v":232},{"$f":"INDEX(Table11[],MATCH(TEXT(hf_kommune[[#This Row],[Kommunenr]],\"0\"),Table11[Nr],0),MATCH(hf_kommune[[#Headers],[2037]],Table11[#Headers],0))","v":223},{"$f":"INDEX(Table11[],MATCH(TEXT(hf_kommune[[#This Row],[Kommunenr]],\"0\"),Table11[Nr],0),MATCH(hf_kommune[[#Headers],[2038]],Table11[#Headers],0))","v":240},{"$f":"INDEX(Table11[],MATCH(TEXT(hf_kommune[[#This Row],[Kommunenr]],\"0\"),Table11[Nr],0),MATCH(hf_kommune[[#Headers],[2039]],Table11[#Headers],0))","v":228},{"$f":"INDEX(Table11[],MATCH(TEXT(hf_kommune[[#This Row],[Kommunenr]],\"0\"),Table11[Nr],0),MATCH(hf_kommune[[#Headers],[2040]],Table11[#Headers],0))","v":228},16017,16102,16190,16281,16375,16468,16560,16651,16743,16835,16928,17022,17118,17215,17314,17414,17512,17610,17706]
[4214,"Froland","Helse Sør-Øst","Sørlandet sykehus","Arendal",{"$f":"INDEX(Table11[],MATCH(TEXT(hf_kommune[[#This Row],[Kommunenr]],\"0\"),Table11[Nr],0),MATCH(hf_kommune[[#Headers],[2020]],Table11[#Headers],0))","v":94},{"$f":"INDEX(Table11[],MATCH(TEXT(hf_kommune[[#This Row],[Kommunenr]],\"0\"),Table11[Nr],0),MATCH(hf_kommune[[#Headers],[2021]],Table11[#Headers],0))","v":85},{"$f":"INDEX(Table11[],MATCH(TEXT(hf_kommune[[#This Row],[Kommunenr]],\"0\"),Table11[Nr],0),MATCH(hf_kommune[[#Headers],[2022]],Table11[#Headers],0))","v":98},{"$f":"INDEX(Table11[],MATCH(TEXT(hf_kommune[[#This Row],[Kommunenr]],\"0\"),Table11[Nr],0),MATCH(hf_kommune[[#Headers],[2023]],Table11[#Headers],0))","v":84},{"$f":"INDEX(Table11[],MATCH(TEXT(hf_kommune[[#This Row],[Kommunenr]],\"0\"),Table11[Nr],0),MATCH(hf_kommune[[#Headers],[2024]],Table11[#Headers],0))","v":75},{"$f":"INDEX(Table11[],MATCH(TEXT(hf_kommune[[#This Row],[Kommunenr]],\"0\"),Table11[Nr],0),MATCH(hf_kommune[[#Headers],[2025]],Table11[#Headers],0))","v":93},{"$f":"INDEX(Table11[],MATCH(TEXT(hf_kommune[[#This Row],[Kommunenr]],\"0\"),Table11[Nr],0),MATCH(hf_kommune[[#Headers],[2026]],Table11[#Headers],0))","v":88},{"$f":"INDEX(Table11[],MATCH(TEXT(hf_kommune[[#This Row],[Kommunenr]],\"0\"),Table11[Nr],0),MATCH(hf_kommune[[#Headers],[2027]],Table11[#Headers],0))","v":102},{"$f":"INDEX(Table11[],MATCH(TEXT(hf_kommune[[#This Row],[Kommunenr]],\"0\"),Table11[Nr],0),MATCH(hf_kommune[[#Headers],[2028]],Table11[#Headers],0))","v":85},{"$f":"INDEX(Table11[],MATCH(TEXT(hf_kommune[[#This Row],[Kommunenr]],\"0\"),Table11[Nr],0),MATCH(hf_kommune[[#Headers],[2029]],Table11[#Headers],0))","v":84},{"$f":"INDEX(Table11[],MATCH(TEXT(hf_kommune[[#This Row],[Kommunenr]],\"0\"),Table11[Nr],0),MATCH(hf_kommune[[#Headers],[2030]],Table11[#Headers],0))","v":90},{"$f":"INDEX(Table11[],MATCH(TEXT(hf_kommune[[#This Row],[Kommunenr]],\"0\"),Table11[Nr],0),MATCH(hf_kommune[[#Headers],[2031]],Table11[#Headers],0))","v":92},{"$f":"INDEX(Table11[],MATCH(TEXT(hf_kommune[[#This Row],[Kommunenr]],\"0\"),Table11[Nr],0),MATCH(hf_kommune[[#Headers],[2032]],Table11[#Headers],0))","v":102},{"$f":"INDEX(Table11[],MATCH(TEXT(hf_kommune[[#This Row],[Kommunenr]],\"0\"),Table11[Nr],0),MATCH(hf_kommune[[#Headers],[2033]],Table11[#Headers],0))","v":86},{"$f":"INDEX(Table11[],MATCH(TEXT(hf_kommune[[#This Row],[Kommunenr]],\"0\"),Table11[Nr],0),MATCH(hf_kommune[[#Headers],[2034]],Table11[#Headers],0))","v":89},{"$f":"INDEX(Table11[],MATCH(TEXT(hf_kommune[[#This Row],[Kommunenr]],\"0\"),Table11[Nr],0),MATCH(hf_kommune[[#Headers],[2035]],Table11[#Headers],0))","v":84},{"$f":"INDEX(Table11[],MATCH(TEXT(hf_kommune[[#This Row],[Kommunenr]],\"0\"),Table11[Nr],0),MATCH(hf_kommune[[#Headers],[2036]],Table11[#Headers],0))","v":84},{"$f":"INDEX(Table11[],MATCH(TEXT(hf_kommune[[#This Row],[Kommunenr]],\"0\"),Table11[Nr],0),MATCH(hf_kommune[[#Headers],[2037]],Table11[#Headers],0))","v":91},{"$f":"INDEX(Table11[],MATCH(TEXT(hf_kommune[[#This Row],[Kommunenr]],\"0\"),Table11[Nr],0),MATCH(hf_kommune[[#Headers],[2038]],Table11[#Headers],0))","v":94},{"$f":"INDEX(Table11[],MATCH(TEXT(hf_kommune[[#This Row],[Kommunenr]],\"0\"),Table11[Nr],0),MATCH(hf_kommune[[#Headers],[2039]],Table11[#Headers],0))","v":82},{"$f":"INDEX(Table11[],MATCH(TEXT(hf_kommune[[#This Row],[Kommunenr]],\"0\"),Table11[Nr],0),MATCH(hf_kommune[[#Headers],[2040]],Table11[#Headers],0))","v":91},6131,6209,6280,6343,6399,6452,6504,6553,6600,6645,6689,6731,6773,6814,6855,6895,6934,6971,7007]
[5036,"Frosta","Helse Midt-Norge","Helse Nord-Trøndelag","Levanger",{"$f":"INDEX(Table11[],MATCH(TEXT(hf_kommune[[#This Row],[Kommunenr]],\"0\"),Table11[Nr],0),MATCH(hf_kommune[[#Headers],[2020]],Table11[#Headers],0))","v":35},{"$f":"INDEX(Table11[],MATCH(TEXT(hf_kommune[[#This Row],[Kommunenr]],\"0\"),Table11[Nr],0),MATCH(hf_kommune[[#Headers],[2021]],Table11[#Headers],0))","v":40},{"$f":"INDEX(Table11[],MATCH(TEXT(hf_kommune[[#This Row],[Kommunenr]],\"0\"),Table11[Nr],0),MATCH(hf_kommune[[#Headers],[2022]],Table11[#Headers],0))","v":46},{"$f":"INDEX(Table11[],MATCH(TEXT(hf_kommune[[#This Row],[Kommunenr]],\"0\"),Table11[Nr],0),MATCH(hf_kommune[[#Headers],[2023]],Table11[#Headers],0))","v":33},{"$f":"INDEX(Table11[],MATCH(TEXT(hf_kommune[[#This Row],[Kommunenr]],\"0\"),Table11[Nr],0),MATCH(hf_kommune[[#Headers],[2024]],Table11[#Headers],0))","v":37},{"$f":"INDEX(Table11[],MATCH(TEXT(hf_kommune[[#This Row],[Kommunenr]],\"0\"),Table11[Nr],0),MATCH(hf_kommune[[#Headers],[2025]],Table11[#Headers],0))","v":29},{"$f":"INDEX(Table11[],MATCH(TEXT(hf_kommune[[#This Row],[Kommunenr]],\"0\"),Table11[Nr],0),MATCH(hf_kommune[[#Headers],[2026]],Table11[#Headers],0))","v":42},{"$f":"INDEX(Table11[],MATCH(TEXT(hf_kommune[[#This Row],[Kommunenr]],\"0\"),Table11[Nr],0),MATCH(hf_kommune[[#Headers],[2027]],Table11[#Headers],0))","v":38},{"$f":"INDEX(Table11[],MATCH(TEXT(hf_kommune[[#This Row],[Kommunenr]],\"0\"),Table11[Nr],0),MATCH(hf_kommune[[#Headers],[2028]],Table11[#Headers],0))","v":43},{"$f":"INDEX(Table11[],MATCH(TEXT(hf_kommune[[#This Row],[Kommunenr]],\"0\"),Table11[Nr],0),MATCH(hf_kommune[[#Headers],[2029]],Table11[#Headers],0))","v":42},{"$f":"INDEX(Table11[],MATCH(TEXT(hf_kommune[[#This Row],[Kommunenr]],\"0\"),Table11[Nr],0),MATCH(hf_kommune[[#Headers],[2030]],Table11[#Headers],0))","v":37},{"$f":"INDEX(Table11[],MATCH(TEXT(hf_kommune[[#This Row],[Kommunenr]],\"0\"),Table11[Nr],0),MATCH(hf_kommune[[#Headers],[2031]],Table11[#Headers],0))","v":33},{"$f":"INDEX(Table11[],MATCH(TEXT(hf_kommune[[#This Row],[Kommunenr]],\"0\"),Table11[Nr],0),MATCH(hf_kommune[[#Headers],[2032]],Table11[#Headers],0))","v":38},{"$f":"INDEX(Table11[],MATCH(TEXT(hf_kommune[[#This Row],[Kommunenr]],\"0\"),Table11[Nr],0),MATCH(hf_kommune[[#Headers],[2033]],Table11[#Headers],0))","v":27},{"$f":"INDEX(Table11[],MATCH(TEXT(hf_kommune[[#This Row],[Kommunenr]],\"0\"),Table11[Nr],0),MATCH(hf_kommune[[#Headers],[2034]],Table11[#Headers],0))","v":32},{"$f":"INDEX(Table11[],MATCH(TEXT(hf_kommune[[#This Row],[Kommunenr]],\"0\"),Table11[Nr],0),MATCH(hf_kommune[[#Headers],[2035]],Table11[#Headers],0))","v":33},{"$f":"INDEX(Table11[],MATCH(TEXT(hf_kommune[[#This Row],[Kommunenr]],\"0\"),Table11[Nr],0),MATCH(hf_kommune[[#Headers],[2036]],Table11[#Headers],0))","v":40},{"$f":"INDEX(Table11[],MATCH(TEXT(hf_kommune[[#This Row],[Kommunenr]],\"0\"),Table11[Nr],0),MATCH(hf_kommune[[#Headers],[2037]],Table11[#Headers],0))","v":35},{"$f":"INDEX(Table11[],MATCH(TEXT(hf_kommune[[#This Row],[Kommunenr]],\"0\"),Table11[Nr],0),MATCH(hf_kommune[[#Headers],[2038]],Table11[#Headers],0))","v":40},{"$f":"INDEX(Table11[],MATCH(TEXT(hf_kommune[[#This Row],[Kommunenr]],\"0\"),Table11[Nr],0),MATCH(hf_kommune[[#Headers],[2039]],Table11[#Headers],0))","v":36},{"$f":"INDEX(Table11[],MATCH(TEXT(hf_kommune[[#This Row],[Kommunenr]],\"0\"),Table11[Nr],0),MATCH(hf_kommune[[#Headers],[2040]],Table11[#Headers],0))","v":32},2635,2645,2656,2667,2680,2693,2705,2718,2730,2742,2753,2765,2776,2787,2798,2809,2819,2829,2838]
[5014,"Frøya","Helse Midt-Norge","St. Olavs hospital","St. Olav - Orkdal",{"$f":"INDEX(Table11[],MATCH(TEXT(hf_kommune[[#This Row],[Kommunenr]],\"0\"),Table11[Nr],0),MATCH(hf_kommune[[#Headers],[2020]],Table11[#Headers],0))","v":56},{"$f":"INDEX(Table11[],MATCH(TEXT(hf_kommune[[#This Row],[Kommunenr]],\"0\"),Table11[Nr],0),MATCH(hf_kommune[[#Headers],[2021]],Table11[#Headers],0))","v":57},{"$f":"INDEX(Table11[],MATCH(TEXT(hf_kommune[[#This Row],[Kommunenr]],\"0\"),Table11[Nr],0),MATCH(hf_kommune[[#Headers],[2022]],Table11[#Headers],0))","v":64},{"$f":"INDEX(Table11[],MATCH(TEXT(hf_kommune[[#This Row],[Kommunenr]],\"0\"),Table11[Nr],0),MATCH(hf_kommune[[#Headers],[2023]],Table11[#Headers],0))","v":64},{"$f":"INDEX(Table11[],MATCH(TEXT(hf_kommune[[#This Row],[Kommunenr]],\"0\"),Table11[Nr],0),MATCH(hf_kommune[[#Headers],[2024]],Table11[#Headers],0))","v":80},{"$f":"INDEX(Table11[],MATCH(TEXT(hf_kommune[[#This Row],[Kommunenr]],\"0\"),Table11[Nr],0),MATCH(hf_kommune[[#Headers],[2025]],Table11[#Headers],0))","v":80},{"$f":"INDEX(Table11[],MATCH(TEXT(hf_kommune[[#This Row],[Kommunenr]],\"0\"),Table11[Nr],0),MATCH(hf_kommune[[#Headers],[2026]],Table11[#Headers],0))","v":67},{"$f":"INDEX(Table11[],MATCH(TEXT(hf_kommune[[#This Row],[Kommunenr]],\"0\"),Table11[Nr],0),MATCH(hf_kommune[[#Headers],[2027]],Table11[#Headers],0))","v":75},{"$f":"INDEX(Table11[],MATCH(TEXT(hf_kommune[[#This Row],[Kommunenr]],\"0\"),Table11[Nr],0),MATCH(hf_kommune[[#Headers],[2028]],Table11[#Headers],0))","v":78},{"$f":"INDEX(Table11[],MATCH(TEXT(hf_kommune[[#This Row],[Kommunenr]],\"0\"),Table11[Nr],0),MATCH(hf_kommune[[#Headers],[2029]],Table11[#Headers],0))","v":72},{"$f":"INDEX(Table11[],MATCH(TEXT(hf_kommune[[#This Row],[Kommunenr]],\"0\"),Table11[Nr],0),MATCH(hf_kommune[[#Headers],[2030]],Table11[#Headers],0))","v":70},{"$f":"INDEX(Table11[],MATCH(TEXT(hf_kommune[[#This Row],[Kommunenr]],\"0\"),Table11[Nr],0),MATCH(hf_kommune[[#Headers],[2031]],Table11[#Headers],0))","v":83},{"$f":"INDEX(Table11[],MATCH(TEXT(hf_kommune[[#This Row],[Kommunenr]],\"0\"),Table11[Nr],0),MATCH(hf_kommune[[#Headers],[2032]],Table11[#Headers],0))","v":69},{"$f":"INDEX(Table11[],MATCH(TEXT(hf_kommune[[#This Row],[Kommunenr]],\"0\"),Table11[Nr],0),MATCH(hf_kommune[[#Headers],[2033]],Table11[#Headers],0))","v":56},{"$f":"INDEX(Table11[],MATCH(TEXT(hf_kommune[[#This Row],[Kommunenr]],\"0\"),Table11[Nr],0),MATCH(hf_kommune[[#Headers],[2034]],Table11[#Headers],0))","v":79},{"$f":"INDEX(Table11[],MATCH(TEXT(hf_kommune[[#This Row],[Kommunenr]],\"0\"),Table11[Nr],0),MATCH(hf_kommune[[#Headers],[2035]],Table11[#Headers],0))","v":71},{"$f":"INDEX(Table11[],MATCH(TEXT(hf_kommune[[#This Row],[Kommunenr]],\"0\"),Table11[Nr],0),MATCH(hf_kommune[[#Headers],[2036]],Table11[#Headers],0))","v":73},{"$f":"INDEX(Table11[],MATCH(TEXT(hf_kommune[[#This Row],[Kommunenr]],\"0\"),Table11[Nr],0),MATCH(hf_kommune[[#Headers],[2037]],Table11[#Headers],0))","v":79},{"$f":"INDEX(Table11[],MATCH(TEXT(hf_kommune[[#This Row],[Kommunenr]],\"0\"),Table11[Nr],0),MATCH(hf_kommune[[#Headers],[2038]],Table11[#Headers],0))","v":80},{"$f":"INDEX(Table11[],MATCH(TEXT(hf_kommune[[#This Row],[Kommunenr]],\"0\"),Table11[Nr],0),MATCH(hf_kommune[[#Headers],[2039]],Table11[#Headers],0))","v":78},{"$f":"INDEX(Table11[],MATCH(TEXT(hf_kommune[[#This Row],[Kommunenr]],\"0\"),Table11[Nr],0),MATCH(hf_kommune[[#Headers],[2040]],Table11[#Headers],0))","v":75},5248,5311,5368,5420,5468,5516,5562,5607,5650,5691,5731,5770,5807,5843,5878,5912,5945,5977,6007]
[3823,"Fyresdal","Helse Sør-Øst","Sykehuset Telemark","Skien",{"$f":"INDEX(Table11[],MATCH(TEXT(hf_kommune[[#This Row],[Kommunenr]],\"0\"),Table11[Nr],0),MATCH(hf_kommune[[#Headers],[2020]],Table11[#Headers],0))","v":18},{"$f":"INDEX(Table11[],MATCH(TEXT(hf_kommune[[#This Row],[Kommunenr]],\"0\"),Table11[Nr],0),MATCH(hf_kommune[[#Headers],[2021]],Table11[#Headers],0))","v":17},{"$f":"INDEX(Table11[],MATCH(TEXT(hf_kommune[[#This Row],[Kommunenr]],\"0\"),Table11[Nr],0),MATCH(hf_kommune[[#Headers],[2022]],Table11[#Headers],0))","v":19},{"$f":"INDEX(Table11[],MATCH(TEXT(hf_kommune[[#This Row],[Kommunenr]],\"0\"),Table11[Nr],0),MATCH(hf_kommune[[#Headers],[2023]],Table11[#Headers],0))","v":13},{"$f":"INDEX(Table11[],MATCH(TEXT(hf_kommune[[#This Row],[Kommunenr]],\"0\"),Table11[Nr],0),MATCH(hf_kommune[[#Headers],[2024]],Table11[#Headers],0))","v":16},{"$f":"INDEX(Table11[],MATCH(TEXT(hf_kommune[[#This Row],[Kommunenr]],\"0\"),Table11[Nr],0),MATCH(hf_kommune[[#Headers],[2025]],Table11[#Headers],0))","v":21},{"$f":"INDEX(Table11[],MATCH(TEXT(hf_kommune[[#This Row],[Kommunenr]],\"0\"),Table11[Nr],0),MATCH(hf_kommune[[#Headers],[2026]],Table11[#Headers],0))","v":22},{"$f":"INDEX(Table11[],MATCH(TEXT(hf_kommune[[#This Row],[Kommunenr]],\"0\"),Table11[Nr],0),MATCH(hf_kommune[[#Headers],[2027]],Table11[#Headers],0))","v":19},{"$f":"INDEX(Table11[],MATCH(TEXT(hf_kommune[[#This Row],[Kommunenr]],\"0\"),Table11[Nr],0),MATCH(hf_kommune[[#Headers],[2028]],Table11[#Headers],0))","v":16},{"$f":"INDEX(Table11[],MATCH(TEXT(hf_kommune[[#This Row],[Kommunenr]],\"0\"),Table11[Nr],0),MATCH(hf_kommune[[#Headers],[2029]],Table11[#Headers],0))","v":18},{"$f":"INDEX(Table11[],MATCH(TEXT(hf_kommune[[#This Row],[Kommunenr]],\"0\"),Table11[Nr],0),MATCH(hf_kommune[[#Headers],[2030]],Table11[#Headers],0))","v":13},{"$f":"INDEX(Table11[],MATCH(TEXT(hf_kommune[[#This Row],[Kommunenr]],\"0\"),Table11[Nr],0),MATCH(hf_kommune[[#Headers],[2031]],Table11[#Headers],0))","v":14},{"$f":"INDEX(Table11[],MATCH(TEXT(hf_kommune[[#This Row],[Kommunenr]],\"0\"),Table11[Nr],0),MATCH(hf_kommune[[#Headers],[2032]],Table11[#Headers],0))","v":18},{"$f":"INDEX(Table11[],MATCH(TEXT(hf_kommune[[#This Row],[Kommunenr]],\"0\"),Table11[Nr],0),MATCH(hf_kommune[[#Headers],[2033]],Table11[#Headers],0))","v":16},{"$f":"INDEX(Table11[],MATCH(TEXT(hf_kommune[[#This Row],[Kommunenr]],\"0\"),Table11[Nr],0),MATCH(hf_kommune[[#Headers],[2034]],Table11[#Headers],0))","v":14},{"$f":"INDEX(Table11[],MATCH(TEXT(hf_kommune[[#This Row],[Kommunenr]],\"0\"),Table11[Nr],0),MATCH(hf_kommune[[#Headers],[2035]],Table11[#Headers],0))","v":15},{"$f":"INDEX(Table11[],MATCH(TEXT(hf_kommune[[#This Row],[Kommunenr]],\"0\"),Table11[Nr],0),MATCH(hf_kommune[[#Headers],[2036]],Table11[#Headers],0))","v":13},{"$f":"INDEX(Table11[],MATCH(TEXT(hf_kommune[[#This Row],[Kommunenr]],\"0\"),Table11[Nr],0),MATCH(hf_kommune[[#Headers],[2037]],Table11[#Headers],0))","v":11},{"$f":"INDEX(Table11[],MATCH(TEXT(hf_kommune[[#This Row],[Kommunenr]],\"0\"),Table11[Nr],0),MATCH(hf_kommune[[#Headers],[2038]],Table11[#Headers],0))","v":16},{"$f":"INDEX(Table11[],MATCH(TEXT(hf_kommune[[#This Row],[Kommunenr]],\"0\"),Table11[Nr],0),MATCH(hf_kommune[[#Headers],[2039]],Table11[#Headers],0))","v":17},{"$f":"INDEX(Table11[],MATCH(TEXT(hf_kommune[[#This Row],[Kommunenr]],\"0\"),Table11[Nr],0),MATCH(hf_kommune[[#Headers],[2040]],Table11[#Headers],0))","v":14},1275,1271,1270,1270,1272,1273,1275,1276,1278,1279,1280,1281,1282,1283,1284,1285,1286,1287,1287]
[3811,"Færder","Helse Sør-Øst","Sykehuset i Vestfold","Tønsberg",{"$f":"INDEX(Table11[],MATCH(TEXT(hf_kommune[[#This Row],[Kommunenr]],\"0\"),Table11[Nr],0),MATCH(hf_kommune[[#Headers],[2020]],Table11[#Headers],0))","v":380},{"$f":"INDEX(Table11[],MATCH(TEXT(hf_kommune[[#This Row],[Kommunenr]],\"0\"),Table11[Nr],0),MATCH(hf_kommune[[#Headers],[2021]],Table11[#Headers],0))","v":419},{"$f":"INDEX(Table11[],MATCH(TEXT(hf_kommune[[#This Row],[Kommunenr]],\"0\"),Table11[Nr],0),MATCH(hf_kommune[[#Headers],[2022]],Table11[#Headers],0))","v":412},{"$f":"INDEX(Table11[],MATCH(TEXT(hf_kommune[[#This Row],[Kommunenr]],\"0\"),Table11[Nr],0),MATCH(hf_kommune[[#Headers],[2023]],Table11[#Headers],0))","v":395},{"$f":"INDEX(Table11[],MATCH(TEXT(hf_kommune[[#This Row],[Kommunenr]],\"0\"),Table11[Nr],0),MATCH(hf_kommune[[#Headers],[2024]],Table11[#Headers],0))","v":415},{"$f":"INDEX(Table11[],MATCH(TEXT(hf_kommune[[#This Row],[Kommunenr]],\"0\"),Table11[Nr],0),MATCH(hf_kommune[[#Headers],[2025]],Table11[#Headers],0))","v":434},{"$f":"INDEX(Table11[],MATCH(TEXT(hf_kommune[[#This Row],[Kommunenr]],\"0\"),Table11[Nr],0),MATCH(hf_kommune[[#Headers],[2026]],Table11[#Headers],0))","v":405},{"$f":"INDEX(Table11[],MATCH(TEXT(hf_kommune[[#This Row],[Kommunenr]],\"0\"),Table11[Nr],0),MATCH(hf_kommune[[#Headers],[2027]],Table11[#Headers],0))","v":408},{"$f":"INDEX(Table11[],MATCH(TEXT(hf_kommune[[#This Row],[Kommunenr]],\"0\"),Table11[Nr],0),MATCH(hf_kommune[[#Headers],[2028]],Table11[#Headers],0))","v":426},{"$f":"INDEX(Table11[],MATCH(TEXT(hf_kommune[[#This Row],[Kommunenr]],\"0\"),Table11[Nr],0),MATCH(hf_kommune[[#Headers],[2029]],Table11[#Headers],0))","v":359},{"$f":"INDEX(Table11[],MATCH(TEXT(hf_kommune[[#This Row],[Kommunenr]],\"0\"),Table11[Nr],0),MATCH(hf_kommune[[#Headers],[2030]],Table11[#Headers],0))","v":359},{"$f":"INDEX(Table11[],MATCH(TEXT(hf_kommune[[#This Row],[Kommunenr]],\"0\"),Table11[Nr],0),MATCH(hf_kommune[[#Headers],[2031]],Table11[#Headers],0))","v":351},{"$f":"INDEX(Table11[],MATCH(TEXT(hf_kommune[[#This Row],[Kommunenr]],\"0\"),Table11[Nr],0),MATCH(hf_kommune[[#Headers],[2032]],Table11[#Headers],0))","v":386},{"$f":"INDEX(Table11[],MATCH(TEXT(hf_kommune[[#This Row],[Kommunenr]],\"0\"),Table11[Nr],0),MATCH(hf_kommune[[#Headers],[2033]],Table11[#Headers],0))","v":360},{"$f":"INDEX(Table11[],MATCH(TEXT(hf_kommune[[#This Row],[Kommunenr]],\"0\"),Table11[Nr],0),MATCH(hf_kommune[[#Headers],[2034]],Table11[#Headers],0))","v":366},{"$f":"INDEX(Table11[],MATCH(TEXT(hf_kommune[[#This Row],[Kommunenr]],\"0\"),Table11[Nr],0),MATCH(hf_kommune[[#Headers],[2035]],Table11[#Headers],0))","v":368},{"$f":"INDEX(Table11[],MATCH(TEXT(hf_kommune[[#This Row],[Kommunenr]],\"0\"),Table11[Nr],0),MATCH(hf_kommune[[#Headers],[2036]],Table11[#Headers],0))","v":363},{"$f":"INDEX(Table11[],MATCH(TEXT(hf_kommune[[#This Row],[Kommunenr]],\"0\"),Table11[Nr],0),MATCH(hf_kommune[[#Headers],[2037]],Table11[#Headers],0))","v":353},{"$f":"INDEX(Table11[],MATCH(TEXT(hf_kommune[[#This Row],[Kommunenr]],\"0\"),Table11[Nr],0),MATCH(hf_kommune[[#Headers],[2038]],Table11[#Headers],0))","v":363},{"$f":"INDEX(Table11[],MATCH(TEXT(hf_kommune[[#This Row],[Kommunenr]],\"0\"),Table11[Nr],0),MATCH(hf_kommune[[#Headers],[2039]],Table11[#Headers],0))","v":369},{"$f":"INDEX(Table11[],MATCH(TEXT(hf_kommune[[#This Row],[Kommunenr]],\"0\"),Table11[Nr],0),MATCH(hf_kommune[[#Headers],[2040]],Table11[#Headers],0))","v":372},26935,27047,27166,27292,27423,27555,27685,27815,27943,28070,28194,28316,28436,28553,28671,28784,28894,28998,29099]
[5426,"Gáivuotna - Kåfjord - Kaivuono","Helse Nord","Universitetssykehuset Nord-Norge","Tromsø",{"$f":"INDEX(Table11[],MATCH(TEXT(hf_kommune[[#This Row],[Kommunenr]],\"0\"),Table11[Nr],0),MATCH(hf_kommune[[#Headers],[2020]],Table11[#Headers],0))","v":34},{"$f":"INDEX(Table11[],MATCH(TEXT(hf_kommune[[#This Row],[Kommunenr]],\"0\"),Table11[Nr],0),MATCH(hf_kommune[[#Headers],[2021]],Table11[#Headers],0))","v":29},{"$f":"INDEX(Table11[],MATCH(TEXT(hf_kommune[[#This Row],[Kommunenr]],\"0\"),Table11[Nr],0),MATCH(hf_kommune[[#Headers],[2022]],Table11[#Headers],0))","v":33},{"$f":"INDEX(Table11[],MATCH(TEXT(hf_kommune[[#This Row],[Kommunenr]],\"0\"),Table11[Nr],0),MATCH(hf_kommune[[#Headers],[2023]],Table11[#Headers],0))","v":29},{"$f":"INDEX(Table11[],MATCH(TEXT(hf_kommune[[#This Row],[Kommunenr]],\"0\"),Table11[Nr],0),MATCH(hf_kommune[[#Headers],[2024]],Table11[#Headers],0))","v":33},{"$f":"INDEX(Table11[],MATCH(TEXT(hf_kommune[[#This Row],[Kommunenr]],\"0\"),Table11[Nr],0),MATCH(hf_kommune[[#Headers],[2025]],Table11[#Headers],0))","v":29},{"$f":"INDEX(Table11[],MATCH(TEXT(hf_kommune[[#This Row],[Kommunenr]],\"0\"),Table11[Nr],0),MATCH(hf_kommune[[#Headers],[2026]],Table11[#Headers],0))","v":32},{"$f":"INDEX(Table11[],MATCH(TEXT(hf_kommune[[#This Row],[Kommunenr]],\"0\"),Table11[Nr],0),MATCH(hf_kommune[[#Headers],[2027]],Table11[#Headers],0))","v":39},{"$f":"INDEX(Table11[],MATCH(TEXT(hf_kommune[[#This Row],[Kommunenr]],\"0\"),Table11[Nr],0),MATCH(hf_kommune[[#Headers],[2028]],Table11[#Headers],0))","v":28},{"$f":"INDEX(Table11[],MATCH(TEXT(hf_kommune[[#This Row],[Kommunenr]],\"0\"),Table11[Nr],0),MATCH(hf_kommune[[#Headers],[2029]],Table11[#Headers],0))","v":29},{"$f":"INDEX(Table11[],MATCH(TEXT(hf_kommune[[#This Row],[Kommunenr]],\"0\"),Table11[Nr],0),MATCH(hf_kommune[[#Headers],[2030]],Table11[#Headers],0))","v":19},{"$f":"INDEX(Table11[],MATCH(TEXT(hf_kommune[[#This Row],[Kommunenr]],\"0\"),Table11[Nr],0),MATCH(hf_kommune[[#Headers],[2031]],Table11[#Headers],0))","v":17},{"$f":"INDEX(Table11[],MATCH(TEXT(hf_kommune[[#This Row],[Kommunenr]],\"0\"),Table11[Nr],0),MATCH(hf_kommune[[#Headers],[2032]],Table11[#Headers],0))","v":23},{"$f":"INDEX(Table11[],MATCH(TEXT(hf_kommune[[#This Row],[Kommunenr]],\"0\"),Table11[Nr],0),MATCH(hf_kommune[[#Headers],[2033]],Table11[#Headers],0))","v":18},{"$f":"INDEX(Table11[],MATCH(TEXT(hf_kommune[[#This Row],[Kommunenr]],\"0\"),Table11[Nr],0),MATCH(hf_kommune[[#Headers],[2034]],Table11[#Headers],0))","v":16},{"$f":"INDEX(Table11[],MATCH(TEXT(hf_kommune[[#This Row],[Kommunenr]],\"0\"),Table11[Nr],0),MATCH(hf_kommune[[#Headers],[2035]],Table11[#Headers],0))","v":20},{"$f":"INDEX(Table11[],MATCH(TEXT(hf_kommune[[#This Row],[Kommunenr]],\"0\"),Table11[Nr],0),MATCH(hf_kommune[[#Headers],[2036]],Table11[#Headers],0))","v":22},{"$f":"INDEX(Table11[],MATCH(TEXT(hf_kommune[[#This Row],[Kommunenr]],\"0\"),Table11[Nr],0),MATCH(hf_kommune[[#Headers],[2037]],Table11[#Headers],0))","v":20},{"$f":"INDEX(Table11[],MATCH(TEXT(hf_kommune[[#This Row],[Kommunenr]],\"0\"),Table11[Nr],0),MATCH(hf_kommune[[#Headers],[2038]],Table11[#Headers],0))","v":16},{"$f":"INDEX(Table11[],MATCH(TEXT(hf_kommune[[#This Row],[Kommunenr]],\"0\"),Table11[Nr],0),MATCH(hf_kommune[[#Headers],[2039]],Table11[#Headers],0))","v":25},{"$f":"INDEX(Table11[],MATCH(TEXT(hf_kommune[[#This Row],[Kommunenr]],\"0\"),Table11[Nr],0),MATCH(hf_kommune[[#Headers],[2040]],Table11[#Headers],0))","v":30},2028,2014,2004,1998,1995,1992,1989,1985,1981,1977,1973,1969,1965,1960,1957,1953,1949,1945,1942]
[5439,"Gamvik","Helse Nord","Finnmarkssykehuset","Kirkenes",{"$f":"INDEX(Table11[],MATCH(TEXT(hf_kommune[[#This Row],[Kommunenr]],\"0\"),Table11[Nr],0),MATCH(hf_kommune[[#Headers],[2020]],Table11[#Headers],0))","v":16},{"$f":"INDEX(Table11[],MATCH(TEXT(hf_kommune[[#This Row],[Kommunenr]],\"0\"),Table11[Nr],0),MATCH(hf_kommune[[#Headers],[2021]],Table11[#Headers],0))","v":14},{"$f":"INDEX(Table11[],MATCH(TEXT(hf_kommune[[#This Row],[Kommunenr]],\"0\"),Table11[Nr],0),MATCH(hf_kommune[[#Headers],[2022]],Table11[#Headers],0))","v":13},{"$f":"INDEX(Table11[],MATCH(TEXT(hf_kommune[[#This Row],[Kommunenr]],\"0\"),Table11[Nr],0),MATCH(hf_kommune[[#Headers],[2023]],Table11[#Headers],0))","v":12},{"$f":"INDEX(Table11[],MATCH(TEXT(hf_kommune[[#This Row],[Kommunenr]],\"0\"),Table11[Nr],0),MATCH(hf_kommune[[#Headers],[2024]],Table11[#Headers],0))","v":18},{"$f":"INDEX(Table11[],MATCH(TEXT(hf_kommune[[#This Row],[Kommunenr]],\"0\"),Table11[Nr],0),MATCH(hf_kommune[[#Headers],[2025]],Table11[#Headers],0))","v":23},{"$f":"INDEX(Table11[],MATCH(TEXT(hf_kommune[[#This Row],[Kommunenr]],\"0\"),Table11[Nr],0),MATCH(hf_kommune[[#Headers],[2026]],Table11[#Headers],0))","v":24},{"$f":"INDEX(Table11[],MATCH(TEXT(hf_kommune[[#This Row],[Kommunenr]],\"0\"),Table11[Nr],0),MATCH(hf_kommune[[#Headers],[2027]],Table11[#Headers],0))","v":26},{"$f":"INDEX(Table11[],MATCH(TEXT(hf_kommune[[#This Row],[Kommunenr]],\"0\"),Table11[Nr],0),MATCH(hf_kommune[[#Headers],[2028]],Table11[#Headers],0))","v":15},{"$f":"INDEX(Table11[],MATCH(TEXT(hf_kommune[[#This Row],[Kommunenr]],\"0\"),Table11[Nr],0),MATCH(hf_kommune[[#Headers],[2029]],Table11[#Headers],0))","v":19},{"$f":"INDEX(Table11[],MATCH(TEXT(hf_kommune[[#This Row],[Kommunenr]],\"0\"),Table11[Nr],0),MATCH(hf_kommune[[#Headers],[2030]],Table11[#Headers],0))","v":17},{"$f":"INDEX(Table11[],MATCH(TEXT(hf_kommune[[#This Row],[Kommunenr]],\"0\"),Table11[Nr],0),MATCH(hf_kommune[[#Headers],[2031]],Table11[#Headers],0))","v":12},{"$f":"INDEX(Table11[],MATCH(TEXT(hf_kommune[[#This Row],[Kommunenr]],\"0\"),Table11[Nr],0),MATCH(hf_kommune[[#Headers],[2032]],Table11[#Headers],0))","v":18},{"$f":"INDEX(Table11[],MATCH(TEXT(hf_kommune[[#This Row],[Kommunenr]],\"0\"),Table11[Nr],0),MATCH(hf_kommune[[#Headers],[2033]],Table11[#Headers],0))","v":16},{"$f":"INDEX(Table11[],MATCH(TEXT(hf_kommune[[#This Row],[Kommunenr]],\"0\"),Table11[Nr],0),MATCH(hf_kommune[[#Headers],[2034]],Table11[#Headers],0))","v":16},{"$f":"INDEX(Table11[],MATCH(TEXT(hf_kommune[[#This Row],[Kommunenr]],\"0\"),Table11[Nr],0),MATCH(hf_kommune[[#Headers],[2035]],Table11[#Headers],0))","v":16},{"$f":"INDEX(Table11[],MATCH(TEXT(hf_kommune[[#This Row],[Kommunenr]],\"0\"),Table11[Nr],0),MATCH(hf_kommune[[#Headers],[2036]],Table11[#Headers],0))","v":14},{"$f":"INDEX(Table11[],MATCH(TEXT(hf_kommune[[#This Row],[Kommunenr]],\"0\"),Table11[Nr],0),MATCH(hf_kommune[[#Headers],[2037]],Table11[#Headers],0))","v":19},{"$f":"INDEX(Table11[],MATCH(TEXT(hf_kommune[[#This Row],[Kommunenr]],\"0\"),Table11[Nr],0),MATCH(hf_kommune[[#Headers],[2038]],Table11[#Headers],0))","v":18},{"$f":"INDEX(Table11[],MATCH(TEXT(hf_kommune[[#This Row],[Kommunenr]],\"0\"),Table11[Nr],0),MATCH(hf_kommune[[#Headers],[2039]],Table11[#Headers],0))","v":19},{"$f":"INDEX(Table11[],MATCH(TEXT(hf_kommune[[#This Row],[Kommunenr]],\"0\"),Table11[Nr],0),MATCH(hf_kommune[[#Headers],[2040]],Table11[#Headers],0))","v":21},1160,1179,1197,1215,1233,1250,1267,1282,1297,1312,1325,1338,1350,1361,1372,1382,1392,1401,1409]
[3441,"Gausdal","Helse Sør-Øst","Sykehuset Innlandet","Lillehammer",{"$f":"INDEX(Table11[],MATCH(TEXT(hf_kommune[[#This Row],[Kommunenr]],\"0\"),Table11[Nr],0),MATCH(hf_kommune[[#Headers],[2020]],Table11[#Headers],0))","v":74},{"$f":"INDEX(Table11[],MATCH(TEXT(hf_kommune[[#This Row],[Kommunenr]],\"0\"),Table11[Nr],0),MATCH(hf_kommune[[#Headers],[2021]],Table11[#Headers],0))","v":110},{"$f":"INDEX(Table11[],MATCH(TEXT(hf_kommune[[#This Row],[Kommunenr]],\"0\"),Table11[Nr],0),MATCH(hf_kommune[[#Headers],[2022]],Table11[#Headers],0))","v":93},{"$f":"INDEX(Table11[],MATCH(TEXT(hf_kommune[[#This Row],[Kommunenr]],\"0\"),Table11[Nr],0),MATCH(hf_kommune[[#Headers],[2023]],Table11[#Headers],0))","v":98},{"$f":"INDEX(Table11[],MATCH(TEXT(hf_kommune[[#This Row],[Kommunenr]],\"0\"),Table11[Nr],0),MATCH(hf_kommune[[#Headers],[2024]],Table11[#Headers],0))","v":101},{"$f":"INDEX(Table11[],MATCH(TEXT(hf_kommune[[#This Row],[Kommunenr]],\"0\"),Table11[Nr],0),MATCH(hf_kommune[[#Headers],[2025]],Table11[#Headers],0))","v":110},{"$f":"INDEX(Table11[],MATCH(TEXT(hf_kommune[[#This Row],[Kommunenr]],\"0\"),Table11[Nr],0),MATCH(hf_kommune[[#Headers],[2026]],Table11[#Headers],0))","v":93},{"$f":"INDEX(Table11[],MATCH(TEXT(hf_kommune[[#This Row],[Kommunenr]],\"0\"),Table11[Nr],0),MATCH(hf_kommune[[#Headers],[2027]],Table11[#Headers],0))","v":102},{"$f":"INDEX(Table11[],MATCH(TEXT(hf_kommune[[#This Row],[Kommunenr]],\"0\"),Table11[Nr],0),MATCH(hf_kommune[[#Headers],[2028]],Table11[#Headers],0))","v":96},{"$f":"INDEX(Table11[],MATCH(TEXT(hf_kommune[[#This Row],[Kommunenr]],\"0\"),Table11[Nr],0),MATCH(hf_kommune[[#Headers],[2029]],Table11[#Headers],0))","v":84},{"$f":"INDEX(Table11[],MATCH(TEXT(hf_kommune[[#This Row],[Kommunenr]],\"0\"),Table11[Nr],0),MATCH(hf_kommune[[#Headers],[2030]],Table11[#Headers],0))","v":78},{"$f":"INDEX(Table11[],MATCH(TEXT(hf_kommune[[#This Row],[Kommunenr]],\"0\"),Table11[Nr],0),MATCH(hf_kommune[[#Headers],[2031]],Table11[#Headers],0))","v":82},{"$f":"INDEX(Table11[],MATCH(TEXT(hf_kommune[[#This Row],[Kommunenr]],\"0\"),Table11[Nr],0),MATCH(hf_kommune[[#Headers],[2032]],Table11[#Headers],0))","v":83},{"$f":"INDEX(Table11[],MATCH(TEXT(hf_kommune[[#This Row],[Kommunenr]],\"0\"),Table11[Nr],0),MATCH(hf_kommune[[#Headers],[2033]],Table11[#Headers],0))","v":69},{"$f":"INDEX(Table11[],MATCH(TEXT(hf_kommune[[#This Row],[Kommunenr]],\"0\"),Table11[Nr],0),MATCH(hf_kommune[[#Headers],[2034]],Table11[#Headers],0))","v":78},{"$f":"INDEX(Table11[],MATCH(TEXT(hf_kommune[[#This Row],[Kommunenr]],\"0\"),Table11[Nr],0),MATCH(hf_kommune[[#Headers],[2035]],Table11[#Headers],0))","v":74},{"$f":"INDEX(Table11[],MATCH(TEXT(hf_kommune[[#This Row],[Kommunenr]],\"0\"),Table11[Nr],0),MATCH(hf_kommune[[#Headers],[2036]],Table11[#Headers],0))","v":86},{"$f":"INDEX(Table11[],MATCH(TEXT(hf_kommune[[#This Row],[Kommunenr]],\"0\"),Table11[Nr],0),MATCH(hf_kommune[[#Headers],[2037]],Table11[#Headers],0))","v":77},{"$f":"INDEX(Table11[],MATCH(TEXT(hf_kommune[[#This Row],[Kommunenr]],\"0\"),Table11[Nr],0),MATCH(hf_kommune[[#Headers],[2038]],Table11[#Headers],0))","v":66},{"$f":"INDEX(Table11[],MATCH(TEXT(hf_kommune[[#This Row],[Kommunenr]],\"0\"),Table11[Nr],0),MATCH(hf_kommune[[#Headers],[2039]],Table11[#Headers],0))","v":82},{"$f":"INDEX(Table11[],MATCH(TEXT(hf_kommune[[#This Row],[Kommunenr]],\"0\"),Table11[Nr],0),MATCH(hf_kommune[[#Headers],[2040]],Table11[#Headers],0))","v":67},6053,6037,6027,6023,6023,6023,6024,6024,6024,6024,6025,6025,6027,6028,6030,6032,6034,6036,6038]
[1838,"Gildeskål","Helse Nord","Nordlandssykehuset","Bodø",{"$f":"INDEX(Table11[],MATCH(TEXT(hf_kommune[[#This Row],[Kommunenr]],\"0\"),Table11[Nr],0),MATCH(hf_kommune[[#Headers],[2020]],Table11[#Headers],0))","v":26},{"$f":"INDEX(Table11[],MATCH(TEXT(hf_kommune[[#This Row],[Kommunenr]],\"0\"),Table11[Nr],0),MATCH(hf_kommune[[#Headers],[2021]],Table11[#Headers],0))","v":27},{"$f":"INDEX(Table11[],MATCH(TEXT(hf_kommune[[#This Row],[Kommunenr]],\"0\"),Table11[Nr],0),MATCH(hf_kommune[[#Headers],[2022]],Table11[#Headers],0))","v":26},{"$f":"INDEX(Table11[],MATCH(TEXT(hf_kommune[[#This Row],[Kommunenr]],\"0\"),Table11[Nr],0),MATCH(hf_kommune[[#Headers],[2023]],Table11[#Headers],0))","v":31},{"$f":"INDEX(Table11[],MATCH(TEXT(hf_kommune[[#This Row],[Kommunenr]],\"0\"),Table11[Nr],0),MATCH(hf_kommune[[#Headers],[2024]],Table11[#Headers],0))","v":21},{"$f":"INDEX(Table11[],MATCH(TEXT(hf_kommune[[#This Row],[Kommunenr]],\"0\"),Table11[Nr],0),MATCH(hf_kommune[[#Headers],[2025]],Table11[#Headers],0))","v":27},{"$f":"INDEX(Table11[],MATCH(TEXT(hf_kommune[[#This Row],[Kommunenr]],\"0\"),Table11[Nr],0),MATCH(hf_kommune[[#Headers],[2026]],Table11[#Headers],0))","v":27},{"$f":"INDEX(Table11[],MATCH(TEXT(hf_kommune[[#This Row],[Kommunenr]],\"0\"),Table11[Nr],0),MATCH(hf_kommune[[#Headers],[2027]],Table11[#Headers],0))","v":27},{"$f":"INDEX(Table11[],MATCH(TEXT(hf_kommune[[#This Row],[Kommunenr]],\"0\"),Table11[Nr],0),MATCH(hf_kommune[[#Headers],[2028]],Table11[#Headers],0))","v":32},{"$f":"INDEX(Table11[],MATCH(TEXT(hf_kommune[[#This Row],[Kommunenr]],\"0\"),Table11[Nr],0),MATCH(hf_kommune[[#Headers],[2029]],Table11[#Headers],0))","v":26},{"$f":"INDEX(Table11[],MATCH(TEXT(hf_kommune[[#This Row],[Kommunenr]],\"0\"),Table11[Nr],0),MATCH(hf_kommune[[#Headers],[2030]],Table11[#Headers],0))","v":27},{"$f":"INDEX(Table11[],MATCH(TEXT(hf_kommune[[#This Row],[Kommunenr]],\"0\"),Table11[Nr],0),MATCH(hf_kommune[[#Headers],[2031]],Table11[#Headers],0))","v":29},{"$f":"INDEX(Table11[],MATCH(TEXT(hf_kommune[[#This Row],[Kommunenr]],\"0\"),Table11[Nr],0),MATCH(hf_kommune[[#Headers],[2032]],Table11[#Headers],0))","v":27},{"$f":"INDEX(Table11[],MATCH(TEXT(hf_kommune[[#This Row],[Kommunenr]],\"0\"),Table11[Nr],0),MATCH(hf_kommune[[#Headers],[2033]],Table11[#Headers],0))","v":19},{"$f":"INDEX(Table11[],MATCH(TEXT(hf_kommune[[#This Row],[Kommunenr]],\"0\"),Table11[Nr],0),MATCH(hf_kommune[[#Headers],[2034]],Table11[#Headers],0))","v":27},{"$f":"INDEX(Table11[],MATCH(TEXT(hf_kommune[[#This Row],[Kommunenr]],\"0\"),Table11[Nr],0),MATCH(hf_kommune[[#Headers],[2035]],Table11[#Headers],0))","v":30},{"$f":"INDEX(Table11[],MATCH(TEXT(hf_kommune[[#This Row],[Kommunenr]],\"0\"),Table11[Nr],0),MATCH(hf_kommune[[#Headers],[2036]],Table11[#Headers],0))","v":26},{"$f":"INDEX(Table11[],MATCH(TEXT(hf_kommune[[#This Row],[Kommunenr]],\"0\"),Table11[Nr],0),MATCH(hf_kommune[[#Headers],[2037]],Table11[#Headers],0))","v":29},{"$f":"INDEX(Table11[],MATCH(TEXT(hf_kommune[[#This Row],[Kommunenr]],\"0\"),Table11[Nr],0),MATCH(hf_kommune[[#Headers],[2038]],Table11[#Headers],0))","v":25},{"$f":"INDEX(Table11[],MATCH(TEXT(hf_kommune[[#This Row],[Kommunenr]],\"0\"),Table11[Nr],0),MATCH(hf_kommune[[#Headers],[2039]],Table11[#Headers],0))","v":21},{"$f":"INDEX(Table11[],MATCH(TEXT(hf_kommune[[#This Row],[Kommunenr]],\"0\"),Table11[Nr],0),MATCH(hf_kommune[[#Headers],[2040]],Table11[#Headers],0))","v":24},1963,1974,1986,1999,2014,2029,2042,2055,2067,2079,2090,2101,2111,2121,2131,2139,2147,2154,2160]
[1532,"Giske","Helse Midt-Norge","Helse Møre og Romsdal","Ålesund",{"$f":"INDEX(Table11[],MATCH(TEXT(hf_kommune[[#This Row],[Kommunenr]],\"0\"),Table11[Nr],0),MATCH(hf_kommune[[#Headers],[2020]],Table11[#Headers],0))","v":92},{"$f":"INDEX(Table11[],MATCH(TEXT(hf_kommune[[#This Row],[Kommunenr]],\"0\"),Table11[Nr],0),MATCH(hf_kommune[[#Headers],[2021]],Table11[#Headers],0))","v":88},{"$f":"INDEX(Table11[],MATCH(TEXT(hf_kommune[[#This Row],[Kommunenr]],\"0\"),Table11[Nr],0),MATCH(hf_kommune[[#Headers],[2022]],Table11[#Headers],0))","v":93},{"$f":"INDEX(Table11[],MATCH(TEXT(hf_kommune[[#This Row],[Kommunenr]],\"0\"),Table11[Nr],0),MATCH(hf_kommune[[#Headers],[2023]],Table11[#Headers],0))","v":108},{"$f":"INDEX(Table11[],MATCH(TEXT(hf_kommune[[#This Row],[Kommunenr]],\"0\"),Table11[Nr],0),MATCH(hf_kommune[[#Headers],[2024]],Table11[#Headers],0))","v":117},{"$f":"INDEX(Table11[],MATCH(TEXT(hf_kommune[[#This Row],[Kommunenr]],\"0\"),Table11[Nr],0),MATCH(hf_kommune[[#Headers],[2025]],Table11[#Headers],0))","v":114},{"$f":"INDEX(Table11[],MATCH(TEXT(hf_kommune[[#This Row],[Kommunenr]],\"0\"),Table11[Nr],0),MATCH(hf_kommune[[#Headers],[2026]],Table11[#Headers],0))","v":117},{"$f":"INDEX(Table11[],MATCH(TEXT(hf_kommune[[#This Row],[Kommunenr]],\"0\"),Table11[Nr],0),MATCH(hf_kommune[[#Headers],[2027]],Table11[#Headers],0))","v":100},{"$f":"INDEX(Table11[],MATCH(TEXT(hf_kommune[[#This Row],[Kommunenr]],\"0\"),Table11[Nr],0),MATCH(hf_kommune[[#Headers],[2028]],Table11[#Headers],0))","v":113},{"$f":"INDEX(Table11[],MATCH(TEXT(hf_kommune[[#This Row],[Kommunenr]],\"0\"),Table11[Nr],0),MATCH(hf_kommune[[#Headers],[2029]],Table11[#Headers],0))","v":120},{"$f":"INDEX(Table11[],MATCH(TEXT(hf_kommune[[#This Row],[Kommunenr]],\"0\"),Table11[Nr],0),MATCH(hf_kommune[[#Headers],[2030]],Table11[#Headers],0))","v":118},{"$f":"INDEX(Table11[],MATCH(TEXT(hf_kommune[[#This Row],[Kommunenr]],\"0\"),Table11[Nr],0),MATCH(hf_kommune[[#Headers],[2031]],Table11[#Headers],0))","v":119},{"$f":"INDEX(Table11[],MATCH(TEXT(hf_kommune[[#This Row],[Kommunenr]],\"0\"),Table11[Nr],0),MATCH(hf_kommune[[#Headers],[2032]],Table11[#Headers],0))","v":121},{"$f":"INDEX(Table11[],MATCH(TEXT(hf_kommune[[#This Row],[Kommunenr]],\"0\"),Table11[Nr],0),MATCH(hf_kommune[[#Headers],[2033]],Table11[#Headers],0))","v":113},{"$f":"INDEX(Table11[],MATCH(TEXT(hf_kommune[[#This Row],[Kommunenr]],\"0\"),Table11[Nr],0),MATCH(hf_kommune[[#Headers],[2034]],Table11[#Headers],0))","v":117},{"$f":"INDEX(Table11[],MATCH(TEXT(hf_kommune[[#This Row],[Kommunenr]],\"0\"),Table11[Nr],0),MATCH(hf_kommune[[#Headers],[2035]],Table11[#Headers],0))","v":130},{"$f":"INDEX(Table11[],MATCH(TEXT(hf_kommune[[#This Row],[Kommunenr]],\"0\"),Table11[Nr],0),MATCH(hf_kommune[[#Headers],[2036]],Table11[#Headers],0))","v":111},{"$f":"INDEX(Table11[],MATCH(TEXT(hf_kommune[[#This Row],[Kommunenr]],\"0\"),Table11[Nr],0),MATCH(hf_kommune[[#Headers],[2037]],Table11[#Headers],0))","v":113},{"$f":"INDEX(Table11[],MATCH(TEXT(hf_kommune[[#This Row],[Kommunenr]],\"0\"),Table11[Nr],0),MATCH(hf_kommune[[#Headers],[2038]],Table11[#Headers],0))","v":128},{"$f":"INDEX(Table11[],MATCH(TEXT(hf_kommune[[#This Row],[Kommunenr]],\"0\"),Table11[Nr],0),MATCH(hf_kommune[[#Headers],[2039]],Table11[#Headers],0))","v":136},{"$f":"INDEX(Table11[],MATCH(TEXT(hf_kommune[[#This Row],[Kommunenr]],\"0\"),Table11[Nr],0),MATCH(hf_kommune[[#Headers],[2040]],Table11[#Headers],0))","v":124},8606,8681,8756,8831,8908,8982,9054,9126,9196,9266,9333,9399,9462,9524,9584,9641,9696,9749,9801]
[1557,"Gjemnes","Helse Midt-Norge","Helse Møre og Romsdal","Molde",{"$f":"INDEX(Table11[],MATCH(TEXT(hf_kommune[[#This Row],[Kommunenr]],\"0\"),Table11[Nr],0),MATCH(hf_kommune[[#Headers],[2020]],Table11[#Headers],0))","v":33},{"$f":"INDEX(Table11[],MATCH(TEXT(hf_kommune[[#This Row],[Kommunenr]],\"0\"),Table11[Nr],0),MATCH(hf_kommune[[#Headers],[2021]],Table11[#Headers],0))","v":36},{"$f":"INDEX(Table11[],MATCH(TEXT(hf_kommune[[#This Row],[Kommunenr]],\"0\"),Table11[Nr],0),MATCH(hf_kommune[[#Headers],[2022]],Table11[#Headers],0))","v":25},{"$f":"INDEX(Table11[],MATCH(TEXT(hf_kommune[[#This Row],[Kommunenr]],\"0\"),Table11[Nr],0),MATCH(hf_kommune[[#Headers],[2023]],Table11[#Headers],0))","v":39},{"$f":"INDEX(Table11[],MATCH(TEXT(hf_kommune[[#This Row],[Kommunenr]],\"0\"),Table11[Nr],0),MATCH(hf_kommune[[#Headers],[2024]],Table11[#Headers],0))","v":32},{"$f":"INDEX(Table11[],MATCH(TEXT(hf_kommune[[#This Row],[Kommunenr]],\"0\"),Table11[Nr],0),MATCH(hf_kommune[[#Headers],[2025]],Table11[#Headers],0))","v":31},{"$f":"INDEX(Table11[],MATCH(TEXT(hf_kommune[[#This Row],[Kommunenr]],\"0\"),Table11[Nr],0),MATCH(hf_kommune[[#Headers],[2026]],Table11[#Headers],0))","v":29},{"$f":"INDEX(Table11[],MATCH(TEXT(hf_kommune[[#This Row],[Kommunenr]],\"0\"),Table11[Nr],0),MATCH(hf_kommune[[#Headers],[2027]],Table11[#Headers],0))","v":44},{"$f":"INDEX(Table11[],MATCH(TEXT(hf_kommune[[#This Row],[Kommunenr]],\"0\"),Table11[Nr],0),MATCH(hf_kommune[[#Headers],[2028]],Table11[#Headers],0))","v":32},{"$f":"INDEX(Table11[],MATCH(TEXT(hf_kommune[[#This Row],[Kommunenr]],\"0\"),Table11[Nr],0),MATCH(hf_kommune[[#Headers],[2029]],Table11[#Headers],0))","v":38},{"$f":"INDEX(Table11[],MATCH(TEXT(hf_kommune[[#This Row],[Kommunenr]],\"0\"),Table11[Nr],0),MATCH(hf_kommune[[#Headers],[2030]],Table11[#Headers],0))","v":37},{"$f":"INDEX(Table11[],MATCH(TEXT(hf_kommune[[#This Row],[Kommunenr]],\"0\"),Table11[Nr],0),MATCH(hf_kommune[[#Headers],[2031]],Table11[#Headers],0))","v":27},{"$f":"INDEX(Table11[],MATCH(TEXT(hf_kommune[[#This Row],[Kommunenr]],\"0\"),Table11[Nr],0),MATCH(hf_kommune[[#Headers],[2032]],Table11[#Headers],0))","v":26},{"$f":"INDEX(Table11[],MATCH(TEXT(hf_kommune[[#This Row],[Kommunenr]],\"0\"),Table11[Nr],0),MATCH(hf_kommune[[#Headers],[2033]],Table11[#Headers],0))","v":36},{"$f":"INDEX(Table11[],MATCH(TEXT(hf_kommune[[#This Row],[Kommunenr]],\"0\"),Table11[Nr],0),MATCH(hf_kommune[[#Headers],[2034]],Table11[#Headers],0))","v":31},{"$f":"INDEX(Table11[],MATCH(TEXT(hf_kommune[[#This Row],[Kommunenr]],\"0\"),Table11[Nr],0),MATCH(hf_kommune[[#Headers],[2035]],Table11[#Headers],0))","v":35},{"$f":"INDEX(Table11[],MATCH(TEXT(hf_kommune[[#This Row],[Kommunenr]],\"0\"),Table11[Nr],0),MATCH(hf_kommune[[#Headers],[2036]],Table11[#Headers],0))","v":33},{"$f":"INDEX(Table11[],MATCH(TEXT(hf_kommune[[#This Row],[Kommunenr]],\"0\"),Table11[Nr],0),MATCH(hf_kommune[[#Headers],[2037]],Table11[#Headers],0))","v":35},{"$f":"INDEX(Table11[],MATCH(TEXT(hf_kommune[[#This Row],[Kommunenr]],\"0\"),Table11[Nr],0),MATCH(hf_kommune[[#Headers],[2038]],Table11[#Headers],0))","v":31},{"$f":"INDEX(Table11[],MATCH(TEXT(hf_kommune[[#This Row],[Kommunenr]],\"0\"),Table11[Nr],0),MATCH(hf_kommune[[#Headers],[2039]],Table11[#Headers],0))","v":38},{"$f":"INDEX(Table11[],MATCH(TEXT(hf_kommune[[#This Row],[Kommunenr]],\"0\"),Table11[Nr],0),MATCH(hf_kommune[[#Headers],[2040]],Table11[#Headers],0))","v":32},2636,2643,2648,2652,2656,2660,2664,2669,2673,2677,2681,2684,2687,2689,2691,2692,2692,2691,2690]
[3032,"Gjerdrum","Helse Sør-Øst","Akershus universitetssykehus","Ahus",{"$f":"INDEX(Table11[],MATCH(TEXT(hf_kommune[[#This Row],[Kommunenr]],\"0\"),Table11[Nr],0),MATCH(hf_kommune[[#Headers],[2020]],Table11[#Headers],0))","v":114},{"$f":"INDEX(Table11[],MATCH(TEXT(hf_kommune[[#This Row],[Kommunenr]],\"0\"),Table11[Nr],0),MATCH(hf_kommune[[#Headers],[2021]],Table11[#Headers],0))","v":102},{"$f":"INDEX(Table11[],MATCH(TEXT(hf_kommune[[#This Row],[Kommunenr]],\"0\"),Table11[Nr],0),MATCH(hf_kommune[[#Headers],[2022]],Table11[#Headers],0))","v":107},{"$f":"INDEX(Table11[],MATCH(TEXT(hf_kommune[[#This Row],[Kommunenr]],\"0\"),Table11[Nr],0),MATCH(hf_kommune[[#Headers],[2023]],Table11[#Headers],0))","v":122},{"$f":"INDEX(Table11[],MATCH(TEXT(hf_kommune[[#This Row],[Kommunenr]],\"0\"),Table11[Nr],0),MATCH(hf_kommune[[#Headers],[2024]],Table11[#Headers],0))","v":130},{"$f":"INDEX(Table11[],MATCH(TEXT(hf_kommune[[#This Row],[Kommunenr]],\"0\"),Table11[Nr],0),MATCH(hf_kommune[[#Headers],[2025]],Table11[#Headers],0))","v":112},{"$f":"INDEX(Table11[],MATCH(TEXT(hf_kommune[[#This Row],[Kommunenr]],\"0\"),Table11[Nr],0),MATCH(hf_kommune[[#Headers],[2026]],Table11[#Headers],0))","v":122},{"$f":"INDEX(Table11[],MATCH(TEXT(hf_kommune[[#This Row],[Kommunenr]],\"0\"),Table11[Nr],0),MATCH(hf_kommune[[#Headers],[2027]],Table11[#Headers],0))","v":125},{"$f":"INDEX(Table11[],MATCH(TEXT(hf_kommune[[#This Row],[Kommunenr]],\"0\"),Table11[Nr],0),MATCH(hf_kommune[[#Headers],[2028]],Table11[#Headers],0))","v":139},{"$f":"INDEX(Table11[],MATCH(TEXT(hf_kommune[[#This Row],[Kommunenr]],\"0\"),Table11[Nr],0),MATCH(hf_kommune[[#Headers],[2029]],Table11[#Headers],0))","v":109},{"$f":"INDEX(Table11[],MATCH(TEXT(hf_kommune[[#This Row],[Kommunenr]],\"0\"),Table11[Nr],0),MATCH(hf_kommune[[#Headers],[2030]],Table11[#Headers],0))","v":112},{"$f":"INDEX(Table11[],MATCH(TEXT(hf_kommune[[#This Row],[Kommunenr]],\"0\"),Table11[Nr],0),MATCH(hf_kommune[[#Headers],[2031]],Table11[#Headers],0))","v":105},{"$f":"INDEX(Table11[],MATCH(TEXT(hf_kommune[[#This Row],[Kommunenr]],\"0\"),Table11[Nr],0),MATCH(hf_kommune[[#Headers],[2032]],Table11[#Headers],0))","v":104},{"$f":"INDEX(Table11[],MATCH(TEXT(hf_kommune[[#This Row],[Kommunenr]],\"0\"),Table11[Nr],0),MATCH(hf_kommune[[#Headers],[2033]],Table11[#Headers],0))","v":104},{"$f":"INDEX(Table11[],MATCH(TEXT(hf_kommune[[#This Row],[Kommunenr]],\"0\"),Table11[Nr],0),MATCH(hf_kommune[[#Headers],[2034]],Table11[#Headers],0))","v":99},{"$f":"INDEX(Table11[],MATCH(TEXT(hf_kommune[[#This Row],[Kommunenr]],\"0\"),Table11[Nr],0),MATCH(hf_kommune[[#Headers],[2035]],Table11[#Headers],0))","v":106},{"$f":"INDEX(Table11[],MATCH(TEXT(hf_kommune[[#This Row],[Kommunenr]],\"0\"),Table11[Nr],0),MATCH(hf_kommune[[#Headers],[2036]],Table11[#Headers],0))","v":113},{"$f":"INDEX(Table11[],MATCH(TEXT(hf_kommune[[#This Row],[Kommunenr]],\"0\"),Table11[Nr],0),MATCH(hf_kommune[[#Headers],[2037]],Table11[#Headers],0))","v":113},{"$f":"INDEX(Table11[],MATCH(TEXT(hf_kommune[[#This Row],[Kommunenr]],\"0\"),Table11[Nr],0),MATCH(hf_kommune[[#Headers],[2038]],Table11[#Headers],0))","v":110},{"$f":"INDEX(Table11[],MATCH(TEXT(hf_kommune[[#This Row],[Kommunenr]],\"0\"),Table11[Nr],0),MATCH(hf_kommune[[#Headers],[2039]],Table11[#Headers],0))","v":107},{"$f":"INDEX(Table11[],MATCH(TEXT(hf_kommune[[#This Row],[Kommunenr]],\"0\"),Table11[Nr],0),MATCH(hf_kommune[[#Headers],[2040]],Table11[#Headers],0))","v":112},7121,7221,7311,7392,7466,7540,7612,7685,7757,7828,7898,7966,8034,8101,8167,8232,8295,8357,8417]
[4211,"Gjerstad","Helse Sør-Øst","Sørlandet sykehus","Arendal",{"$f":"INDEX(Table11[],MATCH(TEXT(hf_kommune[[#This Row],[Kommunenr]],\"0\"),Table11[Nr],0),MATCH(hf_kommune[[#Headers],[2020]],Table11[#Headers],0))","v":33},{"$f":"INDEX(Table11[],MATCH(TEXT(hf_kommune[[#This Row],[Kommunenr]],\"0\"),Table11[Nr],0),MATCH(hf_kommune[[#Headers],[2021]],Table11[#Headers],0))","v":33},{"$f":"INDEX(Table11[],MATCH(TEXT(hf_kommune[[#This Row],[Kommunenr]],\"0\"),Table11[Nr],0),MATCH(hf_kommune[[#Headers],[2022]],Table11[#Headers],0))","v":27},{"$f":"INDEX(Table11[],MATCH(TEXT(hf_kommune[[#This Row],[Kommunenr]],\"0\"),Table11[Nr],0),MATCH(hf_kommune[[#Headers],[2023]],Table11[#Headers],0))","v":40},{"$f":"INDEX(Table11[],MATCH(TEXT(hf_kommune[[#This Row],[Kommunenr]],\"0\"),Table11[Nr],0),MATCH(hf_kommune[[#Headers],[2024]],Table11[#Headers],0))","v":39},{"$f":"INDEX(Table11[],MATCH(TEXT(hf_kommune[[#This Row],[Kommunenr]],\"0\"),Table11[Nr],0),MATCH(hf_kommune[[#Headers],[2025]],Table11[#Headers],0))","v":42},{"$f":"INDEX(Table11[],MATCH(TEXT(hf_kommune[[#This Row],[Kommunenr]],\"0\"),Table11[Nr],0),MATCH(hf_kommune[[#Headers],[2026]],Table11[#Headers],0))","v":38},{"$f":"INDEX(Table11[],MATCH(TEXT(hf_kommune[[#This Row],[Kommunenr]],\"0\"),Table11[Nr],0),MATCH(hf_kommune[[#Headers],[2027]],Table11[#Headers],0))","v":34},{"$f":"INDEX(Table11[],MATCH(TEXT(hf_kommune[[#This Row],[Kommunenr]],\"0\"),Table11[Nr],0),MATCH(hf_kommune[[#Headers],[2028]],Table11[#Headers],0))","v":45},{"$f":"INDEX(Table11[],MATCH(TEXT(hf_kommune[[#This Row],[Kommunenr]],\"0\"),Table11[Nr],0),MATCH(hf_kommune[[#Headers],[2029]],Table11[#Headers],0))","v":42},{"$f":"INDEX(Table11[],MATCH(TEXT(hf_kommune[[#This Row],[Kommunenr]],\"0\"),Table11[Nr],0),MATCH(hf_kommune[[#Headers],[2030]],Table11[#Headers],0))","v":43},{"$f":"INDEX(Table11[],MATCH(TEXT(hf_kommune[[#This Row],[Kommunenr]],\"0\"),Table11[Nr],0),MATCH(hf_kommune[[#Headers],[2031]],Table11[#Headers],0))","v":33},{"$f":"INDEX(Table11[],MATCH(TEXT(hf_kommune[[#This Row],[Kommunenr]],\"0\"),Table11[Nr],0),MATCH(hf_kommune[[#Headers],[2032]],Table11[#Headers],0))","v":39},{"$f":"INDEX(Table11[],MATCH(TEXT(hf_kommune[[#This Row],[Kommunenr]],\"0\"),Table11[Nr],0),MATCH(hf_kommune[[#Headers],[2033]],Table11[#Headers],0))","v":34},{"$f":"INDEX(Table11[],MATCH(TEXT(hf_kommune[[#This Row],[Kommunenr]],\"0\"),Table11[Nr],0),MATCH(hf_kommune[[#Headers],[2034]],Table11[#Headers],0))","v":34},{"$f":"INDEX(Table11[],MATCH(TEXT(hf_kommune[[#This Row],[Kommunenr]],\"0\"),Table11[Nr],0),MATCH(hf_kommune[[#Headers],[2035]],Table11[#Headers],0))","v":31},{"$f":"INDEX(Table11[],MATCH(TEXT(hf_kommune[[#This Row],[Kommunenr]],\"0\"),Table11[Nr],0),MATCH(hf_kommune[[#Headers],[2036]],Table11[#Headers],0))","v":30},{"$f":"INDEX(Table11[],MATCH(TEXT(hf_kommune[[#This Row],[Kommunenr]],\"0\"),Table11[Nr],0),MATCH(hf_kommune[[#Headers],[2037]],Table11[#Headers],0))","v":28},{"$f":"INDEX(Table11[],MATCH(TEXT(hf_kommune[[#This Row],[Kommunenr]],\"0\"),Table11[Nr],0),MATCH(hf_kommune[[#Headers],[2038]],Table11[#Headers],0))","v":26},{"$f":"INDEX(Table11[],MATCH(TEXT(hf_kommune[[#This Row],[Kommunenr]],\"0\"),Table11[Nr],0),MATCH(hf_kommune[[#Headers],[2039]],Table11[#Headers],0))","v":26},{"$f":"INDEX(Table11[],MATCH(TEXT(hf_kommune[[#This Row],[Kommunenr]],\"0\"),Table11[Nr],0),MATCH(hf_kommune[[#Headers],[2040]],Table11[#Headers],0))","v":29},2384,2371,2362,2359,2359,2360,2362,2363,2365,2365,2367,2368,2369,2370,2370,2371,2371,2371,2371]
[1122,"Gjesdal","Helse Vest","Helse Stavanger","Stavanger",{"$f":"INDEX(Table11[],MATCH(TEXT(hf_kommune[[#This Row],[Kommunenr]],\"0\"),Table11[Nr],0),MATCH(hf_kommune[[#Headers],[2020]],Table11[#Headers],0))","v":146},{"$f":"INDEX(Table11[],MATCH(TEXT(hf_kommune[[#This Row],[Kommunenr]],\"0\"),Table11[Nr],0),MATCH(hf_kommune[[#Headers],[2021]],Table11[#Headers],0))","v":147},{"$f":"INDEX(Table11[],MATCH(TEXT(hf_kommune[[#This Row],[Kommunenr]],\"0\"),Table11[Nr],0),MATCH(hf_kommune[[#Headers],[2022]],Table11[#Headers],0))","v":161},{"$f":"INDEX(Table11[],MATCH(TEXT(hf_kommune[[#This Row],[Kommunenr]],\"0\"),Table11[Nr],0),MATCH(hf_kommune[[#Headers],[2023]],Table11[#Headers],0))","v":151},{"$f":"INDEX(Table11[],MATCH(TEXT(hf_kommune[[#This Row],[Kommunenr]],\"0\"),Table11[Nr],0),MATCH(hf_kommune[[#Headers],[2024]],Table11[#Headers],0))","v":149},{"$f":"INDEX(Table11[],MATCH(TEXT(hf_kommune[[#This Row],[Kommunenr]],\"0\"),Table11[Nr],0),MATCH(hf_kommune[[#Headers],[2025]],Table11[#Headers],0))","v":169},{"$f":"INDEX(Table11[],MATCH(TEXT(hf_kommune[[#This Row],[Kommunenr]],\"0\"),Table11[Nr],0),MATCH(hf_kommune[[#Headers],[2026]],Table11[#Headers],0))","v":146},{"$f":"INDEX(Table11[],MATCH(TEXT(hf_kommune[[#This Row],[Kommunenr]],\"0\"),Table11[Nr],0),MATCH(hf_kommune[[#Headers],[2027]],Table11[#Headers],0))","v":159},{"$f":"INDEX(Table11[],MATCH(TEXT(hf_kommune[[#This Row],[Kommunenr]],\"0\"),Table11[Nr],0),MATCH(hf_kommune[[#Headers],[2028]],Table11[#Headers],0))","v":148},{"$f":"INDEX(Table11[],MATCH(TEXT(hf_kommune[[#This Row],[Kommunenr]],\"0\"),Table11[Nr],0),MATCH(hf_kommune[[#Headers],[2029]],Table11[#Headers],0))","v":153},{"$f":"INDEX(Table11[],MATCH(TEXT(hf_kommune[[#This Row],[Kommunenr]],\"0\"),Table11[Nr],0),MATCH(hf_kommune[[#Headers],[2030]],Table11[#Headers],0))","v":144},{"$f":"INDEX(Table11[],MATCH(TEXT(hf_kommune[[#This Row],[Kommunenr]],\"0\"),Table11[Nr],0),MATCH(hf_kommune[[#Headers],[2031]],Table11[#Headers],0))","v":154},{"$f":"INDEX(Table11[],MATCH(TEXT(hf_kommune[[#This Row],[Kommunenr]],\"0\"),Table11[Nr],0),MATCH(hf_kommune[[#Headers],[2032]],Table11[#Headers],0))","v":167},{"$f":"INDEX(Table11[],MATCH(TEXT(hf_kommune[[#This Row],[Kommunenr]],\"0\"),Table11[Nr],0),MATCH(hf_kommune[[#Headers],[2033]],Table11[#Headers],0))","v":152},{"$f":"INDEX(Table11[],MATCH(TEXT(hf_kommune[[#This Row],[Kommunenr]],\"0\"),Table11[Nr],0),MATCH(hf_kommune[[#Headers],[2034]],Table11[#Headers],0))","v":177},{"$f":"INDEX(Table11[],MATCH(TEXT(hf_kommune[[#This Row],[Kommunenr]],\"0\"),Table11[Nr],0),MATCH(hf_kommune[[#Headers],[2035]],Table11[#Headers],0))","v":185},{"$f":"INDEX(Table11[],MATCH(TEXT(hf_kommune[[#This Row],[Kommunenr]],\"0\"),Table11[Nr],0),MATCH(hf_kommune[[#Headers],[2036]],Table11[#Headers],0))","v":165},{"$f":"INDEX(Table11[],MATCH(TEXT(hf_kommune[[#This Row],[Kommunenr]],\"0\"),Table11[Nr],0),MATCH(hf_kommune[[#Headers],[2037]],Table11[#Headers],0))","v":166},{"$f":"INDEX(Table11[],MATCH(TEXT(hf_kommune[[#This Row],[Kommunenr]],\"0\"),Table11[Nr],0),MATCH(hf_kommune[[#Headers],[2038]],Table11[#Headers],0))","v":174},{"$f":"INDEX(Table11[],MATCH(TEXT(hf_kommune[[#This Row],[Kommunenr]],\"0\"),Table11[Nr],0),MATCH(hf_kommune[[#Headers],[2039]],Table11[#Headers],0))","v":177},{"$f":"INDEX(Table11[],MATCH(TEXT(hf_kommune[[#This Row],[Kommunenr]],\"0\"),Table11[Nr],0),MATCH(hf_kommune[[#Headers],[2040]],Table11[#Headers],0))","v":168},12152,12242,12337,12438,12545,12648,12748,12846,12940,13032,13122,13211,13299,13387,13475,13561,13646,13729,13811]
[3407,"Gjøvik","Helse Sør-Øst","Sykehuset Innlandet","Gjøvik",{"$f":"INDEX(Table11[],MATCH(TEXT(hf_kommune[[#This Row],[Kommunenr]],\"0\"),Table11[Nr],0),MATCH(hf_kommune[[#Headers],[2020]],Table11[#Headers],0))","v":397},{"$f":"INDEX(Table11[],MATCH(TEXT(hf_kommune[[#This Row],[Kommunenr]],\"0\"),Table11[Nr],0),MATCH(hf_kommune[[#Headers],[2021]],Table11[#Headers],0))","v":400},{"$f":"INDEX(Table11[],MATCH(TEXT(hf_kommune[[#This Row],[Kommunenr]],\"0\"),Table11[Nr],0),MATCH(hf_kommune[[#Headers],[2022]],Table11[#Headers],0))","v":408},{"$f":"INDEX(Table11[],MATCH(TEXT(hf_kommune[[#This Row],[Kommunenr]],\"0\"),Table11[Nr],0),MATCH(hf_kommune[[#Headers],[2023]],Table11[#Headers],0))","v":387},{"$f":"INDEX(Table11[],MATCH(TEXT(hf_kommune[[#This Row],[Kommunenr]],\"0\"),Table11[Nr],0),MATCH(hf_kommune[[#Headers],[2024]],Table11[#Headers],0))","v":421},{"$f":"INDEX(Table11[],MATCH(TEXT(hf_kommune[[#This Row],[Kommunenr]],\"0\"),Table11[Nr],0),MATCH(hf_kommune[[#Headers],[2025]],Table11[#Headers],0))","v":414},{"$f":"INDEX(Table11[],MATCH(TEXT(hf_kommune[[#This Row],[Kommunenr]],\"0\"),Table11[Nr],0),MATCH(hf_kommune[[#Headers],[2026]],Table11[#Headers],0))","v":428},{"$f":"INDEX(Table11[],MATCH(TEXT(hf_kommune[[#This Row],[Kommunenr]],\"0\"),Table11[Nr],0),MATCH(hf_kommune[[#Headers],[2027]],Table11[#Headers],0))","v":416},{"$f":"INDEX(Table11[],MATCH(TEXT(hf_kommune[[#This Row],[Kommunenr]],\"0\"),Table11[Nr],0),MATCH(hf_kommune[[#Headers],[2028]],Table11[#Headers],0))","v":403},{"$f":"INDEX(Table11[],MATCH(TEXT(hf_kommune[[#This Row],[Kommunenr]],\"0\"),Table11[Nr],0),MATCH(hf_kommune[[#Headers],[2029]],Table11[#Headers],0))","v":416},{"$f":"INDEX(Table11[],MATCH(TEXT(hf_kommune[[#This Row],[Kommunenr]],\"0\"),Table11[Nr],0),MATCH(hf_kommune[[#Headers],[2030]],Table11[#Headers],0))","v":401},{"$f":"INDEX(Table11[],MATCH(TEXT(hf_kommune[[#This Row],[Kommunenr]],\"0\"),Table11[Nr],0),MATCH(hf_kommune[[#Headers],[2031]],Table11[#Headers],0))","v":389},{"$f":"INDEX(Table11[],MATCH(TEXT(hf_kommune[[#This Row],[Kommunenr]],\"0\"),Table11[Nr],0),MATCH(hf_kommune[[#Headers],[2032]],Table11[#Headers],0))","v":401},{"$f":"INDEX(Table11[],MATCH(TEXT(hf_kommune[[#This Row],[Kommunenr]],\"0\"),Table11[Nr],0),MATCH(hf_kommune[[#Headers],[2033]],Table11[#Headers],0))","v":359},{"$f":"INDEX(Table11[],MATCH(TEXT(hf_kommune[[#This Row],[Kommunenr]],\"0\"),Table11[Nr],0),MATCH(hf_kommune[[#Headers],[2034]],Table11[#Headers],0))","v":365},{"$f":"INDEX(Table11[],MATCH(TEXT(hf_kommune[[#This Row],[Kommunenr]],\"0\"),Table11[Nr],0),MATCH(hf_kommune[[#Headers],[2035]],Table11[#Headers],0))","v":347},{"$f":"INDEX(Table11[],MATCH(TEXT(hf_kommune[[#This Row],[Kommunenr]],\"0\"),Table11[Nr],0),MATCH(hf_kommune[[#Headers],[2036]],Table11[#Headers],0))","v":348},{"$f":"INDEX(Table11[],MATCH(TEXT(hf_kommune[[#This Row],[Kommunenr]],\"0\"),Table11[Nr],0),MATCH(hf_kommune[[#Headers],[2037]],Table11[#Headers],0))","v":364},{"$f":"INDEX(Table11[],MATCH(TEXT(hf_kommune[[#This Row],[Kommunenr]],\"0\"),Table11[Nr],0),MATCH(hf_kommune[[#Headers],[2038]],Table11[#Headers],0))","v":386},{"$f":"INDEX(Table11[],MATCH(TEXT(hf_kommune[[#This Row],[Kommunenr]],\"0\"),Table11[Nr],0),MATCH(hf_kommune[[#Headers],[2039]],Table11[#Headers],0))","v":375},{"$f":"INDEX(Table11[],MATCH(TEXT(hf_kommune[[#This Row],[Kommunenr]],\"0\"),Table11[Nr],0),MATCH(hf_kommune[[#Headers],[2040]],Table11[#Headers],0))","v":360},30605,30661,30725,30801,30888,30978,31070,31162,31255,31347,31435,31522,31608,31694,31780,31864,31946,32025,32100]
[4650,"Gloppen","Helse Vest","Helse Førde","Nordfjordeid",{"$f":"INDEX(Table11[],MATCH(TEXT(hf_kommune[[#This Row],[Kommunenr]],\"0\"),Table11[Nr],0),MATCH(hf_kommune[[#Headers],[2020]],Table11[#Headers],0))","v":72},{"$f":"INDEX(Table11[],MATCH(TEXT(hf_kommune[[#This Row],[Kommunenr]],\"0\"),Table11[Nr],0),MATCH(hf_kommune[[#Headers],[2021]],Table11[#Headers],0))","v":62},{"$f":"INDEX(Table11[],MATCH(TEXT(hf_kommune[[#This Row],[Kommunenr]],\"0\"),Table11[Nr],0),MATCH(hf_kommune[[#Headers],[2022]],Table11[#Headers],0))","v":67},{"$f":"INDEX(Table11[],MATCH(TEXT(hf_kommune[[#This Row],[Kommunenr]],\"0\"),Table11[Nr],0),MATCH(hf_kommune[[#Headers],[2023]],Table11[#Headers],0))","v":84},{"$f":"INDEX(Table11[],MATCH(TEXT(hf_kommune[[#This Row],[Kommunenr]],\"0\"),Table11[Nr],0),MATCH(hf_kommune[[#Headers],[2024]],Table11[#Headers],0))","v":58},{"$f":"INDEX(Table11[],MATCH(TEXT(hf_kommune[[#This Row],[Kommunenr]],\"0\"),Table11[Nr],0),MATCH(hf_kommune[[#Headers],[2025]],Table11[#Headers],0))","v":76},{"$f":"INDEX(Table11[],MATCH(TEXT(hf_kommune[[#This Row],[Kommunenr]],\"0\"),Table11[Nr],0),MATCH(hf_kommune[[#Headers],[2026]],Table11[#Headers],0))","v":84},{"$f":"INDEX(Table11[],MATCH(TEXT(hf_kommune[[#This Row],[Kommunenr]],\"0\"),Table11[Nr],0),MATCH(hf_kommune[[#Headers],[2027]],Table11[#Headers],0))","v":83},{"$f":"INDEX(Table11[],MATCH(TEXT(hf_kommune[[#This Row],[Kommunenr]],\"0\"),Table11[Nr],0),MATCH(hf_kommune[[#Headers],[2028]],Table11[#Headers],0))","v":69},{"$f":"INDEX(Table11[],MATCH(TEXT(hf_kommune[[#This Row],[Kommunenr]],\"0\"),Table11[Nr],0),MATCH(hf_kommune[[#Headers],[2029]],Table11[#Headers],0))","v":77},{"$f":"INDEX(Table11[],MATCH(TEXT(hf_kommune[[#This Row],[Kommunenr]],\"0\"),Table11[Nr],0),MATCH(hf_kommune[[#Headers],[2030]],Table11[#Headers],0))","v":86},{"$f":"INDEX(Table11[],MATCH(TEXT(hf_kommune[[#This Row],[Kommunenr]],\"0\"),Table11[Nr],0),MATCH(hf_kommune[[#Headers],[2031]],Table11[#Headers],0))","v":59},{"$f":"INDEX(Table11[],MATCH(TEXT(hf_kommune[[#This Row],[Kommunenr]],\"0\"),Table11[Nr],0),MATCH(hf_kommune[[#Headers],[2032]],Table11[#Headers],0))","v":72},{"$f":"INDEX(Table11[],MATCH(TEXT(hf_kommune[[#This Row],[Kommunenr]],\"0\"),Table11[Nr],0),MATCH(hf_kommune[[#Headers],[2033]],Table11[#Headers],0))","v":65},{"$f":"INDEX(Table11[],MATCH(TEXT(hf_kommune[[#This Row],[Kommunenr]],\"0\"),Table11[Nr],0),MATCH(hf_kommune[[#Headers],[2034]],Table11[#Headers],0))","v":62},{"$f":"INDEX(Table11[],MATCH(TEXT(hf_kommune[[#This Row],[Kommunenr]],\"0\"),Table11[Nr],0),MATCH(hf_kommune[[#Headers],[2035]],Table11[#Headers],0))","v":60},{"$f":"INDEX(Table11[],MATCH(TEXT(hf_kommune[[#This Row],[Kommunenr]],\"0\"),Table11[Nr],0),MATCH(hf_kommune[[#Headers],[2036]],Table11[#Headers],0))","v":65},{"$f":"INDEX(Table11[],MATCH(TEXT(hf_kommune[[#This Row],[Kommunenr]],\"0\"),Table11[Nr],0),MATCH(hf_kommune[[#Headers],[2037]],Table11[#Headers],0))","v":64},{"$f":"INDEX(Table11[],MATCH(TEXT(hf_kommune[[#This Row],[Kommunenr]],\"0\"),Table11[Nr],0),MATCH(hf_kommune[[#Headers],[2038]],Table11[#Headers],0))","v":75},{"$f":"INDEX(Table11[],MATCH(TEXT(hf_kommune[[#This Row],[Kommunenr]],\"0\"),Table11[Nr],0),MATCH(hf_kommune[[#Headers],[2039]],Table11[#Headers],0))","v":69},{"$f":"INDEX(Table11[],MATCH(TEXT(hf_kommune[[#This Row],[Kommunenr]],\"0\"),Table11[Nr],0),MATCH(hf_kommune[[#Headers],[2040]],Table11[#Headers],0))","v":61},5789,5773,5760,5750,5742,5734,5727,5720,5714,5708,5702,5696,5690,5684,5677,5669,5661,5651,5640]
[3041,"Gol","Helse Sør-Øst","Vestre Viken","Ringerike",{"$f":"INDEX(Table11[],MATCH(TEXT(hf_kommune[[#This Row],[Kommunenr]],\"0\"),Table11[Nr],0),MATCH(hf_kommune[[#Headers],[2020]],Table11[#Headers],0))","v":65},{"$f":"INDEX(Table11[],MATCH(TEXT(hf_kommune[[#This Row],[Kommunenr]],\"0\"),Table11[Nr],0),MATCH(hf_kommune[[#Headers],[2021]],Table11[#Headers],0))","v":64},{"$f":"INDEX(Table11[],MATCH(TEXT(hf_kommune[[#This Row],[Kommunenr]],\"0\"),Table11[Nr],0),MATCH(hf_kommune[[#Headers],[2022]],Table11[#Headers],0))","v":67},{"$f":"INDEX(Table11[],MATCH(TEXT(hf_kommune[[#This Row],[Kommunenr]],\"0\"),Table11[Nr],0),MATCH(hf_kommune[[#Headers],[2023]],Table11[#Headers],0))","v":85},{"$f":"INDEX(Table11[],MATCH(TEXT(hf_kommune[[#This Row],[Kommunenr]],\"0\"),Table11[Nr],0),MATCH(hf_kommune[[#Headers],[2024]],Table11[#Headers],0))","v":80},{"$f":"INDEX(Table11[],MATCH(TEXT(hf_kommune[[#This Row],[Kommunenr]],\"0\"),Table11[Nr],0),MATCH(hf_kommune[[#Headers],[2025]],Table11[#Headers],0))","v":64},{"$f":"INDEX(Table11[],MATCH(TEXT(hf_kommune[[#This Row],[Kommunenr]],\"0\"),Table11[Nr],0),MATCH(hf_kommune[[#Headers],[2026]],Table11[#Headers],0))","v":67},{"$f":"INDEX(Table11[],MATCH(TEXT(hf_kommune[[#This Row],[Kommunenr]],\"0\"),Table11[Nr],0),MATCH(hf_kommune[[#Headers],[2027]],Table11[#Headers],0))","v":95},{"$f":"INDEX(Table11[],MATCH(TEXT(hf_kommune[[#This Row],[Kommunenr]],\"0\"),Table11[Nr],0),MATCH(hf_kommune[[#Headers],[2028]],Table11[#Headers],0))","v":75},{"$f":"INDEX(Table11[],MATCH(TEXT(hf_kommune[[#This Row],[Kommunenr]],\"0\"),Table11[Nr],0),MATCH(hf_kommune[[#Headers],[2029]],Table11[#Headers],0))","v":67},{"$f":"INDEX(Table11[],MATCH(TEXT(hf_kommune[[#This Row],[Kommunenr]],\"0\"),Table11[Nr],0),MATCH(hf_kommune[[#Headers],[2030]],Table11[#Headers],0))","v":75},{"$f":"INDEX(Table11[],MATCH(TEXT(hf_kommune[[#This Row],[Kommunenr]],\"0\"),Table11[Nr],0),MATCH(hf_kommune[[#Headers],[2031]],Table11[#Headers],0))","v":60},{"$f":"INDEX(Table11[],MATCH(TEXT(hf_kommune[[#This Row],[Kommunenr]],\"0\"),Table11[Nr],0),MATCH(hf_kommune[[#Headers],[2032]],Table11[#Headers],0))","v":64},{"$f":"INDEX(Table11[],MATCH(TEXT(hf_kommune[[#This Row],[Kommunenr]],\"0\"),Table11[Nr],0),MATCH(hf_kommune[[#Headers],[2033]],Table11[#Headers],0))","v":61},{"$f":"INDEX(Table11[],MATCH(TEXT(hf_kommune[[#This Row],[Kommunenr]],\"0\"),Table11[Nr],0),MATCH(hf_kommune[[#Headers],[2034]],Table11[#Headers],0))","v":66},{"$f":"INDEX(Table11[],MATCH(TEXT(hf_kommune[[#This Row],[Kommunenr]],\"0\"),Table11[Nr],0),MATCH(hf_kommune[[#Headers],[2035]],Table11[#Headers],0))","v":62},{"$f":"INDEX(Table11[],MATCH(TEXT(hf_kommune[[#This Row],[Kommunenr]],\"0\"),Table11[Nr],0),MATCH(hf_kommune[[#Headers],[2036]],Table11[#Headers],0))","v":67},{"$f":"INDEX(Table11[],MATCH(TEXT(hf_kommune[[#This Row],[Kommunenr]],\"0\"),Table11[Nr],0),MATCH(hf_kommune[[#Headers],[2037]],Table11[#Headers],0))","v":55},{"$f":"INDEX(Table11[],MATCH(TEXT(hf_kommune[[#This Row],[Kommunenr]],\"0\"),Table11[Nr],0),MATCH(hf_kommune[[#Headers],[2038]],Table11[#Headers],0))","v":57},{"$f":"INDEX(Table11[],MATCH(TEXT(hf_kommune[[#This Row],[Kommunenr]],\"0\"),Table11[Nr],0),MATCH(hf_kommune[[#Headers],[2039]],Table11[#Headers],0))","v":57},{"$f":"INDEX(Table11[],MATCH(TEXT(hf_kommune[[#This Row],[Kommunenr]],\"0\"),Table11[Nr],0),MATCH(hf_kommune[[#Headers],[2040]],Table11[#Headers],0))","v":64},4643,4659,4672,4684,4695,4708,4722,4738,4754,4770,4787,4803,4819,4835,4850,4865,4879,4892,4904]
[3446,"Gran","Helse Sør-Øst","Sykehuset Innlandet","Gjøvik",{"$f":"INDEX(Table11[],MATCH(TEXT(hf_kommune[[#This Row],[Kommunenr]],\"0\"),Table11[Nr],0),MATCH(hf_kommune[[#Headers],[2020]],Table11[#Headers],0))","v":234},{"$f":"INDEX(Table11[],MATCH(TEXT(hf_kommune[[#This Row],[Kommunenr]],\"0\"),Table11[Nr],0),MATCH(hf_kommune[[#Headers],[2021]],Table11[#Headers],0))","v":200},{"$f":"INDEX(Table11[],MATCH(TEXT(hf_kommune[[#This Row],[Kommunenr]],\"0\"),Table11[Nr],0),MATCH(hf_kommune[[#Headers],[2022]],Table11[#Headers],0))","v":207},{"$f":"INDEX(Table11[],MATCH(TEXT(hf_kommune[[#This Row],[Kommunenr]],\"0\"),Table11[Nr],0),MATCH(hf_kommune[[#Headers],[2023]],Table11[#Headers],0))","v":217},{"$f":"INDEX(Table11[],MATCH(TEXT(hf_kommune[[#This Row],[Kommunenr]],\"0\"),Table11[Nr],0),MATCH(hf_kommune[[#Headers],[2024]],Table11[#Headers],0))","v":190},{"$f":"INDEX(Table11[],MATCH(TEXT(hf_kommune[[#This Row],[Kommunenr]],\"0\"),Table11[Nr],0),MATCH(hf_kommune[[#Headers],[2025]],Table11[#Headers],0))","v":230},{"$f":"INDEX(Table11[],MATCH(TEXT(hf_kommune[[#This Row],[Kommunenr]],\"0\"),Table11[Nr],0),MATCH(hf_kommune[[#Headers],[2026]],Table11[#Headers],0))","v":223},{"$f":"INDEX(Table11[],MATCH(TEXT(hf_kommune[[#This Row],[Kommunenr]],\"0\"),Table11[Nr],0),MATCH(hf_kommune[[#Headers],[2027]],Table11[#Headers],0))","v":208},{"$f":"INDEX(Table11[],MATCH(TEXT(hf_kommune[[#This Row],[Kommunenr]],\"0\"),Table11[Nr],0),MATCH(hf_kommune[[#Headers],[2028]],Table11[#Headers],0))","v":207},{"$f":"INDEX(Table11[],MATCH(TEXT(hf_kommune[[#This Row],[Kommunenr]],\"0\"),Table11[Nr],0),MATCH(hf_kommune[[#Headers],[2029]],Table11[#Headers],0))","v":206},{"$f":"INDEX(Table11[],MATCH(TEXT(hf_kommune[[#This Row],[Kommunenr]],\"0\"),Table11[Nr],0),MATCH(hf_kommune[[#Headers],[2030]],Table11[#Headers],0))","v":215},{"$f":"INDEX(Table11[],MATCH(TEXT(hf_kommune[[#This Row],[Kommunenr]],\"0\"),Table11[Nr],0),MATCH(hf_kommune[[#Headers],[2031]],Table11[#Headers],0))","v":198},{"$f":"INDEX(Table11[],MATCH(TEXT(hf_kommune[[#This Row],[Kommunenr]],\"0\"),Table11[Nr],0),MATCH(hf_kommune[[#Headers],[2032]],Table11[#Headers],0))","v":173},{"$f":"INDEX(Table11[],MATCH(TEXT(hf_kommune[[#This Row],[Kommunenr]],\"0\"),Table11[Nr],0),MATCH(hf_kommune[[#Headers],[2033]],Table11[#Headers],0))","v":175},{"$f":"INDEX(Table11[],MATCH(TEXT(hf_kommune[[#This Row],[Kommunenr]],\"0\"),Table11[Nr],0),MATCH(hf_kommune[[#Headers],[2034]],Table11[#Headers],0))","v":182},{"$f":"INDEX(Table11[],MATCH(TEXT(hf_kommune[[#This Row],[Kommunenr]],\"0\"),Table11[Nr],0),MATCH(hf_kommune[[#Headers],[2035]],Table11[#Headers],0))","v":173},{"$f":"INDEX(Table11[],MATCH(TEXT(hf_kommune[[#This Row],[Kommunenr]],\"0\"),Table11[Nr],0),MATCH(hf_kommune[[#Headers],[2036]],Table11[#Headers],0))","v":167},{"$f":"INDEX(Table11[],MATCH(TEXT(hf_kommune[[#This Row],[Kommunenr]],\"0\"),Table11[Nr],0),MATCH(hf_kommune[[#Headers],[2037]],Table11[#Headers],0))","v":164},{"$f":"INDEX(Table11[],MATCH(TEXT(hf_kommune[[#This Row],[Kommunenr]],\"0\"),Table11[Nr],0),MATCH(hf_kommune[[#Headers],[2038]],Table11[#Headers],0))","v":181},{"$f":"INDEX(Table11[],MATCH(TEXT(hf_kommune[[#This Row],[Kommunenr]],\"0\"),Table11[Nr],0),MATCH(hf_kommune[[#Headers],[2039]],Table11[#Headers],0))","v":171},{"$f":"INDEX(Table11[],MATCH(TEXT(hf_kommune[[#This Row],[Kommunenr]],\"0\"),Table11[Nr],0),MATCH(hf_kommune[[#Headers],[2040]],Table11[#Headers],0))","v":176},13551,13534,13526,13526,13536,13548,13561,13577,13595,13614,13633,13654,13676,13699,13724,13750,13777,13803,13828]
[1825,"Grane","Helse Nord","Helgelandssykehuset","Mosjøen",{"$f":"INDEX(Table11[],MATCH(TEXT(hf_kommune[[#This Row],[Kommunenr]],\"0\"),Table11[Nr],0),MATCH(hf_kommune[[#Headers],[2020]],Table11[#Headers],0))","v":22},{"$f":"INDEX(Table11[],MATCH(TEXT(hf_kommune[[#This Row],[Kommunenr]],\"0\"),Table11[Nr],0),MATCH(hf_kommune[[#Headers],[2021]],Table11[#Headers],0))","v":19},{"$f":"INDEX(Table11[],MATCH(TEXT(hf_kommune[[#This Row],[Kommunenr]],\"0\"),Table11[Nr],0),MATCH(hf_kommune[[#Headers],[2022]],Table11[#Headers],0))","v":24},{"$f":"INDEX(Table11[],MATCH(TEXT(hf_kommune[[#This Row],[Kommunenr]],\"0\"),Table11[Nr],0),MATCH(hf_kommune[[#Headers],[2023]],Table11[#Headers],0))","v":23},{"$f":"INDEX(Table11[],MATCH(TEXT(hf_kommune[[#This Row],[Kommunenr]],\"0\"),Table11[Nr],0),MATCH(hf_kommune[[#Headers],[2024]],Table11[#Headers],0))","v":22},{"$f":"INDEX(Table11[],MATCH(TEXT(hf_kommune[[#This Row],[Kommunenr]],\"0\"),Table11[Nr],0),MATCH(hf_kommune[[#Headers],[2025]],Table11[#Headers],0))","v":25},{"$f":"INDEX(Table11[],MATCH(TEXT(hf_kommune[[#This Row],[Kommunenr]],\"0\"),Table11[Nr],0),MATCH(hf_kommune[[#Headers],[2026]],Table11[#Headers],0))","v":19},{"$f":"INDEX(Table11[],MATCH(TEXT(hf_kommune[[#This Row],[Kommunenr]],\"0\"),Table11[Nr],0),MATCH(hf_kommune[[#Headers],[2027]],Table11[#Headers],0))","v":16},{"$f":"INDEX(Table11[],MATCH(TEXT(hf_kommune[[#This Row],[Kommunenr]],\"0\"),Table11[Nr],0),MATCH(hf_kommune[[#Headers],[2028]],Table11[#Headers],0))","v":18},{"$f":"INDEX(Table11[],MATCH(TEXT(hf_kommune[[#This Row],[Kommunenr]],\"0\"),Table11[Nr],0),MATCH(hf_kommune[[#Headers],[2029]],Table11[#Headers],0))","v":18},{"$f":"INDEX(Table11[],MATCH(TEXT(hf_kommune[[#This Row],[Kommunenr]],\"0\"),Table11[Nr],0),MATCH(hf_kommune[[#Headers],[2030]],Table11[#Headers],0))","v":12},{"$f":"INDEX(Table11[],MATCH(TEXT(hf_kommune[[#This Row],[Kommunenr]],\"0\"),Table11[Nr],0),MATCH(hf_kommune[[#Headers],[2031]],Table11[#Headers],0))","v":17},{"$f":"INDEX(Table11[],MATCH(TEXT(hf_kommune[[#This Row],[Kommunenr]],\"0\"),Table11[Nr],0),MATCH(hf_kommune[[#Headers],[2032]],Table11[#Headers],0))","v":16},{"$f":"INDEX(Table11[],MATCH(TEXT(hf_kommune[[#This Row],[Kommunenr]],\"0\"),Table11[Nr],0),MATCH(hf_kommune[[#Headers],[2033]],Table11[#Headers],0))","v":17},{"$f":"INDEX(Table11[],MATCH(TEXT(hf_kommune[[#This Row],[Kommunenr]],\"0\"),Table11[Nr],0),MATCH(hf_kommune[[#Headers],[2034]],Table11[#Headers],0))","v":12},{"$f":"INDEX(Table11[],MATCH(TEXT(hf_kommune[[#This Row],[Kommunenr]],\"0\"),Table11[Nr],0),MATCH(hf_kommune[[#Headers],[2035]],Table11[#Headers],0))","v":14},{"$f":"INDEX(Table11[],MATCH(TEXT(hf_kommune[[#This Row],[Kommunenr]],\"0\"),Table11[Nr],0),MATCH(hf_kommune[[#Headers],[2036]],Table11[#Headers],0))","v":17},{"$f":"INDEX(Table11[],MATCH(TEXT(hf_kommune[[#This Row],[Kommunenr]],\"0\"),Table11[Nr],0),MATCH(hf_kommune[[#Headers],[2037]],Table11[#Headers],0))","v":17},{"$f":"INDEX(Table11[],MATCH(TEXT(hf_kommune[[#This Row],[Kommunenr]],\"0\"),Table11[Nr],0),MATCH(hf_kommune[[#Headers],[2038]],Table11[#Headers],0))","v":16},{"$f":"INDEX(Table11[],MATCH(TEXT(hf_kommune[[#This Row],[Kommunenr]],\"0\"),Table11[Nr],0),MATCH(hf_kommune[[#Headers],[2039]],Table11[#Headers],0))","v":13},{"$f":"INDEX(Table11[],MATCH(TEXT(hf_kommune[[#This Row],[Kommunenr]],\"0\"),Table11[Nr],0),MATCH(hf_kommune[[#Headers],[2040]],Table11[#Headers],0))","v":14},1480,1479,1477,1472,1466,1460,1455,1450,1445,1440,1436,1431,1426,1422,1418,1414,1410,1405,1401]
[5414,"Gratangen","Helse Nord","Universitetssykehuset Nord-Norge","Narvik",{"$f":"INDEX(Table11[],MATCH(TEXT(hf_kommune[[#This Row],[Kommunenr]],\"0\"),Table11[Nr],0),MATCH(hf_kommune[[#Headers],[2020]],Table11[#Headers],0))","v":22},{"$f":"INDEX(Table11[],MATCH(TEXT(hf_kommune[[#This Row],[Kommunenr]],\"0\"),Table11[Nr],0),MATCH(hf_kommune[[#Headers],[2021]],Table11[#Headers],0))","v":19},{"$f":"INDEX(Table11[],MATCH(TEXT(hf_kommune[[#This Row],[Kommunenr]],\"0\"),Table11[Nr],0),MATCH(hf_kommune[[#Headers],[2022]],Table11[#Headers],0))","v":19},{"$f":"INDEX(Table11[],MATCH(TEXT(hf_kommune[[#This Row],[Kommunenr]],\"0\"),Table11[Nr],0),MATCH(hf_kommune[[#Headers],[2023]],Table11[#Headers],0))","v":13},{"$f":"INDEX(Table11[],MATCH(TEXT(hf_kommune[[#This Row],[Kommunenr]],\"0\"),Table11[Nr],0),MATCH(hf_kommune[[#Headers],[2024]],Table11[#Headers],0))","v":21},{"$f":"INDEX(Table11[],MATCH(TEXT(hf_kommune[[#This Row],[Kommunenr]],\"0\"),Table11[Nr],0),MATCH(hf_kommune[[#Headers],[2025]],Table11[#Headers],0))","v":19},{"$f":"INDEX(Table11[],MATCH(TEXT(hf_kommune[[#This Row],[Kommunenr]],\"0\"),Table11[Nr],0),MATCH(hf_kommune[[#Headers],[2026]],Table11[#Headers],0))","v":14},{"$f":"INDEX(Table11[],MATCH(TEXT(hf_kommune[[#This Row],[Kommunenr]],\"0\"),Table11[Nr],0),MATCH(hf_kommune[[#Headers],[2027]],Table11[#Headers],0))","v":20},{"$f":"INDEX(Table11[],MATCH(TEXT(hf_kommune[[#This Row],[Kommunenr]],\"0\"),Table11[Nr],0),MATCH(hf_kommune[[#Headers],[2028]],Table11[#Headers],0))","v":18},{"$f":"INDEX(Table11[],MATCH(TEXT(hf_kommune[[#This Row],[Kommunenr]],\"0\"),Table11[Nr],0),MATCH(hf_kommune[[#Headers],[2029]],Table11[#Headers],0))","v":21},{"$f":"INDEX(Table11[],MATCH(TEXT(hf_kommune[[#This Row],[Kommunenr]],\"0\"),Table11[Nr],0),MATCH(hf_kommune[[#Headers],[2030]],Table11[#Headers],0))","v":15},{"$f":"INDEX(Table11[],MATCH(TEXT(hf_kommune[[#This Row],[Kommunenr]],\"0\"),Table11[Nr],0),MATCH(hf_kommune[[#Headers],[2031]],Table11[#Headers],0))","v":11},{"$f":"INDEX(Table11[],MATCH(TEXT(hf_kommune[[#This Row],[Kommunenr]],\"0\"),Table11[Nr],0),MATCH(hf_kommune[[#Headers],[2032]],Table11[#Headers],0))","v":13},{"$f":"INDEX(Table11[],MATCH(TEXT(hf_kommune[[#This Row],[Kommunenr]],\"0\"),Table11[Nr],0),MATCH(hf_kommune[[#Headers],[2033]],Table11[#Headers],0))","v":13},{"$f":"INDEX(Table11[],MATCH(TEXT(hf_kommune[[#This Row],[Kommunenr]],\"0\"),Table11[Nr],0),MATCH(hf_kommune[[#Headers],[2034]],Table11[#Headers],0))","v":16},{"$f":"INDEX(Table11[],MATCH(TEXT(hf_kommune[[#This Row],[Kommunenr]],\"0\"),Table11[Nr],0),MATCH(hf_kommune[[#Headers],[2035]],Table11[#Headers],0))","v":14},{"$f":"INDEX(Table11[],MATCH(TEXT(hf_kommune[[#This Row],[Kommunenr]],\"0\"),Table11[Nr],0),MATCH(hf_kommune[[#Headers],[2036]],Table11[#Headers],0))","v":15},{"$f":"INDEX(Table11[],MATCH(TEXT(hf_kommune[[#This Row],[Kommunenr]],\"0\"),Table11[Nr],0),MATCH(hf_kommune[[#Headers],[2037]],Table11[#Headers],0))","v":15},{"$f":"INDEX(Table11[],MATCH(TEXT(hf_kommune[[#This Row],[Kommunenr]],\"0\"),Table11[Nr],0),MATCH(hf_kommune[[#Headers],[2038]],Table11[#Headers],0))","v":13},{"$f":"INDEX(Table11[],MATCH(TEXT(hf_kommune[[#This Row],[Kommunenr]],\"0\"),Table11[Nr],0),MATCH(hf_kommune[[#Headers],[2039]],Table11[#Headers],0))","v":15},{"$f":"INDEX(Table11[],MATCH(TEXT(hf_kommune[[#This Row],[Kommunenr]],\"0\"),Table11[Nr],0),MATCH(hf_kommune[[#Headers],[2040]],Table11[#Headers],0))","v":13},1090,1092,1093,1094,1095,1096,1098,1100,1102,1104,1107,1109,1111,1113,1115,1117,1119,1121,1123]
[4202,"Grimstad","Helse Sør-Øst","Sørlandet sykehus","Arendal",{"$f":"INDEX(Table11[],MATCH(TEXT(hf_kommune[[#This Row],[Kommunenr]],\"0\"),Table11[Nr],0),MATCH(hf_kommune[[#Headers],[2020]],Table11[#Headers],0))","v":307},{"$f":"INDEX(Table11[],MATCH(TEXT(hf_kommune[[#This Row],[Kommunenr]],\"0\"),Table11[Nr],0),MATCH(hf_kommune[[#Headers],[2021]],Table11[#Headers],0))","v":290},{"$f":"INDEX(Table11[],MATCH(TEXT(hf_kommune[[#This Row],[Kommunenr]],\"0\"),Table11[Nr],0),MATCH(hf_kommune[[#Headers],[2022]],Table11[#Headers],0))","v":315},{"$f":"INDEX(Table11[],MATCH(TEXT(hf_kommune[[#This Row],[Kommunenr]],\"0\"),Table11[Nr],0),MATCH(hf_kommune[[#Headers],[2023]],Table11[#Headers],0))","v":291},{"$f":"INDEX(Table11[],MATCH(TEXT(hf_kommune[[#This Row],[Kommunenr]],\"0\"),Table11[Nr],0),MATCH(hf_kommune[[#Headers],[2024]],Table11[#Headers],0))","v":337},{"$f":"INDEX(Table11[],MATCH(TEXT(hf_kommune[[#This Row],[Kommunenr]],\"0\"),Table11[Nr],0),MATCH(hf_kommune[[#Headers],[2025]],Table11[#Headers],0))","v":345},{"$f":"INDEX(Table11[],MATCH(TEXT(hf_kommune[[#This Row],[Kommunenr]],\"0\"),Table11[Nr],0),MATCH(hf_kommune[[#Headers],[2026]],Table11[#Headers],0))","v":322},{"$f":"INDEX(Table11[],MATCH(TEXT(hf_kommune[[#This Row],[Kommunenr]],\"0\"),Table11[Nr],0),MATCH(hf_kommune[[#Headers],[2027]],Table11[#Headers],0))","v":330},{"$f":"INDEX(Table11[],MATCH(TEXT(hf_kommune[[#This Row],[Kommunenr]],\"0\"),Table11[Nr],0),MATCH(hf_kommune[[#Headers],[2028]],Table11[#Headers],0))","v":320},{"$f":"INDEX(Table11[],MATCH(TEXT(hf_kommune[[#This Row],[Kommunenr]],\"0\"),Table11[Nr],0),MATCH(hf_kommune[[#Headers],[2029]],Table11[#Headers],0))","v":352},{"$f":"INDEX(Table11[],MATCH(TEXT(hf_kommune[[#This Row],[Kommunenr]],\"0\"),Table11[Nr],0),MATCH(hf_kommune[[#Headers],[2030]],Table11[#Headers],0))","v":343},{"$f":"INDEX(Table11[],MATCH(TEXT(hf_kommune[[#This Row],[Kommunenr]],\"0\"),Table11[Nr],0),MATCH(hf_kommune[[#Headers],[2031]],Table11[#Headers],0))","v":319},{"$f":"INDEX(Table11[],MATCH(TEXT(hf_kommune[[#This Row],[Kommunenr]],\"0\"),Table11[Nr],0),MATCH(hf_kommune[[#Headers],[2032]],Table11[#Headers],0))","v":310},{"$f":"INDEX(Table11[],MATCH(TEXT(hf_kommune[[#This Row],[Kommunenr]],\"0\"),Table11[Nr],0),MATCH(hf_kommune[[#Headers],[2033]],Table11[#Headers],0))","v":299},{"$f":"INDEX(Table11[],MATCH(TEXT(hf_kommune[[#This Row],[Kommunenr]],\"0\"),Table11[Nr],0),MATCH(hf_kommune[[#Headers],[2034]],Table11[#Headers],0))","v":294},{"$f":"INDEX(Table11[],MATCH(TEXT(hf_kommune[[#This Row],[Kommunenr]],\"0\"),Table11[Nr],0),MATCH(hf_kommune[[#Headers],[2035]],Table11[#Headers],0))","v":295},{"$f":"INDEX(Table11[],MATCH(TEXT(hf_kommune[[#This Row],[Kommunenr]],\"0\"),Table11[Nr],0),MATCH(hf_kommune[[#Headers],[2036]],Table11[#Headers],0))","v":319},{"$f":"INDEX(Table11[],MATCH(TEXT(hf_kommune[[#This Row],[Kommunenr]],\"0\"),Table11[Nr],0),MATCH(hf_kommune[[#Headers],[2037]],Table11[#Headers],0))","v":309},{"$f":"INDEX(Table11[],MATCH(TEXT(hf_kommune[[#This Row],[Kommunenr]],\"0\"),Table11[Nr],0),MATCH(hf_kommune[[#Headers],[2038]],Table11[#Headers],0))","v":299},{"$f":"INDEX(Table11[],MATCH(TEXT(hf_kommune[[#This Row],[Kommunenr]],\"0\"),Table11[Nr],0),MATCH(hf_kommune[[#Headers],[2039]],Table11[#Headers],0))","v":326},{"$f":"INDEX(Table11[],MATCH(TEXT(hf_kommune[[#This Row],[Kommunenr]],\"0\"),Table11[Nr],0),MATCH(hf_kommune[[#Headers],[2040]],Table11[#Headers],0))","v":300},24050,24272,24464,24633,24781,24929,25078,25227,25373,25515,25653,25787,25919,26047,26174,26297,26415,26528,26637]
[5045,"Grong","Helse Midt-Norge","Helse Nord-Trøndelag","Namsos",{"$f":"INDEX(Table11[],MATCH(TEXT(hf_kommune[[#This Row],[Kommunenr]],\"0\"),Table11[Nr],0),MATCH(hf_kommune[[#Headers],[2020]],Table11[#Headers],0))","v":26},{"$f":"INDEX(Table11[],MATCH(TEXT(hf_kommune[[#This Row],[Kommunenr]],\"0\"),Table11[Nr],0),MATCH(hf_kommune[[#Headers],[2021]],Table11[#Headers],0))","v":32},{"$f":"INDEX(Table11[],MATCH(TEXT(hf_kommune[[#This Row],[Kommunenr]],\"0\"),Table11[Nr],0),MATCH(hf_kommune[[#Headers],[2022]],Table11[#Headers],0))","v":34},{"$f":"INDEX(Table11[],MATCH(TEXT(hf_kommune[[#This Row],[Kommunenr]],\"0\"),Table11[Nr],0),MATCH(hf_kommune[[#Headers],[2023]],Table11[#Headers],0))","v":40},{"$f":"INDEX(Table11[],MATCH(TEXT(hf_kommune[[#This Row],[Kommunenr]],\"0\"),Table11[Nr],0),MATCH(hf_kommune[[#Headers],[2024]],Table11[#Headers],0))","v":36},{"$f":"INDEX(Table11[],MATCH(TEXT(hf_kommune[[#This Row],[Kommunenr]],\"0\"),Table11[Nr],0),MATCH(hf_kommune[[#Headers],[2025]],Table11[#Headers],0))","v":25},{"$f":"INDEX(Table11[],MATCH(TEXT(hf_kommune[[#This Row],[Kommunenr]],\"0\"),Table11[Nr],0),MATCH(hf_kommune[[#Headers],[2026]],Table11[#Headers],0))","v":33},{"$f":"INDEX(Table11[],MATCH(TEXT(hf_kommune[[#This Row],[Kommunenr]],\"0\"),Table11[Nr],0),MATCH(hf_kommune[[#Headers],[2027]],Table11[#Headers],0))","v":26},{"$f":"INDEX(Table11[],MATCH(TEXT(hf_kommune[[#This Row],[Kommunenr]],\"0\"),Table11[Nr],0),MATCH(hf_kommune[[#Headers],[2028]],Table11[#Headers],0))","v":27},{"$f":"INDEX(Table11[],MATCH(TEXT(hf_kommune[[#This Row],[Kommunenr]],\"0\"),Table11[Nr],0),MATCH(hf_kommune[[#Headers],[2029]],Table11[#Headers],0))","v":29},{"$f":"INDEX(Table11[],MATCH(TEXT(hf_kommune[[#This Row],[Kommunenr]],\"0\"),Table11[Nr],0),MATCH(hf_kommune[[#Headers],[2030]],Table11[#Headers],0))","v":33},{"$f":"INDEX(Table11[],MATCH(TEXT(hf_kommune[[#This Row],[Kommunenr]],\"0\"),Table11[Nr],0),MATCH(hf_kommune[[#Headers],[2031]],Table11[#Headers],0))","v":24},{"$f":"INDEX(Table11[],MATCH(TEXT(hf_kommune[[#This Row],[Kommunenr]],\"0\"),Table11[Nr],0),MATCH(hf_kommune[[#Headers],[2032]],Table11[#Headers],0))","v":24},{"$f":"INDEX(Table11[],MATCH(TEXT(hf_kommune[[#This Row],[Kommunenr]],\"0\"),Table11[Nr],0),MATCH(hf_kommune[[#Headers],[2033]],Table11[#Headers],0))","v":22},{"$f":"INDEX(Table11[],MATCH(TEXT(hf_kommune[[#This Row],[Kommunenr]],\"0\"),Table11[Nr],0),MATCH(hf_kommune[[#Headers],[2034]],Table11[#Headers],0))","v":22},{"$f":"INDEX(Table11[],MATCH(TEXT(hf_kommune[[#This Row],[Kommunenr]],\"0\"),Table11[Nr],0),MATCH(hf_kommune[[#Headers],[2035]],Table11[#Headers],0))","v":21},{"$f":"INDEX(Table11[],MATCH(TEXT(hf_kommune[[#This Row],[Kommunenr]],\"0\"),Table11[Nr],0),MATCH(hf_kommune[[#Headers],[2036]],Table11[#Headers],0))","v":22},{"$f":"INDEX(Table11[],MATCH(TEXT(hf_kommune[[#This Row],[Kommunenr]],\"0\"),Table11[Nr],0),MATCH(hf_kommune[[#Headers],[2037]],Table11[#Headers],0))","v":27},{"$f":"INDEX(Table11[],MATCH(TEXT(hf_kommune[[#This Row],[Kommunenr]],\"0\"),Table11[Nr],0),MATCH(hf_kommune[[#Headers],[2038]],Table11[#Headers],0))","v":22},{"$f":"INDEX(Table11[],MATCH(TEXT(hf_kommune[[#This Row],[Kommunenr]],\"0\"),Table11[Nr],0),MATCH(hf_kommune[[#Headers],[2039]],Table11[#Headers],0))","v":27},{"$f":"INDEX(Table11[],MATCH(TEXT(hf_kommune[[#This Row],[Kommunenr]],\"0\"),Table11[Nr],0),MATCH(hf_kommune[[#Headers],[2040]],Table11[#Headers],0))","v":26},2358,2365,2374,2386,2400,2413,2426,2437,2447,2456,2465,2472,2479,2485,2491,2497,2503,2508,2512]
[3417,"Grue","Helse Sør-Øst","Akershus universitetssykehus","Kongsvinger",{"$f":"INDEX(Table11[],MATCH(TEXT(hf_kommune[[#This Row],[Kommunenr]],\"0\"),Table11[Nr],0),MATCH(hf_kommune[[#Headers],[2020]],Table11[#Headers],0))","v":80},{"$f":"INDEX(Table11[],MATCH(TEXT(hf_kommune[[#This Row],[Kommunenr]],\"0\"),Table11[Nr],0),MATCH(hf_kommune[[#Headers],[2021]],Table11[#Headers],0))","v":79},{"$f":"INDEX(Table11[],MATCH(TEXT(hf_kommune[[#This Row],[Kommunenr]],\"0\"),Table11[Nr],0),MATCH(hf_kommune[[#Headers],[2022]],Table11[#Headers],0))","v":75},{"$f":"INDEX(Table11[],MATCH(TEXT(hf_kommune[[#This Row],[Kommunenr]],\"0\"),Table11[Nr],0),MATCH(hf_kommune[[#Headers],[2023]],Table11[#Headers],0))","v":83},{"$f":"INDEX(Table11[],MATCH(TEXT(hf_kommune[[#This Row],[Kommunenr]],\"0\"),Table11[Nr],0),MATCH(hf_kommune[[#Headers],[2024]],Table11[#Headers],0))","v":99},{"$f":"INDEX(Table11[],MATCH(TEXT(hf_kommune[[#This Row],[Kommunenr]],\"0\"),Table11[Nr],0),MATCH(hf_kommune[[#Headers],[2025]],Table11[#Headers],0))","v":77},{"$f":"INDEX(Table11[],MATCH(TEXT(hf_kommune[[#This Row],[Kommunenr]],\"0\"),Table11[Nr],0),MATCH(hf_kommune[[#Headers],[2026]],Table11[#Headers],0))","v":73},{"$f":"INDEX(Table11[],MATCH(TEXT(hf_kommune[[#This Row],[Kommunenr]],\"0\"),Table11[Nr],0),MATCH(hf_kommune[[#Headers],[2027]],Table11[#Headers],0))","v":66},{"$f":"INDEX(Table11[],MATCH(TEXT(hf_kommune[[#This Row],[Kommunenr]],\"0\"),Table11[Nr],0),MATCH(hf_kommune[[#Headers],[2028]],Table11[#Headers],0))","v":62},{"$f":"INDEX(Table11[],MATCH(TEXT(hf_kommune[[#This Row],[Kommunenr]],\"0\"),Table11[Nr],0),MATCH(hf_kommune[[#Headers],[2029]],Table11[#Headers],0))","v":69},{"$f":"INDEX(Table11[],MATCH(TEXT(hf_kommune[[#This Row],[Kommunenr]],\"0\"),Table11[Nr],0),MATCH(hf_kommune[[#Headers],[2030]],Table11[#Headers],0))","v":67},{"$f":"INDEX(Table11[],MATCH(TEXT(hf_kommune[[#This Row],[Kommunenr]],\"0\"),Table11[Nr],0),MATCH(hf_kommune[[#Headers],[2031]],Table11[#Headers],0))","v":59},{"$f":"INDEX(Table11[],MATCH(TEXT(hf_kommune[[#This Row],[Kommunenr]],\"0\"),Table11[Nr],0),MATCH(hf_kommune[[#Headers],[2032]],Table11[#Headers],0))","v":64},{"$f":"INDEX(Table11[],MATCH(TEXT(hf_kommune[[#This Row],[Kommunenr]],\"0\"),Table11[Nr],0),MATCH(hf_kommune[[#Headers],[2033]],Table11[#Headers],0))","v":55},{"$f":"INDEX(Table11[],MATCH(TEXT(hf_kommune[[#This Row],[Kommunenr]],\"0\"),Table11[Nr],0),MATCH(hf_kommune[[#Headers],[2034]],Table11[#Headers],0))","v":51},{"$f":"INDEX(Table11[],MATCH(TEXT(hf_kommune[[#This Row],[Kommunenr]],\"0\"),Table11[Nr],0),MATCH(hf_kommune[[#Headers],[2035]],Table11[#Headers],0))","v":55},{"$f":"INDEX(Table11[],MATCH(TEXT(hf_kommune[[#This Row],[Kommunenr]],\"0\"),Table11[Nr],0),MATCH(hf_kommune[[#Headers],[2036]],Table11[#Headers],0))","v":50},{"$f":"INDEX(Table11[],MATCH(TEXT(hf_kommune[[#This Row],[Kommunenr]],\"0\"),Table11[Nr],0),MATCH(hf_kommune[[#Headers],[2037]],Table11[#Headers],0))","v":58},{"$f":"INDEX(Table11[],MATCH(TEXT(hf_kommune[[#This Row],[Kommunenr]],\"0\"),Table11[Nr],0),MATCH(hf_kommune[[#Headers],[2038]],Table11[#Headers],0))","v":53},{"$f":"INDEX(Table11[],MATCH(TEXT(hf_kommune[[#This Row],[Kommunenr]],\"0\"),Table11[Nr],0),MATCH(hf_kommune[[#Headers],[2039]],Table11[#Headers],0))","v":50},{"$f":"INDEX(Table11[],MATCH(TEXT(hf_kommune[[#This Row],[Kommunenr]],\"0\"),Table11[Nr],0),MATCH(hf_kommune[[#Headers],[2040]],Table11[#Headers],0))","v":52},4597,4593,4589,4584,4580,4577,4574,4573,4573,4573,4573,4573,4574,4574,4574,4573,4572,4571,4568]
[4635,"Gulen","Helse Vest","Helse Bergen","Haukeland",{"$f":"INDEX(Table11[],MATCH(TEXT(hf_kommune[[#This Row],[Kommunenr]],\"0\"),Table11[Nr],0),MATCH(hf_kommune[[#Headers],[2020]],Table11[#Headers],0))","v":37},{"$f":"INDEX(Table11[],MATCH(TEXT(hf_kommune[[#This Row],[Kommunenr]],\"0\"),Table11[Nr],0),MATCH(hf_kommune[[#Headers],[2021]],Table11[#Headers],0))","v":29},{"$f":"INDEX(Table11[],MATCH(TEXT(hf_kommune[[#This Row],[Kommunenr]],\"0\"),Table11[Nr],0),MATCH(hf_kommune[[#Headers],[2022]],Table11[#Headers],0))","v":29},{"$f":"INDEX(Table11[],MATCH(TEXT(hf_kommune[[#This Row],[Kommunenr]],\"0\"),Table11[Nr],0),MATCH(hf_kommune[[#Headers],[2023]],Table11[#Headers],0))","v":39},{"$f":"INDEX(Table11[],MATCH(TEXT(hf_kommune[[#This Row],[Kommunenr]],\"0\"),Table11[Nr],0),MATCH(hf_kommune[[#Headers],[2024]],Table11[#Headers],0))","v":48},{"$f":"INDEX(Table11[],MATCH(TEXT(hf_kommune[[#This Row],[Kommunenr]],\"0\"),Table11[Nr],0),MATCH(hf_kommune[[#Headers],[2025]],Table11[#Headers],0))","v":31},{"$f":"INDEX(Table11[],MATCH(TEXT(hf_kommune[[#This Row],[Kommunenr]],\"0\"),Table11[Nr],0),MATCH(hf_kommune[[#Headers],[2026]],Table11[#Headers],0))","v":36},{"$f":"INDEX(Table11[],MATCH(TEXT(hf_kommune[[#This Row],[Kommunenr]],\"0\"),Table11[Nr],0),MATCH(hf_kommune[[#Headers],[2027]],Table11[#Headers],0))","v":24},{"$f":"INDEX(Table11[],MATCH(TEXT(hf_kommune[[#This Row],[Kommunenr]],\"0\"),Table11[Nr],0),MATCH(hf_kommune[[#Headers],[2028]],Table11[#Headers],0))","v":35},{"$f":"INDEX(Table11[],MATCH(TEXT(hf_kommune[[#This Row],[Kommunenr]],\"0\"),Table11[Nr],0),MATCH(hf_kommune[[#Headers],[2029]],Table11[#Headers],0))","v":33},{"$f":"INDEX(Table11[],MATCH(TEXT(hf_kommune[[#This Row],[Kommunenr]],\"0\"),Table11[Nr],0),MATCH(hf_kommune[[#Headers],[2030]],Table11[#Headers],0))","v":29},{"$f":"INDEX(Table11[],MATCH(TEXT(hf_kommune[[#This Row],[Kommunenr]],\"0\"),Table11[Nr],0),MATCH(hf_kommune[[#Headers],[2031]],Table11[#Headers],0))","v":24},{"$f":"INDEX(Table11[],MATCH(TEXT(hf_kommune[[#This Row],[Kommunenr]],\"0\"),Table11[Nr],0),MATCH(hf_kommune[[#Headers],[2032]],Table11[#Headers],0))","v":31},{"$f":"INDEX(Table11[],MATCH(TEXT(hf_kommune[[#This Row],[Kommunenr]],\"0\"),Table11[Nr],0),MATCH(hf_kommune[[#Headers],[2033]],Table11[#Headers],0))","v":22},{"$f":"INDEX(Table11[],MATCH(TEXT(hf_kommune[[#This Row],[Kommunenr]],\"0\"),Table11[Nr],0),MATCH(hf_kommune[[#Headers],[2034]],Table11[#Headers],0))","v":22},{"$f":"INDEX(Table11[],MATCH(TEXT(hf_kommune[[#This Row],[Kommunenr]],\"0\"),Table11[Nr],0),MATCH(hf_kommune[[#Headers],[2035]],Table11[#Headers],0))","v":25},{"$f":"INDEX(Table11[],MATCH(TEXT(hf_kommune[[#This Row],[Kommunenr]],\"0\"),Table11[Nr],0),MATCH(hf_kommune[[#Headers],[2036]],Table11[#Headers],0))","v":27},{"$f":"INDEX(Table11[],MATCH(TEXT(hf_kommune[[#This Row],[Kommunenr]],\"0\"),Table11[Nr],0),MATCH(hf_kommune[[#Headers],[2037]],Table11[#Headers],0))","v":24},{"$f":"INDEX(Table11[],MATCH(TEXT(hf_kommune[[#This Row],[Kommunenr]],\"0\"),Table11[Nr],0),MATCH(hf_kommune[[#Headers],[2038]],Table11[#Headers],0))","v":28},{"$f":"INDEX(Table11[],MATCH(TEXT(hf_kommune[[#This Row],[Kommunenr]],\"0\"),Table11[Nr],0),MATCH(hf_kommune[[#Headers],[2039]],Table11[#Headers],0))","v":25},{"$f":"INDEX(Table11[],MATCH(TEXT(hf_kommune[[#This Row],[Kommunenr]],\"0\"),Table11[Nr],0),MATCH(hf_kommune[[#Headers],[2040]],Table11[#Headers],0))","v":26},2267,2258,2254,2252,2253,2256,2259,2263,2267,2272,2276,2281,2285,2289,2293,2297,2300,2303,2305]
[5430,"Guovdageaidnu - Kautokeino","Helse Nord","Finnmarkssykehuset","Hammerfest",{"$f":"INDEX(Table11[],MATCH(TEXT(hf_kommune[[#This Row],[Kommunenr]],\"0\"),Table11[Nr],0),MATCH(hf_kommune[[#Headers],[2020]],Table11[#Headers],0))","v":30},{"$f":"INDEX(Table11[],MATCH(TEXT(hf_kommune[[#This Row],[Kommunenr]],\"0\"),Table11[Nr],0),MATCH(hf_kommune[[#Headers],[2021]],Table11[#Headers],0))","v":30},{"$f":"INDEX(Table11[],MATCH(TEXT(hf_kommune[[#This Row],[Kommunenr]],\"0\"),Table11[Nr],0),MATCH(hf_kommune[[#Headers],[2022]],Table11[#Headers],0))","v":44},{"$f":"INDEX(Table11[],MATCH(TEXT(hf_kommune[[#This Row],[Kommunenr]],\"0\"),Table11[Nr],0),MATCH(hf_kommune[[#Headers],[2023]],Table11[#Headers],0))","v":40},{"$f":"INDEX(Table11[],MATCH(TEXT(hf_kommune[[#This Row],[Kommunenr]],\"0\"),Table11[Nr],0),MATCH(hf_kommune[[#Headers],[2024]],Table11[#Headers],0))","v":46},{"$f":"INDEX(Table11[],MATCH(TEXT(hf_kommune[[#This Row],[Kommunenr]],\"0\"),Table11[Nr],0),MATCH(hf_kommune[[#Headers],[2025]],Table11[#Headers],0))","v":51},{"$f":"INDEX(Table11[],MATCH(TEXT(hf_kommune[[#This Row],[Kommunenr]],\"0\"),Table11[Nr],0),MATCH(hf_kommune[[#Headers],[2026]],Table11[#Headers],0))","v":31},{"$f":"INDEX(Table11[],MATCH(TEXT(hf_kommune[[#This Row],[Kommunenr]],\"0\"),Table11[Nr],0),MATCH(hf_kommune[[#Headers],[2027]],Table11[#Headers],0))","v":35},{"$f":"INDEX(Table11[],MATCH(TEXT(hf_kommune[[#This Row],[Kommunenr]],\"0\"),Table11[Nr],0),MATCH(hf_kommune[[#Headers],[2028]],Table11[#Headers],0))","v":37},{"$f":"INDEX(Table11[],MATCH(TEXT(hf_kommune[[#This Row],[Kommunenr]],\"0\"),Table11[Nr],0),MATCH(hf_kommune[[#Headers],[2029]],Table11[#Headers],0))","v":34},{"$f":"INDEX(Table11[],MATCH(TEXT(hf_kommune[[#This Row],[Kommunenr]],\"0\"),Table11[Nr],0),MATCH(hf_kommune[[#Headers],[2030]],Table11[#Headers],0))","v":39},{"$f":"INDEX(Table11[],MATCH(TEXT(hf_kommune[[#This Row],[Kommunenr]],\"0\"),Table11[Nr],0),MATCH(hf_kommune[[#Headers],[2031]],Table11[#Headers],0))","v":32},{"$f":"INDEX(Table11[],MATCH(TEXT(hf_kommune[[#This Row],[Kommunenr]],\"0\"),Table11[Nr],0),MATCH(hf_kommune[[#Headers],[2032]],Table11[#Headers],0))","v":32},{"$f":"INDEX(Table11[],MATCH(TEXT(hf_kommune[[#This Row],[Kommunenr]],\"0\"),Table11[Nr],0),MATCH(hf_kommune[[#Headers],[2033]],Table11[#Headers],0))","v":28},{"$f":"INDEX(Table11[],MATCH(TEXT(hf_kommune[[#This Row],[Kommunenr]],\"0\"),Table11[Nr],0),MATCH(hf_kommune[[#Headers],[2034]],Table11[#Headers],0))","v":40},{"$f":"INDEX(Table11[],MATCH(TEXT(hf_kommune[[#This Row],[Kommunenr]],\"0\"),Table11[Nr],0),MATCH(hf_kommune[[#Headers],[2035]],Table11[#Headers],0))","v":38},{"$f":"INDEX(Table11[],MATCH(TEXT(hf_kommune[[#This Row],[Kommunenr]],\"0\"),Table11[Nr],0),MATCH(hf_kommune[[#Headers],[2036]],Table11[#Headers],0))","v":26},{"$f":"INDEX(Table11[],MATCH(TEXT(hf_kommune[[#This Row],[Kommunenr]],\"0\"),Table11[Nr],0),MATCH(hf_kommune[[#Headers],[2037]],Table11[#Headers],0))","v":34},{"$f":"INDEX(Table11[],MATCH(TEXT(hf_kommune[[#This Row],[Kommunenr]],\"0\"),Table11[Nr],0),MATCH(hf_kommune[[#Headers],[2038]],Table11[#Headers],0))","v":30},{"$f":"INDEX(Table11[],MATCH(TEXT(hf_kommune[[#This Row],[Kommunenr]],\"0\"),Table11[Nr],0),MATCH(hf_kommune[[#Headers],[2039]],Table11[#Headers],0))","v":35},{"$f":"INDEX(Table11[],MATCH(TEXT(hf_kommune[[#This Row],[Kommunenr]],\"0\"),Table11[Nr],0),MATCH(hf_kommune[[#Headers],[2040]],Table11[#Headers],0))","v":34},2869,2853,2838,2826,2816,2805,2795,2785,2775,2765,2755,2745,2735,2725,2714,2705,2694,2684,2674]
[1866,"Hadsel","Helse Nord","Nordlandssykehuset","Stokmarknes",{"$f":"INDEX(Table11[],MATCH(TEXT(hf_kommune[[#This Row],[Kommunenr]],\"0\"),Table11[Nr],0),MATCH(hf_kommune[[#Headers],[2020]],Table11[#Headers],0))","v":103},{"$f":"INDEX(Table11[],MATCH(TEXT(hf_kommune[[#This Row],[Kommunenr]],\"0\"),Table11[Nr],0),MATCH(hf_kommune[[#Headers],[2021]],Table11[#Headers],0))","v":118},{"$f":"INDEX(Table11[],MATCH(TEXT(hf_kommune[[#This Row],[Kommunenr]],\"0\"),Table11[Nr],0),MATCH(hf_kommune[[#Headers],[2022]],Table11[#Headers],0))","v":123},{"$f":"INDEX(Table11[],MATCH(TEXT(hf_kommune[[#This Row],[Kommunenr]],\"0\"),Table11[Nr],0),MATCH(hf_kommune[[#Headers],[2023]],Table11[#Headers],0))","v":140},{"$f":"INDEX(Table11[],MATCH(TEXT(hf_kommune[[#This Row],[Kommunenr]],\"0\"),Table11[Nr],0),MATCH(hf_kommune[[#Headers],[2024]],Table11[#Headers],0))","v":121},{"$f":"INDEX(Table11[],MATCH(TEXT(hf_kommune[[#This Row],[Kommunenr]],\"0\"),Table11[Nr],0),MATCH(hf_kommune[[#Headers],[2025]],Table11[#Headers],0))","v":102},{"$f":"INDEX(Table11[],MATCH(TEXT(hf_kommune[[#This Row],[Kommunenr]],\"0\"),Table11[Nr],0),MATCH(hf_kommune[[#Headers],[2026]],Table11[#Headers],0))","v":119},{"$f":"INDEX(Table11[],MATCH(TEXT(hf_kommune[[#This Row],[Kommunenr]],\"0\"),Table11[Nr],0),MATCH(hf_kommune[[#Headers],[2027]],Table11[#Headers],0))","v":132},{"$f":"INDEX(Table11[],MATCH(TEXT(hf_kommune[[#This Row],[Kommunenr]],\"0\"),Table11[Nr],0),MATCH(hf_kommune[[#Headers],[2028]],Table11[#Headers],0))","v":113},{"$f":"INDEX(Table11[],MATCH(TEXT(hf_kommune[[#This Row],[Kommunenr]],\"0\"),Table11[Nr],0),MATCH(hf_kommune[[#Headers],[2029]],Table11[#Headers],0))","v":99},{"$f":"INDEX(Table11[],MATCH(TEXT(hf_kommune[[#This Row],[Kommunenr]],\"0\"),Table11[Nr],0),MATCH(hf_kommune[[#Headers],[2030]],Table11[#Headers],0))","v":106},{"$f":"INDEX(Table11[],MATCH(TEXT(hf_kommune[[#This Row],[Kommunenr]],\"0\"),Table11[Nr],0),MATCH(hf_kommune[[#Headers],[2031]],Table11[#Headers],0))","v":83},{"$f":"INDEX(Table11[],MATCH(TEXT(hf_kommune[[#This Row],[Kommunenr]],\"0\"),Table11[Nr],0),MATCH(hf_kommune[[#Headers],[2032]],Table11[#Headers],0))","v":93},{"$f":"INDEX(Table11[],MATCH(TEXT(hf_kommune[[#This Row],[Kommunenr]],\"0\"),Table11[Nr],0),MATCH(hf_kommune[[#Headers],[2033]],Table11[#Headers],0))","v":94},{"$f":"INDEX(Table11[],MATCH(TEXT(hf_kommune[[#This Row],[Kommunenr]],\"0\"),Table11[Nr],0),MATCH(hf_kommune[[#Headers],[2034]],Table11[#Headers],0))","v":96},{"$f":"INDEX(Table11[],MATCH(TEXT(hf_kommune[[#This Row],[Kommunenr]],\"0\"),Table11[Nr],0),MATCH(hf_kommune[[#Headers],[2035]],Table11[#Headers],0))","v":92},{"$f":"INDEX(Table11[],MATCH(TEXT(hf_kommune[[#This Row],[Kommunenr]],\"0\"),Table11[Nr],0),MATCH(hf_kommune[[#Headers],[2036]],Table11[#Headers],0))","v":86},{"$f":"INDEX(Table11[],MATCH(TEXT(hf_kommune[[#This Row],[Kommunenr]],\"0\"),Table11[Nr],0),MATCH(hf_kommune[[#Headers],[2037]],Table11[#Headers],0))","v":88},{"$f":"INDEX(Table11[],MATCH(TEXT(hf_kommune[[#This Row],[Kommunenr]],\"0\"),Table11[Nr],0),MATCH(hf_kommune[[#Headers],[2038]],Table11[#Headers],0))","v":96},{"$f":"INDEX(Table11[],MATCH(TEXT(hf_kommune[[#This Row],[Kommunenr]],\"0\"),Table11[Nr],0),MATCH(hf_kommune[[#Headers],[2039]],Table11[#Headers],0))","v":100},{"$f":"INDEX(Table11[],MATCH(TEXT(hf_kommune[[#This Row],[Kommunenr]],\"0\"),Table11[Nr],0),MATCH(hf_kommune[[#Headers],[2040]],Table11[#Headers],0))","v":92},8023,8016,8009,8002,7996,7990,7985,7980,7974,7967,7960,7952,7944,7936,7928,7920,7911,7902,7892]
[3001,"Halden","Helse Sør-Øst","Sykehuset Østfold","Kalnes",{"$f":"INDEX(Table11[],MATCH(TEXT(hf_kommune[[#This Row],[Kommunenr]],\"0\"),Table11[Nr],0),MATCH(hf_kommune[[#Headers],[2020]],Table11[#Headers],0))","v":407},{"$f":"INDEX(Table11[],MATCH(TEXT(hf_kommune[[#This Row],[Kommunenr]],\"0\"),Table11[Nr],0),MATCH(hf_kommune[[#Headers],[2021]],Table11[#Headers],0))","v":482},{"$f":"INDEX(Table11[],MATCH(TEXT(hf_kommune[[#This Row],[Kommunenr]],\"0\"),Table11[Nr],0),MATCH(hf_kommune[[#Headers],[2022]],Table11[#Headers],0))","v":462},{"$f":"INDEX(Table11[],MATCH(TEXT(hf_kommune[[#This Row],[Kommunenr]],\"0\"),Table11[Nr],0),MATCH(hf_kommune[[#Headers],[2023]],Table11[#Headers],0))","v":456},{"$f":"INDEX(Table11[],MATCH(TEXT(hf_kommune[[#This Row],[Kommunenr]],\"0\"),Table11[Nr],0),MATCH(hf_kommune[[#Headers],[2024]],Table11[#Headers],0))","v":508},{"$f":"INDEX(Table11[],MATCH(TEXT(hf_kommune[[#This Row],[Kommunenr]],\"0\"),Table11[Nr],0),MATCH(hf_kommune[[#Headers],[2025]],Table11[#Headers],0))","v":432},{"$f":"INDEX(Table11[],MATCH(TEXT(hf_kommune[[#This Row],[Kommunenr]],\"0\"),Table11[Nr],0),MATCH(hf_kommune[[#Headers],[2026]],Table11[#Headers],0))","v":445},{"$f":"INDEX(Table11[],MATCH(TEXT(hf_kommune[[#This Row],[Kommunenr]],\"0\"),Table11[Nr],0),MATCH(hf_kommune[[#Headers],[2027]],Table11[#Headers],0))","v":466},{"$f":"INDEX(Table11[],MATCH(TEXT(hf_kommune[[#This Row],[Kommunenr]],\"0\"),Table11[Nr],0),MATCH(hf_kommune[[#Headers],[2028]],Table11[#Headers],0))","v":469},{"$f":"INDEX(Table11[],MATCH(TEXT(hf_kommune[[#This Row],[Kommunenr]],\"0\"),Table11[Nr],0),MATCH(hf_kommune[[#Headers],[2029]],Table11[#Headers],0))","v":445},{"$f":"INDEX(Table11[],MATCH(TEXT(hf_kommune[[#This Row],[Kommunenr]],\"0\"),Table11[Nr],0),MATCH(hf_kommune[[#Headers],[2030]],Table11[#Headers],0))","v":438},{"$f":"INDEX(Table11[],MATCH(TEXT(hf_kommune[[#This Row],[Kommunenr]],\"0\"),Table11[Nr],0),MATCH(hf_kommune[[#Headers],[2031]],Table11[#Headers],0))","v":421},{"$f":"INDEX(Table11[],MATCH(TEXT(hf_kommune[[#This Row],[Kommunenr]],\"0\"),Table11[Nr],0),MATCH(hf_kommune[[#Headers],[2032]],Table11[#Headers],0))","v":418},{"$f":"INDEX(Table11[],MATCH(TEXT(hf_kommune[[#This Row],[Kommunenr]],\"0\"),Table11[Nr],0),MATCH(hf_kommune[[#Headers],[2033]],Table11[#Headers],0))","v":426},{"$f":"INDEX(Table11[],MATCH(TEXT(hf_kommune[[#This Row],[Kommunenr]],\"0\"),Table11[Nr],0),MATCH(hf_kommune[[#Headers],[2034]],Table11[#Headers],0))","v":422},{"$f":"INDEX(Table11[],MATCH(TEXT(hf_kommune[[#This Row],[Kommunenr]],\"0\"),Table11[Nr],0),MATCH(hf_kommune[[#Headers],[2035]],Table11[#Headers],0))","v":419},{"$f":"INDEX(Table11[],MATCH(TEXT(hf_kommune[[#This Row],[Kommunenr]],\"0\"),Table11[Nr],0),MATCH(hf_kommune[[#Headers],[2036]],Table11[#Headers],0))","v":424},{"$f":"INDEX(Table11[],MATCH(TEXT(hf_kommune[[#This Row],[Kommunenr]],\"0\"),Table11[Nr],0),MATCH(hf_kommune[[#Headers],[2037]],Table11[#Headers],0))","v":401},{"$f":"INDEX(Table11[],MATCH(TEXT(hf_kommune[[#This Row],[Kommunenr]],\"0\"),Table11[Nr],0),MATCH(hf_kommune[[#Headers],[2038]],Table11[#Headers],0))","v":412},{"$f":"INDEX(Table11[],MATCH(TEXT(hf_kommune[[#This Row],[Kommunenr]],\"0\"),Table11[Nr],0),MATCH(hf_kommune[[#Headers],[2039]],Table11[#Headers],0))","v":393},{"$f":"INDEX(Table11[],MATCH(TEXT(hf_kommune[[#This Row],[Kommunenr]],\"0\"),Table11[Nr],0),MATCH(hf_kommune[[#Headers],[2040]],Table11[#Headers],0))","v":445},31592,31724,31869,32025,32194,32359,32520,32680,32839,32996,33151,33303,33453,33601,33747,33891,34029,34163,34292]
[3403,"Hamar","Helse Sør-Øst","Sykehuset Innlandet","Hamar",{"$f":"INDEX(Table11[],MATCH(TEXT(hf_kommune[[#This Row],[Kommunenr]],\"0\"),Table11[Nr],0),MATCH(hf_kommune[[#Headers],[2020]],Table11[#Headers],0))","v":403},{"$f":"INDEX(Table11[],MATCH(TEXT(hf_kommune[[#This Row],[Kommunenr]],\"0\"),Table11[Nr],0),MATCH(hf_kommune[[#Headers],[2021]],Table11[#Headers],0))","v":448},{"$f":"INDEX(Table11[],MATCH(TEXT(hf_kommune[[#This Row],[Kommunenr]],\"0\"),Table11[Nr],0),MATCH(hf_kommune[[#Headers],[2022]],Table11[#Headers],0))","v":410},{"$f":"INDEX(Table11[],MATCH(TEXT(hf_kommune[[#This Row],[Kommunenr]],\"0\"),Table11[Nr],0),MATCH(hf_kommune[[#Headers],[2023]],Table11[#Headers],0))","v":440},{"$f":"INDEX(Table11[],MATCH(TEXT(hf_kommune[[#This Row],[Kommunenr]],\"0\"),Table11[Nr],0),MATCH(hf_kommune[[#Headers],[2024]],Table11[#Headers],0))","v":389},{"$f":"INDEX(Table11[],MATCH(TEXT(hf_kommune[[#This Row],[Kommunenr]],\"0\"),Table11[Nr],0),MATCH(hf_kommune[[#Headers],[2025]],Table11[#Headers],0))","v":458},{"$f":"INDEX(Table11[],MATCH(TEXT(hf_kommune[[#This Row],[Kommunenr]],\"0\"),Table11[Nr],0),MATCH(hf_kommune[[#Headers],[2026]],Table11[#Headers],0))","v":444},{"$f":"INDEX(Table11[],MATCH(TEXT(hf_kommune[[#This Row],[Kommunenr]],\"0\"),Table11[Nr],0),MATCH(hf_kommune[[#Headers],[2027]],Table11[#Headers],0))","v":419},{"$f":"INDEX(Table11[],MATCH(TEXT(hf_kommune[[#This Row],[Kommunenr]],\"0\"),Table11[Nr],0),MATCH(hf_kommune[[#Headers],[2028]],Table11[#Headers],0))","v":472},{"$f":"INDEX(Table11[],MATCH(TEXT(hf_kommune[[#This Row],[Kommunenr]],\"0\"),Table11[Nr],0),MATCH(hf_kommune[[#Headers],[2029]],Table11[#Headers],0))","v":403},{"$f":"INDEX(Table11[],MATCH(TEXT(hf_kommune[[#This Row],[Kommunenr]],\"0\"),Table11[Nr],0),MATCH(hf_kommune[[#Headers],[2030]],Table11[#Headers],0))","v":410},{"$f":"INDEX(Table11[],MATCH(TEXT(hf_kommune[[#This Row],[Kommunenr]],\"0\"),Table11[Nr],0),MATCH(hf_kommune[[#Headers],[2031]],Table11[#Headers],0))","v":424},{"$f":"INDEX(Table11[],MATCH(TEXT(hf_kommune[[#This Row],[Kommunenr]],\"0\"),Table11[Nr],0),MATCH(hf_kommune[[#Headers],[2032]],Table11[#Headers],0))","v":414},{"$f":"INDEX(Table11[],MATCH(TEXT(hf_kommune[[#This Row],[Kommunenr]],\"0\"),Table11[Nr],0),MATCH(hf_kommune[[#Headers],[2033]],Table11[#Headers],0))","v":411},{"$f":"INDEX(Table11[],MATCH(TEXT(hf_kommune[[#This Row],[Kommunenr]],\"0\"),Table11[Nr],0),MATCH(hf_kommune[[#Headers],[2034]],Table11[#Headers],0))","v":394},{"$f":"INDEX(Table11[],MATCH(TEXT(hf_kommune[[#This Row],[Kommunenr]],\"0\"),Table11[Nr],0),MATCH(hf_kommune[[#Headers],[2035]],Table11[#Headers],0))","v":434},{"$f":"INDEX(Table11[],MATCH(TEXT(hf_kommune[[#This Row],[Kommunenr]],\"0\"),Table11[Nr],0),MATCH(hf_kommune[[#Headers],[2036]],Table11[#Headers],0))","v":423},{"$f":"INDEX(Table11[],MATCH(TEXT(hf_kommune[[#This Row],[Kommunenr]],\"0\"),Table11[Nr],0),MATCH(hf_kommune[[#Headers],[2037]],Table11[#Headers],0))","v":387},{"$f":"INDEX(Table11[],MATCH(TEXT(hf_kommune[[#This Row],[Kommunenr]],\"0\"),Table11[Nr],0),MATCH(hf_kommune[[#Headers],[2038]],Table11[#Headers],0))","v":431},{"$f":"INDEX(Table11[],MATCH(TEXT(hf_kommune[[#This Row],[Kommunenr]],\"0\"),Table11[Nr],0),MATCH(hf_kommune[[#Headers],[2039]],Table11[#Headers],0))","v":445},{"$f":"INDEX(Table11[],MATCH(TEXT(hf_kommune[[#This Row],[Kommunenr]],\"0\"),Table11[Nr],0),MATCH(hf_kommune[[#Headers],[2040]],Table11[#Headers],0))","v":440},31912,32161,32384,32587,32772,32959,33146,33331,33514,33692,33864,34030,34191,34347,34497,34639,34772,34896,35013]
[1875,"Hamarøy","Helse Nord","Nordlandssykehuset","Bodø",{"$f":"INDEX(Table11[],MATCH(TEXT(hf_kommune[[#This Row],[Kommunenr]],\"0\"),Table11[Nr],0),MATCH(hf_kommune[[#Headers],[2020]],Table11[#Headers],0))","v":37},{"$f":"INDEX(Table11[],MATCH(TEXT(hf_kommune[[#This Row],[Kommunenr]],\"0\"),Table11[Nr],0),MATCH(hf_kommune[[#Headers],[2021]],Table11[#Headers],0))","v":41},{"$f":"INDEX(Table11[],MATCH(TEXT(hf_kommune[[#This Row],[Kommunenr]],\"0\"),Table11[Nr],0),MATCH(hf_kommune[[#Headers],[2022]],Table11[#Headers],0))","v":41},{"$f":"INDEX(Table11[],MATCH(TEXT(hf_kommune[[#This Row],[Kommunenr]],\"0\"),Table11[Nr],0),MATCH(hf_kommune[[#Headers],[2023]],Table11[#Headers],0))","v":40},{"$f":"INDEX(Table11[],MATCH(TEXT(hf_kommune[[#This Row],[Kommunenr]],\"0\"),Table11[Nr],0),MATCH(hf_kommune[[#Headers],[2024]],Table11[#Headers],0))","v":24},{"$f":"INDEX(Table11[],MATCH(TEXT(hf_kommune[[#This Row],[Kommunenr]],\"0\"),Table11[Nr],0),MATCH(hf_kommune[[#Headers],[2025]],Table11[#Headers],0))","v":37},{"$f":"INDEX(Table11[],MATCH(TEXT(hf_kommune[[#This Row],[Kommunenr]],\"0\"),Table11[Nr],0),MATCH(hf_kommune[[#Headers],[2026]],Table11[#Headers],0))","v":31},{"$f":"INDEX(Table11[],MATCH(TEXT(hf_kommune[[#This Row],[Kommunenr]],\"0\"),Table11[Nr],0),MATCH(hf_kommune[[#Headers],[2027]],Table11[#Headers],0))","v":31},{"$f":"INDEX(Table11[],MATCH(TEXT(hf_kommune[[#This Row],[Kommunenr]],\"0\"),Table11[Nr],0),MATCH(hf_kommune[[#Headers],[2028]],Table11[#Headers],0))","v":38},{"$f":"INDEX(Table11[],MATCH(TEXT(hf_kommune[[#This Row],[Kommunenr]],\"0\"),Table11[Nr],0),MATCH(hf_kommune[[#Headers],[2029]],Table11[#Headers],0))","v":36},{"$f":"INDEX(Table11[],MATCH(TEXT(hf_kommune[[#This Row],[Kommunenr]],\"0\"),Table11[Nr],0),MATCH(hf_kommune[[#Headers],[2030]],Table11[#Headers],0))","v":36},{"$f":"INDEX(Table11[],MATCH(TEXT(hf_kommune[[#This Row],[Kommunenr]],\"0\"),Table11[Nr],0),MATCH(hf_kommune[[#Headers],[2031]],Table11[#Headers],0))","v":35},{"$f":"INDEX(Table11[],MATCH(TEXT(hf_kommune[[#This Row],[Kommunenr]],\"0\"),Table11[Nr],0),MATCH(hf_kommune[[#Headers],[2032]],Table11[#Headers],0))","v":36},{"$f":"INDEX(Table11[],MATCH(TEXT(hf_kommune[[#This Row],[Kommunenr]],\"0\"),Table11[Nr],0),MATCH(hf_kommune[[#Headers],[2033]],Table11[#Headers],0))","v":35},{"$f":"INDEX(Table11[],MATCH(TEXT(hf_kommune[[#This Row],[Kommunenr]],\"0\"),Table11[Nr],0),MATCH(hf_kommune[[#Headers],[2034]],Table11[#Headers],0))","v":34},{"$f":"INDEX(Table11[],MATCH(TEXT(hf_kommune[[#This Row],[Kommunenr]],\"0\"),Table11[Nr],0),MATCH(hf_kommune[[#Headers],[2035]],Table11[#Headers],0))","v":39},{"$f":"INDEX(Table11[],MATCH(TEXT(hf_kommune[[#This Row],[Kommunenr]],\"0\"),Table11[Nr],0),MATCH(hf_kommune[[#Headers],[2036]],Table11[#Headers],0))","v":40},{"$f":"INDEX(Table11[],MATCH(TEXT(hf_kommune[[#This Row],[Kommunenr]],\"0\"),Table11[Nr],0),MATCH(hf_kommune[[#Headers],[2037]],Table11[#Headers],0))","v":37},{"$f":"INDEX(Table11[],MATCH(TEXT(hf_kommune[[#This Row],[Kommunenr]],\"0\"),Table11[Nr],0),MATCH(hf_kommune[[#Headers],[2038]],Table11[#Headers],0))","v":35},{"$f":"INDEX(Table11[],MATCH(TEXT(hf_kommune[[#This Row],[Kommunenr]],\"0\"),Table11[Nr],0),MATCH(hf_kommune[[#Headers],[2039]],Table11[#Headers],0))","v":41},{"$f":"INDEX(Table11[],MATCH(TEXT(hf_kommune[[#This Row],[Kommunenr]],\"0\"),Table11[Nr],0),MATCH(hf_kommune[[#Headers],[2040]],Table11[#Headers],0))","v":40},2748,2748,2749,2754,2761,2769,2776,2783,2790,2797,2804,2811,2817,2824,2830,2835,2840,2844,2847]
[5406,"Hammerfest","Helse Nord","Finnmarkssykehuset","Hammerfest",{"$f":"INDEX(Table11[],MATCH(TEXT(hf_kommune[[#This Row],[Kommunenr]],\"0\"),Table11[Nr],0),MATCH(hf_kommune[[#Headers],[2020]],Table11[#Headers],0))","v":152},{"$f":"INDEX(Table11[],MATCH(TEXT(hf_kommune[[#This Row],[Kommunenr]],\"0\"),Table11[Nr],0),MATCH(hf_kommune[[#Headers],[2021]],Table11[#Headers],0))","v":148},{"$f":"INDEX(Table11[],MATCH(TEXT(hf_kommune[[#This Row],[Kommunenr]],\"0\"),Table11[Nr],0),MATCH(hf_kommune[[#Headers],[2022]],Table11[#Headers],0))","v":146},{"$f":"INDEX(Table11[],MATCH(TEXT(hf_kommune[[#This Row],[Kommunenr]],\"0\"),Table11[Nr],0),MATCH(hf_kommune[[#Headers],[2023]],Table11[#Headers],0))","v":177},{"$f":"INDEX(Table11[],MATCH(TEXT(hf_kommune[[#This Row],[Kommunenr]],\"0\"),Table11[Nr],0),MATCH(hf_kommune[[#Headers],[2024]],Table11[#Headers],0))","v":171},{"$f":"INDEX(Table11[],MATCH(TEXT(hf_kommune[[#This Row],[Kommunenr]],\"0\"),Table11[Nr],0),MATCH(hf_kommune[[#Headers],[2025]],Table11[#Headers],0))","v":144},{"$f":"INDEX(Table11[],MATCH(TEXT(hf_kommune[[#This Row],[Kommunenr]],\"0\"),Table11[Nr],0),MATCH(hf_kommune[[#Headers],[2026]],Table11[#Headers],0))","v":174},{"$f":"INDEX(Table11[],MATCH(TEXT(hf_kommune[[#This Row],[Kommunenr]],\"0\"),Table11[Nr],0),MATCH(hf_kommune[[#Headers],[2027]],Table11[#Headers],0))","v":176},{"$f":"INDEX(Table11[],MATCH(TEXT(hf_kommune[[#This Row],[Kommunenr]],\"0\"),Table11[Nr],0),MATCH(hf_kommune[[#Headers],[2028]],Table11[#Headers],0))","v":173},{"$f":"INDEX(Table11[],MATCH(TEXT(hf_kommune[[#This Row],[Kommunenr]],\"0\"),Table11[Nr],0),MATCH(hf_kommune[[#Headers],[2029]],Table11[#Headers],0))","v":144},{"$f":"INDEX(Table11[],MATCH(TEXT(hf_kommune[[#This Row],[Kommunenr]],\"0\"),Table11[Nr],0),MATCH(hf_kommune[[#Headers],[2030]],Table11[#Headers],0))","v":129},{"$f":"INDEX(Table11[],MATCH(TEXT(hf_kommune[[#This Row],[Kommunenr]],\"0\"),Table11[Nr],0),MATCH(hf_kommune[[#Headers],[2031]],Table11[#Headers],0))","v":118},{"$f":"INDEX(Table11[],MATCH(TEXT(hf_kommune[[#This Row],[Kommunenr]],\"0\"),Table11[Nr],0),MATCH(hf_kommune[[#Headers],[2032]],Table11[#Headers],0))","v":128},{"$f":"INDEX(Table11[],MATCH(TEXT(hf_kommune[[#This Row],[Kommunenr]],\"0\"),Table11[Nr],0),MATCH(hf_kommune[[#Headers],[2033]],Table11[#Headers],0))","v":123},{"$f":"INDEX(Table11[],MATCH(TEXT(hf_kommune[[#This Row],[Kommunenr]],\"0\"),Table11[Nr],0),MATCH(hf_kommune[[#Headers],[2034]],Table11[#Headers],0))","v":123},{"$f":"INDEX(Table11[],MATCH(TEXT(hf_kommune[[#This Row],[Kommunenr]],\"0\"),Table11[Nr],0),MATCH(hf_kommune[[#Headers],[2035]],Table11[#Headers],0))","v":127},{"$f":"INDEX(Table11[],MATCH(TEXT(hf_kommune[[#This Row],[Kommunenr]],\"0\"),Table11[Nr],0),MATCH(hf_kommune[[#Headers],[2036]],Table11[#Headers],0))","v":120},{"$f":"INDEX(Table11[],MATCH(TEXT(hf_kommune[[#This Row],[Kommunenr]],\"0\"),Table11[Nr],0),MATCH(hf_kommune[[#Headers],[2037]],Table11[#Headers],0))","v":128},{"$f":"INDEX(Table11[],MATCH(TEXT(hf_kommune[[#This Row],[Kommunenr]],\"0\"),Table11[Nr],0),MATCH(hf_kommune[[#Headers],[2038]],Table11[#Headers],0))","v":125},{"$f":"INDEX(Table11[],MATCH(TEXT(hf_kommune[[#This Row],[Kommunenr]],\"0\"),Table11[Nr],0),MATCH(hf_kommune[[#Headers],[2039]],Table11[#Headers],0))","v":123},{"$f":"INDEX(Table11[],MATCH(TEXT(hf_kommune[[#This Row],[Kommunenr]],\"0\"),Table11[Nr],0),MATCH(hf_kommune[[#Headers],[2040]],Table11[#Headers],0))","v":124},11397,11399,11407,11422,11445,11467,11487,11507,11526,11544,11561,11577,11592,11606,11619,11632,11642,11651,11658]
[1517,"Hareid","Helse Midt-Norge","Helse Møre og Romsdal","Ålesund",{"$f":"INDEX(Table11[],MATCH(TEXT(hf_kommune[[#This Row],[Kommunenr]],\"0\"),Table11[Nr],0),MATCH(hf_kommune[[#Headers],[2020]],Table11[#Headers],0))","v":55},{"$f":"INDEX(Table11[],MATCH(TEXT(hf_kommune[[#This Row],[Kommunenr]],\"0\"),Table11[Nr],0),MATCH(hf_kommune[[#Headers],[2021]],Table11[#Headers],0))","v":68},{"$f":"INDEX(Table11[],MATCH(TEXT(hf_kommune[[#This Row],[Kommunenr]],\"0\"),Table11[Nr],0),MATCH(hf_kommune[[#Headers],[2022]],Table11[#Headers],0))","v":57},{"$f":"INDEX(Table11[],MATCH(TEXT(hf_kommune[[#This Row],[Kommunenr]],\"0\"),Table11[Nr],0),MATCH(hf_kommune[[#Headers],[2023]],Table11[#Headers],0))","v":65},{"$f":"INDEX(Table11[],MATCH(TEXT(hf_kommune[[#This Row],[Kommunenr]],\"0\"),Table11[Nr],0),MATCH(hf_kommune[[#Headers],[2024]],Table11[#Headers],0))","v":67},{"$f":"INDEX(Table11[],MATCH(TEXT(hf_kommune[[#This Row],[Kommunenr]],\"0\"),Table11[Nr],0),MATCH(hf_kommune[[#Headers],[2025]],Table11[#Headers],0))","v":67},{"$f":"INDEX(Table11[],MATCH(TEXT(hf_kommune[[#This Row],[Kommunenr]],\"0\"),Table11[Nr],0),MATCH(hf_kommune[[#Headers],[2026]],Table11[#Headers],0))","v":61},{"$f":"INDEX(Table11[],MATCH(TEXT(hf_kommune[[#This Row],[Kommunenr]],\"0\"),Table11[Nr],0),MATCH(hf_kommune[[#Headers],[2027]],Table11[#Headers],0))","v":61},{"$f":"INDEX(Table11[],MATCH(TEXT(hf_kommune[[#This Row],[Kommunenr]],\"0\"),Table11[Nr],0),MATCH(hf_kommune[[#Headers],[2028]],Table11[#Headers],0))","v":60},{"$f":"INDEX(Table11[],MATCH(TEXT(hf_kommune[[#This Row],[Kommunenr]],\"0\"),Table11[Nr],0),MATCH(hf_kommune[[#Headers],[2029]],Table11[#Headers],0))","v":76},{"$f":"INDEX(Table11[],MATCH(TEXT(hf_kommune[[#This Row],[Kommunenr]],\"0\"),Table11[Nr],0),MATCH(hf_kommune[[#Headers],[2030]],Table11[#Headers],0))","v":60},{"$f":"INDEX(Table11[],MATCH(TEXT(hf_kommune[[#This Row],[Kommunenr]],\"0\"),Table11[Nr],0),MATCH(hf_kommune[[#Headers],[2031]],Table11[#Headers],0))","v":65},{"$f":"INDEX(Table11[],MATCH(TEXT(hf_kommune[[#This Row],[Kommunenr]],\"0\"),Table11[Nr],0),MATCH(hf_kommune[[#Headers],[2032]],Table11[#Headers],0))","v":69},{"$f":"INDEX(Table11[],MATCH(TEXT(hf_kommune[[#This Row],[Kommunenr]],\"0\"),Table11[Nr],0),MATCH(hf_kommune[[#Headers],[2033]],Table11[#Headers],0))","v":67},{"$f":"INDEX(Table11[],MATCH(TEXT(hf_kommune[[#This Row],[Kommunenr]],\"0\"),Table11[Nr],0),MATCH(hf_kommune[[#Headers],[2034]],Table11[#Headers],0))","v":71},{"$f":"INDEX(Table11[],MATCH(TEXT(hf_kommune[[#This Row],[Kommunenr]],\"0\"),Table11[Nr],0),MATCH(hf_kommune[[#Headers],[2035]],Table11[#Headers],0))","v":56},{"$f":"INDEX(Table11[],MATCH(TEXT(hf_kommune[[#This Row],[Kommunenr]],\"0\"),Table11[Nr],0),MATCH(hf_kommune[[#Headers],[2036]],Table11[#Headers],0))","v":67},{"$f":"INDEX(Table11[],MATCH(TEXT(hf_kommune[[#This Row],[Kommunenr]],\"0\"),Table11[Nr],0),MATCH(hf_kommune[[#Headers],[2037]],Table11[#Headers],0))","v":59},{"$f":"INDEX(Table11[],MATCH(TEXT(hf_kommune[[#This Row],[Kommunenr]],\"0\"),Table11[Nr],0),MATCH(hf_kommune[[#Headers],[2038]],Table11[#Headers],0))","v":63},{"$f":"INDEX(Table11[],MATCH(TEXT(hf_kommune[[#This Row],[Kommunenr]],\"0\"),Table11[Nr],0),MATCH(hf_kommune[[#Headers],[2039]],Table11[#Headers],0))","v":68},{"$f":"INDEX(Table11[],MATCH(TEXT(hf_kommune[[#This Row],[Kommunenr]],\"0\"),Table11[Nr],0),MATCH(hf_kommune[[#Headers],[2040]],Table11[#Headers],0))","v":70},5218,5240,5261,5281,5300,5318,5337,5354,5371,5387,5402,5416,5430,5442,5453,5464,5473,5481,5488]
[5402,"Harstad","Helse Nord","Universitetssykehuset Nord-Norge","Harstad",{"$f":"INDEX(Table11[],MATCH(TEXT(hf_kommune[[#This Row],[Kommunenr]],\"0\"),Table11[Nr],0),MATCH(hf_kommune[[#Headers],[2020]],Table11[#Headers],0))","v":296},{"$f":"INDEX(Table11[],MATCH(TEXT(hf_kommune[[#This Row],[Kommunenr]],\"0\"),Table11[Nr],0),MATCH(hf_kommune[[#Headers],[2021]],Table11[#Headers],0))","v":329},{"$f":"INDEX(Table11[],MATCH(TEXT(hf_kommune[[#This Row],[Kommunenr]],\"0\"),Table11[Nr],0),MATCH(hf_kommune[[#Headers],[2022]],Table11[#Headers],0))","v":314},{"$f":"INDEX(Table11[],MATCH(TEXT(hf_kommune[[#This Row],[Kommunenr]],\"0\"),Table11[Nr],0),MATCH(hf_kommune[[#Headers],[2023]],Table11[#Headers],0))","v":344},{"$f":"INDEX(Table11[],MATCH(TEXT(hf_kommune[[#This Row],[Kommunenr]],\"0\"),Table11[Nr],0),MATCH(hf_kommune[[#Headers],[2024]],Table11[#Headers],0))","v":336},{"$f":"INDEX(Table11[],MATCH(TEXT(hf_kommune[[#This Row],[Kommunenr]],\"0\"),Table11[Nr],0),MATCH(hf_kommune[[#Headers],[2025]],Table11[#Headers],0))","v":342},{"$f":"INDEX(Table11[],MATCH(TEXT(hf_kommune[[#This Row],[Kommunenr]],\"0\"),Table11[Nr],0),MATCH(hf_kommune[[#Headers],[2026]],Table11[#Headers],0))","v":331},{"$f":"INDEX(Table11[],MATCH(TEXT(hf_kommune[[#This Row],[Kommunenr]],\"0\"),Table11[Nr],0),MATCH(hf_kommune[[#Headers],[2027]],Table11[#Headers],0))","v":349},{"$f":"INDEX(Table11[],MATCH(TEXT(hf_kommune[[#This Row],[Kommunenr]],\"0\"),Table11[Nr],0),MATCH(hf_kommune[[#Headers],[2028]],Table11[#Headers],0))","v":308},{"$f":"INDEX(Table11[],MATCH(TEXT(hf_kommune[[#This Row],[Kommunenr]],\"0\"),Table11[Nr],0),MATCH(hf_kommune[[#Headers],[2029]],Table11[#Headers],0))","v":313},{"$f":"INDEX(Table11[],MATCH(TEXT(hf_kommune[[#This Row],[Kommunenr]],\"0\"),Table11[Nr],0),MATCH(hf_kommune[[#Headers],[2030]],Table11[#Headers],0))","v":322},{"$f":"INDEX(Table11[],MATCH(TEXT(hf_kommune[[#This Row],[Kommunenr]],\"0\"),Table11[Nr],0),MATCH(hf_kommune[[#Headers],[2031]],Table11[#Headers],0))","v":291},{"$f":"INDEX(Table11[],MATCH(TEXT(hf_kommune[[#This Row],[Kommunenr]],\"0\"),Table11[Nr],0),MATCH(hf_kommune[[#Headers],[2032]],Table11[#Headers],0))","v":288},{"$f":"INDEX(Table11[],MATCH(TEXT(hf_kommune[[#This Row],[Kommunenr]],\"0\"),Table11[Nr],0),MATCH(hf_kommune[[#Headers],[2033]],Table11[#Headers],0))","v":275},{"$f":"INDEX(Table11[],MATCH(TEXT(hf_kommune[[#This Row],[Kommunenr]],\"0\"),Table11[Nr],0),MATCH(hf_kommune[[#Headers],[2034]],Table11[#Headers],0))","v":278},{"$f":"INDEX(Table11[],MATCH(TEXT(hf_kommune[[#This Row],[Kommunenr]],\"0\"),Table11[Nr],0),MATCH(hf_kommune[[#Headers],[2035]],Table11[#Headers],0))","v":280},{"$f":"INDEX(Table11[],MATCH(TEXT(hf_kommune[[#This Row],[Kommunenr]],\"0\"),Table11[Nr],0),MATCH(hf_kommune[[#Headers],[2036]],Table11[#Headers],0))","v":302},{"$f":"INDEX(Table11[],MATCH(TEXT(hf_kommune[[#This Row],[Kommunenr]],\"0\"),Table11[Nr],0),MATCH(hf_kommune[[#Headers],[2037]],Table11[#Headers],0))","v":254},{"$f":"INDEX(Table11[],MATCH(TEXT(hf_kommune[[#This Row],[Kommunenr]],\"0\"),Table11[Nr],0),MATCH(hf_kommune[[#Headers],[2038]],Table11[#Headers],0))","v":301},{"$f":"INDEX(Table11[],MATCH(TEXT(hf_kommune[[#This Row],[Kommunenr]],\"0\"),Table11[Nr],0),MATCH(hf_kommune[[#Headers],[2039]],Table11[#Headers],0))","v":268},{"$f":"INDEX(Table11[],MATCH(TEXT(hf_kommune[[#This Row],[Kommunenr]],\"0\"),Table11[Nr],0),MATCH(hf_kommune[[#Headers],[2040]],Table11[#Headers],0))","v":271},24574,24548,24539,24549,24577,24607,24635,24664,24691,24716,24738,24759,24778,24795,24810,24823,24833,24838,24840]
[5433,"Hasvik","Helse Nord","Finnmarkssykehuset","Hammerfest",{"$f":"INDEX(Table11[],MATCH(TEXT(hf_kommune[[#This Row],[Kommunenr]],\"0\"),Table11[Nr],0),MATCH(hf_kommune[[#Headers],[2020]],Table11[#Headers],0))","v":16},{"$f":"INDEX(Table11[],MATCH(TEXT(hf_kommune[[#This Row],[Kommunenr]],\"0\"),Table11[Nr],0),MATCH(hf_kommune[[#Headers],[2021]],Table11[#Headers],0))","v":13},{"$f":"INDEX(Table11[],MATCH(TEXT(hf_kommune[[#This Row],[Kommunenr]],\"0\"),Table11[Nr],0),MATCH(hf_kommune[[#Headers],[2022]],Table11[#Headers],0))","v":19},{"$f":"INDEX(Table11[],MATCH(TEXT(hf_kommune[[#This Row],[Kommunenr]],\"0\"),Table11[Nr],0),MATCH(hf_kommune[[#Headers],[2023]],Table11[#Headers],0))","v":18},{"$f":"INDEX(Table11[],MATCH(TEXT(hf_kommune[[#This Row],[Kommunenr]],\"0\"),Table11[Nr],0),MATCH(hf_kommune[[#Headers],[2024]],Table11[#Headers],0))","v":17},{"$f":"INDEX(Table11[],MATCH(TEXT(hf_kommune[[#This Row],[Kommunenr]],\"0\"),Table11[Nr],0),MATCH(hf_kommune[[#Headers],[2025]],Table11[#Headers],0))","v":20},{"$f":"INDEX(Table11[],MATCH(TEXT(hf_kommune[[#This Row],[Kommunenr]],\"0\"),Table11[Nr],0),MATCH(hf_kommune[[#Headers],[2026]],Table11[#Headers],0))","v":20},{"$f":"INDEX(Table11[],MATCH(TEXT(hf_kommune[[#This Row],[Kommunenr]],\"0\"),Table11[Nr],0),MATCH(hf_kommune[[#Headers],[2027]],Table11[#Headers],0))","v":19},{"$f":"INDEX(Table11[],MATCH(TEXT(hf_kommune[[#This Row],[Kommunenr]],\"0\"),Table11[Nr],0),MATCH(hf_kommune[[#Headers],[2028]],Table11[#Headers],0))","v":17},{"$f":"INDEX(Table11[],MATCH(TEXT(hf_kommune[[#This Row],[Kommunenr]],\"0\"),Table11[Nr],0),MATCH(hf_kommune[[#Headers],[2029]],Table11[#Headers],0))","v":16},{"$f":"INDEX(Table11[],MATCH(TEXT(hf_kommune[[#This Row],[Kommunenr]],\"0\"),Table11[Nr],0),MATCH(hf_kommune[[#Headers],[2030]],Table11[#Headers],0))","v":10},{"$f":"INDEX(Table11[],MATCH(TEXT(hf_kommune[[#This Row],[Kommunenr]],\"0\"),Table11[Nr],0),MATCH(hf_kommune[[#Headers],[2031]],Table11[#Headers],0))","v":9},{"$f":"INDEX(Table11[],MATCH(TEXT(hf_kommune[[#This Row],[Kommunenr]],\"0\"),Table11[Nr],0),MATCH(hf_kommune[[#Headers],[2032]],Table11[#Headers],0))","v":11},{"$f":"INDEX(Table11[],MATCH(TEXT(hf_kommune[[#This Row],[Kommunenr]],\"0\"),Table11[Nr],0),MATCH(hf_kommune[[#Headers],[2033]],Table11[#Headers],0))","v":14},{"$f":"INDEX(Table11[],MATCH(TEXT(hf_kommune[[#This Row],[Kommunenr]],\"0\"),Table11[Nr],0),MATCH(hf_kommune[[#Headers],[2034]],Table11[#Headers],0))","v":13},{"$f":"INDEX(Table11[],MATCH(TEXT(hf_kommune[[#This Row],[Kommunenr]],\"0\"),Table11[Nr],0),MATCH(hf_kommune[[#Headers],[2035]],Table11[#Headers],0))","v":16},{"$f":"INDEX(Table11[],MATCH(TEXT(hf_kommune[[#This Row],[Kommunenr]],\"0\"),Table11[Nr],0),MATCH(hf_kommune[[#Headers],[2036]],Table11[#Headers],0))","v":15},{"$f":"INDEX(Table11[],MATCH(TEXT(hf_kommune[[#This Row],[Kommunenr]],\"0\"),Table11[Nr],0),MATCH(hf_kommune[[#Headers],[2037]],Table11[#Headers],0))","v":14},{"$f":"INDEX(Table11[],MATCH(TEXT(hf_kommune[[#This Row],[Kommunenr]],\"0\"),Table11[Nr],0),MATCH(hf_kommune[[#Headers],[2038]],Table11[#Headers],0))","v":14},{"$f":"INDEX(Table11[],MATCH(TEXT(hf_kommune[[#This Row],[Kommunenr]],\"0\"),Table11[Nr],0),MATCH(hf_kommune[[#Headers],[2039]],Table11[#Headers],0))","v":14},{"$f":"INDEX(Table11[],MATCH(TEXT(hf_kommune[[#This Row],[Kommunenr]],\"0\"),Table11[Nr],0),MATCH(hf_kommune[[#Headers],[2040]],Table11[#Headers],0))","v":14},1019,1032,1047,1062,1079,1096,1111,1125,1138,1151,1163,1174,1185,1196,1205,1215,1224,1233,1241]
[1826,"Hattfjelldal","Helse Nord","Helgelandssykehuset","Mosjøen",{"$f":"INDEX(Table11[],MATCH(TEXT(hf_kommune[[#This Row],[Kommunenr]],\"0\"),Table11[Nr],0),MATCH(hf_kommune[[#Headers],[2020]],Table11[#Headers],0))","v":15},{"$f":"INDEX(Table11[],MATCH(TEXT(hf_kommune[[#This Row],[Kommunenr]],\"0\"),Table11[Nr],0),MATCH(hf_kommune[[#Headers],[2021]],Table11[#Headers],0))","v":24},{"$f":"INDEX(Table11[],MATCH(TEXT(hf_kommune[[#This Row],[Kommunenr]],\"0\"),Table11[Nr],0),MATCH(hf_kommune[[#Headers],[2022]],Table11[#Headers],0))","v":18},{"$f":"INDEX(Table11[],MATCH(TEXT(hf_kommune[[#This Row],[Kommunenr]],\"0\"),Table11[Nr],0),MATCH(hf_kommune[[#Headers],[2023]],Table11[#Headers],0))","v":20},{"$f":"INDEX(Table11[],MATCH(TEXT(hf_kommune[[#This Row],[Kommunenr]],\"0\"),Table11[Nr],0),MATCH(hf_kommune[[#Headers],[2024]],Table11[#Headers],0))","v":20},{"$f":"INDEX(Table11[],MATCH(TEXT(hf_kommune[[#This Row],[Kommunenr]],\"0\"),Table11[Nr],0),MATCH(hf_kommune[[#Headers],[2025]],Table11[#Headers],0))","v":14},{"$f":"INDEX(Table11[],MATCH(TEXT(hf_kommune[[#This Row],[Kommunenr]],\"0\"),Table11[Nr],0),MATCH(hf_kommune[[#Headers],[2026]],Table11[#Headers],0))","v":19},{"$f":"INDEX(Table11[],MATCH(TEXT(hf_kommune[[#This Row],[Kommunenr]],\"0\"),Table11[Nr],0),MATCH(hf_kommune[[#Headers],[2027]],Table11[#Headers],0))","v":18},{"$f":"INDEX(Table11[],MATCH(TEXT(hf_kommune[[#This Row],[Kommunenr]],\"0\"),Table11[Nr],0),MATCH(hf_kommune[[#Headers],[2028]],Table11[#Headers],0))","v":17},{"$f":"INDEX(Table11[],MATCH(TEXT(hf_kommune[[#This Row],[Kommunenr]],\"0\"),Table11[Nr],0),MATCH(hf_kommune[[#Headers],[2029]],Table11[#Headers],0))","v":25},{"$f":"INDEX(Table11[],MATCH(TEXT(hf_kommune[[#This Row],[Kommunenr]],\"0\"),Table11[Nr],0),MATCH(hf_kommune[[#Headers],[2030]],Table11[#Headers],0))","v":17},{"$f":"INDEX(Table11[],MATCH(TEXT(hf_kommune[[#This Row],[Kommunenr]],\"0\"),Table11[Nr],0),MATCH(hf_kommune[[#Headers],[2031]],Table11[#Headers],0))","v":18},{"$f":"INDEX(Table11[],MATCH(TEXT(hf_kommune[[#This Row],[Kommunenr]],\"0\"),Table11[Nr],0),MATCH(hf_kommune[[#Headers],[2032]],Table11[#Headers],0))","v":13},{"$f":"INDEX(Table11[],MATCH(TEXT(hf_kommune[[#This Row],[Kommunenr]],\"0\"),Table11[Nr],0),MATCH(hf_kommune[[#Headers],[2033]],Table11[#Headers],0))","v":12},{"$f":"INDEX(Table11[],MATCH(TEXT(hf_kommune[[#This Row],[Kommunenr]],\"0\"),Table11[Nr],0),MATCH(hf_kommune[[#Headers],[2034]],Table11[#Headers],0))","v":13},{"$f":"INDEX(Table11[],MATCH(TEXT(hf_kommune[[#This Row],[Kommunenr]],\"0\"),Table11[Nr],0),MATCH(hf_kommune[[#Headers],[2035]],Table11[#Headers],0))","v":10},{"$f":"INDEX(Table11[],MATCH(TEXT(hf_kommune[[#This Row],[Kommunenr]],\"0\"),Table11[Nr],0),MATCH(hf_kommune[[#Headers],[2036]],Table11[#Headers],0))","v":11},{"$f":"INDEX(Table11[],MATCH(TEXT(hf_kommune[[#This Row],[Kommunenr]],\"0\"),Table11[Nr],0),MATCH(hf_kommune[[#Headers],[2037]],Table11[#Headers],0))","v":9},{"$f":"INDEX(Table11[],MATCH(TEXT(hf_kommune[[#This Row],[Kommunenr]],\"0\"),Table11[Nr],0),MATCH(hf_kommune[[#Headers],[2038]],Table11[#Headers],0))","v":15},{"$f":"INDEX(Table11[],MATCH(TEXT(hf_kommune[[#This Row],[Kommunenr]],\"0\"),Table11[Nr],0),MATCH(hf_kommune[[#Headers],[2039]],Table11[#Headers],0))","v":14},{"$f":"INDEX(Table11[],MATCH(TEXT(hf_kommune[[#This Row],[Kommunenr]],\"0\"),Table11[Nr],0),MATCH(hf_kommune[[#Headers],[2040]],Table11[#Headers],0))","v":12},1263,1253,1245,1240,1238,1235,1232,1228,1225,1221,1217,1214,1210,1206,1203,1199,1195,1192,1188]
[1106,"Haugesund","Helse Vest","Helse Fonna","Haugesund",{"$f":"INDEX(Table11[],MATCH(TEXT(hf_kommune[[#This Row],[Kommunenr]],\"0\"),Table11[Nr],0),MATCH(hf_kommune[[#Headers],[2020]],Table11[#Headers],0))","v":453},{"$f":"INDEX(Table11[],MATCH(TEXT(hf_kommune[[#This Row],[Kommunenr]],\"0\"),Table11[Nr],0),MATCH(hf_kommune[[#Headers],[2021]],Table11[#Headers],0))","v":469},{"$f":"INDEX(Table11[],MATCH(TEXT(hf_kommune[[#This Row],[Kommunenr]],\"0\"),Table11[Nr],0),MATCH(hf_kommune[[#Headers],[2022]],Table11[#Headers],0))","v":515},{"$f":"INDEX(Table11[],MATCH(TEXT(hf_kommune[[#This Row],[Kommunenr]],\"0\"),Table11[Nr],0),MATCH(hf_kommune[[#Headers],[2023]],Table11[#Headers],0))","v":540},{"$f":"INDEX(Table11[],MATCH(TEXT(hf_kommune[[#This Row],[Kommunenr]],\"0\"),Table11[Nr],0),MATCH(hf_kommune[[#Headers],[2024]],Table11[#Headers],0))","v":586},{"$f":"INDEX(Table11[],MATCH(TEXT(hf_kommune[[#This Row],[Kommunenr]],\"0\"),Table11[Nr],0),MATCH(hf_kommune[[#Headers],[2025]],Table11[#Headers],0))","v":537},{"$f":"INDEX(Table11[],MATCH(TEXT(hf_kommune[[#This Row],[Kommunenr]],\"0\"),Table11[Nr],0),MATCH(hf_kommune[[#Headers],[2026]],Table11[#Headers],0))","v":550},{"$f":"INDEX(Table11[],MATCH(TEXT(hf_kommune[[#This Row],[Kommunenr]],\"0\"),Table11[Nr],0),MATCH(hf_kommune[[#Headers],[2027]],Table11[#Headers],0))","v":562},{"$f":"INDEX(Table11[],MATCH(TEXT(hf_kommune[[#This Row],[Kommunenr]],\"0\"),Table11[Nr],0),MATCH(hf_kommune[[#Headers],[2028]],Table11[#Headers],0))","v":556},{"$f":"INDEX(Table11[],MATCH(TEXT(hf_kommune[[#This Row],[Kommunenr]],\"0\"),Table11[Nr],0),MATCH(hf_kommune[[#Headers],[2029]],Table11[#Headers],0))","v":563},{"$f":"INDEX(Table11[],MATCH(TEXT(hf_kommune[[#This Row],[Kommunenr]],\"0\"),Table11[Nr],0),MATCH(hf_kommune[[#Headers],[2030]],Table11[#Headers],0))","v":554},{"$f":"INDEX(Table11[],MATCH(TEXT(hf_kommune[[#This Row],[Kommunenr]],\"0\"),Table11[Nr],0),MATCH(hf_kommune[[#Headers],[2031]],Table11[#Headers],0))","v":536},{"$f":"INDEX(Table11[],MATCH(TEXT(hf_kommune[[#This Row],[Kommunenr]],\"0\"),Table11[Nr],0),MATCH(hf_kommune[[#Headers],[2032]],Table11[#Headers],0))","v":522},{"$f":"INDEX(Table11[],MATCH(TEXT(hf_kommune[[#This Row],[Kommunenr]],\"0\"),Table11[Nr],0),MATCH(hf_kommune[[#Headers],[2033]],Table11[#Headers],0))","v":516},{"$f":"INDEX(Table11[],MATCH(TEXT(hf_kommune[[#This Row],[Kommunenr]],\"0\"),Table11[Nr],0),MATCH(hf_kommune[[#Headers],[2034]],Table11[#Headers],0))","v":544},{"$f":"INDEX(Table11[],MATCH(TEXT(hf_kommune[[#This Row],[Kommunenr]],\"0\"),Table11[Nr],0),MATCH(hf_kommune[[#Headers],[2035]],Table11[#Headers],0))","v":553},{"$f":"INDEX(Table11[],MATCH(TEXT(hf_kommune[[#This Row],[Kommunenr]],\"0\"),Table11[Nr],0),MATCH(hf_kommune[[#Headers],[2036]],Table11[#Headers],0))","v":533},{"$f":"INDEX(Table11[],MATCH(TEXT(hf_kommune[[#This Row],[Kommunenr]],\"0\"),Table11[Nr],0),MATCH(hf_kommune[[#Headers],[2037]],Table11[#Headers],0))","v":515},{"$f":"INDEX(Table11[],MATCH(TEXT(hf_kommune[[#This Row],[Kommunenr]],\"0\"),Table11[Nr],0),MATCH(hf_kommune[[#Headers],[2038]],Table11[#Headers],0))","v":530},{"$f":"INDEX(Table11[],MATCH(TEXT(hf_kommune[[#This Row],[Kommunenr]],\"0\"),Table11[Nr],0),MATCH(hf_kommune[[#Headers],[2039]],Table11[#Headers],0))","v":532},{"$f":"INDEX(Table11[],MATCH(TEXT(hf_kommune[[#This Row],[Kommunenr]],\"0\"),Table11[Nr],0),MATCH(hf_kommune[[#Headers],[2040]],Table11[#Headers],0))","v":508},37590,37747,37914,38096,38292,38483,38669,38851,39028,39202,39371,39535,39696,39853,40008,40158,40302,40440,40570]
[5055,"Heim","Helse Midt-Norge","St. Olavs hospital","St. Olav - Orkdal",{"$f":"INDEX(Table11[],MATCH(TEXT(hf_kommune[[#This Row],[Kommunenr]],\"0\"),Table11[Nr],0),MATCH(hf_kommune[[#Headers],[2020]],Table11[#Headers],0))","v":74},{"$f":"INDEX(Table11[],MATCH(TEXT(hf_kommune[[#This Row],[Kommunenr]],\"0\"),Table11[Nr],0),MATCH(hf_kommune[[#Headers],[2021]],Table11[#Headers],0))","v":81},{"$f":"INDEX(Table11[],MATCH(TEXT(hf_kommune[[#This Row],[Kommunenr]],\"0\"),Table11[Nr],0),MATCH(hf_kommune[[#Headers],[2022]],Table11[#Headers],0))","v":69},{"$f":"INDEX(Table11[],MATCH(TEXT(hf_kommune[[#This Row],[Kommunenr]],\"0\"),Table11[Nr],0),MATCH(hf_kommune[[#Headers],[2023]],Table11[#Headers],0))","v":93},{"$f":"INDEX(Table11[],MATCH(TEXT(hf_kommune[[#This Row],[Kommunenr]],\"0\"),Table11[Nr],0),MATCH(hf_kommune[[#Headers],[2024]],Table11[#Headers],0))","v":79},{"$f":"INDEX(Table11[],MATCH(TEXT(hf_kommune[[#This Row],[Kommunenr]],\"0\"),Table11[Nr],0),MATCH(hf_kommune[[#Headers],[2025]],Table11[#Headers],0))","v":89},{"$f":"INDEX(Table11[],MATCH(TEXT(hf_kommune[[#This Row],[Kommunenr]],\"0\"),Table11[Nr],0),MATCH(hf_kommune[[#Headers],[2026]],Table11[#Headers],0))","v":86},{"$f":"INDEX(Table11[],MATCH(TEXT(hf_kommune[[#This Row],[Kommunenr]],\"0\"),Table11[Nr],0),MATCH(hf_kommune[[#Headers],[2027]],Table11[#Headers],0))","v":76},{"$f":"INDEX(Table11[],MATCH(TEXT(hf_kommune[[#This Row],[Kommunenr]],\"0\"),Table11[Nr],0),MATCH(hf_kommune[[#Headers],[2028]],Table11[#Headers],0))","v":78},{"$f":"INDEX(Table11[],MATCH(TEXT(hf_kommune[[#This Row],[Kommunenr]],\"0\"),Table11[Nr],0),MATCH(hf_kommune[[#Headers],[2029]],Table11[#Headers],0))","v":70},{"$f":"INDEX(Table11[],MATCH(TEXT(hf_kommune[[#This Row],[Kommunenr]],\"0\"),Table11[Nr],0),MATCH(hf_kommune[[#Headers],[2030]],Table11[#Headers],0))","v":71},{"$f":"INDEX(Table11[],MATCH(TEXT(hf_kommune[[#This Row],[Kommunenr]],\"0\"),Table11[Nr],0),MATCH(hf_kommune[[#Headers],[2031]],Table11[#Headers],0))","v":62},{"$f":"INDEX(Table11[],MATCH(TEXT(hf_kommune[[#This Row],[Kommunenr]],\"0\"),Table11[Nr],0),MATCH(hf_kommune[[#Headers],[2032]],Table11[#Headers],0))","v":63},{"$f":"INDEX(Table11[],MATCH(TEXT(hf_kommune[[#This Row],[Kommunenr]],\"0\"),Table11[Nr],0),MATCH(hf_kommune[[#Headers],[2033]],Table11[#Headers],0))","v":57},{"$f":"INDEX(Table11[],MATCH(TEXT(hf_kommune[[#This Row],[Kommunenr]],\"0\"),Table11[Nr],0),MATCH(hf_kommune[[#Headers],[2034]],Table11[#Headers],0))","v":67},{"$f":"INDEX(Table11[],MATCH(TEXT(hf_kommune[[#This Row],[Kommunenr]],\"0\"),Table11[Nr],0),MATCH(hf_kommune[[#Headers],[2035]],Table11[#Headers],0))","v":59},{"$f":"INDEX(Table11[],MATCH(TEXT(hf_kommune[[#This Row],[Kommunenr]],\"0\"),Table11[Nr],0),MATCH(hf_kommune[[#Headers],[2036]],Table11[#Headers],0))","v":69},{"$f":"INDEX(Table11[],MATCH(TEXT(hf_kommune[[#This Row],[Kommunenr]],\"0\"),Table11[Nr],0),MATCH(hf_kommune[[#Headers],[2037]],Table11[#Headers],0))","v":67},{"$f":"INDEX(Table11[],MATCH(TEXT(hf_kommune[[#This Row],[Kommunenr]],\"0\"),Table11[Nr],0),MATCH(hf_kommune[[#Headers],[2038]],Table11[#Headers],0))","v":67},{"$f":"INDEX(Table11[],MATCH(TEXT(hf_kommune[[#This Row],[Kommunenr]],\"0\"),Table11[Nr],0),MATCH(hf_kommune[[#Headers],[2039]],Table11[#Headers],0))","v":59},{"$f":"INDEX(Table11[],MATCH(TEXT(hf_kommune[[#This Row],[Kommunenr]],\"0\"),Table11[Nr],0),MATCH(hf_kommune[[#Headers],[2040]],Table11[#Headers],0))","v":64},5872,5836,5805,5779,5759,5739,5720,5702,5684,5667,5649,5632,5614,5597,5579,5561,5543,5525,5506]
[1832,"Hemnes","Helse Nord","Helgelandssykehuset","Mo i Rana",{"$f":"INDEX(Table11[],MATCH(TEXT(hf_kommune[[#This Row],[Kommunenr]],\"0\"),Table11[Nr],0),MATCH(hf_kommune[[#Headers],[2020]],Table11[#Headers],0))","v":69},{"$f":"INDEX(Table11[],MATCH(TEXT(hf_kommune[[#This Row],[Kommunenr]],\"0\"),Table11[Nr],0),MATCH(hf_kommune[[#Headers],[2021]],Table11[#Headers],0))","v":57},{"$f":"INDEX(Table11[],MATCH(TEXT(hf_kommune[[#This Row],[Kommunenr]],\"0\"),Table11[Nr],0),MATCH(hf_kommune[[#Headers],[2022]],Table11[#Headers],0))","v":74},{"$f":"INDEX(Table11[],MATCH(TEXT(hf_kommune[[#This Row],[Kommunenr]],\"0\"),Table11[Nr],0),MATCH(hf_kommune[[#Headers],[2023]],Table11[#Headers],0))","v":66},{"$f":"INDEX(Table11[],MATCH(TEXT(hf_kommune[[#This Row],[Kommunenr]],\"0\"),Table11[Nr],0),MATCH(hf_kommune[[#Headers],[2024]],Table11[#Headers],0))","v":64},{"$f":"INDEX(Table11[],MATCH(TEXT(hf_kommune[[#This Row],[Kommunenr]],\"0\"),Table11[Nr],0),MATCH(hf_kommune[[#Headers],[2025]],Table11[#Headers],0))","v":67},{"$f":"INDEX(Table11[],MATCH(TEXT(hf_kommune[[#This Row],[Kommunenr]],\"0\"),Table11[Nr],0),MATCH(hf_kommune[[#Headers],[2026]],Table11[#Headers],0))","v":65},{"$f":"INDEX(Table11[],MATCH(TEXT(hf_kommune[[#This Row],[Kommunenr]],\"0\"),Table11[Nr],0),MATCH(hf_kommune[[#Headers],[2027]],Table11[#Headers],0))","v":66},{"$f":"INDEX(Table11[],MATCH(TEXT(hf_kommune[[#This Row],[Kommunenr]],\"0\"),Table11[Nr],0),MATCH(hf_kommune[[#Headers],[2028]],Table11[#Headers],0))","v":63},{"$f":"INDEX(Table11[],MATCH(TEXT(hf_kommune[[#This Row],[Kommunenr]],\"0\"),Table11[Nr],0),MATCH(hf_kommune[[#Headers],[2029]],Table11[#Headers],0))","v":50},{"$f":"INDEX(Table11[],MATCH(TEXT(hf_kommune[[#This Row],[Kommunenr]],\"0\"),Table11[Nr],0),MATCH(hf_kommune[[#Headers],[2030]],Table11[#Headers],0))","v":52},{"$f":"INDEX(Table11[],MATCH(TEXT(hf_kommune[[#This Row],[Kommunenr]],\"0\"),Table11[Nr],0),MATCH(hf_kommune[[#Headers],[2031]],Table11[#Headers],0))","v":57},{"$f":"INDEX(Table11[],MATCH(TEXT(hf_kommune[[#This Row],[Kommunenr]],\"0\"),Table11[Nr],0),MATCH(hf_kommune[[#Headers],[2032]],Table11[#Headers],0))","v":46},{"$f":"INDEX(Table11[],MATCH(TEXT(hf_kommune[[#This Row],[Kommunenr]],\"0\"),Table11[Nr],0),MATCH(hf_kommune[[#Headers],[2033]],Table11[#Headers],0))","v":51},{"$f":"INDEX(Table11[],MATCH(TEXT(hf_kommune[[#This Row],[Kommunenr]],\"0\"),Table11[Nr],0),MATCH(hf_kommune[[#Headers],[2034]],Table11[#Headers],0))","v":50},{"$f":"INDEX(Table11[],MATCH(TEXT(hf_kommune[[#This Row],[Kommunenr]],\"0\"),Table11[Nr],0),MATCH(hf_kommune[[#Headers],[2035]],Table11[#Headers],0))","v":49},{"$f":"INDEX(Table11[],MATCH(TEXT(hf_kommune[[#This Row],[Kommunenr]],\"0\"),Table11[Nr],0),MATCH(hf_kommune[[#Headers],[2036]],Table11[#Headers],0))","v":50},{"$f":"INDEX(Table11[],MATCH(TEXT(hf_kommune[[#This Row],[Kommunenr]],\"0\"),Table11[Nr],0),MATCH(hf_kommune[[#Headers],[2037]],Table11[#Headers],0))","v":40},{"$f":"INDEX(Table11[],MATCH(TEXT(hf_kommune[[#This Row],[Kommunenr]],\"0\"),Table11[Nr],0),MATCH(hf_kommune[[#Headers],[2038]],Table11[#Headers],0))","v":42},{"$f":"INDEX(Table11[],MATCH(TEXT(hf_kommune[[#This Row],[Kommunenr]],\"0\"),Table11[Nr],0),MATCH(hf_kommune[[#Headers],[2039]],Table11[#Headers],0))","v":52},{"$f":"INDEX(Table11[],MATCH(TEXT(hf_kommune[[#This Row],[Kommunenr]],\"0\"),Table11[Nr],0),MATCH(hf_kommune[[#Headers],[2040]],Table11[#Headers],0))","v":49},4363,4328,4299,4275,4255,4236,4217,4199,4182,4166,4150,4135,4120,4105,4091,4076,4061,4046,4031]
[3042,"Hemsedal","Helse Sør-Øst","Vestre Viken","Ringerike",{"$f":"INDEX(Table11[],MATCH(TEXT(hf_kommune[[#This Row],[Kommunenr]],\"0\"),Table11[Nr],0),MATCH(hf_kommune[[#Headers],[2020]],Table11[#Headers],0))","v":35},{"$f":"INDEX(Table11[],MATCH(TEXT(hf_kommune[[#This Row],[Kommunenr]],\"0\"),Table11[Nr],0),MATCH(hf_kommune[[#Headers],[2021]],Table11[#Headers],0))","v":32},{"$f":"INDEX(Table11[],MATCH(TEXT(hf_kommune[[#This Row],[Kommunenr]],\"0\"),Table11[Nr],0),MATCH(hf_kommune[[#Headers],[2022]],Table11[#Headers],0))","v":33},{"$f":"INDEX(Table11[],MATCH(TEXT(hf_kommune[[#This Row],[Kommunenr]],\"0\"),Table11[Nr],0),MATCH(hf_kommune[[#Headers],[2023]],Table11[#Headers],0))","v":43},{"$f":"INDEX(Table11[],MATCH(TEXT(hf_kommune[[#This Row],[Kommunenr]],\"0\"),Table11[Nr],0),MATCH(hf_kommune[[#Headers],[2024]],Table11[#Headers],0))","v":40},{"$f":"INDEX(Table11[],MATCH(TEXT(hf_kommune[[#This Row],[Kommunenr]],\"0\"),Table11[Nr],0),MATCH(hf_kommune[[#Headers],[2025]],Table11[#Headers],0))","v":43},{"$f":"INDEX(Table11[],MATCH(TEXT(hf_kommune[[#This Row],[Kommunenr]],\"0\"),Table11[Nr],0),MATCH(hf_kommune[[#Headers],[2026]],Table11[#Headers],0))","v":46},{"$f":"INDEX(Table11[],MATCH(TEXT(hf_kommune[[#This Row],[Kommunenr]],\"0\"),Table11[Nr],0),MATCH(hf_kommune[[#Headers],[2027]],Table11[#Headers],0))","v":50},{"$f":"INDEX(Table11[],MATCH(TEXT(hf_kommune[[#This Row],[Kommunenr]],\"0\"),Table11[Nr],0),MATCH(hf_kommune[[#Headers],[2028]],Table11[#Headers],0))","v":42},{"$f":"INDEX(Table11[],MATCH(TEXT(hf_kommune[[#This Row],[Kommunenr]],\"0\"),Table11[Nr],0),MATCH(hf_kommune[[#Headers],[2029]],Table11[#Headers],0))","v":38},{"$f":"INDEX(Table11[],MATCH(TEXT(hf_kommune[[#This Row],[Kommunenr]],\"0\"),Table11[Nr],0),MATCH(hf_kommune[[#Headers],[2030]],Table11[#Headers],0))","v":44},{"$f":"INDEX(Table11[],MATCH(TEXT(hf_kommune[[#This Row],[Kommunenr]],\"0\"),Table11[Nr],0),MATCH(hf_kommune[[#Headers],[2031]],Table11[#Headers],0))","v":48},{"$f":"INDEX(Table11[],MATCH(TEXT(hf_kommune[[#This Row],[Kommunenr]],\"0\"),Table11[Nr],0),MATCH(hf_kommune[[#Headers],[2032]],Table11[#Headers],0))","v":43},{"$f":"INDEX(Table11[],MATCH(TEXT(hf_kommune[[#This Row],[Kommunenr]],\"0\"),Table11[Nr],0),MATCH(hf_kommune[[#Headers],[2033]],Table11[#Headers],0))","v":39},{"$f":"INDEX(Table11[],MATCH(TEXT(hf_kommune[[#This Row],[Kommunenr]],\"0\"),Table11[Nr],0),MATCH(hf_kommune[[#Headers],[2034]],Table11[#Headers],0))","v":49},{"$f":"INDEX(Table11[],MATCH(TEXT(hf_kommune[[#This Row],[Kommunenr]],\"0\"),Table11[Nr],0),MATCH(hf_kommune[[#Headers],[2035]],Table11[#Headers],0))","v":50},{"$f":"INDEX(Table11[],MATCH(TEXT(hf_kommune[[#This Row],[Kommunenr]],\"0\"),Table11[Nr],0),MATCH(hf_kommune[[#Headers],[2036]],Table11[#Headers],0))","v":49},{"$f":"INDEX(Table11[],MATCH(TEXT(hf_kommune[[#This Row],[Kommunenr]],\"0\"),Table11[Nr],0),MATCH(hf_kommune[[#Headers],[2037]],Table11[#Headers],0))","v":40},{"$f":"INDEX(Table11[],MATCH(TEXT(hf_kommune[[#This Row],[Kommunenr]],\"0\"),Table11[Nr],0),MATCH(hf_kommune[[#Headers],[2038]],Table11[#Headers],0))","v":41},{"$f":"INDEX(Table11[],MATCH(TEXT(hf_kommune[[#This Row],[Kommunenr]],\"0\"),Table11[Nr],0),MATCH(hf_kommune[[#Headers],[2039]],Table11[#Headers],0))","v":47},{"$f":"INDEX(Table11[],MATCH(TEXT(hf_kommune[[#This Row],[Kommunenr]],\"0\"),Table11[Nr],0),MATCH(hf_kommune[[#Headers],[2040]],Table11[#Headers],0))","v":49},2539,2573,2606,2640,2672,2704,2734,2764,2792,2819,2845,2871,2896,2920,2943,2966,2988,3010,3031]
[1515,"Herøy (Møre og Romsdal)","Helse Midt-Norge","Helse Møre og Romsdal","Volda",{"$f":"INDEX(Table11[],MATCH(TEXT(hf_kommune[[#This Row],[Kommunenr]],\"0\"),Table11[Nr],0),MATCH(hf_kommune[[#Headers],[2020]],Table11[#Headers],0))","v":91},{"$f":"INDEX(Table11[],MATCH(TEXT(hf_kommune[[#This Row],[Kommunenr]],\"0\"),Table11[Nr],0),MATCH(hf_kommune[[#Headers],[2021]],Table11[#Headers],0))","v":131},{"$f":"INDEX(Table11[],MATCH(TEXT(hf_kommune[[#This Row],[Kommunenr]],\"0\"),Table11[Nr],0),MATCH(hf_kommune[[#Headers],[2022]],Table11[#Headers],0))","v":105},{"$f":"INDEX(Table11[],MATCH(TEXT(hf_kommune[[#This Row],[Kommunenr]],\"0\"),Table11[Nr],0),MATCH(hf_kommune[[#Headers],[2023]],Table11[#Headers],0))","v":110},{"$f":"INDEX(Table11[],MATCH(TEXT(hf_kommune[[#This Row],[Kommunenr]],\"0\"),Table11[Nr],0),MATCH(hf_kommune[[#Headers],[2024]],Table11[#Headers],0))","v":119},{"$f":"INDEX(Table11[],MATCH(TEXT(hf_kommune[[#This Row],[Kommunenr]],\"0\"),Table11[Nr],0),MATCH(hf_kommune[[#Headers],[2025]],Table11[#Headers],0))","v":145},{"$f":"INDEX(Table11[],MATCH(TEXT(hf_kommune[[#This Row],[Kommunenr]],\"0\"),Table11[Nr],0),MATCH(hf_kommune[[#Headers],[2026]],Table11[#Headers],0))","v":128},{"$f":"INDEX(Table11[],MATCH(TEXT(hf_kommune[[#This Row],[Kommunenr]],\"0\"),Table11[Nr],0),MATCH(hf_kommune[[#Headers],[2027]],Table11[#Headers],0))","v":138},{"$f":"INDEX(Table11[],MATCH(TEXT(hf_kommune[[#This Row],[Kommunenr]],\"0\"),Table11[Nr],0),MATCH(hf_kommune[[#Headers],[2028]],Table11[#Headers],0))","v":116},{"$f":"INDEX(Table11[],MATCH(TEXT(hf_kommune[[#This Row],[Kommunenr]],\"0\"),Table11[Nr],0),MATCH(hf_kommune[[#Headers],[2029]],Table11[#Headers],0))","v":126},{"$f":"INDEX(Table11[],MATCH(TEXT(hf_kommune[[#This Row],[Kommunenr]],\"0\"),Table11[Nr],0),MATCH(hf_kommune[[#Headers],[2030]],Table11[#Headers],0))","v":124},{"$f":"INDEX(Table11[],MATCH(TEXT(hf_kommune[[#This Row],[Kommunenr]],\"0\"),Table11[Nr],0),MATCH(hf_kommune[[#Headers],[2031]],Table11[#Headers],0))","v":106},{"$f":"INDEX(Table11[],MATCH(TEXT(hf_kommune[[#This Row],[Kommunenr]],\"0\"),Table11[Nr],0),MATCH(hf_kommune[[#Headers],[2032]],Table11[#Headers],0))","v":113},{"$f":"INDEX(Table11[],MATCH(TEXT(hf_kommune[[#This Row],[Kommunenr]],\"0\"),Table11[Nr],0),MATCH(hf_kommune[[#Headers],[2033]],Table11[#Headers],0))","v":100},{"$f":"INDEX(Table11[],MATCH(TEXT(hf_kommune[[#This Row],[Kommunenr]],\"0\"),Table11[Nr],0),MATCH(hf_kommune[[#Headers],[2034]],Table11[#Headers],0))","v":116},{"$f":"INDEX(Table11[],MATCH(TEXT(hf_kommune[[#This Row],[Kommunenr]],\"0\"),Table11[Nr],0),MATCH(hf_kommune[[#Headers],[2035]],Table11[#Headers],0))","v":99},{"$f":"INDEX(Table11[],MATCH(TEXT(hf_kommune[[#This Row],[Kommunenr]],\"0\"),Table11[Nr],0),MATCH(hf_kommune[[#Headers],[2036]],Table11[#Headers],0))","v":102},{"$f":"INDEX(Table11[],MATCH(TEXT(hf_kommune[[#This Row],[Kommunenr]],\"0\"),Table11[Nr],0),MATCH(hf_kommune[[#Headers],[2037]],Table11[#Headers],0))","v":108},{"$f":"INDEX(Table11[],MATCH(TEXT(hf_kommune[[#This Row],[Kommunenr]],\"0\"),Table11[Nr],0),MATCH(hf_kommune[[#Headers],[2038]],Table11[#Headers],0))","v":108},{"$f":"INDEX(Table11[],MATCH(TEXT(hf_kommune[[#This Row],[Kommunenr]],\"0\"),Table11[Nr],0),MATCH(hf_kommune[[#Headers],[2039]],Table11[#Headers],0))","v":109},{"$f":"INDEX(Table11[],MATCH(TEXT(hf_kommune[[#This Row],[Kommunenr]],\"0\"),Table11[Nr],0),MATCH(hf_kommune[[#Headers],[2040]],Table11[#Headers],0))","v":101},8819,8801,8791,8789,8795,8801,8806,8811,8815,8819,8823,8828,8832,8837,8841,8845,8849,8851,8852]
[1818,"Herøy (Nordland)","Helse Nord","Helgelandssykehuset","Sandnessjøen",{"$f":"INDEX(Table11[],MATCH(TEXT(hf_kommune[[#This Row],[Kommunenr]],\"0\"),Table11[Nr],0),MATCH(hf_kommune[[#Headers],[2020]],Table11[#Headers],0))","v":28},{"$f":"INDEX(Table11[],MATCH(TEXT(hf_kommune[[#This Row],[Kommunenr]],\"0\"),Table11[Nr],0),MATCH(hf_kommune[[#Headers],[2021]],Table11[#Headers],0))","v":31},{"$f":"INDEX(Table11[],MATCH(TEXT(hf_kommune[[#This Row],[Kommunenr]],\"0\"),Table11[Nr],0),MATCH(hf_kommune[[#Headers],[2022]],Table11[#Headers],0))","v":29},{"$f":"INDEX(Table11[],MATCH(TEXT(hf_kommune[[#This Row],[Kommunenr]],\"0\"),Table11[Nr],0),MATCH(hf_kommune[[#Headers],[2023]],Table11[#Headers],0))","v":26},{"$f":"INDEX(Table11[],MATCH(TEXT(hf_kommune[[#This Row],[Kommunenr]],\"0\"),Table11[Nr],0),MATCH(hf_kommune[[#Headers],[2024]],Table11[#Headers],0))","v":21},{"$f":"INDEX(Table11[],MATCH(TEXT(hf_kommune[[#This Row],[Kommunenr]],\"0\"),Table11[Nr],0),MATCH(hf_kommune[[#Headers],[2025]],Table11[#Headers],0))","v":24},{"$f":"INDEX(Table11[],MATCH(TEXT(hf_kommune[[#This Row],[Kommunenr]],\"0\"),Table11[Nr],0),MATCH(hf_kommune[[#Headers],[2026]],Table11[#Headers],0))","v":26},{"$f":"INDEX(Table11[],MATCH(TEXT(hf_kommune[[#This Row],[Kommunenr]],\"0\"),Table11[Nr],0),MATCH(hf_kommune[[#Headers],[2027]],Table11[#Headers],0))","v":15},{"$f":"INDEX(Table11[],MATCH(TEXT(hf_kommune[[#This Row],[Kommunenr]],\"0\"),Table11[Nr],0),MATCH(hf_kommune[[#Headers],[2028]],Table11[#Headers],0))","v":24},{"$f":"INDEX(Table11[],MATCH(TEXT(hf_kommune[[#This Row],[Kommunenr]],\"0\"),Table11[Nr],0),MATCH(hf_kommune[[#Headers],[2029]],Table11[#Headers],0))","v":26},{"$f":"INDEX(Table11[],MATCH(TEXT(hf_kommune[[#This Row],[Kommunenr]],\"0\"),Table11[Nr],0),MATCH(hf_kommune[[#Headers],[2030]],Table11[#Headers],0))","v":21},{"$f":"INDEX(Table11[],MATCH(TEXT(hf_kommune[[#This Row],[Kommunenr]],\"0\"),Table11[Nr],0),MATCH(hf_kommune[[#Headers],[2031]],Table11[#Headers],0))","v":22},{"$f":"INDEX(Table11[],MATCH(TEXT(hf_kommune[[#This Row],[Kommunenr]],\"0\"),Table11[Nr],0),MATCH(hf_kommune[[#Headers],[2032]],Table11[#Headers],0))","v":20},{"$f":"INDEX(Table11[],MATCH(TEXT(hf_kommune[[#This Row],[Kommunenr]],\"0\"),Table11[Nr],0),MATCH(hf_kommune[[#Headers],[2033]],Table11[#Headers],0))","v":20},{"$f":"INDEX(Table11[],MATCH(TEXT(hf_kommune[[#This Row],[Kommunenr]],\"0\"),Table11[Nr],0),MATCH(hf_kommune[[#Headers],[2034]],Table11[#Headers],0))","v":20},{"$f":"INDEX(Table11[],MATCH(TEXT(hf_kommune[[#This Row],[Kommunenr]],\"0\"),Table11[Nr],0),MATCH(hf_kommune[[#Headers],[2035]],Table11[#Headers],0))","v":25},{"$f":"INDEX(Table11[],MATCH(TEXT(hf_kommune[[#This Row],[Kommunenr]],\"0\"),Table11[Nr],0),MATCH(hf_kommune[[#Headers],[2036]],Table11[#Headers],0))","v":25},{"$f":"INDEX(Table11[],MATCH(TEXT(hf_kommune[[#This Row],[Kommunenr]],\"0\"),Table11[Nr],0),MATCH(hf_kommune[[#Headers],[2037]],Table11[#Headers],0))","v":22},{"$f":"INDEX(Table11[],MATCH(TEXT(hf_kommune[[#This Row],[Kommunenr]],\"0\"),Table11[Nr],0),MATCH(hf_kommune[[#Headers],[2038]],Table11[#Headers],0))","v":25},{"$f":"INDEX(Table11[],MATCH(TEXT(hf_kommune[[#This Row],[Kommunenr]],\"0\"),Table11[Nr],0),MATCH(hf_kommune[[#Headers],[2039]],Table11[#Headers],0))","v":23},{"$f":"INDEX(Table11[],MATCH(TEXT(hf_kommune[[#This Row],[Kommunenr]],\"0\"),Table11[Nr],0),MATCH(hf_kommune[[#Headers],[2040]],Table11[#Headers],0))","v":27},1792,1806,1819,1832,1844,1855,1865,1874,1882,1890,1896,1902,1908,1913,1917,1921,1924,1927,1930]
[5056,"Hitra","Helse Midt-Norge","St. Olavs hospital","St. Olav - Orkdal",{"$f":"INDEX(Table11[],MATCH(TEXT(hf_kommune[[#This Row],[Kommunenr]],\"0\"),Table11[Nr],0),MATCH(hf_kommune[[#Headers],[2020]],Table11[#Headers],0))","v":76},{"$f":"INDEX(Table11[],MATCH(TEXT(hf_kommune[[#This Row],[Kommunenr]],\"0\"),Table11[Nr],0),MATCH(hf_kommune[[#Headers],[2021]],Table11[#Headers],0))","v":80},{"$f":"INDEX(Table11[],MATCH(TEXT(hf_kommune[[#This Row],[Kommunenr]],\"0\"),Table11[Nr],0),MATCH(hf_kommune[[#Headers],[2022]],Table11[#Headers],0))","v":72},{"$f":"INDEX(Table11[],MATCH(TEXT(hf_kommune[[#This Row],[Kommunenr]],\"0\"),Table11[Nr],0),MATCH(hf_kommune[[#Headers],[2023]],Table11[#Headers],0))","v":69},{"$f":"INDEX(Table11[],MATCH(TEXT(hf_kommune[[#This Row],[Kommunenr]],\"0\"),Table11[Nr],0),MATCH(hf_kommune[[#Headers],[2024]],Table11[#Headers],0))","v":70},{"$f":"INDEX(Table11[],MATCH(TEXT(hf_kommune[[#This Row],[Kommunenr]],\"0\"),Table11[Nr],0),MATCH(hf_kommune[[#Headers],[2025]],Table11[#Headers],0))","v":84},{"$f":"INDEX(Table11[],MATCH(TEXT(hf_kommune[[#This Row],[Kommunenr]],\"0\"),Table11[Nr],0),MATCH(hf_kommune[[#Headers],[2026]],Table11[#Headers],0))","v":70},{"$f":"INDEX(Table11[],MATCH(TEXT(hf_kommune[[#This Row],[Kommunenr]],\"0\"),Table11[Nr],0),MATCH(hf_kommune[[#Headers],[2027]],Table11[#Headers],0))","v":76},{"$f":"INDEX(Table11[],MATCH(TEXT(hf_kommune[[#This Row],[Kommunenr]],\"0\"),Table11[Nr],0),MATCH(hf_kommune[[#Headers],[2028]],Table11[#Headers],0))","v":72},{"$f":"INDEX(Table11[],MATCH(TEXT(hf_kommune[[#This Row],[Kommunenr]],\"0\"),Table11[Nr],0),MATCH(hf_kommune[[#Headers],[2029]],Table11[#Headers],0))","v":84},{"$f":"INDEX(Table11[],MATCH(TEXT(hf_kommune[[#This Row],[Kommunenr]],\"0\"),Table11[Nr],0),MATCH(hf_kommune[[#Headers],[2030]],Table11[#Headers],0))","v":71},{"$f":"INDEX(Table11[],MATCH(TEXT(hf_kommune[[#This Row],[Kommunenr]],\"0\"),Table11[Nr],0),MATCH(hf_kommune[[#Headers],[2031]],Table11[#Headers],0))","v":79},{"$f":"INDEX(Table11[],MATCH(TEXT(hf_kommune[[#This Row],[Kommunenr]],\"0\"),Table11[Nr],0),MATCH(hf_kommune[[#Headers],[2032]],Table11[#Headers],0))","v":61},{"$f":"INDEX(Table11[],MATCH(TEXT(hf_kommune[[#This Row],[Kommunenr]],\"0\"),Table11[Nr],0),MATCH(hf_kommune[[#Headers],[2033]],Table11[#Headers],0))","v":74},{"$f":"INDEX(Table11[],MATCH(TEXT(hf_kommune[[#This Row],[Kommunenr]],\"0\"),Table11[Nr],0),MATCH(hf_kommune[[#Headers],[2034]],Table11[#Headers],0))","v":74},{"$f":"INDEX(Table11[],MATCH(TEXT(hf_kommune[[#This Row],[Kommunenr]],\"0\"),Table11[Nr],0),MATCH(hf_kommune[[#Headers],[2035]],Table11[#Headers],0))","v":74},{"$f":"INDEX(Table11[],MATCH(TEXT(hf_kommune[[#This Row],[Kommunenr]],\"0\"),Table11[Nr],0),MATCH(hf_kommune[[#Headers],[2036]],Table11[#Headers],0))","v":68},{"$f":"INDEX(Table11[],MATCH(TEXT(hf_kommune[[#This Row],[Kommunenr]],\"0\"),Table11[Nr],0),MATCH(hf_kommune[[#Headers],[2037]],Table11[#Headers],0))","v":73},{"$f":"INDEX(Table11[],MATCH(TEXT(hf_kommune[[#This Row],[Kommunenr]],\"0\"),Table11[Nr],0),MATCH(hf_kommune[[#Headers],[2038]],Table11[#Headers],0))","v":60},{"$f":"INDEX(Table11[],MATCH(TEXT(hf_kommune[[#This Row],[Kommunenr]],\"0\"),Table11[Nr],0),MATCH(hf_kommune[[#Headers],[2039]],Table11[#Headers],0))","v":73},{"$f":"INDEX(Table11[],MATCH(TEXT(hf_kommune[[#This Row],[Kommunenr]],\"0\"),Table11[Nr],0),MATCH(hf_kommune[[#Headers],[2040]],Table11[#Headers],0))","v":85},5128,5170,5212,5255,5300,5344,5387,5429,5470,5510,5549,5587,5623,5658,5692,5725,5756,5785,5813]
[3819,"Hjartdal","Helse Sør-Øst","Sykehuset Telemark","Notodden",{"$f":"INDEX(Table11[],MATCH(TEXT(hf_kommune[[#This Row],[Kommunenr]],\"0\"),Table11[Nr],0),MATCH(hf_kommune[[#Headers],[2020]],Table11[#Headers],0))","v":19},{"$f":"INDEX(Table11[],MATCH(TEXT(hf_kommune[[#This Row],[Kommunenr]],\"0\"),Table11[Nr],0),MATCH(hf_kommune[[#Headers],[2021]],Table11[#Headers],0))","v":19},{"$f":"INDEX(Table11[],MATCH(TEXT(hf_kommune[[#This Row],[Kommunenr]],\"0\"),Table11[Nr],0),MATCH(hf_kommune[[#Headers],[2022]],Table11[#Headers],0))","v":21},{"$f":"INDEX(Table11[],MATCH(TEXT(hf_kommune[[#This Row],[Kommunenr]],\"0\"),Table11[Nr],0),MATCH(hf_kommune[[#Headers],[2023]],Table11[#Headers],0))","v":26},{"$f":"INDEX(Table11[],MATCH(TEXT(hf_kommune[[#This Row],[Kommunenr]],\"0\"),Table11[Nr],0),MATCH(hf_kommune[[#Headers],[2024]],Table11[#Headers],0))","v":23},{"$f":"INDEX(Table11[],MATCH(TEXT(hf_kommune[[#This Row],[Kommunenr]],\"0\"),Table11[Nr],0),MATCH(hf_kommune[[#Headers],[2025]],Table11[#Headers],0))","v":25},{"$f":"INDEX(Table11[],MATCH(TEXT(hf_kommune[[#This Row],[Kommunenr]],\"0\"),Table11[Nr],0),MATCH(hf_kommune[[#Headers],[2026]],Table11[#Headers],0))","v":27},{"$f":"INDEX(Table11[],MATCH(TEXT(hf_kommune[[#This Row],[Kommunenr]],\"0\"),Table11[Nr],0),MATCH(hf_kommune[[#Headers],[2027]],Table11[#Headers],0))","v":23},{"$f":"INDEX(Table11[],MATCH(TEXT(hf_kommune[[#This Row],[Kommunenr]],\"0\"),Table11[Nr],0),MATCH(hf_kommune[[#Headers],[2028]],Table11[#Headers],0))","v":29},{"$f":"INDEX(Table11[],MATCH(TEXT(hf_kommune[[#This Row],[Kommunenr]],\"0\"),Table11[Nr],0),MATCH(hf_kommune[[#Headers],[2029]],Table11[#Headers],0))","v":24},{"$f":"INDEX(Table11[],MATCH(TEXT(hf_kommune[[#This Row],[Kommunenr]],\"0\"),Table11[Nr],0),MATCH(hf_kommune[[#Headers],[2030]],Table11[#Headers],0))","v":20},{"$f":"INDEX(Table11[],MATCH(TEXT(hf_kommune[[#This Row],[Kommunenr]],\"0\"),Table11[Nr],0),MATCH(hf_kommune[[#Headers],[2031]],Table11[#Headers],0))","v":17},{"$f":"INDEX(Table11[],MATCH(TEXT(hf_kommune[[#This Row],[Kommunenr]],\"0\"),Table11[Nr],0),MATCH(hf_kommune[[#Headers],[2032]],Table11[#Headers],0))","v":19},{"$f":"INDEX(Table11[],MATCH(TEXT(hf_kommune[[#This Row],[Kommunenr]],\"0\"),Table11[Nr],0),MATCH(hf_kommune[[#Headers],[2033]],Table11[#Headers],0))","v":18},{"$f":"INDEX(Table11[],MATCH(TEXT(hf_kommune[[#This Row],[Kommunenr]],\"0\"),Table11[Nr],0),MATCH(hf_kommune[[#Headers],[2034]],Table11[#Headers],0))","v":17},{"$f":"INDEX(Table11[],MATCH(TEXT(hf_kommune[[#This Row],[Kommunenr]],\"0\"),Table11[Nr],0),MATCH(hf_kommune[[#Headers],[2035]],Table11[#Headers],0))","v":17},{"$f":"INDEX(Table11[],MATCH(TEXT(hf_kommune[[#This Row],[Kommunenr]],\"0\"),Table11[Nr],0),MATCH(hf_kommune[[#Headers],[2036]],Table11[#Headers],0))","v":15},{"$f":"INDEX(Table11[],MATCH(TEXT(hf_kommune[[#This Row],[Kommunenr]],\"0\"),Table11[Nr],0),MATCH(hf_kommune[[#Headers],[2037]],Table11[#Headers],0))","v":13},{"$f":"INDEX(Table11[],MATCH(TEXT(hf_kommune[[#This Row],[Kommunenr]],\"0\"),Table11[Nr],0),MATCH(hf_kommune[[#Headers],[2038]],Table11[#Headers],0))","v":18},{"$f":"INDEX(Table11[],MATCH(TEXT(hf_kommune[[#This Row],[Kommunenr]],\"0\"),Table11[Nr],0),MATCH(hf_kommune[[#Headers],[2039]],Table11[#Headers],0))","v":21},{"$f":"INDEX(Table11[],MATCH(TEXT(hf_kommune[[#This Row],[Kommunenr]],\"0\"),Table11[Nr],0),MATCH(hf_kommune[[#Headers],[2040]],Table11[#Headers],0))","v":17},1583,1584,1584,1582,1578,1575,1572,1570,1567,1564,1562,1559,1555,1552,1548,1544,1540,1535,1530]
[1133,"Hjelmeland","Helse Vest","Helse Stavanger","Stavanger",{"$f":"INDEX(Table11[],MATCH(TEXT(hf_kommune[[#This Row],[Kommunenr]],\"0\"),Table11[Nr],0),MATCH(hf_kommune[[#Headers],[2020]],Table11[#Headers],0))","v":38},{"$f":"INDEX(Table11[],MATCH(TEXT(hf_kommune[[#This Row],[Kommunenr]],\"0\"),Table11[Nr],0),MATCH(hf_kommune[[#Headers],[2021]],Table11[#Headers],0))","v":32},{"$f":"INDEX(Table11[],MATCH(TEXT(hf_kommune[[#This Row],[Kommunenr]],\"0\"),Table11[Nr],0),MATCH(hf_kommune[[#Headers],[2022]],Table11[#Headers],0))","v":31},{"$f":"INDEX(Table11[],MATCH(TEXT(hf_kommune[[#This Row],[Kommunenr]],\"0\"),Table11[Nr],0),MATCH(hf_kommune[[#Headers],[2023]],Table11[#Headers],0))","v":42},{"$f":"INDEX(Table11[],MATCH(TEXT(hf_kommune[[#This Row],[Kommunenr]],\"0\"),Table11[Nr],0),MATCH(hf_kommune[[#Headers],[2024]],Table11[#Headers],0))","v":34},{"$f":"INDEX(Table11[],MATCH(TEXT(hf_kommune[[#This Row],[Kommunenr]],\"0\"),Table11[Nr],0),MATCH(hf_kommune[[#Headers],[2025]],Table11[#Headers],0))","v":34},{"$f":"INDEX(Table11[],MATCH(TEXT(hf_kommune[[#This Row],[Kommunenr]],\"0\"),Table11[Nr],0),MATCH(hf_kommune[[#Headers],[2026]],Table11[#Headers],0))","v":34},{"$f":"INDEX(Table11[],MATCH(TEXT(hf_kommune[[#This Row],[Kommunenr]],\"0\"),Table11[Nr],0),MATCH(hf_kommune[[#Headers],[2027]],Table11[#Headers],0))","v":35},{"$f":"INDEX(Table11[],MATCH(TEXT(hf_kommune[[#This Row],[Kommunenr]],\"0\"),Table11[Nr],0),MATCH(hf_kommune[[#Headers],[2028]],Table11[#Headers],0))","v":26},{"$f":"INDEX(Table11[],MATCH(TEXT(hf_kommune[[#This Row],[Kommunenr]],\"0\"),Table11[Nr],0),MATCH(hf_kommune[[#Headers],[2029]],Table11[#Headers],0))","v":34},{"$f":"INDEX(Table11[],MATCH(TEXT(hf_kommune[[#This Row],[Kommunenr]],\"0\"),Table11[Nr],0),MATCH(hf_kommune[[#Headers],[2030]],Table11[#Headers],0))","v":36},{"$f":"INDEX(Table11[],MATCH(TEXT(hf_kommune[[#This Row],[Kommunenr]],\"0\"),Table11[Nr],0),MATCH(hf_kommune[[#Headers],[2031]],Table11[#Headers],0))","v":31},{"$f":"INDEX(Table11[],MATCH(TEXT(hf_kommune[[#This Row],[Kommunenr]],\"0\"),Table11[Nr],0),MATCH(hf_kommune[[#Headers],[2032]],Table11[#Headers],0))","v":24},{"$f":"INDEX(Table11[],MATCH(TEXT(hf_kommune[[#This Row],[Kommunenr]],\"0\"),Table11[Nr],0),MATCH(hf_kommune[[#Headers],[2033]],Table11[#Headers],0))","v":28},{"$f":"INDEX(Table11[],MATCH(TEXT(hf_kommune[[#This Row],[Kommunenr]],\"0\"),Table11[Nr],0),MATCH(hf_kommune[[#Headers],[2034]],Table11[#Headers],0))","v":33},{"$f":"INDEX(Table11[],MATCH(TEXT(hf_kommune[[#This Row],[Kommunenr]],\"0\"),Table11[Nr],0),MATCH(hf_kommune[[#Headers],[2035]],Table11[#Headers],0))","v":43},{"$f":"INDEX(Table11[],MATCH(TEXT(hf_kommune[[#This Row],[Kommunenr]],\"0\"),Table11[Nr],0),MATCH(hf_kommune[[#Headers],[2036]],Table11[#Headers],0))","v":35},{"$f":"INDEX(Table11[],MATCH(TEXT(hf_kommune[[#This Row],[Kommunenr]],\"0\"),Table11[Nr],0),MATCH(hf_kommune[[#Headers],[2037]],Table11[#Headers],0))","v":27},{"$f":"INDEX(Table11[],MATCH(TEXT(hf_kommune[[#This Row],[Kommunenr]],\"0\"),Table11[Nr],0),MATCH(hf_kommune[[#Headers],[2038]],Table11[#Headers],0))","v":29},{"$f":"INDEX(Table11[],MATCH(TEXT(hf_kommune[[#This Row],[Kommunenr]],\"0\"),Table11[Nr],0),MATCH(hf_kommune[[#Headers],[2039]],Table11[#Headers],0))","v":34},{"$f":"INDEX(Table11[],MATCH(TEXT(hf_kommune[[#This Row],[Kommunenr]],\"0\"),Table11[Nr],0),MATCH(hf_kommune[[#Headers],[2040]],Table11[#Headers],0))","v":41},2537,2528,2524,2525,2532,2538,2544,2550,2556,2562,2568,2574,2579,2585,2590,2595,2600,2604,2609]
[3044,"Hol","Helse Sør-Øst","Vestre Viken","Ringerike",{"$f":"INDEX(Table11[],MATCH(TEXT(hf_kommune[[#This Row],[Kommunenr]],\"0\"),Table11[Nr],0),MATCH(hf_kommune[[#Headers],[2020]],Table11[#Headers],0))","v":57},{"$f":"INDEX(Table11[],MATCH(TEXT(hf_kommune[[#This Row],[Kommunenr]],\"0\"),Table11[Nr],0),MATCH(hf_kommune[[#Headers],[2021]],Table11[#Headers],0))","v":71},{"$f":"INDEX(Table11[],MATCH(TEXT(hf_kommune[[#This Row],[Kommunenr]],\"0\"),Table11[Nr],0),MATCH(hf_kommune[[#Headers],[2022]],Table11[#Headers],0))","v":62},{"$f":"INDEX(Table11[],MATCH(TEXT(hf_kommune[[#This Row],[Kommunenr]],\"0\"),Table11[Nr],0),MATCH(hf_kommune[[#Headers],[2023]],Table11[#Headers],0))","v":66},{"$f":"INDEX(Table11[],MATCH(TEXT(hf_kommune[[#This Row],[Kommunenr]],\"0\"),Table11[Nr],0),MATCH(hf_kommune[[#Headers],[2024]],Table11[#Headers],0))","v":66},{"$f":"INDEX(Table11[],MATCH(TEXT(hf_kommune[[#This Row],[Kommunenr]],\"0\"),Table11[Nr],0),MATCH(hf_kommune[[#Headers],[2025]],Table11[#Headers],0))","v":59},{"$f":"INDEX(Table11[],MATCH(TEXT(hf_kommune[[#This Row],[Kommunenr]],\"0\"),Table11[Nr],0),MATCH(hf_kommune[[#Headers],[2026]],Table11[#Headers],0))","v":60},{"$f":"INDEX(Table11[],MATCH(TEXT(hf_kommune[[#This Row],[Kommunenr]],\"0\"),Table11[Nr],0),MATCH(hf_kommune[[#Headers],[2027]],Table11[#Headers],0))","v":62},{"$f":"INDEX(Table11[],MATCH(TEXT(hf_kommune[[#This Row],[Kommunenr]],\"0\"),Table11[Nr],0),MATCH(hf_kommune[[#Headers],[2028]],Table11[#Headers],0))","v":59},{"$f":"INDEX(Table11[],MATCH(TEXT(hf_kommune[[#This Row],[Kommunenr]],\"0\"),Table11[Nr],0),MATCH(hf_kommune[[#Headers],[2029]],Table11[#Headers],0))","v":74},{"$f":"INDEX(Table11[],MATCH(TEXT(hf_kommune[[#This Row],[Kommunenr]],\"0\"),Table11[Nr],0),MATCH(hf_kommune[[#Headers],[2030]],Table11[#Headers],0))","v":68},{"$f":"INDEX(Table11[],MATCH(TEXT(hf_kommune[[#This Row],[Kommunenr]],\"0\"),Table11[Nr],0),MATCH(hf_kommune[[#Headers],[2031]],Table11[#Headers],0))","v":67},{"$f":"INDEX(Table11[],MATCH(TEXT(hf_kommune[[#This Row],[Kommunenr]],\"0\"),Table11[Nr],0),MATCH(hf_kommune[[#Headers],[2032]],Table11[#Headers],0))","v":47},{"$f":"INDEX(Table11[],MATCH(TEXT(hf_kommune[[#This Row],[Kommunenr]],\"0\"),Table11[Nr],0),MATCH(hf_kommune[[#Headers],[2033]],Table11[#Headers],0))","v":58},{"$f":"INDEX(Table11[],MATCH(TEXT(hf_kommune[[#This Row],[Kommunenr]],\"0\"),Table11[Nr],0),MATCH(hf_kommune[[#Headers],[2034]],Table11[#Headers],0))","v":67},{"$f":"INDEX(Table11[],MATCH(TEXT(hf_kommune[[#This Row],[Kommunenr]],\"0\"),Table11[Nr],0),MATCH(hf_kommune[[#Headers],[2035]],Table11[#Headers],0))","v":63},{"$f":"INDEX(Table11[],MATCH(TEXT(hf_kommune[[#This Row],[Kommunenr]],\"0\"),Table11[Nr],0),MATCH(hf_kommune[[#Headers],[2036]],Table11[#Headers],0))","v":71},{"$f":"INDEX(Table11[],MATCH(TEXT(hf_kommune[[#This Row],[Kommunenr]],\"0\"),Table11[Nr],0),MATCH(hf_kommune[[#Headers],[2037]],Table11[#Headers],0))","v":52},{"$f":"INDEX(Table11[],MATCH(TEXT(hf_kommune[[#This Row],[Kommunenr]],\"0\"),Table11[Nr],0),MATCH(hf_kommune[[#Headers],[2038]],Table11[#Headers],0))","v":60},{"$f":"INDEX(Table11[],MATCH(TEXT(hf_kommune[[#This Row],[Kommunenr]],\"0\"),Table11[Nr],0),MATCH(hf_kommune[[#Headers],[2039]],Table11[#Headers],0))","v":65},{"$f":"INDEX(Table11[],MATCH(TEXT(hf_kommune[[#This Row],[Kommunenr]],\"0\"),Table11[Nr],0),MATCH(hf_kommune[[#Headers],[2040]],Table11[#Headers],0))","v":59},4431,4440,4455,4473,4496,4519,4541,4563,4585,4606,4626,4646,4666,4684,4702,4719,4734,4748,4760]
[3038,"Hole","Helse Sør-Øst","Vestre Viken","Ringerike",{"$f":"INDEX(Table11[],MATCH(TEXT(hf_kommune[[#This Row],[Kommunenr]],\"0\"),Table11[Nr],0),MATCH(hf_kommune[[#Headers],[2020]],Table11[#Headers],0))","v":107},{"$f":"INDEX(Table11[],MATCH(TEXT(hf_kommune[[#This Row],[Kommunenr]],\"0\"),Table11[Nr],0),MATCH(hf_kommune[[#Headers],[2021]],Table11[#Headers],0))","v":92},{"$f":"INDEX(Table11[],MATCH(TEXT(hf_kommune[[#This Row],[Kommunenr]],\"0\"),Table11[Nr],0),MATCH(hf_kommune[[#Headers],[2022]],Table11[#Headers],0))","v":121},{"$f":"INDEX(Table11[],MATCH(TEXT(hf_kommune[[#This Row],[Kommunenr]],\"0\"),Table11[Nr],0),MATCH(hf_kommune[[#Headers],[2023]],Table11[#Headers],0))","v":111},{"$f":"INDEX(Table11[],MATCH(TEXT(hf_kommune[[#This Row],[Kommunenr]],\"0\"),Table11[Nr],0),MATCH(hf_kommune[[#Headers],[2024]],Table11[#Headers],0))","v":105},{"$f":"INDEX(Table11[],MATCH(TEXT(hf_kommune[[#This Row],[Kommunenr]],\"0\"),Table11[Nr],0),MATCH(hf_kommune[[#Headers],[2025]],Table11[#Headers],0))","v":105},{"$f":"INDEX(Table11[],MATCH(TEXT(hf_kommune[[#This Row],[Kommunenr]],\"0\"),Table11[Nr],0),MATCH(hf_kommune[[#Headers],[2026]],Table11[#Headers],0))","v":109},{"$f":"INDEX(Table11[],MATCH(TEXT(hf_kommune[[#This Row],[Kommunenr]],\"0\"),Table11[Nr],0),MATCH(hf_kommune[[#Headers],[2027]],Table11[#Headers],0))","v":100},{"$f":"INDEX(Table11[],MATCH(TEXT(hf_kommune[[#This Row],[Kommunenr]],\"0\"),Table11[Nr],0),MATCH(hf_kommune[[#Headers],[2028]],Table11[#Headers],0))","v":112},{"$f":"INDEX(Table11[],MATCH(TEXT(hf_kommune[[#This Row],[Kommunenr]],\"0\"),Table11[Nr],0),MATCH(hf_kommune[[#Headers],[2029]],Table11[#Headers],0))","v":103},{"$f":"INDEX(Table11[],MATCH(TEXT(hf_kommune[[#This Row],[Kommunenr]],\"0\"),Table11[Nr],0),MATCH(hf_kommune[[#Headers],[2030]],Table11[#Headers],0))","v":120},{"$f":"INDEX(Table11[],MATCH(TEXT(hf_kommune[[#This Row],[Kommunenr]],\"0\"),Table11[Nr],0),MATCH(hf_kommune[[#Headers],[2031]],Table11[#Headers],0))","v":126},{"$f":"INDEX(Table11[],MATCH(TEXT(hf_kommune[[#This Row],[Kommunenr]],\"0\"),Table11[Nr],0),MATCH(hf_kommune[[#Headers],[2032]],Table11[#Headers],0))","v":107},{"$f":"INDEX(Table11[],MATCH(TEXT(hf_kommune[[#This Row],[Kommunenr]],\"0\"),Table11[Nr],0),MATCH(hf_kommune[[#Headers],[2033]],Table11[#Headers],0))","v":105},{"$f":"INDEX(Table11[],MATCH(TEXT(hf_kommune[[#This Row],[Kommunenr]],\"0\"),Table11[Nr],0),MATCH(hf_kommune[[#Headers],[2034]],Table11[#Headers],0))","v":109},{"$f":"INDEX(Table11[],MATCH(TEXT(hf_kommune[[#This Row],[Kommunenr]],\"0\"),Table11[Nr],0),MATCH(hf_kommune[[#Headers],[2035]],Table11[#Headers],0))","v":123},{"$f":"INDEX(Table11[],MATCH(TEXT(hf_kommune[[#This Row],[Kommunenr]],\"0\"),Table11[Nr],0),MATCH(hf_kommune[[#Headers],[2036]],Table11[#Headers],0))","v":124},{"$f":"INDEX(Table11[],MATCH(TEXT(hf_kommune[[#This Row],[Kommunenr]],\"0\"),Table11[Nr],0),MATCH(hf_kommune[[#Headers],[2037]],Table11[#Headers],0))","v":117},{"$f":"INDEX(Table11[],MATCH(TEXT(hf_kommune[[#This Row],[Kommunenr]],\"0\"),Table11[Nr],0),MATCH(hf_kommune[[#Headers],[2038]],Table11[#Headers],0))","v":107},{"$f":"INDEX(Table11[],MATCH(TEXT(hf_kommune[[#This Row],[Kommunenr]],\"0\"),Table11[Nr],0),MATCH(hf_kommune[[#Headers],[2039]],Table11[#Headers],0))","v":125},{"$f":"INDEX(Table11[],MATCH(TEXT(hf_kommune[[#This Row],[Kommunenr]],\"0\"),Table11[Nr],0),MATCH(hf_kommune[[#Headers],[2040]],Table11[#Headers],0))","v":108},6907,6981,7062,7152,7251,7345,7436,7523,7606,7686,7763,7838,7911,7984,8056,8128,8200,8270,8339]
[3802,"Holmestrand","Helse Sør-Øst","Sykehuset i Vestfold","Tønsberg",{"$f":"INDEX(Table11[],MATCH(TEXT(hf_kommune[[#This Row],[Kommunenr]],\"0\"),Table11[Nr],0),MATCH(hf_kommune[[#Headers],[2020]],Table11[#Headers],0))","v":358},{"$f":"INDEX(Table11[],MATCH(TEXT(hf_kommune[[#This Row],[Kommunenr]],\"0\"),Table11[Nr],0),MATCH(hf_kommune[[#Headers],[2021]],Table11[#Headers],0))","v":389},{"$f":"INDEX(Table11[],MATCH(TEXT(hf_kommune[[#This Row],[Kommunenr]],\"0\"),Table11[Nr],0),MATCH(hf_kommune[[#Headers],[2022]],Table11[#Headers],0))","v":338},{"$f":"INDEX(Table11[],MATCH(TEXT(hf_kommune[[#This Row],[Kommunenr]],\"0\"),Table11[Nr],0),MATCH(hf_kommune[[#Headers],[2023]],Table11[#Headers],0))","v":373},{"$f":"INDEX(Table11[],MATCH(TEXT(hf_kommune[[#This Row],[Kommunenr]],\"0\"),Table11[Nr],0),MATCH(hf_kommune[[#Headers],[2024]],Table11[#Headers],0))","v":405},{"$f":"INDEX(Table11[],MATCH(TEXT(hf_kommune[[#This Row],[Kommunenr]],\"0\"),Table11[Nr],0),MATCH(hf_kommune[[#Headers],[2025]],Table11[#Headers],0))","v":398},{"$f":"INDEX(Table11[],MATCH(TEXT(hf_kommune[[#This Row],[Kommunenr]],\"0\"),Table11[Nr],0),MATCH(hf_kommune[[#Headers],[2026]],Table11[#Headers],0))","v":416},{"$f":"INDEX(Table11[],MATCH(TEXT(hf_kommune[[#This Row],[Kommunenr]],\"0\"),Table11[Nr],0),MATCH(hf_kommune[[#Headers],[2027]],Table11[#Headers],0))","v":429},{"$f":"INDEX(Table11[],MATCH(TEXT(hf_kommune[[#This Row],[Kommunenr]],\"0\"),Table11[Nr],0),MATCH(hf_kommune[[#Headers],[2028]],Table11[#Headers],0))","v":389},{"$f":"INDEX(Table11[],MATCH(TEXT(hf_kommune[[#This Row],[Kommunenr]],\"0\"),Table11[Nr],0),MATCH(hf_kommune[[#Headers],[2029]],Table11[#Headers],0))","v":421},{"$f":"INDEX(Table11[],MATCH(TEXT(hf_kommune[[#This Row],[Kommunenr]],\"0\"),Table11[Nr],0),MATCH(hf_kommune[[#Headers],[2030]],Table11[#Headers],0))","v":423},{"$f":"INDEX(Table11[],MATCH(TEXT(hf_kommune[[#This Row],[Kommunenr]],\"0\"),Table11[Nr],0),MATCH(hf_kommune[[#Headers],[2031]],Table11[#Headers],0))","v":394},{"$f":"INDEX(Table11[],MATCH(TEXT(hf_kommune[[#This Row],[Kommunenr]],\"0\"),Table11[Nr],0),MATCH(hf_kommune[[#Headers],[2032]],Table11[#Headers],0))","v":374},{"$f":"INDEX(Table11[],MATCH(TEXT(hf_kommune[[#This Row],[Kommunenr]],\"0\"),Table11[Nr],0),MATCH(hf_kommune[[#Headers],[2033]],Table11[#Headers],0))","v":402},{"$f":"INDEX(Table11[],MATCH(TEXT(hf_kommune[[#This Row],[Kommunenr]],\"0\"),Table11[Nr],0),MATCH(hf_kommune[[#Headers],[2034]],Table11[#Headers],0))","v":358},{"$f":"INDEX(Table11[],MATCH(TEXT(hf_kommune[[#This Row],[Kommunenr]],\"0\"),Table11[Nr],0),MATCH(hf_kommune[[#Headers],[2035]],Table11[#Headers],0))","v":370},{"$f":"INDEX(Table11[],MATCH(TEXT(hf_kommune[[#This Row],[Kommunenr]],\"0\"),Table11[Nr],0),MATCH(hf_kommune[[#Headers],[2036]],Table11[#Headers],0))","v":393},{"$f":"INDEX(Table11[],MATCH(TEXT(hf_kommune[[#This Row],[Kommunenr]],\"0\"),Table11[Nr],0),MATCH(hf_kommune[[#Headers],[2037]],Table11[#Headers],0))","v":369},{"$f":"INDEX(Table11[],MATCH(TEXT(hf_kommune[[#This Row],[Kommunenr]],\"0\"),Table11[Nr],0),MATCH(hf_kommune[[#Headers],[2038]],Table11[#Headers],0))","v":394},{"$f":"INDEX(Table11[],MATCH(TEXT(hf_kommune[[#This Row],[Kommunenr]],\"0\"),Table11[Nr],0),MATCH(hf_kommune[[#Headers],[2039]],Table11[#Headers],0))","v":394},{"$f":"INDEX(Table11[],MATCH(TEXT(hf_kommune[[#This Row],[Kommunenr]],\"0\"),Table11[Nr],0),MATCH(hf_kommune[[#Headers],[2040]],Table11[#Headers],0))","v":391},25058,25254,25454,25659,25871,26080,26286,26490,26691,26888,27082,27271,27456,27637,27815,27989,28157,28321,28480]
[5026,"Holtålen","Helse Midt-Norge","St. Olavs hospital","St. Olav - Øya",{"$f":"INDEX(Table11[],MATCH(TEXT(hf_kommune[[#This Row],[Kommunenr]],\"0\"),Table11[Nr],0),MATCH(hf_kommune[[#Headers],[2020]],Table11[#Headers],0))","v":32},{"$f":"INDEX(Table11[],MATCH(TEXT(hf_kommune[[#This Row],[Kommunenr]],\"0\"),Table11[Nr],0),MATCH(hf_kommune[[#Headers],[2021]],Table11[#Headers],0))","v":28},{"$f":"INDEX(Table11[],MATCH(TEXT(hf_kommune[[#This Row],[Kommunenr]],\"0\"),Table11[Nr],0),MATCH(hf_kommune[[#Headers],[2022]],Table11[#Headers],0))","v":38},{"$f":"INDEX(Table11[],MATCH(TEXT(hf_kommune[[#This Row],[Kommunenr]],\"0\"),Table11[Nr],0),MATCH(hf_kommune[[#Headers],[2023]],Table11[#Headers],0))","v":31},{"$f":"INDEX(Table11[],MATCH(TEXT(hf_kommune[[#This Row],[Kommunenr]],\"0\"),Table11[Nr],0),MATCH(hf_kommune[[#Headers],[2024]],Table11[#Headers],0))","v":28},{"$f":"INDEX(Table11[],MATCH(TEXT(hf_kommune[[#This Row],[Kommunenr]],\"0\"),Table11[Nr],0),MATCH(hf_kommune[[#Headers],[2025]],Table11[#Headers],0))","v":32},{"$f":"INDEX(Table11[],MATCH(TEXT(hf_kommune[[#This Row],[Kommunenr]],\"0\"),Table11[Nr],0),MATCH(hf_kommune[[#Headers],[2026]],Table11[#Headers],0))","v":33},{"$f":"INDEX(Table11[],MATCH(TEXT(hf_kommune[[#This Row],[Kommunenr]],\"0\"),Table11[Nr],0),MATCH(hf_kommune[[#Headers],[2027]],Table11[#Headers],0))","v":27},{"$f":"INDEX(Table11[],MATCH(TEXT(hf_kommune[[#This Row],[Kommunenr]],\"0\"),Table11[Nr],0),MATCH(hf_kommune[[#Headers],[2028]],Table11[#Headers],0))","v":29},{"$f":"INDEX(Table11[],MATCH(TEXT(hf_kommune[[#This Row],[Kommunenr]],\"0\"),Table11[Nr],0),MATCH(hf_kommune[[#Headers],[2029]],Table11[#Headers],0))","v":24},{"$f":"INDEX(Table11[],MATCH(TEXT(hf_kommune[[#This Row],[Kommunenr]],\"0\"),Table11[Nr],0),MATCH(hf_kommune[[#Headers],[2030]],Table11[#Headers],0))","v":21},{"$f":"INDEX(Table11[],MATCH(TEXT(hf_kommune[[#This Row],[Kommunenr]],\"0\"),Table11[Nr],0),MATCH(hf_kommune[[#Headers],[2031]],Table11[#Headers],0))","v":25},{"$f":"INDEX(Table11[],MATCH(TEXT(hf_kommune[[#This Row],[Kommunenr]],\"0\"),Table11[Nr],0),MATCH(hf_kommune[[#Headers],[2032]],Table11[#Headers],0))","v":18},{"$f":"INDEX(Table11[],MATCH(TEXT(hf_kommune[[#This Row],[Kommunenr]],\"0\"),Table11[Nr],0),MATCH(hf_kommune[[#Headers],[2033]],Table11[#Headers],0))","v":19},{"$f":"INDEX(Table11[],MATCH(TEXT(hf_kommune[[#This Row],[Kommunenr]],\"0\"),Table11[Nr],0),MATCH(hf_kommune[[#Headers],[2034]],Table11[#Headers],0))","v":23},{"$f":"INDEX(Table11[],MATCH(TEXT(hf_kommune[[#This Row],[Kommunenr]],\"0\"),Table11[Nr],0),MATCH(hf_kommune[[#Headers],[2035]],Table11[#Headers],0))","v":19},{"$f":"INDEX(Table11[],MATCH(TEXT(hf_kommune[[#This Row],[Kommunenr]],\"0\"),Table11[Nr],0),MATCH(hf_kommune[[#Headers],[2036]],Table11[#Headers],0))","v":24},{"$f":"INDEX(Table11[],MATCH(TEXT(hf_kommune[[#This Row],[Kommunenr]],\"0\"),Table11[Nr],0),MATCH(hf_kommune[[#Headers],[2037]],Table11[#Headers],0))","v":22},{"$f":"INDEX(Table11[],MATCH(TEXT(hf_kommune[[#This Row],[Kommunenr]],\"0\"),Table11[Nr],0),MATCH(hf_kommune[[#Headers],[2038]],Table11[#Headers],0))","v":21},{"$f":"INDEX(Table11[],MATCH(TEXT(hf_kommune[[#This Row],[Kommunenr]],\"0\"),Table11[Nr],0),MATCH(hf_kommune[[#Headers],[2039]],Table11[#Headers],0))","v":19},{"$f":"INDEX(Table11[],MATCH(TEXT(hf_kommune[[#This Row],[Kommunenr]],\"0\"),Table11[Nr],0),MATCH(hf_kommune[[#Headers],[2040]],Table11[#Headers],0))","v":21},1940,1925,1913,1905,1899,1894,1888,1883,1878,1872,1868,1863,1859,1855,1851,1848,1846,1843,1841]
[3801,"Horten","Helse Sør-Øst","Sykehuset i Vestfold","Tønsberg",{"$f":"INDEX(Table11[],MATCH(TEXT(hf_kommune[[#This Row],[Kommunenr]],\"0\"),Table11[Nr],0),MATCH(hf_kommune[[#Headers],[2020]],Table11[#Headers],0))","v":418},{"$f":"INDEX(Table11[],MATCH(TEXT(hf_kommune[[#This Row],[Kommunenr]],\"0\"),Table11[Nr],0),MATCH(hf_kommune[[#Headers],[2021]],Table11[#Headers],0))","v":416},{"$f":"INDEX(Table11[],MATCH(TEXT(hf_kommune[[#This Row],[Kommunenr]],\"0\"),Table11[Nr],0),MATCH(hf_kommune[[#Headers],[2022]],Table11[#Headers],0))","v":374},{"$f":"INDEX(Table11[],MATCH(TEXT(hf_kommune[[#This Row],[Kommunenr]],\"0\"),Table11[Nr],0),MATCH(hf_kommune[[#Headers],[2023]],Table11[#Headers],0))","v":434},{"$f":"INDEX(Table11[],MATCH(TEXT(hf_kommune[[#This Row],[Kommunenr]],\"0\"),Table11[Nr],0),MATCH(hf_kommune[[#Headers],[2024]],Table11[#Headers],0))","v":418},{"$f":"INDEX(Table11[],MATCH(TEXT(hf_kommune[[#This Row],[Kommunenr]],\"0\"),Table11[Nr],0),MATCH(hf_kommune[[#Headers],[2025]],Table11[#Headers],0))","v":424},{"$f":"INDEX(Table11[],MATCH(TEXT(hf_kommune[[#This Row],[Kommunenr]],\"0\"),Table11[Nr],0),MATCH(hf_kommune[[#Headers],[2026]],Table11[#Headers],0))","v":414},{"$f":"INDEX(Table11[],MATCH(TEXT(hf_kommune[[#This Row],[Kommunenr]],\"0\"),Table11[Nr],0),MATCH(hf_kommune[[#Headers],[2027]],Table11[#Headers],0))","v":409},{"$f":"INDEX(Table11[],MATCH(TEXT(hf_kommune[[#This Row],[Kommunenr]],\"0\"),Table11[Nr],0),MATCH(hf_kommune[[#Headers],[2028]],Table11[#Headers],0))","v":416},{"$f":"INDEX(Table11[],MATCH(TEXT(hf_kommune[[#This Row],[Kommunenr]],\"0\"),Table11[Nr],0),MATCH(hf_kommune[[#Headers],[2029]],Table11[#Headers],0))","v":417},{"$f":"INDEX(Table11[],MATCH(TEXT(hf_kommune[[#This Row],[Kommunenr]],\"0\"),Table11[Nr],0),MATCH(hf_kommune[[#Headers],[2030]],Table11[#Headers],0))","v":373},{"$f":"INDEX(Table11[],MATCH(TEXT(hf_kommune[[#This Row],[Kommunenr]],\"0\"),Table11[Nr],0),MATCH(hf_kommune[[#Headers],[2031]],Table11[#Headers],0))","v":339},{"$f":"INDEX(Table11[],MATCH(TEXT(hf_kommune[[#This Row],[Kommunenr]],\"0\"),Table11[Nr],0),MATCH(hf_kommune[[#Headers],[2032]],Table11[#Headers],0))","v":353},{"$f":"INDEX(Table11[],MATCH(TEXT(hf_kommune[[#This Row],[Kommunenr]],\"0\"),Table11[Nr],0),MATCH(hf_kommune[[#Headers],[2033]],Table11[#Headers],0))","v":344},{"$f":"INDEX(Table11[],MATCH(TEXT(hf_kommune[[#This Row],[Kommunenr]],\"0\"),Table11[Nr],0),MATCH(hf_kommune[[#Headers],[2034]],Table11[#Headers],0))","v":321},{"$f":"INDEX(Table11[],MATCH(TEXT(hf_kommune[[#This Row],[Kommunenr]],\"0\"),Table11[Nr],0),MATCH(hf_kommune[[#Headers],[2035]],Table11[#Headers],0))","v":355},{"$f":"INDEX(Table11[],MATCH(TEXT(hf_kommune[[#This Row],[Kommunenr]],\"0\"),Table11[Nr],0),MATCH(hf_kommune[[#Headers],[2036]],Table11[#Headers],0))","v":353},{"$f":"INDEX(Table11[],MATCH(TEXT(hf_kommune[[#This Row],[Kommunenr]],\"0\"),Table11[Nr],0),MATCH(hf_kommune[[#Headers],[2037]],Table11[#Headers],0))","v":362},{"$f":"INDEX(Table11[],MATCH(TEXT(hf_kommune[[#This Row],[Kommunenr]],\"0\"),Table11[Nr],0),MATCH(hf_kommune[[#Headers],[2038]],Table11[#Headers],0))","v":372},{"$f":"INDEX(Table11[],MATCH(TEXT(hf_kommune[[#This Row],[Kommunenr]],\"0\"),Table11[Nr],0),MATCH(hf_kommune[[#Headers],[2039]],Table11[#Headers],0))","v":361},{"$f":"INDEX(Table11[],MATCH(TEXT(hf_kommune[[#This Row],[Kommunenr]],\"0\"),Table11[Nr],0),MATCH(hf_kommune[[#Headers],[2040]],Table11[#Headers],0))","v":356},27343,27387,27446,27523,27614,27704,27791,27877,27962,28046,28127,28208,28287,28366,28448,28530,28610,28688,28765]
[3037,"Hurdal","Helse Sør-Øst","Akershus universitetssykehus","Ahus",{"$f":"INDEX(Table11[],MATCH(TEXT(hf_kommune[[#This Row],[Kommunenr]],\"0\"),Table11[Nr],0),MATCH(hf_kommune[[#Headers],[2020]],Table11[#Headers],0))","v":45},{"$f":"INDEX(Table11[],MATCH(TEXT(hf_kommune[[#This Row],[Kommunenr]],\"0\"),Table11[Nr],0),MATCH(hf_kommune[[#Headers],[2021]],Table11[#Headers],0))","v":33},{"$f":"INDEX(Table11[],MATCH(TEXT(hf_kommune[[#This Row],[Kommunenr]],\"0\"),Table11[Nr],0),MATCH(hf_kommune[[#Headers],[2022]],Table11[#Headers],0))","v":46},{"$f":"INDEX(Table11[],MATCH(TEXT(hf_kommune[[#This Row],[Kommunenr]],\"0\"),Table11[Nr],0),MATCH(hf_kommune[[#Headers],[2023]],Table11[#Headers],0))","v":33},{"$f":"INDEX(Table11[],MATCH(TEXT(hf_kommune[[#This Row],[Kommunenr]],\"0\"),Table11[Nr],0),MATCH(hf_kommune[[#Headers],[2024]],Table11[#Headers],0))","v":44},{"$f":"INDEX(Table11[],MATCH(TEXT(hf_kommune[[#This Row],[Kommunenr]],\"0\"),Table11[Nr],0),MATCH(hf_kommune[[#Headers],[2025]],Table11[#Headers],0))","v":55},{"$f":"INDEX(Table11[],MATCH(TEXT(hf_kommune[[#This Row],[Kommunenr]],\"0\"),Table11[Nr],0),MATCH(hf_kommune[[#Headers],[2026]],Table11[#Headers],0))","v":49},{"$f":"INDEX(Table11[],MATCH(TEXT(hf_kommune[[#This Row],[Kommunenr]],\"0\"),Table11[Nr],0),MATCH(hf_kommune[[#Headers],[2027]],Table11[#Headers],0))","v":37},{"$f":"INDEX(Table11[],MATCH(TEXT(hf_kommune[[#This Row],[Kommunenr]],\"0\"),Table11[Nr],0),MATCH(hf_kommune[[#Headers],[2028]],Table11[#Headers],0))","v":57},{"$f":"INDEX(Table11[],MATCH(TEXT(hf_kommune[[#This Row],[Kommunenr]],\"0\"),Table11[Nr],0),MATCH(hf_kommune[[#Headers],[2029]],Table11[#Headers],0))","v":50},{"$f":"INDEX(Table11[],MATCH(TEXT(hf_kommune[[#This Row],[Kommunenr]],\"0\"),Table11[Nr],0),MATCH(hf_kommune[[#Headers],[2030]],Table11[#Headers],0))","v":44},{"$f":"INDEX(Table11[],MATCH(TEXT(hf_kommune[[#This Row],[Kommunenr]],\"0\"),Table11[Nr],0),MATCH(hf_kommune[[#Headers],[2031]],Table11[#Headers],0))","v":43},{"$f":"INDEX(Table11[],MATCH(TEXT(hf_kommune[[#This Row],[Kommunenr]],\"0\"),Table11[Nr],0),MATCH(hf_kommune[[#Headers],[2032]],Table11[#Headers],0))","v":43},{"$f":"INDEX(Table11[],MATCH(TEXT(hf_kommune[[#This Row],[Kommunenr]],\"0\"),Table11[Nr],0),MATCH(hf_kommune[[#Headers],[2033]],Table11[#Headers],0))","v":39},{"$f":"INDEX(Table11[],MATCH(TEXT(hf_kommune[[#This Row],[Kommunenr]],\"0\"),Table11[Nr],0),MATCH(hf_kommune[[#Headers],[2034]],Table11[#Headers],0))","v":46},{"$f":"INDEX(Table11[],MATCH(TEXT(hf_kommune[[#This Row],[Kommunenr]],\"0\"),Table11[Nr],0),MATCH(hf_kommune[[#Headers],[2035]],Table11[#Headers],0))","v":47},{"$f":"INDEX(Table11[],MATCH(TEXT(hf_kommune[[#This Row],[Kommunenr]],\"0\"),Table11[Nr],0),MATCH(hf_kommune[[#Headers],[2036]],Table11[#Headers],0))","v":50},{"$f":"INDEX(Table11[],MATCH(TEXT(hf_kommune[[#This Row],[Kommunenr]],\"0\"),Table11[Nr],0),MATCH(hf_kommune[[#Headers],[2037]],Table11[#Headers],0))","v":43},{"$f":"INDEX(Table11[],MATCH(TEXT(hf_kommune[[#This Row],[Kommunenr]],\"0\"),Table11[Nr],0),MATCH(hf_kommune[[#Headers],[2038]],Table11[#Headers],0))","v":46},{"$f":"INDEX(Table11[],MATCH(TEXT(hf_kommune[[#This Row],[Kommunenr]],\"0\"),Table11[Nr],0),MATCH(hf_kommune[[#Headers],[2039]],Table11[#Headers],0))","v":50},{"$f":"INDEX(Table11[],MATCH(TEXT(hf_kommune[[#This Row],[Kommunenr]],\"0\"),Table11[Nr],0),MATCH(hf_kommune[[#Headers],[2040]],Table11[#Headers],0))","v":48},2917,2951,2985,3020,3056,3092,3126,3160,3193,3226,3257,3288,3318,3348,3377,3405,3432,3459,3484]
[1579,"Hustadvika","Helse Midt-Norge","Helse Møre og Romsdal","Molde",{"$f":"INDEX(Table11[],MATCH(TEXT(hf_kommune[[#This Row],[Kommunenr]],\"0\"),Table11[Nr],0),MATCH(hf_kommune[[#Headers],[2020]],Table11[#Headers],0))","v":177},{"$f":"INDEX(Table11[],MATCH(TEXT(hf_kommune[[#This Row],[Kommunenr]],\"0\"),Table11[Nr],0),MATCH(hf_kommune[[#Headers],[2021]],Table11[#Headers],0))","v":157},{"$f":"INDEX(Table11[],MATCH(TEXT(hf_kommune[[#This Row],[Kommunenr]],\"0\"),Table11[Nr],0),MATCH(hf_kommune[[#Headers],[2022]],Table11[#Headers],0))","v":206},{"$f":"INDEX(Table11[],MATCH(TEXT(hf_kommune[[#This Row],[Kommunenr]],\"0\"),Table11[Nr],0),MATCH(hf_kommune[[#Headers],[2023]],Table11[#Headers],0))","v":162},{"$f":"INDEX(Table11[],MATCH(TEXT(hf_kommune[[#This Row],[Kommunenr]],\"0\"),Table11[Nr],0),MATCH(hf_kommune[[#Headers],[2024]],Table11[#Headers],0))","v":180},{"$f":"INDEX(Table11[],MATCH(TEXT(hf_kommune[[#This Row],[Kommunenr]],\"0\"),Table11[Nr],0),MATCH(hf_kommune[[#Headers],[2025]],Table11[#Headers],0))","v":197},{"$f":"INDEX(Table11[],MATCH(TEXT(hf_kommune[[#This Row],[Kommunenr]],\"0\"),Table11[Nr],0),MATCH(hf_kommune[[#Headers],[2026]],Table11[#Headers],0))","v":182},{"$f":"INDEX(Table11[],MATCH(TEXT(hf_kommune[[#This Row],[Kommunenr]],\"0\"),Table11[Nr],0),MATCH(hf_kommune[[#Headers],[2027]],Table11[#Headers],0))","v":168},{"$f":"INDEX(Table11[],MATCH(TEXT(hf_kommune[[#This Row],[Kommunenr]],\"0\"),Table11[Nr],0),MATCH(hf_kommune[[#Headers],[2028]],Table11[#Headers],0))","v":178},{"$f":"INDEX(Table11[],MATCH(TEXT(hf_kommune[[#This Row],[Kommunenr]],\"0\"),Table11[Nr],0),MATCH(hf_kommune[[#Headers],[2029]],Table11[#Headers],0))","v":154},{"$f":"INDEX(Table11[],MATCH(TEXT(hf_kommune[[#This Row],[Kommunenr]],\"0\"),Table11[Nr],0),MATCH(hf_kommune[[#Headers],[2030]],Table11[#Headers],0))","v":172},{"$f":"INDEX(Table11[],MATCH(TEXT(hf_kommune[[#This Row],[Kommunenr]],\"0\"),Table11[Nr],0),MATCH(hf_kommune[[#Headers],[2031]],Table11[#Headers],0))","v":161},{"$f":"INDEX(Table11[],MATCH(TEXT(hf_kommune[[#This Row],[Kommunenr]],\"0\"),Table11[Nr],0),MATCH(hf_kommune[[#Headers],[2032]],Table11[#Headers],0))","v":168},{"$f":"INDEX(Table11[],MATCH(TEXT(hf_kommune[[#This Row],[Kommunenr]],\"0\"),Table11[Nr],0),MATCH(hf_kommune[[#Headers],[2033]],Table11[#Headers],0))","v":166},{"$f":"INDEX(Table11[],MATCH(TEXT(hf_kommune[[#This Row],[Kommunenr]],\"0\"),Table11[Nr],0),MATCH(hf_kommune[[#Headers],[2034]],Table11[#Headers],0))","v":162},{"$f":"INDEX(Table11[],MATCH(TEXT(hf_kommune[[#This Row],[Kommunenr]],\"0\"),Table11[Nr],0),MATCH(hf_kommune[[#Headers],[2035]],Table11[#Headers],0))","v":163},{"$f":"INDEX(Table11[],MATCH(TEXT(hf_kommune[[#This Row],[Kommunenr]],\"0\"),Table11[Nr],0),MATCH(hf_kommune[[#Headers],[2036]],Table11[#Headers],0))","v":180},{"$f":"INDEX(Table11[],MATCH(TEXT(hf_kommune[[#This Row],[Kommunenr]],\"0\"),Table11[Nr],0),MATCH(hf_kommune[[#Headers],[2037]],Table11[#Headers],0))","v":176},{"$f":"INDEX(Table11[],MATCH(TEXT(hf_kommune[[#This Row],[Kommunenr]],\"0\"),Table11[Nr],0),MATCH(hf_kommune[[#Headers],[2038]],Table11[#Headers],0))","v":168},{"$f":"INDEX(Table11[],MATCH(TEXT(hf_kommune[[#This Row],[Kommunenr]],\"0\"),Table11[Nr],0),MATCH(hf_kommune[[#Headers],[2039]],Table11[#Headers],0))","v":176},{"$f":"INDEX(Table11[],MATCH(TEXT(hf_kommune[[#This Row],[Kommunenr]],\"0\"),Table11[Nr],0),MATCH(hf_kommune[[#Headers],[2040]],Table11[#Headers],0))","v":152},13234,13224,13221,13223,13234,13244,13254,13264,13275,13286,13296,13307,13317,13325,13334,13342,13348,13353,13357]
[3011,"Hvaler","Helse Sør-Øst","Sykehuset Østfold","Kalnes",{"$f":"INDEX(Table11[],MATCH(TEXT(hf_kommune[[#This Row],[Kommunenr]],\"0\"),Table11[Nr],0),MATCH(hf_kommune[[#Headers],[2020]],Table11[#Headers],0))","v":97},{"$f":"INDEX(Table11[],MATCH(TEXT(hf_kommune[[#This Row],[Kommunenr]],\"0\"),Table11[Nr],0),MATCH(hf_kommune[[#Headers],[2021]],Table11[#Headers],0))","v":93},{"$f":"INDEX(Table11[],MATCH(TEXT(hf_kommune[[#This Row],[Kommunenr]],\"0\"),Table11[Nr],0),MATCH(hf_kommune[[#Headers],[2022]],Table11[#Headers],0))","v":63},{"$f":"INDEX(Table11[],MATCH(TEXT(hf_kommune[[#This Row],[Kommunenr]],\"0\"),Table11[Nr],0),MATCH(hf_kommune[[#Headers],[2023]],Table11[#Headers],0))","v":76},{"$f":"INDEX(Table11[],MATCH(TEXT(hf_kommune[[#This Row],[Kommunenr]],\"0\"),Table11[Nr],0),MATCH(hf_kommune[[#Headers],[2024]],Table11[#Headers],0))","v":77},{"$f":"INDEX(Table11[],MATCH(TEXT(hf_kommune[[#This Row],[Kommunenr]],\"0\"),Table11[Nr],0),MATCH(hf_kommune[[#Headers],[2025]],Table11[#Headers],0))","v":78},{"$f":"INDEX(Table11[],MATCH(TEXT(hf_kommune[[#This Row],[Kommunenr]],\"0\"),Table11[Nr],0),MATCH(hf_kommune[[#Headers],[2026]],Table11[#Headers],0))","v":82},{"$f":"INDEX(Table11[],MATCH(TEXT(hf_kommune[[#This Row],[Kommunenr]],\"0\"),Table11[Nr],0),MATCH(hf_kommune[[#Headers],[2027]],Table11[#Headers],0))","v":89},{"$f":"INDEX(Table11[],MATCH(TEXT(hf_kommune[[#This Row],[Kommunenr]],\"0\"),Table11[Nr],0),MATCH(hf_kommune[[#Headers],[2028]],Table11[#Headers],0))","v":83},{"$f":"INDEX(Table11[],MATCH(TEXT(hf_kommune[[#This Row],[Kommunenr]],\"0\"),Table11[Nr],0),MATCH(hf_kommune[[#Headers],[2029]],Table11[#Headers],0))","v":85},{"$f":"INDEX(Table11[],MATCH(TEXT(hf_kommune[[#This Row],[Kommunenr]],\"0\"),Table11[Nr],0),MATCH(hf_kommune[[#Headers],[2030]],Table11[#Headers],0))","v":87},{"$f":"INDEX(Table11[],MATCH(TEXT(hf_kommune[[#This Row],[Kommunenr]],\"0\"),Table11[Nr],0),MATCH(hf_kommune[[#Headers],[2031]],Table11[#Headers],0))","v":91},{"$f":"INDEX(Table11[],MATCH(TEXT(hf_kommune[[#This Row],[Kommunenr]],\"0\"),Table11[Nr],0),MATCH(hf_kommune[[#Headers],[2032]],Table11[#Headers],0))","v":82},{"$f":"INDEX(Table11[],MATCH(TEXT(hf_kommune[[#This Row],[Kommunenr]],\"0\"),Table11[Nr],0),MATCH(hf_kommune[[#Headers],[2033]],Table11[#Headers],0))","v":80},{"$f":"INDEX(Table11[],MATCH(TEXT(hf_kommune[[#This Row],[Kommunenr]],\"0\"),Table11[Nr],0),MATCH(hf_kommune[[#Headers],[2034]],Table11[#Headers],0))","v":83},{"$f":"INDEX(Table11[],MATCH(TEXT(hf_kommune[[#This Row],[Kommunenr]],\"0\"),Table11[Nr],0),MATCH(hf_kommune[[#Headers],[2035]],Table11[#Headers],0))","v":86},{"$f":"INDEX(Table11[],MATCH(TEXT(hf_kommune[[#This Row],[Kommunenr]],\"0\"),Table11[Nr],0),MATCH(hf_kommune[[#Headers],[2036]],Table11[#Headers],0))","v":83},{"$f":"INDEX(Table11[],MATCH(TEXT(hf_kommune[[#This Row],[Kommunenr]],\"0\"),Table11[Nr],0),MATCH(hf_kommune[[#Headers],[2037]],Table11[#Headers],0))","v":79},{"$f":"INDEX(Table11[],MATCH(TEXT(hf_kommune[[#This Row],[Kommunenr]],\"0\"),Table11[Nr],0),MATCH(hf_kommune[[#Headers],[2038]],Table11[#Headers],0))","v":77},{"$f":"INDEX(Table11[],MATCH(TEXT(hf_kommune[[#This Row],[Kommunenr]],\"0\"),Table11[Nr],0),MATCH(hf_kommune[[#Headers],[2039]],Table11[#Headers],0))","v":75},{"$f":"INDEX(Table11[],MATCH(TEXT(hf_kommune[[#This Row],[Kommunenr]],\"0\"),Table11[Nr],0),MATCH(hf_kommune[[#Headers],[2040]],Table11[#Headers],0))","v":80},4868,4957,5042,5122,5200,5275,5349,5422,5493,5563,5631,5697,5760,5821,5880,5936,5990,6041,6090]
[4637,"Hyllestad","Helse Vest","Helse Førde","Førde",{"$f":"INDEX(Table11[],MATCH(TEXT(hf_kommune[[#This Row],[Kommunenr]],\"0\"),Table11[Nr],0),MATCH(hf_kommune[[#Headers],[2020]],Table11[#Headers],0))","v":26},{"$f":"INDEX(Table11[],MATCH(TEXT(hf_kommune[[#This Row],[Kommunenr]],\"0\"),Table11[Nr],0),MATCH(hf_kommune[[#Headers],[2021]],Table11[#Headers],0))","v":23},{"$f":"INDEX(Table11[],MATCH(TEXT(hf_kommune[[#This Row],[Kommunenr]],\"0\"),Table11[Nr],0),MATCH(hf_kommune[[#Headers],[2022]],Table11[#Headers],0))","v":22},{"$f":"INDEX(Table11[],MATCH(TEXT(hf_kommune[[#This Row],[Kommunenr]],\"0\"),Table11[Nr],0),MATCH(hf_kommune[[#Headers],[2023]],Table11[#Headers],0))","v":19},{"$f":"INDEX(Table11[],MATCH(TEXT(hf_kommune[[#This Row],[Kommunenr]],\"0\"),Table11[Nr],0),MATCH(hf_kommune[[#Headers],[2024]],Table11[#Headers],0))","v":28},{"$f":"INDEX(Table11[],MATCH(TEXT(hf_kommune[[#This Row],[Kommunenr]],\"0\"),Table11[Nr],0),MATCH(hf_kommune[[#Headers],[2025]],Table11[#Headers],0))","v":20},{"$f":"INDEX(Table11[],MATCH(TEXT(hf_kommune[[#This Row],[Kommunenr]],\"0\"),Table11[Nr],0),MATCH(hf_kommune[[#Headers],[2026]],Table11[#Headers],0))","v":17},{"$f":"INDEX(Table11[],MATCH(TEXT(hf_kommune[[#This Row],[Kommunenr]],\"0\"),Table11[Nr],0),MATCH(hf_kommune[[#Headers],[2027]],Table11[#Headers],0))","v":23},{"$f":"INDEX(Table11[],MATCH(TEXT(hf_kommune[[#This Row],[Kommunenr]],\"0\"),Table11[Nr],0),MATCH(hf_kommune[[#Headers],[2028]],Table11[#Headers],0))","v":25},{"$f":"INDEX(Table11[],MATCH(TEXT(hf_kommune[[#This Row],[Kommunenr]],\"0\"),Table11[Nr],0),MATCH(hf_kommune[[#Headers],[2029]],Table11[#Headers],0))","v":21},{"$f":"INDEX(Table11[],MATCH(TEXT(hf_kommune[[#This Row],[Kommunenr]],\"0\"),Table11[Nr],0),MATCH(hf_kommune[[#Headers],[2030]],Table11[#Headers],0))","v":23},{"$f":"INDEX(Table11[],MATCH(TEXT(hf_kommune[[#This Row],[Kommunenr]],\"0\"),Table11[Nr],0),MATCH(hf_kommune[[#Headers],[2031]],Table11[#Headers],0))","v":21},{"$f":"INDEX(Table11[],MATCH(TEXT(hf_kommune[[#This Row],[Kommunenr]],\"0\"),Table11[Nr],0),MATCH(hf_kommune[[#Headers],[2032]],Table11[#Headers],0))","v":21},{"$f":"INDEX(Table11[],MATCH(TEXT(hf_kommune[[#This Row],[Kommunenr]],\"0\"),Table11[Nr],0),MATCH(hf_kommune[[#Headers],[2033]],Table11[#Headers],0))","v":18},{"$f":"INDEX(Table11[],MATCH(TEXT(hf_kommune[[#This Row],[Kommunenr]],\"0\"),Table11[Nr],0),MATCH(hf_kommune[[#Headers],[2034]],Table11[#Headers],0))","v":15},{"$f":"INDEX(Table11[],MATCH(TEXT(hf_kommune[[#This Row],[Kommunenr]],\"0\"),Table11[Nr],0),MATCH(hf_kommune[[#Headers],[2035]],Table11[#Headers],0))","v":19},{"$f":"INDEX(Table11[],MATCH(TEXT(hf_kommune[[#This Row],[Kommunenr]],\"0\"),Table11[Nr],0),MATCH(hf_kommune[[#Headers],[2036]],Table11[#Headers],0))","v":14},{"$f":"INDEX(Table11[],MATCH(TEXT(hf_kommune[[#This Row],[Kommunenr]],\"0\"),Table11[Nr],0),MATCH(hf_kommune[[#Headers],[2037]],Table11[#Headers],0))","v":16},{"$f":"INDEX(Table11[],MATCH(TEXT(hf_kommune[[#This Row],[Kommunenr]],\"0\"),Table11[Nr],0),MATCH(hf_kommune[[#Headers],[2038]],Table11[#Headers],0))","v":23},{"$f":"INDEX(Table11[],MATCH(TEXT(hf_kommune[[#This Row],[Kommunenr]],\"0\"),Table11[Nr],0),MATCH(hf_kommune[[#Headers],[2039]],Table11[#Headers],0))","v":16},{"$f":"INDEX(Table11[],MATCH(TEXT(hf_kommune[[#This Row],[Kommunenr]],\"0\"),Table11[Nr],0),MATCH(hf_kommune[[#Headers],[2040]],Table11[#Headers],0))","v":18},1311,1305,1299,1294,1290,1286,1283,1280,1278,1276,1275,1273,1271,1269,1267,1266,1264,1262,1260]
[4226,"Hægebostad","Helse Sør-Øst","Sørlandet sykehus","Flekkefjord",{"$f":"INDEX(Table11[],MATCH(TEXT(hf_kommune[[#This Row],[Kommunenr]],\"0\"),Table11[Nr],0),MATCH(hf_kommune[[#Headers],[2020]],Table11[#Headers],0))","v":29},{"$f":"INDEX(Table11[],MATCH(TEXT(hf_kommune[[#This Row],[Kommunenr]],\"0\"),Table11[Nr],0),MATCH(hf_kommune[[#Headers],[2021]],Table11[#Headers],0))","v":21},{"$f":"INDEX(Table11[],MATCH(TEXT(hf_kommune[[#This Row],[Kommunenr]],\"0\"),Table11[Nr],0),MATCH(hf_kommune[[#Headers],[2022]],Table11[#Headers],0))","v":25},{"$f":"INDEX(Table11[],MATCH(TEXT(hf_kommune[[#This Row],[Kommunenr]],\"0\"),Table11[Nr],0),MATCH(hf_kommune[[#Headers],[2023]],Table11[#Headers],0))","v":14},{"$f":"INDEX(Table11[],MATCH(TEXT(hf_kommune[[#This Row],[Kommunenr]],\"0\"),Table11[Nr],0),MATCH(hf_kommune[[#Headers],[2024]],Table11[#Headers],0))","v":26},{"$f":"INDEX(Table11[],MATCH(TEXT(hf_kommune[[#This Row],[Kommunenr]],\"0\"),Table11[Nr],0),MATCH(hf_kommune[[#Headers],[2025]],Table11[#Headers],0))","v":24},{"$f":"INDEX(Table11[],MATCH(TEXT(hf_kommune[[#This Row],[Kommunenr]],\"0\"),Table11[Nr],0),MATCH(hf_kommune[[#Headers],[2026]],Table11[#Headers],0))","v":24},{"$f":"INDEX(Table11[],MATCH(TEXT(hf_kommune[[#This Row],[Kommunenr]],\"0\"),Table11[Nr],0),MATCH(hf_kommune[[#Headers],[2027]],Table11[#Headers],0))","v":18},{"$f":"INDEX(Table11[],MATCH(TEXT(hf_kommune[[#This Row],[Kommunenr]],\"0\"),Table11[Nr],0),MATCH(hf_kommune[[#Headers],[2028]],Table11[#Headers],0))","v":28},{"$f":"INDEX(Table11[],MATCH(TEXT(hf_kommune[[#This Row],[Kommunenr]],\"0\"),Table11[Nr],0),MATCH(hf_kommune[[#Headers],[2029]],Table11[#Headers],0))","v":28},{"$f":"INDEX(Table11[],MATCH(TEXT(hf_kommune[[#This Row],[Kommunenr]],\"0\"),Table11[Nr],0),MATCH(hf_kommune[[#Headers],[2030]],Table11[#Headers],0))","v":23},{"$f":"INDEX(Table11[],MATCH(TEXT(hf_kommune[[#This Row],[Kommunenr]],\"0\"),Table11[Nr],0),MATCH(hf_kommune[[#Headers],[2031]],Table11[#Headers],0))","v":20},{"$f":"INDEX(Table11[],MATCH(TEXT(hf_kommune[[#This Row],[Kommunenr]],\"0\"),Table11[Nr],0),MATCH(hf_kommune[[#Headers],[2032]],Table11[#Headers],0))","v":25},{"$f":"INDEX(Table11[],MATCH(TEXT(hf_kommune[[#This Row],[Kommunenr]],\"0\"),Table11[Nr],0),MATCH(hf_kommune[[#Headers],[2033]],Table11[#Headers],0))","v":21},{"$f":"INDEX(Table11[],MATCH(TEXT(hf_kommune[[#This Row],[Kommunenr]],\"0\"),Table11[Nr],0),MATCH(hf_kommune[[#Headers],[2034]],Table11[#Headers],0))","v":24},{"$f":"INDEX(Table11[],MATCH(TEXT(hf_kommune[[#This Row],[Kommunenr]],\"0\"),Table11[Nr],0),MATCH(hf_kommune[[#Headers],[2035]],Table11[#Headers],0))","v":22},{"$f":"INDEX(Table11[],MATCH(TEXT(hf_kommune[[#This Row],[Kommunenr]],\"0\"),Table11[Nr],0),MATCH(hf_kommune[[#Headers],[2036]],Table11[#Headers],0))","v":21},{"$f":"INDEX(Table11[],MATCH(TEXT(hf_kommune[[#This Row],[Kommunenr]],\"0\"),Table11[Nr],0),MATCH(hf_kommune[[#Headers],[2037]],Table11[#Headers],0))","v":20},{"$f":"INDEX(Table11[],MATCH(TEXT(hf_kommune[[#This Row],[Kommunenr]],\"0\"),Table11[Nr],0),MATCH(hf_kommune[[#Headers],[2038]],Table11[#Headers],0))","v":21},{"$f":"INDEX(Table11[],MATCH(TEXT(hf_kommune[[#This Row],[Kommunenr]],\"0\"),Table11[Nr],0),MATCH(hf_kommune[[#Headers],[2039]],Table11[#Headers],0))","v":21},{"$f":"INDEX(Table11[],MATCH(TEXT(hf_kommune[[#This Row],[Kommunenr]],\"0\"),Table11[Nr],0),MATCH(hf_kommune[[#Headers],[2040]],Table11[#Headers],0))","v":22},1654,1643,1634,1628,1623,1619,1616,1613,1610,1607,1604,1602,1599,1596,1594,1591,1589,1587,1585]
[4638,"Høyanger","Helse Vest","Helse Førde","Førde",{"$f":"INDEX(Table11[],MATCH(TEXT(hf_kommune[[#This Row],[Kommunenr]],\"0\"),Table11[Nr],0),MATCH(hf_kommune[[#Headers],[2020]],Table11[#Headers],0))","v":62},{"$f":"INDEX(Table11[],MATCH(TEXT(hf_kommune[[#This Row],[Kommunenr]],\"0\"),Table11[Nr],0),MATCH(hf_kommune[[#Headers],[2021]],Table11[#Headers],0))","v":68},{"$f":"INDEX(Table11[],MATCH(TEXT(hf_kommune[[#This Row],[Kommunenr]],\"0\"),Table11[Nr],0),MATCH(hf_kommune[[#Headers],[2022]],Table11[#Headers],0))","v":58},{"$f":"INDEX(Table11[],MATCH(TEXT(hf_kommune[[#This Row],[Kommunenr]],\"0\"),Table11[Nr],0),MATCH(hf_kommune[[#Headers],[2023]],Table11[#Headers],0))","v":65},{"$f":"INDEX(Table11[],MATCH(TEXT(hf_kommune[[#This Row],[Kommunenr]],\"0\"),Table11[Nr],0),MATCH(hf_kommune[[#Headers],[2024]],Table11[#Headers],0))","v":67},{"$f":"INDEX(Table11[],MATCH(TEXT(hf_kommune[[#This Row],[Kommunenr]],\"0\"),Table11[Nr],0),MATCH(hf_kommune[[#Headers],[2025]],Table11[#Headers],0))","v":66},{"$f":"INDEX(Table11[],MATCH(TEXT(hf_kommune[[#This Row],[Kommunenr]],\"0\"),Table11[Nr],0),MATCH(hf_kommune[[#Headers],[2026]],Table11[#Headers],0))","v":54},{"$f":"INDEX(Table11[],MATCH(TEXT(hf_kommune[[#This Row],[Kommunenr]],\"0\"),Table11[Nr],0),MATCH(hf_kommune[[#Headers],[2027]],Table11[#Headers],0))","v":70},{"$f":"INDEX(Table11[],MATCH(TEXT(hf_kommune[[#This Row],[Kommunenr]],\"0\"),Table11[Nr],0),MATCH(hf_kommune[[#Headers],[2028]],Table11[#Headers],0))","v":51},{"$f":"INDEX(Table11[],MATCH(TEXT(hf_kommune[[#This Row],[Kommunenr]],\"0\"),Table11[Nr],0),MATCH(hf_kommune[[#Headers],[2029]],Table11[#Headers],0))","v":45},{"$f":"INDEX(Table11[],MATCH(TEXT(hf_kommune[[#This Row],[Kommunenr]],\"0\"),Table11[Nr],0),MATCH(hf_kommune[[#Headers],[2030]],Table11[#Headers],0))","v":41},{"$f":"INDEX(Table11[],MATCH(TEXT(hf_kommune[[#This Row],[Kommunenr]],\"0\"),Table11[Nr],0),MATCH(hf_kommune[[#Headers],[2031]],Table11[#Headers],0))","v":38},{"$f":"INDEX(Table11[],MATCH(TEXT(hf_kommune[[#This Row],[Kommunenr]],\"0\"),Table11[Nr],0),MATCH(hf_kommune[[#Headers],[2032]],Table11[#Headers],0))","v":47},{"$f":"INDEX(Table11[],MATCH(TEXT(hf_kommune[[#This Row],[Kommunenr]],\"0\"),Table11[Nr],0),MATCH(hf_kommune[[#Headers],[2033]],Table11[#Headers],0))","v":44},{"$f":"INDEX(Table11[],MATCH(TEXT(hf_kommune[[#This Row],[Kommunenr]],\"0\"),Table11[Nr],0),MATCH(hf_kommune[[#Headers],[2034]],Table11[#Headers],0))","v":38},{"$f":"INDEX(Table11[],MATCH(TEXT(hf_kommune[[#This Row],[Kommunenr]],\"0\"),Table11[Nr],0),MATCH(hf_kommune[[#Headers],[2035]],Table11[#Headers],0))","v":39},{"$f":"INDEX(Table11[],MATCH(TEXT(hf_kommune[[#This Row],[Kommunenr]],\"0\"),Table11[Nr],0),MATCH(hf_kommune[[#Headers],[2036]],Table11[#Headers],0))","v":44},{"$f":"INDEX(Table11[],MATCH(TEXT(hf_kommune[[#This Row],[Kommunenr]],\"0\"),Table11[Nr],0),MATCH(hf_kommune[[#Headers],[2037]],Table11[#Headers],0))","v":36},{"$f":"INDEX(Table11[],MATCH(TEXT(hf_kommune[[#This Row],[Kommunenr]],\"0\"),Table11[Nr],0),MATCH(hf_kommune[[#Headers],[2038]],Table11[#Headers],0))","v":48},{"$f":"INDEX(Table11[],MATCH(TEXT(hf_kommune[[#This Row],[Kommunenr]],\"0\"),Table11[Nr],0),MATCH(hf_kommune[[#Headers],[2039]],Table11[#Headers],0))","v":41},{"$f":"INDEX(Table11[],MATCH(TEXT(hf_kommune[[#This Row],[Kommunenr]],\"0\"),Table11[Nr],0),MATCH(hf_kommune[[#Headers],[2040]],Table11[#Headers],0))","v":37},3989,3944,3906,3875,3851,3829,3810,3792,3776,3760,3745,3731,3717,3704,3691,3678,3666,3653,3640]
[5046,"Høylandet","Helse Midt-Norge","Helse Nord-Trøndelag","Namsos",{"$f":"INDEX(Table11[],MATCH(TEXT(hf_kommune[[#This Row],[Kommunenr]],\"0\"),Table11[Nr],0),MATCH(hf_kommune[[#Headers],[2020]],Table11[#Headers],0))","v":12},{"$f":"INDEX(Table11[],MATCH(TEXT(hf_kommune[[#This Row],[Kommunenr]],\"0\"),Table11[Nr],0),MATCH(hf_kommune[[#Headers],[2021]],Table11[#Headers],0))","v":16},{"$f":"INDEX(Table11[],MATCH(TEXT(hf_kommune[[#This Row],[Kommunenr]],\"0\"),Table11[Nr],0),MATCH(hf_kommune[[#Headers],[2022]],Table11[#Headers],0))","v":14},{"$f":"INDEX(Table11[],MATCH(TEXT(hf_kommune[[#This Row],[Kommunenr]],\"0\"),Table11[Nr],0),MATCH(hf_kommune[[#Headers],[2023]],Table11[#Headers],0))","v":10},{"$f":"INDEX(Table11[],MATCH(TEXT(hf_kommune[[#This Row],[Kommunenr]],\"0\"),Table11[Nr],0),MATCH(hf_kommune[[#Headers],[2024]],Table11[#Headers],0))","v":16},{"$f":"INDEX(Table11[],MATCH(TEXT(hf_kommune[[#This Row],[Kommunenr]],\"0\"),Table11[Nr],0),MATCH(hf_kommune[[#Headers],[2025]],Table11[#Headers],0))","v":17},{"$f":"INDEX(Table11[],MATCH(TEXT(hf_kommune[[#This Row],[Kommunenr]],\"0\"),Table11[Nr],0),MATCH(hf_kommune[[#Headers],[2026]],Table11[#Headers],0))","v":15},{"$f":"INDEX(Table11[],MATCH(TEXT(hf_kommune[[#This Row],[Kommunenr]],\"0\"),Table11[Nr],0),MATCH(hf_kommune[[#Headers],[2027]],Table11[#Headers],0))","v":17},{"$f":"INDEX(Table11[],MATCH(TEXT(hf_kommune[[#This Row],[Kommunenr]],\"0\"),Table11[Nr],0),MATCH(hf_kommune[[#Headers],[2028]],Table11[#Headers],0))","v":16},{"$f":"INDEX(Table11[],MATCH(TEXT(hf_kommune[[#This Row],[Kommunenr]],\"0\"),Table11[Nr],0),MATCH(hf_kommune[[#Headers],[2029]],Table11[#Headers],0))","v":15},{"$f":"INDEX(Table11[],MATCH(TEXT(hf_kommune[[#This Row],[Kommunenr]],\"0\"),Table11[Nr],0),MATCH(hf_kommune[[#Headers],[2030]],Table11[#Headers],0))","v":21},{"$f":"INDEX(Table11[],MATCH(TEXT(hf_kommune[[#This Row],[Kommunenr]],\"0\"),Table11[Nr],0),MATCH(hf_kommune[[#Headers],[2031]],Table11[#Headers],0))","v":12},{"$f":"INDEX(Table11[],MATCH(TEXT(hf_kommune[[#This Row],[Kommunenr]],\"0\"),Table11[Nr],0),MATCH(hf_kommune[[#Headers],[2032]],Table11[#Headers],0))","v":10},{"$f":"INDEX(Table11[],MATCH(TEXT(hf_kommune[[#This Row],[Kommunenr]],\"0\"),Table11[Nr],0),MATCH(hf_kommune[[#Headers],[2033]],Table11[#Headers],0))","v":19},{"$f":"INDEX(Table11[],MATCH(TEXT(hf_kommune[[#This Row],[Kommunenr]],\"0\"),Table11[Nr],0),MATCH(hf_kommune[[#Headers],[2034]],Table11[#Headers],0))","v":10},{"$f":"INDEX(Table11[],MATCH(TEXT(hf_kommune[[#This Row],[Kommunenr]],\"0\"),Table11[Nr],0),MATCH(hf_kommune[[#Headers],[2035]],Table11[#Headers],0))","v":8},{"$f":"INDEX(Table11[],MATCH(TEXT(hf_kommune[[#This Row],[Kommunenr]],\"0\"),Table11[Nr],0),MATCH(hf_kommune[[#Headers],[2036]],Table11[#Headers],0))","v":13},{"$f":"INDEX(Table11[],MATCH(TEXT(hf_kommune[[#This Row],[Kommunenr]],\"0\"),Table11[Nr],0),MATCH(hf_kommune[[#Headers],[2037]],Table11[#Headers],0))","v":7},{"$f":"INDEX(Table11[],MATCH(TEXT(hf_kommune[[#This Row],[Kommunenr]],\"0\"),Table11[Nr],0),MATCH(hf_kommune[[#Headers],[2038]],Table11[#Headers],0))","v":10},{"$f":"INDEX(Table11[],MATCH(TEXT(hf_kommune[[#This Row],[Kommunenr]],\"0\"),Table11[Nr],0),MATCH(hf_kommune[[#Headers],[2039]],Table11[#Headers],0))","v":10},{"$f":"INDEX(Table11[],MATCH(TEXT(hf_kommune[[#This Row],[Kommunenr]],\"0\"),Table11[Nr],0),MATCH(hf_kommune[[#Headers],[2040]],Table11[#Headers],0))","v":17},1192,1176,1161,1148,1137,1125,1114,1103,1092,1081,1071,1062,1052,1043,1035,1027,1019,1012,1004]
[1119,"Hå","Helse Vest","Helse Stavanger","Stavanger",{"$f":"INDEX(Table11[],MATCH(TEXT(hf_kommune[[#This Row],[Kommunenr]],\"0\"),Table11[Nr],0),MATCH(hf_kommune[[#Headers],[2020]],Table11[#Headers],0))","v":223},{"$f":"INDEX(Table11[],MATCH(TEXT(hf_kommune[[#This Row],[Kommunenr]],\"0\"),Table11[Nr],0),MATCH(hf_kommune[[#Headers],[2021]],Table11[#Headers],0))","v":233},{"$f":"INDEX(Table11[],MATCH(TEXT(hf_kommune[[#This Row],[Kommunenr]],\"0\"),Table11[Nr],0),MATCH(hf_kommune[[#Headers],[2022]],Table11[#Headers],0))","v":211},{"$f":"INDEX(Table11[],MATCH(TEXT(hf_kommune[[#This Row],[Kommunenr]],\"0\"),Table11[Nr],0),MATCH(hf_kommune[[#Headers],[2023]],Table11[#Headers],0))","v":224},{"$f":"INDEX(Table11[],MATCH(TEXT(hf_kommune[[#This Row],[Kommunenr]],\"0\"),Table11[Nr],0),MATCH(hf_kommune[[#Headers],[2024]],Table11[#Headers],0))","v":261},{"$f":"INDEX(Table11[],MATCH(TEXT(hf_kommune[[#This Row],[Kommunenr]],\"0\"),Table11[Nr],0),MATCH(hf_kommune[[#Headers],[2025]],Table11[#Headers],0))","v":248},{"$f":"INDEX(Table11[],MATCH(TEXT(hf_kommune[[#This Row],[Kommunenr]],\"0\"),Table11[Nr],0),MATCH(hf_kommune[[#Headers],[2026]],Table11[#Headers],0))","v":246},{"$f":"INDEX(Table11[],MATCH(TEXT(hf_kommune[[#This Row],[Kommunenr]],\"0\"),Table11[Nr],0),MATCH(hf_kommune[[#Headers],[2027]],Table11[#Headers],0))","v":264},{"$f":"INDEX(Table11[],MATCH(TEXT(hf_kommune[[#This Row],[Kommunenr]],\"0\"),Table11[Nr],0),MATCH(hf_kommune[[#Headers],[2028]],Table11[#Headers],0))","v":242},{"$f":"INDEX(Table11[],MATCH(TEXT(hf_kommune[[#This Row],[Kommunenr]],\"0\"),Table11[Nr],0),MATCH(hf_kommune[[#Headers],[2029]],Table11[#Headers],0))","v":252},{"$f":"INDEX(Table11[],MATCH(TEXT(hf_kommune[[#This Row],[Kommunenr]],\"0\"),Table11[Nr],0),MATCH(hf_kommune[[#Headers],[2030]],Table11[#Headers],0))","v":232},{"$f":"INDEX(Table11[],MATCH(TEXT(hf_kommune[[#This Row],[Kommunenr]],\"0\"),Table11[Nr],0),MATCH(hf_kommune[[#Headers],[2031]],Table11[#Headers],0))","v":225},{"$f":"INDEX(Table11[],MATCH(TEXT(hf_kommune[[#This Row],[Kommunenr]],\"0\"),Table11[Nr],0),MATCH(hf_kommune[[#Headers],[2032]],Table11[#Headers],0))","v":227},{"$f":"INDEX(Table11[],MATCH(TEXT(hf_kommune[[#This Row],[Kommunenr]],\"0\"),Table11[Nr],0),MATCH(hf_kommune[[#Headers],[2033]],Table11[#Headers],0))","v":264},{"$f":"INDEX(Table11[],MATCH(TEXT(hf_kommune[[#This Row],[Kommunenr]],\"0\"),Table11[Nr],0),MATCH(hf_kommune[[#Headers],[2034]],Table11[#Headers],0))","v":260},{"$f":"INDEX(Table11[],MATCH(TEXT(hf_kommune[[#This Row],[Kommunenr]],\"0\"),Table11[Nr],0),MATCH(hf_kommune[[#Headers],[2035]],Table11[#Headers],0))","v":257},{"$f":"INDEX(Table11[],MATCH(TEXT(hf_kommune[[#This Row],[Kommunenr]],\"0\"),Table11[Nr],0),MATCH(hf_kommune[[#Headers],[2036]],Table11[#Headers],0))","v":268},{"$f":"INDEX(Table11[],MATCH(TEXT(hf_kommune[[#This Row],[Kommunenr]],\"0\"),Table11[Nr],0),MATCH(hf_kommune[[#Headers],[2037]],Table11[#Headers],0))","v":273},{"$f":"INDEX(Table11[],MATCH(TEXT(hf_kommune[[#This Row],[Kommunenr]],\"0\"),Table11[Nr],0),MATCH(hf_kommune[[#Headers],[2038]],Table11[#Headers],0))","v":273},{"$f":"INDEX(Table11[],MATCH(TEXT(hf_kommune[[#This Row],[Kommunenr]],\"0\"),Table11[Nr],0),MATCH(hf_kommune[[#Headers],[2039]],Table11[#Headers],0))","v":269},{"$f":"INDEX(Table11[],MATCH(TEXT(hf_kommune[[#This Row],[Kommunenr]],\"0\"),Table11[Nr],0),MATCH(hf_kommune[[#Headers],[2040]],Table11[#Headers],0))","v":272},19040,19103,19185,19284,19400,19512,19619,19722,19822,19919,20014,20109,20204,20300,20398,20494,20589,20682,20772]
[5413,"Ibestad","Helse Nord","Universitetssykehuset Nord-Norge","Harstad",{"$f":"INDEX(Table11[],MATCH(TEXT(hf_kommune[[#This Row],[Kommunenr]],\"0\"),Table11[Nr],0),MATCH(hf_kommune[[#Headers],[2020]],Table11[#Headers],0))","v":28},{"$f":"INDEX(Table11[],MATCH(TEXT(hf_kommune[[#This Row],[Kommunenr]],\"0\"),Table11[Nr],0),MATCH(hf_kommune[[#Headers],[2021]],Table11[#Headers],0))","v":22},{"$f":"INDEX(Table11[],MATCH(TEXT(hf_kommune[[#This Row],[Kommunenr]],\"0\"),Table11[Nr],0),MATCH(hf_kommune[[#Headers],[2022]],Table11[#Headers],0))","v":25},{"$f":"INDEX(Table11[],MATCH(TEXT(hf_kommune[[#This Row],[Kommunenr]],\"0\"),Table11[Nr],0),MATCH(hf_kommune[[#Headers],[2023]],Table11[#Headers],0))","v":20},{"$f":"INDEX(Table11[],MATCH(TEXT(hf_kommune[[#This Row],[Kommunenr]],\"0\"),Table11[Nr],0),MATCH(hf_kommune[[#Headers],[2024]],Table11[#Headers],0))","v":18},{"$f":"INDEX(Table11[],MATCH(TEXT(hf_kommune[[#This Row],[Kommunenr]],\"0\"),Table11[Nr],0),MATCH(hf_kommune[[#Headers],[2025]],Table11[#Headers],0))","v":16},{"$f":"INDEX(Table11[],MATCH(TEXT(hf_kommune[[#This Row],[Kommunenr]],\"0\"),Table11[Nr],0),MATCH(hf_kommune[[#Headers],[2026]],Table11[#Headers],0))","v":20},{"$f":"INDEX(Table11[],MATCH(TEXT(hf_kommune[[#This Row],[Kommunenr]],\"0\"),Table11[Nr],0),MATCH(hf_kommune[[#Headers],[2027]],Table11[#Headers],0))","v":16},{"$f":"INDEX(Table11[],MATCH(TEXT(hf_kommune[[#This Row],[Kommunenr]],\"0\"),Table11[Nr],0),MATCH(hf_kommune[[#Headers],[2028]],Table11[#Headers],0))","v":17},{"$f":"INDEX(Table11[],MATCH(TEXT(hf_kommune[[#This Row],[Kommunenr]],\"0\"),Table11[Nr],0),MATCH(hf_kommune[[#Headers],[2029]],Table11[#Headers],0))","v":18},{"$f":"INDEX(Table11[],MATCH(TEXT(hf_kommune[[#This Row],[Kommunenr]],\"0\"),Table11[Nr],0),MATCH(hf_kommune[[#Headers],[2030]],Table11[#Headers],0))","v":11},{"$f":"INDEX(Table11[],MATCH(TEXT(hf_kommune[[#This Row],[Kommunenr]],\"0\"),Table11[Nr],0),MATCH(hf_kommune[[#Headers],[2031]],Table11[#Headers],0))","v":14},{"$f":"INDEX(Table11[],MATCH(TEXT(hf_kommune[[#This Row],[Kommunenr]],\"0\"),Table11[Nr],0),MATCH(hf_kommune[[#Headers],[2032]],Table11[#Headers],0))","v":17},{"$f":"INDEX(Table11[],MATCH(TEXT(hf_kommune[[#This Row],[Kommunenr]],\"0\"),Table11[Nr],0),MATCH(hf_kommune[[#Headers],[2033]],Table11[#Headers],0))","v":17},{"$f":"INDEX(Table11[],MATCH(TEXT(hf_kommune[[#This Row],[Kommunenr]],\"0\"),Table11[Nr],0),MATCH(hf_kommune[[#Headers],[2034]],Table11[#Headers],0))","v":14},{"$f":"INDEX(Table11[],MATCH(TEXT(hf_kommune[[#This Row],[Kommunenr]],\"0\"),Table11[Nr],0),MATCH(hf_kommune[[#Headers],[2035]],Table11[#Headers],0))","v":11},{"$f":"INDEX(Table11[],MATCH(TEXT(hf_kommune[[#This Row],[Kommunenr]],\"0\"),Table11[Nr],0),MATCH(hf_kommune[[#Headers],[2036]],Table11[#Headers],0))","v":14},{"$f":"INDEX(Table11[],MATCH(TEXT(hf_kommune[[#This Row],[Kommunenr]],\"0\"),Table11[Nr],0),MATCH(hf_kommune[[#Headers],[2037]],Table11[#Headers],0))","v":15},{"$f":"INDEX(Table11[],MATCH(TEXT(hf_kommune[[#This Row],[Kommunenr]],\"0\"),Table11[Nr],0),MATCH(hf_kommune[[#Headers],[2038]],Table11[#Headers],0))","v":18},{"$f":"INDEX(Table11[],MATCH(TEXT(hf_kommune[[#This Row],[Kommunenr]],\"0\"),Table11[Nr],0),MATCH(hf_kommune[[#Headers],[2039]],Table11[#Headers],0))","v":17},{"$f":"INDEX(Table11[],MATCH(TEXT(hf_kommune[[#This Row],[Kommunenr]],\"0\"),Table11[Nr],0),MATCH(hf_kommune[[#Headers],[2040]],Table11[#Headers],0))","v":15},1350,1348,1347,1347,1348,1349,1350,1352,1353,1354,1354,1354,1354,1354,1354,1353,1352,1351,1349]
[5053,"Inderøy","Helse Midt-Norge","Helse Nord-Trøndelag","Levanger",{"$f":"INDEX(Table11[],MATCH(TEXT(hf_kommune[[#This Row],[Kommunenr]],\"0\"),Table11[Nr],0),MATCH(hf_kommune[[#Headers],[2020]],Table11[#Headers],0))","v":75},{"$f":"INDEX(Table11[],MATCH(TEXT(hf_kommune[[#This Row],[Kommunenr]],\"0\"),Table11[Nr],0),MATCH(hf_kommune[[#Headers],[2021]],Table11[#Headers],0))","v":99},{"$f":"INDEX(Table11[],MATCH(TEXT(hf_kommune[[#This Row],[Kommunenr]],\"0\"),Table11[Nr],0),MATCH(hf_kommune[[#Headers],[2022]],Table11[#Headers],0))","v":104},{"$f":"INDEX(Table11[],MATCH(TEXT(hf_kommune[[#This Row],[Kommunenr]],\"0\"),Table11[Nr],0),MATCH(hf_kommune[[#Headers],[2023]],Table11[#Headers],0))","v":93},{"$f":"INDEX(Table11[],MATCH(TEXT(hf_kommune[[#This Row],[Kommunenr]],\"0\"),Table11[Nr],0),MATCH(hf_kommune[[#Headers],[2024]],Table11[#Headers],0))","v":113},{"$f":"INDEX(Table11[],MATCH(TEXT(hf_kommune[[#This Row],[Kommunenr]],\"0\"),Table11[Nr],0),MATCH(hf_kommune[[#Headers],[2025]],Table11[#Headers],0))","v":88},{"$f":"INDEX(Table11[],MATCH(TEXT(hf_kommune[[#This Row],[Kommunenr]],\"0\"),Table11[Nr],0),MATCH(hf_kommune[[#Headers],[2026]],Table11[#Headers],0))","v":84},{"$f":"INDEX(Table11[],MATCH(TEXT(hf_kommune[[#This Row],[Kommunenr]],\"0\"),Table11[Nr],0),MATCH(hf_kommune[[#Headers],[2027]],Table11[#Headers],0))","v":95},{"$f":"INDEX(Table11[],MATCH(TEXT(hf_kommune[[#This Row],[Kommunenr]],\"0\"),Table11[Nr],0),MATCH(hf_kommune[[#Headers],[2028]],Table11[#Headers],0))","v":88},{"$f":"INDEX(Table11[],MATCH(TEXT(hf_kommune[[#This Row],[Kommunenr]],\"0\"),Table11[Nr],0),MATCH(hf_kommune[[#Headers],[2029]],Table11[#Headers],0))","v":79},{"$f":"INDEX(Table11[],MATCH(TEXT(hf_kommune[[#This Row],[Kommunenr]],\"0\"),Table11[Nr],0),MATCH(hf_kommune[[#Headers],[2030]],Table11[#Headers],0))","v":80},{"$f":"INDEX(Table11[],MATCH(TEXT(hf_kommune[[#This Row],[Kommunenr]],\"0\"),Table11[Nr],0),MATCH(hf_kommune[[#Headers],[2031]],Table11[#Headers],0))","v":80},{"$f":"INDEX(Table11[],MATCH(TEXT(hf_kommune[[#This Row],[Kommunenr]],\"0\"),Table11[Nr],0),MATCH(hf_kommune[[#Headers],[2032]],Table11[#Headers],0))","v":74},{"$f":"INDEX(Table11[],MATCH(TEXT(hf_kommune[[#This Row],[Kommunenr]],\"0\"),Table11[Nr],0),MATCH(hf_kommune[[#Headers],[2033]],Table11[#Headers],0))","v":77},{"$f":"INDEX(Table11[],MATCH(TEXT(hf_kommune[[#This Row],[Kommunenr]],\"0\"),Table11[Nr],0),MATCH(hf_kommune[[#Headers],[2034]],Table11[#Headers],0))","v":72},{"$f":"INDEX(Table11[],MATCH(TEXT(hf_kommune[[#This Row],[Kommunenr]],\"0\"),Table11[Nr],0),MATCH(hf_kommune[[#Headers],[2035]],Table11[#Headers],0))","v":83},{"$f":"INDEX(Table11[],MATCH(TEXT(hf_kommune[[#This Row],[Kommunenr]],\"0\"),Table11[Nr],0),MATCH(hf_kommune[[#Headers],[2036]],Table11[#Headers],0))","v":90},{"$f":"INDEX(Table11[],MATCH(TEXT(hf_kommune[[#This Row],[Kommunenr]],\"0\"),Table11[Nr],0),MATCH(hf_kommune[[#Headers],[2037]],Table11[#Headers],0))","v":79},{"$f":"INDEX(Table11[],MATCH(TEXT(hf_kommune[[#This Row],[Kommunenr]],\"0\"),Table11[Nr],0),MATCH(hf_kommune[[#Headers],[2038]],Table11[#Headers],0))","v":82},{"$f":"INDEX(Table11[],MATCH(TEXT(hf_kommune[[#This Row],[Kommunenr]],\"0\"),Table11[Nr],0),MATCH(hf_kommune[[#Headers],[2039]],Table11[#Headers],0))","v":83},{"$f":"INDEX(Table11[],MATCH(TEXT(hf_kommune[[#This Row],[Kommunenr]],\"0\"),Table11[Nr],0),MATCH(hf_kommune[[#Headers],[2040]],Table11[#Headers],0))","v":83},6861,6878,6893,6908,6923,6939,6955,6971,6988,7003,7017,7030,7042,7052,7061,7069,7075,7080,7084]
[5054,"Indre Fosen","Helse Midt-Norge","St. Olavs hospital","St. Olav - Øya",{"$f":"INDEX(Table11[],MATCH(TEXT(hf_kommune[[#This Row],[Kommunenr]],\"0\"),Table11[Nr],0),MATCH(hf_kommune[[#Headers],[2020]],Table11[#Headers],0))","v":151},{"$f":"INDEX(Table11[],MATCH(TEXT(hf_kommune[[#This Row],[Kommunenr]],\"0\"),Table11[Nr],0),MATCH(hf_kommune[[#Headers],[2021]],Table11[#Headers],0))","v":135},{"$f":"INDEX(Table11[],MATCH(TEXT(hf_kommune[[#This Row],[Kommunenr]],\"0\"),Table11[Nr],0),MATCH(hf_kommune[[#Headers],[2022]],Table11[#Headers],0))","v":169},{"$f":"INDEX(Table11[],MATCH(TEXT(hf_kommune[[#This Row],[Kommunenr]],\"0\"),Table11[Nr],0),MATCH(hf_kommune[[#Headers],[2023]],Table11[#Headers],0))","v":159},{"$f":"INDEX(Table11[],MATCH(TEXT(hf_kommune[[#This Row],[Kommunenr]],\"0\"),Table11[Nr],0),MATCH(hf_kommune[[#Headers],[2024]],Table11[#Headers],0))","v":144},{"$f":"INDEX(Table11[],MATCH(TEXT(hf_kommune[[#This Row],[Kommunenr]],\"0\"),Table11[Nr],0),MATCH(hf_kommune[[#Headers],[2025]],Table11[#Headers],0))","v":144},{"$f":"INDEX(Table11[],MATCH(TEXT(hf_kommune[[#This Row],[Kommunenr]],\"0\"),Table11[Nr],0),MATCH(hf_kommune[[#Headers],[2026]],Table11[#Headers],0))","v":147},{"$f":"INDEX(Table11[],MATCH(TEXT(hf_kommune[[#This Row],[Kommunenr]],\"0\"),Table11[Nr],0),MATCH(hf_kommune[[#Headers],[2027]],Table11[#Headers],0))","v":160},{"$f":"INDEX(Table11[],MATCH(TEXT(hf_kommune[[#This Row],[Kommunenr]],\"0\"),Table11[Nr],0),MATCH(hf_kommune[[#Headers],[2028]],Table11[#Headers],0))","v":132},{"$f":"INDEX(Table11[],MATCH(TEXT(hf_kommune[[#This Row],[Kommunenr]],\"0\"),Table11[Nr],0),MATCH(hf_kommune[[#Headers],[2029]],Table11[#Headers],0))","v":138},{"$f":"INDEX(Table11[],MATCH(TEXT(hf_kommune[[#This Row],[Kommunenr]],\"0\"),Table11[Nr],0),MATCH(hf_kommune[[#Headers],[2030]],Table11[#Headers],0))","v":144},{"$f":"INDEX(Table11[],MATCH(TEXT(hf_kommune[[#This Row],[Kommunenr]],\"0\"),Table11[Nr],0),MATCH(hf_kommune[[#Headers],[2031]],Table11[#Headers],0))","v":136},{"$f":"INDEX(Table11[],MATCH(TEXT(hf_kommune[[#This Row],[Kommunenr]],\"0\"),Table11[Nr],0),MATCH(hf_kommune[[#Headers],[2032]],Table11[#Headers],0))","v":122},{"$f":"INDEX(Table11[],MATCH(TEXT(hf_kommune[[#This Row],[Kommunenr]],\"0\"),Table11[Nr],0),MATCH(hf_kommune[[#Headers],[2033]],Table11[#Headers],0))","v":125},{"$f":"INDEX(Table11[],MATCH(TEXT(hf_kommune[[#This Row],[Kommunenr]],\"0\"),Table11[Nr],0),MATCH(hf_kommune[[#Headers],[2034]],Table11[#Headers],0))","v":116},{"$f":"INDEX(Table11[],MATCH(TEXT(hf_kommune[[#This Row],[Kommunenr]],\"0\"),Table11[Nr],0),MATCH(hf_kommune[[#Headers],[2035]],Table11[#Headers],0))","v":103},{"$f":"INDEX(Table11[],MATCH(TEXT(hf_kommune[[#This Row],[Kommunenr]],\"0\"),Table11[Nr],0),MATCH(hf_kommune[[#Headers],[2036]],Table11[#Headers],0))","v":104},{"$f":"INDEX(Table11[],MATCH(TEXT(hf_kommune[[#This Row],[Kommunenr]],\"0\"),Table11[Nr],0),MATCH(hf_kommune[[#Headers],[2037]],Table11[#Headers],0))","v":117},{"$f":"INDEX(Table11[],MATCH(TEXT(hf_kommune[[#This Row],[Kommunenr]],\"0\"),Table11[Nr],0),MATCH(hf_kommune[[#Headers],[2038]],Table11[#Headers],0))","v":106},{"$f":"INDEX(Table11[],MATCH(TEXT(hf_kommune[[#This Row],[Kommunenr]],\"0\"),Table11[Nr],0),MATCH(hf_kommune[[#Headers],[2039]],Table11[#Headers],0))","v":115},{"$f":"INDEX(Table11[],MATCH(TEXT(hf_kommune[[#This Row],[Kommunenr]],\"0\"),Table11[Nr],0),MATCH(hf_kommune[[#Headers],[2040]],Table11[#Headers],0))","v":111},10071,10067,10060,10051,10040,10031,10023,10016,10011,10006,10001,9997,9993,9989,9986,9984,9982,9979,9977]
[3014,"Indre Østfold","Helse Sør-Øst","Sykehuset Østfold","Kalnes",{"$f":"INDEX(Table11[],MATCH(TEXT(hf_kommune[[#This Row],[Kommunenr]],\"0\"),Table11[Nr],0),MATCH(hf_kommune[[#Headers],[2020]],Table11[#Headers],0))","v":588},{"$f":"INDEX(Table11[],MATCH(TEXT(hf_kommune[[#This Row],[Kommunenr]],\"0\"),Table11[Nr],0),MATCH(hf_kommune[[#Headers],[2021]],Table11[#Headers],0))","v":690},{"$f":"INDEX(Table11[],MATCH(TEXT(hf_kommune[[#This Row],[Kommunenr]],\"0\"),Table11[Nr],0),MATCH(hf_kommune[[#Headers],[2022]],Table11[#Headers],0))","v":675},{"$f":"INDEX(Table11[],MATCH(TEXT(hf_kommune[[#This Row],[Kommunenr]],\"0\"),Table11[Nr],0),MATCH(hf_kommune[[#Headers],[2023]],Table11[#Headers],0))","v":687},{"$f":"INDEX(Table11[],MATCH(TEXT(hf_kommune[[#This Row],[Kommunenr]],\"0\"),Table11[Nr],0),MATCH(hf_kommune[[#Headers],[2024]],Table11[#Headers],0))","v":735},{"$f":"INDEX(Table11[],MATCH(TEXT(hf_kommune[[#This Row],[Kommunenr]],\"0\"),Table11[Nr],0),MATCH(hf_kommune[[#Headers],[2025]],Table11[#Headers],0))","v":700},{"$f":"INDEX(Table11[],MATCH(TEXT(hf_kommune[[#This Row],[Kommunenr]],\"0\"),Table11[Nr],0),MATCH(hf_kommune[[#Headers],[2026]],Table11[#Headers],0))","v":708},{"$f":"INDEX(Table11[],MATCH(TEXT(hf_kommune[[#This Row],[Kommunenr]],\"0\"),Table11[Nr],0),MATCH(hf_kommune[[#Headers],[2027]],Table11[#Headers],0))","v":707},{"$f":"INDEX(Table11[],MATCH(TEXT(hf_kommune[[#This Row],[Kommunenr]],\"0\"),Table11[Nr],0),MATCH(hf_kommune[[#Headers],[2028]],Table11[#Headers],0))","v":676},{"$f":"INDEX(Table11[],MATCH(TEXT(hf_kommune[[#This Row],[Kommunenr]],\"0\"),Table11[Nr],0),MATCH(hf_kommune[[#Headers],[2029]],Table11[#Headers],0))","v":653},{"$f":"INDEX(Table11[],MATCH(TEXT(hf_kommune[[#This Row],[Kommunenr]],\"0\"),Table11[Nr],0),MATCH(hf_kommune[[#Headers],[2030]],Table11[#Headers],0))","v":671},{"$f":"INDEX(Table11[],MATCH(TEXT(hf_kommune[[#This Row],[Kommunenr]],\"0\"),Table11[Nr],0),MATCH(hf_kommune[[#Headers],[2031]],Table11[#Headers],0))","v":665},{"$f":"INDEX(Table11[],MATCH(TEXT(hf_kommune[[#This Row],[Kommunenr]],\"0\"),Table11[Nr],0),MATCH(hf_kommune[[#Headers],[2032]],Table11[#Headers],0))","v":608},{"$f":"INDEX(Table11[],MATCH(TEXT(hf_kommune[[#This Row],[Kommunenr]],\"0\"),Table11[Nr],0),MATCH(hf_kommune[[#Headers],[2033]],Table11[#Headers],0))","v":603},{"$f":"INDEX(Table11[],MATCH(TEXT(hf_kommune[[#This Row],[Kommunenr]],\"0\"),Table11[Nr],0),MATCH(hf_kommune[[#Headers],[2034]],Table11[#Headers],0))","v":629},{"$f":"INDEX(Table11[],MATCH(TEXT(hf_kommune[[#This Row],[Kommunenr]],\"0\"),Table11[Nr],0),MATCH(hf_kommune[[#Headers],[2035]],Table11[#Headers],0))","v":646},{"$f":"INDEX(Table11[],MATCH(TEXT(hf_kommune[[#This Row],[Kommunenr]],\"0\"),Table11[Nr],0),MATCH(hf_kommune[[#Headers],[2036]],Table11[#Headers],0))","v":666},{"$f":"INDEX(Table11[],MATCH(TEXT(hf_kommune[[#This Row],[Kommunenr]],\"0\"),Table11[Nr],0),MATCH(hf_kommune[[#Headers],[2037]],Table11[#Headers],0))","v":665},{"$f":"INDEX(Table11[],MATCH(TEXT(hf_kommune[[#This Row],[Kommunenr]],\"0\"),Table11[Nr],0),MATCH(hf_kommune[[#Headers],[2038]],Table11[#Headers],0))","v":654},{"$f":"INDEX(Table11[],MATCH(TEXT(hf_kommune[[#This Row],[Kommunenr]],\"0\"),Table11[Nr],0),MATCH(hf_kommune[[#Headers],[2039]],Table11[#Headers],0))","v":655},{"$f":"INDEX(Table11[],MATCH(TEXT(hf_kommune[[#This Row],[Kommunenr]],\"0\"),Table11[Nr],0),MATCH(hf_kommune[[#Headers],[2040]],Table11[#Headers],0))","v":687},45289,45563,45836,46108,46379,46645,46907,47166,47420,47670,47916,48159,48400,48638,48875,49107,49332,49550,49763]
[4218,"Iveland","Helse Sør-Øst","Sørlandet sykehus","Arendal",{"$f":"INDEX(Table11[],MATCH(TEXT(hf_kommune[[#This Row],[Kommunenr]],\"0\"),Table11[Nr],0),MATCH(hf_kommune[[#Headers],[2020]],Table11[#Headers],0))","v":19},{"$f":"INDEX(Table11[],MATCH(TEXT(hf_kommune[[#This Row],[Kommunenr]],\"0\"),Table11[Nr],0),MATCH(hf_kommune[[#Headers],[2021]],Table11[#Headers],0))","v":15},{"$f":"INDEX(Table11[],MATCH(TEXT(hf_kommune[[#This Row],[Kommunenr]],\"0\"),Table11[Nr],0),MATCH(hf_kommune[[#Headers],[2022]],Table11[#Headers],0))","v":21},{"$f":"INDEX(Table11[],MATCH(TEXT(hf_kommune[[#This Row],[Kommunenr]],\"0\"),Table11[Nr],0),MATCH(hf_kommune[[#Headers],[2023]],Table11[#Headers],0))","v":16},{"$f":"INDEX(Table11[],MATCH(TEXT(hf_kommune[[#This Row],[Kommunenr]],\"0\"),Table11[Nr],0),MATCH(hf_kommune[[#Headers],[2024]],Table11[#Headers],0))","v":15},{"$f":"INDEX(Table11[],MATCH(TEXT(hf_kommune[[#This Row],[Kommunenr]],\"0\"),Table11[Nr],0),MATCH(hf_kommune[[#Headers],[2025]],Table11[#Headers],0))","v":17},{"$f":"INDEX(Table11[],MATCH(TEXT(hf_kommune[[#This Row],[Kommunenr]],\"0\"),Table11[Nr],0),MATCH(hf_kommune[[#Headers],[2026]],Table11[#Headers],0))","v":18},{"$f":"INDEX(Table11[],MATCH(TEXT(hf_kommune[[#This Row],[Kommunenr]],\"0\"),Table11[Nr],0),MATCH(hf_kommune[[#Headers],[2027]],Table11[#Headers],0))","v":20},{"$f":"INDEX(Table11[],MATCH(TEXT(hf_kommune[[#This Row],[Kommunenr]],\"0\"),Table11[Nr],0),MATCH(hf_kommune[[#Headers],[2028]],Table11[#Headers],0))","v":23},{"$f":"INDEX(Table11[],MATCH(TEXT(hf_kommune[[#This Row],[Kommunenr]],\"0\"),Table11[Nr],0),MATCH(hf_kommune[[#Headers],[2029]],Table11[#Headers],0))","v":16},{"$f":"INDEX(Table11[],MATCH(TEXT(hf_kommune[[#This Row],[Kommunenr]],\"0\"),Table11[Nr],0),MATCH(hf_kommune[[#Headers],[2030]],Table11[#Headers],0))","v":25},{"$f":"INDEX(Table11[],MATCH(TEXT(hf_kommune[[#This Row],[Kommunenr]],\"0\"),Table11[Nr],0),MATCH(hf_kommune[[#Headers],[2031]],Table11[#Headers],0))","v":26},{"$f":"INDEX(Table11[],MATCH(TEXT(hf_kommune[[#This Row],[Kommunenr]],\"0\"),Table11[Nr],0),MATCH(hf_kommune[[#Headers],[2032]],Table11[#Headers],0))","v":27},{"$f":"INDEX(Table11[],MATCH(TEXT(hf_kommune[[#This Row],[Kommunenr]],\"0\"),Table11[Nr],0),MATCH(hf_kommune[[#Headers],[2033]],Table11[#Headers],0))","v":16},{"$f":"INDEX(Table11[],MATCH(TEXT(hf_kommune[[#This Row],[Kommunenr]],\"0\"),Table11[Nr],0),MATCH(hf_kommune[[#Headers],[2034]],Table11[#Headers],0))","v":18},{"$f":"INDEX(Table11[],MATCH(TEXT(hf_kommune[[#This Row],[Kommunenr]],\"0\"),Table11[Nr],0),MATCH(hf_kommune[[#Headers],[2035]],Table11[#Headers],0))","v":18},{"$f":"INDEX(Table11[],MATCH(TEXT(hf_kommune[[#This Row],[Kommunenr]],\"0\"),Table11[Nr],0),MATCH(hf_kommune[[#Headers],[2036]],Table11[#Headers],0))","v":22},{"$f":"INDEX(Table11[],MATCH(TEXT(hf_kommune[[#This Row],[Kommunenr]],\"0\"),Table11[Nr],0),MATCH(hf_kommune[[#Headers],[2037]],Table11[#Headers],0))","v":22},{"$f":"INDEX(Table11[],MATCH(TEXT(hf_kommune[[#This Row],[Kommunenr]],\"0\"),Table11[Nr],0),MATCH(hf_kommune[[#Headers],[2038]],Table11[#Headers],0))","v":20},{"$f":"INDEX(Table11[],MATCH(TEXT(hf_kommune[[#This Row],[Kommunenr]],\"0\"),Table11[Nr],0),MATCH(hf_kommune[[#Headers],[2039]],Table11[#Headers],0))","v":25},{"$f":"INDEX(Table11[],MATCH(TEXT(hf_kommune[[#This Row],[Kommunenr]],\"0\"),Table11[Nr],0),MATCH(hf_kommune[[#Headers],[2040]],Table11[#Headers],0))","v":22},1369,1388,1405,1420,1434,1447,1460,1472,1484,1496,1507,1517,1528,1538,1548,1558,1568,1577,1586]
[3053,"Jevnaker","Helse Sør-Øst","Vestre Viken","Ringerike",{"$f":"INDEX(Table11[],MATCH(TEXT(hf_kommune[[#This Row],[Kommunenr]],\"0\"),Table11[Nr],0),MATCH(hf_kommune[[#Headers],[2020]],Table11[#Headers],0))","v":115},{"$f":"INDEX(Table11[],MATCH(TEXT(hf_kommune[[#This Row],[Kommunenr]],\"0\"),Table11[Nr],0),MATCH(hf_kommune[[#Headers],[2021]],Table11[#Headers],0))","v":110},{"$f":"INDEX(Table11[],MATCH(TEXT(hf_kommune[[#This Row],[Kommunenr]],\"0\"),Table11[Nr],0),MATCH(hf_kommune[[#Headers],[2022]],Table11[#Headers],0))","v":101},{"$f":"INDEX(Table11[],MATCH(TEXT(hf_kommune[[#This Row],[Kommunenr]],\"0\"),Table11[Nr],0),MATCH(hf_kommune[[#Headers],[2023]],Table11[#Headers],0))","v":103},{"$f":"INDEX(Table11[],MATCH(TEXT(hf_kommune[[#This Row],[Kommunenr]],\"0\"),Table11[Nr],0),MATCH(hf_kommune[[#Headers],[2024]],Table11[#Headers],0))","v":111},{"$f":"INDEX(Table11[],MATCH(TEXT(hf_kommune[[#This Row],[Kommunenr]],\"0\"),Table11[Nr],0),MATCH(hf_kommune[[#Headers],[2025]],Table11[#Headers],0))","v":111},{"$f":"INDEX(Table11[],MATCH(TEXT(hf_kommune[[#This Row],[Kommunenr]],\"0\"),Table11[Nr],0),MATCH(hf_kommune[[#Headers],[2026]],Table11[#Headers],0))","v":114},{"$f":"INDEX(Table11[],MATCH(TEXT(hf_kommune[[#This Row],[Kommunenr]],\"0\"),Table11[Nr],0),MATCH(hf_kommune[[#Headers],[2027]],Table11[#Headers],0))","v":97},{"$f":"INDEX(Table11[],MATCH(TEXT(hf_kommune[[#This Row],[Kommunenr]],\"0\"),Table11[Nr],0),MATCH(hf_kommune[[#Headers],[2028]],Table11[#Headers],0))","v":104},{"$f":"INDEX(Table11[],MATCH(TEXT(hf_kommune[[#This Row],[Kommunenr]],\"0\"),Table11[Nr],0),MATCH(hf_kommune[[#Headers],[2029]],Table11[#Headers],0))","v":110},{"$f":"INDEX(Table11[],MATCH(TEXT(hf_kommune[[#This Row],[Kommunenr]],\"0\"),Table11[Nr],0),MATCH(hf_kommune[[#Headers],[2030]],Table11[#Headers],0))","v":100},{"$f":"INDEX(Table11[],MATCH(TEXT(hf_kommune[[#This Row],[Kommunenr]],\"0\"),Table11[Nr],0),MATCH(hf_kommune[[#Headers],[2031]],Table11[#Headers],0))","v":86},{"$f":"INDEX(Table11[],MATCH(TEXT(hf_kommune[[#This Row],[Kommunenr]],\"0\"),Table11[Nr],0),MATCH(hf_kommune[[#Headers],[2032]],Table11[#Headers],0))","v":93},{"$f":"INDEX(Table11[],MATCH(TEXT(hf_kommune[[#This Row],[Kommunenr]],\"0\"),Table11[Nr],0),MATCH(hf_kommune[[#Headers],[2033]],Table11[#Headers],0))","v":91},{"$f":"INDEX(Table11[],MATCH(TEXT(hf_kommune[[#This Row],[Kommunenr]],\"0\"),Table11[Nr],0),MATCH(hf_kommune[[#Headers],[2034]],Table11[#Headers],0))","v":101},{"$f":"INDEX(Table11[],MATCH(TEXT(hf_kommune[[#This Row],[Kommunenr]],\"0\"),Table11[Nr],0),MATCH(hf_kommune[[#Headers],[2035]],Table11[#Headers],0))","v":99},{"$f":"INDEX(Table11[],MATCH(TEXT(hf_kommune[[#This Row],[Kommunenr]],\"0\"),Table11[Nr],0),MATCH(hf_kommune[[#Headers],[2036]],Table11[#Headers],0))","v":106},{"$f":"INDEX(Table11[],MATCH(TEXT(hf_kommune[[#This Row],[Kommunenr]],\"0\"),Table11[Nr],0),MATCH(hf_kommune[[#Headers],[2037]],Table11[#Headers],0))","v":90},{"$f":"INDEX(Table11[],MATCH(TEXT(hf_kommune[[#This Row],[Kommunenr]],\"0\"),Table11[Nr],0),MATCH(hf_kommune[[#Headers],[2038]],Table11[#Headers],0))","v":94},{"$f":"INDEX(Table11[],MATCH(TEXT(hf_kommune[[#This Row],[Kommunenr]],\"0\"),Table11[Nr],0),MATCH(hf_kommune[[#Headers],[2039]],Table11[#Headers],0))","v":102},{"$f":"INDEX(Table11[],MATCH(TEXT(hf_kommune[[#This Row],[Kommunenr]],\"0\"),Table11[Nr],0),MATCH(hf_kommune[[#Headers],[2040]],Table11[#Headers],0))","v":109},6952,7005,7058,7112,7165,7218,7270,7322,7374,7425,7477,7527,7577,7627,7676,7724,7770,7814,7857]
[5437,"Kárásjohka - Karasjok","Helse Nord","Finnmarkssykehuset","Hammerfest",{"$f":"INDEX(Table11[],MATCH(TEXT(hf_kommune[[#This Row],[Kommunenr]],\"0\"),Table11[Nr],0),MATCH(hf_kommune[[#Headers],[2020]],Table11[#Headers],0))","v":33},{"$f":"INDEX(Table11[],MATCH(TEXT(hf_kommune[[#This Row],[Kommunenr]],\"0\"),Table11[Nr],0),MATCH(hf_kommune[[#Headers],[2021]],Table11[#Headers],0))","v":41},{"$f":"INDEX(Table11[],MATCH(TEXT(hf_kommune[[#This Row],[Kommunenr]],\"0\"),Table11[Nr],0),MATCH(hf_kommune[[#Headers],[2022]],Table11[#Headers],0))","v":37},{"$f":"INDEX(Table11[],MATCH(TEXT(hf_kommune[[#This Row],[Kommunenr]],\"0\"),Table11[Nr],0),MATCH(hf_kommune[[#Headers],[2023]],Table11[#Headers],0))","v":49},{"$f":"INDEX(Table11[],MATCH(TEXT(hf_kommune[[#This Row],[Kommunenr]],\"0\"),Table11[Nr],0),MATCH(hf_kommune[[#Headers],[2024]],Table11[#Headers],0))","v":43},{"$f":"INDEX(Table11[],MATCH(TEXT(hf_kommune[[#This Row],[Kommunenr]],\"0\"),Table11[Nr],0),MATCH(hf_kommune[[#Headers],[2025]],Table11[#Headers],0))","v":35},{"$f":"INDEX(Table11[],MATCH(TEXT(hf_kommune[[#This Row],[Kommunenr]],\"0\"),Table11[Nr],0),MATCH(hf_kommune[[#Headers],[2026]],Table11[#Headers],0))","v":34},{"$f":"INDEX(Table11[],MATCH(TEXT(hf_kommune[[#This Row],[Kommunenr]],\"0\"),Table11[Nr],0),MATCH(hf_kommune[[#Headers],[2027]],Table11[#Headers],0))","v":32},{"$f":"INDEX(Table11[],MATCH(TEXT(hf_kommune[[#This Row],[Kommunenr]],\"0\"),Table11[Nr],0),MATCH(hf_kommune[[#Headers],[2028]],Table11[#Headers],0))","v":32},{"$f":"INDEX(Table11[],MATCH(TEXT(hf_kommune[[#This Row],[Kommunenr]],\"0\"),Table11[Nr],0),MATCH(hf_kommune[[#Headers],[2029]],Table11[#Headers],0))","v":34},{"$f":"INDEX(Table11[],MATCH(TEXT(hf_kommune[[#This Row],[Kommunenr]],\"0\"),Table11[Nr],0),MATCH(hf_kommune[[#Headers],[2030]],Table11[#Headers],0))","v":31},{"$f":"INDEX(Table11[],MATCH(TEXT(hf_kommune[[#This Row],[Kommunenr]],\"0\"),Table11[Nr],0),MATCH(hf_kommune[[#Headers],[2031]],Table11[#Headers],0))","v":29},{"$f":"INDEX(Table11[],MATCH(TEXT(hf_kommune[[#This Row],[Kommunenr]],\"0\"),Table11[Nr],0),MATCH(hf_kommune[[#Headers],[2032]],Table11[#Headers],0))","v":28},{"$f":"INDEX(Table11[],MATCH(TEXT(hf_kommune[[#This Row],[Kommunenr]],\"0\"),Table11[Nr],0),MATCH(hf_kommune[[#Headers],[2033]],Table11[#Headers],0))","v":24},{"$f":"INDEX(Table11[],MATCH(TEXT(hf_kommune[[#This Row],[Kommunenr]],\"0\"),Table11[Nr],0),MATCH(hf_kommune[[#Headers],[2034]],Table11[#Headers],0))","v":32},{"$f":"INDEX(Table11[],MATCH(TEXT(hf_kommune[[#This Row],[Kommunenr]],\"0\"),Table11[Nr],0),MATCH(hf_kommune[[#Headers],[2035]],Table11[#Headers],0))","v":23},{"$f":"INDEX(Table11[],MATCH(TEXT(hf_kommune[[#This Row],[Kommunenr]],\"0\"),Table11[Nr],0),MATCH(hf_kommune[[#Headers],[2036]],Table11[#Headers],0))","v":25},{"$f":"INDEX(Table11[],MATCH(TEXT(hf_kommune[[#This Row],[Kommunenr]],\"0\"),Table11[Nr],0),MATCH(hf_kommune[[#Headers],[2037]],Table11[#Headers],0))","v":23},{"$f":"INDEX(Table11[],MATCH(TEXT(hf_kommune[[#This Row],[Kommunenr]],\"0\"),Table11[Nr],0),MATCH(hf_kommune[[#Headers],[2038]],Table11[#Headers],0))","v":23},{"$f":"INDEX(Table11[],MATCH(TEXT(hf_kommune[[#This Row],[Kommunenr]],\"0\"),Table11[Nr],0),MATCH(hf_kommune[[#Headers],[2039]],Table11[#Headers],0))","v":24},{"$f":"INDEX(Table11[],MATCH(TEXT(hf_kommune[[#This Row],[Kommunenr]],\"0\"),Table11[Nr],0),MATCH(hf_kommune[[#Headers],[2040]],Table11[#Headers],0))","v":28},2563,2540,2522,2511,2504,2499,2494,2490,2487,2484,2481,2479,2476,2474,2471,2468,2464,2460,2455]
[5423,"Karlsøy","Helse Nord","Universitetssykehuset Nord-Norge","Tromsø",{"$f":"INDEX(Table11[],MATCH(TEXT(hf_kommune[[#This Row],[Kommunenr]],\"0\"),Table11[Nr],0),MATCH(hf_kommune[[#Headers],[2020]],Table11[#Headers],0))","v":42},{"$f":"INDEX(Table11[],MATCH(TEXT(hf_kommune[[#This Row],[Kommunenr]],\"0\"),Table11[Nr],0),MATCH(hf_kommune[[#Headers],[2021]],Table11[#Headers],0))","v":32},{"$f":"INDEX(Table11[],MATCH(TEXT(hf_kommune[[#This Row],[Kommunenr]],\"0\"),Table11[Nr],0),MATCH(hf_kommune[[#Headers],[2022]],Table11[#Headers],0))","v":34},{"$f":"INDEX(Table11[],MATCH(TEXT(hf_kommune[[#This Row],[Kommunenr]],\"0\"),Table11[Nr],0),MATCH(hf_kommune[[#Headers],[2023]],Table11[#Headers],0))","v":38},{"$f":"INDEX(Table11[],MATCH(TEXT(hf_kommune[[#This Row],[Kommunenr]],\"0\"),Table11[Nr],0),MATCH(hf_kommune[[#Headers],[2024]],Table11[#Headers],0))","v":32},{"$f":"INDEX(Table11[],MATCH(TEXT(hf_kommune[[#This Row],[Kommunenr]],\"0\"),Table11[Nr],0),MATCH(hf_kommune[[#Headers],[2025]],Table11[#Headers],0))","v":26},{"$f":"INDEX(Table11[],MATCH(TEXT(hf_kommune[[#This Row],[Kommunenr]],\"0\"),Table11[Nr],0),MATCH(hf_kommune[[#Headers],[2026]],Table11[#Headers],0))","v":31},{"$f":"INDEX(Table11[],MATCH(TEXT(hf_kommune[[#This Row],[Kommunenr]],\"0\"),Table11[Nr],0),MATCH(hf_kommune[[#Headers],[2027]],Table11[#Headers],0))","v":35},{"$f":"INDEX(Table11[],MATCH(TEXT(hf_kommune[[#This Row],[Kommunenr]],\"0\"),Table11[Nr],0),MATCH(hf_kommune[[#Headers],[2028]],Table11[#Headers],0))","v":35},{"$f":"INDEX(Table11[],MATCH(TEXT(hf_kommune[[#This Row],[Kommunenr]],\"0\"),Table11[Nr],0),MATCH(hf_kommune[[#Headers],[2029]],Table11[#Headers],0))","v":29},{"$f":"INDEX(Table11[],MATCH(TEXT(hf_kommune[[#This Row],[Kommunenr]],\"0\"),Table11[Nr],0),MATCH(hf_kommune[[#Headers],[2030]],Table11[#Headers],0))","v":30},{"$f":"INDEX(Table11[],MATCH(TEXT(hf_kommune[[#This Row],[Kommunenr]],\"0\"),Table11[Nr],0),MATCH(hf_kommune[[#Headers],[2031]],Table11[#Headers],0))","v":25},{"$f":"INDEX(Table11[],MATCH(TEXT(hf_kommune[[#This Row],[Kommunenr]],\"0\"),Table11[Nr],0),MATCH(hf_kommune[[#Headers],[2032]],Table11[#Headers],0))","v":22},{"$f":"INDEX(Table11[],MATCH(TEXT(hf_kommune[[#This Row],[Kommunenr]],\"0\"),Table11[Nr],0),MATCH(hf_kommune[[#Headers],[2033]],Table11[#Headers],0))","v":23},{"$f":"INDEX(Table11[],MATCH(TEXT(hf_kommune[[#This Row],[Kommunenr]],\"0\"),Table11[Nr],0),MATCH(hf_kommune[[#Headers],[2034]],Table11[#Headers],0))","v":29},{"$f":"INDEX(Table11[],MATCH(TEXT(hf_kommune[[#This Row],[Kommunenr]],\"0\"),Table11[Nr],0),MATCH(hf_kommune[[#Headers],[2035]],Table11[#Headers],0))","v":24},{"$f":"INDEX(Table11[],MATCH(TEXT(hf_kommune[[#This Row],[Kommunenr]],\"0\"),Table11[Nr],0),MATCH(hf_kommune[[#Headers],[2036]],Table11[#Headers],0))","v":28},{"$f":"INDEX(Table11[],MATCH(TEXT(hf_kommune[[#This Row],[Kommunenr]],\"0\"),Table11[Nr],0),MATCH(hf_kommune[[#Headers],[2037]],Table11[#Headers],0))","v":24},{"$f":"INDEX(Table11[],MATCH(TEXT(hf_kommune[[#This Row],[Kommunenr]],\"0\"),Table11[Nr],0),MATCH(hf_kommune[[#Headers],[2038]],Table11[#Headers],0))","v":36},{"$f":"INDEX(Table11[],MATCH(TEXT(hf_kommune[[#This Row],[Kommunenr]],\"0\"),Table11[Nr],0),MATCH(hf_kommune[[#Headers],[2039]],Table11[#Headers],0))","v":26},{"$f":"INDEX(Table11[],MATCH(TEXT(hf_kommune[[#This Row],[Kommunenr]],\"0\"),Table11[Nr],0),MATCH(hf_kommune[[#Headers],[2040]],Table11[#Headers],0))","v":24},2200,2207,2218,2232,2249,2266,2282,2298,2313,2327,2341,2354,2367,2379,2391,2402,2412,2421,2429]
[1149,"Karmøy","Helse Vest","Helse Fonna","Haugesund",{"$f":"INDEX(Table11[],MATCH(TEXT(hf_kommune[[#This Row],[Kommunenr]],\"0\"),Table11[Nr],0),MATCH(hf_kommune[[#Headers],[2020]],Table11[#Headers],0))","v":528},{"$f":"INDEX(Table11[],MATCH(TEXT(hf_kommune[[#This Row],[Kommunenr]],\"0\"),Table11[Nr],0),MATCH(hf_kommune[[#Headers],[2021]],Table11[#Headers],0))","v":507},{"$f":"INDEX(Table11[],MATCH(TEXT(hf_kommune[[#This Row],[Kommunenr]],\"0\"),Table11[Nr],0),MATCH(hf_kommune[[#Headers],[2022]],Table11[#Headers],0))","v":586},{"$f":"INDEX(Table11[],MATCH(TEXT(hf_kommune[[#This Row],[Kommunenr]],\"0\"),Table11[Nr],0),MATCH(hf_kommune[[#Headers],[2023]],Table11[#Headers],0))","v":594},{"$f":"INDEX(Table11[],MATCH(TEXT(hf_kommune[[#This Row],[Kommunenr]],\"0\"),Table11[Nr],0),MATCH(hf_kommune[[#Headers],[2024]],Table11[#Headers],0))","v":616},{"$f":"INDEX(Table11[],MATCH(TEXT(hf_kommune[[#This Row],[Kommunenr]],\"0\"),Table11[Nr],0),MATCH(hf_kommune[[#Headers],[2025]],Table11[#Headers],0))","v":616},{"$f":"INDEX(Table11[],MATCH(TEXT(hf_kommune[[#This Row],[Kommunenr]],\"0\"),Table11[Nr],0),MATCH(hf_kommune[[#Headers],[2026]],Table11[#Headers],0))","v":592},{"$f":"INDEX(Table11[],MATCH(TEXT(hf_kommune[[#This Row],[Kommunenr]],\"0\"),Table11[Nr],0),MATCH(hf_kommune[[#Headers],[2027]],Table11[#Headers],0))","v":614},{"$f":"INDEX(Table11[],MATCH(TEXT(hf_kommune[[#This Row],[Kommunenr]],\"0\"),Table11[Nr],0),MATCH(hf_kommune[[#Headers],[2028]],Table11[#Headers],0))","v":580},{"$f":"INDEX(Table11[],MATCH(TEXT(hf_kommune[[#This Row],[Kommunenr]],\"0\"),Table11[Nr],0),MATCH(hf_kommune[[#Headers],[2029]],Table11[#Headers],0))","v":581},{"$f":"INDEX(Table11[],MATCH(TEXT(hf_kommune[[#This Row],[Kommunenr]],\"0\"),Table11[Nr],0),MATCH(hf_kommune[[#Headers],[2030]],Table11[#Headers],0))","v":515},{"$f":"INDEX(Table11[],MATCH(TEXT(hf_kommune[[#This Row],[Kommunenr]],\"0\"),Table11[Nr],0),MATCH(hf_kommune[[#Headers],[2031]],Table11[#Headers],0))","v":527},{"$f":"INDEX(Table11[],MATCH(TEXT(hf_kommune[[#This Row],[Kommunenr]],\"0\"),Table11[Nr],0),MATCH(hf_kommune[[#Headers],[2032]],Table11[#Headers],0))","v":520},{"$f":"INDEX(Table11[],MATCH(TEXT(hf_kommune[[#This Row],[Kommunenr]],\"0\"),Table11[Nr],0),MATCH(hf_kommune[[#Headers],[2033]],Table11[#Headers],0))","v":527},{"$f":"INDEX(Table11[],MATCH(TEXT(hf_kommune[[#This Row],[Kommunenr]],\"0\"),Table11[Nr],0),MATCH(hf_kommune[[#Headers],[2034]],Table11[#Headers],0))","v":539},{"$f":"INDEX(Table11[],MATCH(TEXT(hf_kommune[[#This Row],[Kommunenr]],\"0\"),Table11[Nr],0),MATCH(hf_kommune[[#Headers],[2035]],Table11[#Headers],0))","v":561},{"$f":"INDEX(Table11[],MATCH(TEXT(hf_kommune[[#This Row],[Kommunenr]],\"0\"),Table11[Nr],0),MATCH(hf_kommune[[#Headers],[2036]],Table11[#Headers],0))","v":563},{"$f":"INDEX(Table11[],MATCH(TEXT(hf_kommune[[#This Row],[Kommunenr]],\"0\"),Table11[Nr],0),MATCH(hf_kommune[[#Headers],[2037]],Table11[#Headers],0))","v":522},{"$f":"INDEX(Table11[],MATCH(TEXT(hf_kommune[[#This Row],[Kommunenr]],\"0\"),Table11[Nr],0),MATCH(hf_kommune[[#Headers],[2038]],Table11[#Headers],0))","v":532},{"$f":"INDEX(Table11[],MATCH(TEXT(hf_kommune[[#This Row],[Kommunenr]],\"0\"),Table11[Nr],0),MATCH(hf_kommune[[#Headers],[2039]],Table11[#Headers],0))","v":532},{"$f":"INDEX(Table11[],MATCH(TEXT(hf_kommune[[#This Row],[Kommunenr]],\"0\"),Table11[Nr],0),MATCH(hf_kommune[[#Headers],[2040]],Table11[#Headers],0))","v":523},41906,41841,41821,41845,41913,41979,42040,42100,42156,42211,42264,42316,42370,42426,42486,42547,42606,42664,42719]
[4602,"Kinn","Helse Vest","Helse Førde","Førde",{"$f":"INDEX(Table11[],MATCH(TEXT(hf_kommune[[#This Row],[Kommunenr]],\"0\"),Table11[Nr],0),MATCH(hf_kommune[[#Headers],[2020]],Table11[#Headers],0))","v":243},{"$f":"INDEX(Table11[],MATCH(TEXT(hf_kommune[[#This Row],[Kommunenr]],\"0\"),Table11[Nr],0),MATCH(hf_kommune[[#Headers],[2021]],Table11[#Headers],0))","v":224},{"$f":"INDEX(Table11[],MATCH(TEXT(hf_kommune[[#This Row],[Kommunenr]],\"0\"),Table11[Nr],0),MATCH(hf_kommune[[#Headers],[2022]],Table11[#Headers],0))","v":215},{"$f":"INDEX(Table11[],MATCH(TEXT(hf_kommune[[#This Row],[Kommunenr]],\"0\"),Table11[Nr],0),MATCH(hf_kommune[[#Headers],[2023]],Table11[#Headers],0))","v":229},{"$f":"INDEX(Table11[],MATCH(TEXT(hf_kommune[[#This Row],[Kommunenr]],\"0\"),Table11[Nr],0),MATCH(hf_kommune[[#Headers],[2024]],Table11[#Headers],0))","v":224},{"$f":"INDEX(Table11[],MATCH(TEXT(hf_kommune[[#This Row],[Kommunenr]],\"0\"),Table11[Nr],0),MATCH(hf_kommune[[#Headers],[2025]],Table11[#Headers],0))","v":237},{"$f":"INDEX(Table11[],MATCH(TEXT(hf_kommune[[#This Row],[Kommunenr]],\"0\"),Table11[Nr],0),MATCH(hf_kommune[[#Headers],[2026]],Table11[#Headers],0))","v":259},{"$f":"INDEX(Table11[],MATCH(TEXT(hf_kommune[[#This Row],[Kommunenr]],\"0\"),Table11[Nr],0),MATCH(hf_kommune[[#Headers],[2027]],Table11[#Headers],0))","v":240},{"$f":"INDEX(Table11[],MATCH(TEXT(hf_kommune[[#This Row],[Kommunenr]],\"0\"),Table11[Nr],0),MATCH(hf_kommune[[#Headers],[2028]],Table11[#Headers],0))","v":226},{"$f":"INDEX(Table11[],MATCH(TEXT(hf_kommune[[#This Row],[Kommunenr]],\"0\"),Table11[Nr],0),MATCH(hf_kommune[[#Headers],[2029]],Table11[#Headers],0))","v":189},{"$f":"INDEX(Table11[],MATCH(TEXT(hf_kommune[[#This Row],[Kommunenr]],\"0\"),Table11[Nr],0),MATCH(hf_kommune[[#Headers],[2030]],Table11[#Headers],0))","v":214},{"$f":"INDEX(Table11[],MATCH(TEXT(hf_kommune[[#This Row],[Kommunenr]],\"0\"),Table11[Nr],0),MATCH(hf_kommune[[#Headers],[2031]],Table11[#Headers],0))","v":213},{"$f":"INDEX(Table11[],MATCH(TEXT(hf_kommune[[#This Row],[Kommunenr]],\"0\"),Table11[Nr],0),MATCH(hf_kommune[[#Headers],[2032]],Table11[#Headers],0))","v":206},{"$f":"INDEX(Table11[],MATCH(TEXT(hf_kommune[[#This Row],[Kommunenr]],\"0\"),Table11[Nr],0),MATCH(hf_kommune[[#Headers],[2033]],Table11[#Headers],0))","v":178},{"$f":"INDEX(Table11[],MATCH(TEXT(hf_kommune[[#This Row],[Kommunenr]],\"0\"),Table11[Nr],0),MATCH(hf_kommune[[#Headers],[2034]],Table11[#Headers],0))","v":197},{"$f":"INDEX(Table11[],MATCH(TEXT(hf_kommune[[#This Row],[Kommunenr]],\"0\"),Table11[Nr],0),MATCH(hf_kommune[[#Headers],[2035]],Table11[#Headers],0))","v":199},{"$f":"INDEX(Table11[],MATCH(TEXT(hf_kommune[[#This Row],[Kommunenr]],\"0\"),Table11[Nr],0),MATCH(hf_kommune[[#Headers],[2036]],Table11[#Headers],0))","v":202},{"$f":"INDEX(Table11[],MATCH(TEXT(hf_kommune[[#This Row],[Kommunenr]],\"0\"),Table11[Nr],0),MATCH(hf_kommune[[#Headers],[2037]],Table11[#Headers],0))","v":199},{"$f":"INDEX(Table11[],MATCH(TEXT(hf_kommune[[#This Row],[Kommunenr]],\"0\"),Table11[Nr],0),MATCH(hf_kommune[[#Headers],[2038]],Table11[#Headers],0))","v":195},{"$f":"INDEX(Table11[],MATCH(TEXT(hf_kommune[[#This Row],[Kommunenr]],\"0\"),Table11[Nr],0),MATCH(hf_kommune[[#Headers],[2039]],Table11[#Headers],0))","v":209},{"$f":"INDEX(Table11[],MATCH(TEXT(hf_kommune[[#This Row],[Kommunenr]],\"0\"),Table11[Nr],0),MATCH(hf_kommune[[#Headers],[2040]],Table11[#Headers],0))","v":206},16906,16801,16714,16647,16599,16553,16508,16465,16425,16386,16350,16316,16285,16257,16232,16208,16185,16162,16138]
[1120,"Klepp","Helse Vest","Helse Stavanger","Stavanger",{"$f":"INDEX(Table11[],MATCH(TEXT(hf_kommune[[#This Row],[Kommunenr]],\"0\"),Table11[Nr],0),MATCH(hf_kommune[[#Headers],[2020]],Table11[#Headers],0))","v":260},{"$f":"INDEX(Table11[],MATCH(TEXT(hf_kommune[[#This Row],[Kommunenr]],\"0\"),Table11[Nr],0),MATCH(hf_kommune[[#Headers],[2021]],Table11[#Headers],0))","v":255},{"$f":"INDEX(Table11[],MATCH(TEXT(hf_kommune[[#This Row],[Kommunenr]],\"0\"),Table11[Nr],0),MATCH(hf_kommune[[#Headers],[2022]],Table11[#Headers],0))","v":262},{"$f":"INDEX(Table11[],MATCH(TEXT(hf_kommune[[#This Row],[Kommunenr]],\"0\"),Table11[Nr],0),MATCH(hf_kommune[[#Headers],[2023]],Table11[#Headers],0))","v":272},{"$f":"INDEX(Table11[],MATCH(TEXT(hf_kommune[[#This Row],[Kommunenr]],\"0\"),Table11[Nr],0),MATCH(hf_kommune[[#Headers],[2024]],Table11[#Headers],0))","v":293},{"$f":"INDEX(Table11[],MATCH(TEXT(hf_kommune[[#This Row],[Kommunenr]],\"0\"),Table11[Nr],0),MATCH(hf_kommune[[#Headers],[2025]],Table11[#Headers],0))","v":297},{"$f":"INDEX(Table11[],MATCH(TEXT(hf_kommune[[#This Row],[Kommunenr]],\"0\"),Table11[Nr],0),MATCH(hf_kommune[[#Headers],[2026]],Table11[#Headers],0))","v":276},{"$f":"INDEX(Table11[],MATCH(TEXT(hf_kommune[[#This Row],[Kommunenr]],\"0\"),Table11[Nr],0),MATCH(hf_kommune[[#Headers],[2027]],Table11[#Headers],0))","v":270},{"$f":"INDEX(Table11[],MATCH(TEXT(hf_kommune[[#This Row],[Kommunenr]],\"0\"),Table11[Nr],0),MATCH(hf_kommune[[#Headers],[2028]],Table11[#Headers],0))","v":283},{"$f":"INDEX(Table11[],MATCH(TEXT(hf_kommune[[#This Row],[Kommunenr]],\"0\"),Table11[Nr],0),MATCH(hf_kommune[[#Headers],[2029]],Table11[#Headers],0))","v":281},{"$f":"INDEX(Table11[],MATCH(TEXT(hf_kommune[[#This Row],[Kommunenr]],\"0\"),Table11[Nr],0),MATCH(hf_kommune[[#Headers],[2030]],Table11[#Headers],0))","v":259},{"$f":"INDEX(Table11[],MATCH(TEXT(hf_kommune[[#This Row],[Kommunenr]],\"0\"),Table11[Nr],0),MATCH(hf_kommune[[#Headers],[2031]],Table11[#Headers],0))","v":255},{"$f":"INDEX(Table11[],MATCH(TEXT(hf_kommune[[#This Row],[Kommunenr]],\"0\"),Table11[Nr],0),MATCH(hf_kommune[[#Headers],[2032]],Table11[#Headers],0))","v":254},{"$f":"INDEX(Table11[],MATCH(TEXT(hf_kommune[[#This Row],[Kommunenr]],\"0\"),Table11[Nr],0),MATCH(hf_kommune[[#Headers],[2033]],Table11[#Headers],0))","v":265},{"$f":"INDEX(Table11[],MATCH(TEXT(hf_kommune[[#This Row],[Kommunenr]],\"0\"),Table11[Nr],0),MATCH(hf_kommune[[#Headers],[2034]],Table11[#Headers],0))","v":292},{"$f":"INDEX(Table11[],MATCH(TEXT(hf_kommune[[#This Row],[Kommunenr]],\"0\"),Table11[Nr],0),MATCH(hf_kommune[[#Headers],[2035]],Table11[#Headers],0))","v":284},{"$f":"INDEX(Table11[],MATCH(TEXT(hf_kommune[[#This Row],[Kommunenr]],\"0\"),Table11[Nr],0),MATCH(hf_kommune[[#Headers],[2036]],Table11[#Headers],0))","v":281},{"$f":"INDEX(Table11[],MATCH(TEXT(hf_kommune[[#This Row],[Kommunenr]],\"0\"),Table11[Nr],0),MATCH(hf_kommune[[#Headers],[2037]],Table11[#Headers],0))","v":294},{"$f":"INDEX(Table11[],MATCH(TEXT(hf_kommune[[#This Row],[Kommunenr]],\"0\"),Table11[Nr],0),MATCH(hf_kommune[[#Headers],[2038]],Table11[#Headers],0))","v":300},{"$f":"INDEX(Table11[],MATCH(TEXT(hf_kommune[[#This Row],[Kommunenr]],\"0\"),Table11[Nr],0),MATCH(hf_kommune[[#Headers],[2039]],Table11[#Headers],0))","v":280},{"$f":"INDEX(Table11[],MATCH(TEXT(hf_kommune[[#This Row],[Kommunenr]],\"0\"),Table11[Nr],0),MATCH(hf_kommune[[#Headers],[2040]],Table11[#Headers],0))","v":282},19955,20128,20291,20444,20591,20735,20875,21013,21150,21285,21419,21553,21686,21820,21955,22088,22219,22348,22473]
[3006,"Kongsberg","Helse Sør-Øst","Vestre Viken","Kongsberg",{"$f":"INDEX(Table11[],MATCH(TEXT(hf_kommune[[#This Row],[Kommunenr]],\"0\"),Table11[Nr],0),MATCH(hf_kommune[[#Headers],[2020]],Table11[#Headers],0))","v":386},{"$f":"INDEX(Table11[],MATCH(TEXT(hf_kommune[[#This Row],[Kommunenr]],\"0\"),Table11[Nr],0),MATCH(hf_kommune[[#Headers],[2021]],Table11[#Headers],0))","v":380},{"$f":"INDEX(Table11[],MATCH(TEXT(hf_kommune[[#This Row],[Kommunenr]],\"0\"),Table11[Nr],0),MATCH(hf_kommune[[#Headers],[2022]],Table11[#Headers],0))","v":413},{"$f":"INDEX(Table11[],MATCH(TEXT(hf_kommune[[#This Row],[Kommunenr]],\"0\"),Table11[Nr],0),MATCH(hf_kommune[[#Headers],[2023]],Table11[#Headers],0))","v":406},{"$f":"INDEX(Table11[],MATCH(TEXT(hf_kommune[[#This Row],[Kommunenr]],\"0\"),Table11[Nr],0),MATCH(hf_kommune[[#Headers],[2024]],Table11[#Headers],0))","v":377},{"$f":"INDEX(Table11[],MATCH(TEXT(hf_kommune[[#This Row],[Kommunenr]],\"0\"),Table11[Nr],0),MATCH(hf_kommune[[#Headers],[2025]],Table11[#Headers],0))","v":397},{"$f":"INDEX(Table11[],MATCH(TEXT(hf_kommune[[#This Row],[Kommunenr]],\"0\"),Table11[Nr],0),MATCH(hf_kommune[[#Headers],[2026]],Table11[#Headers],0))","v":390},{"$f":"INDEX(Table11[],MATCH(TEXT(hf_kommune[[#This Row],[Kommunenr]],\"0\"),Table11[Nr],0),MATCH(hf_kommune[[#Headers],[2027]],Table11[#Headers],0))","v":419},{"$f":"INDEX(Table11[],MATCH(TEXT(hf_kommune[[#This Row],[Kommunenr]],\"0\"),Table11[Nr],0),MATCH(hf_kommune[[#Headers],[2028]],Table11[#Headers],0))","v":411},{"$f":"INDEX(Table11[],MATCH(TEXT(hf_kommune[[#This Row],[Kommunenr]],\"0\"),Table11[Nr],0),MATCH(hf_kommune[[#Headers],[2029]],Table11[#Headers],0))","v":400},{"$f":"INDEX(Table11[],MATCH(TEXT(hf_kommune[[#This Row],[Kommunenr]],\"0\"),Table11[Nr],0),MATCH(hf_kommune[[#Headers],[2030]],Table11[#Headers],0))","v":403},{"$f":"INDEX(Table11[],MATCH(TEXT(hf_kommune[[#This Row],[Kommunenr]],\"0\"),Table11[Nr],0),MATCH(hf_kommune[[#Headers],[2031]],Table11[#Headers],0))","v":400},{"$f":"INDEX(Table11[],MATCH(TEXT(hf_kommune[[#This Row],[Kommunenr]],\"0\"),Table11[Nr],0),MATCH(hf_kommune[[#Headers],[2032]],Table11[#Headers],0))","v":410},{"$f":"INDEX(Table11[],MATCH(TEXT(hf_kommune[[#This Row],[Kommunenr]],\"0\"),Table11[Nr],0),MATCH(hf_kommune[[#Headers],[2033]],Table11[#Headers],0))","v":391},{"$f":"INDEX(Table11[],MATCH(TEXT(hf_kommune[[#This Row],[Kommunenr]],\"0\"),Table11[Nr],0),MATCH(hf_kommune[[#Headers],[2034]],Table11[#Headers],0))","v":390},{"$f":"INDEX(Table11[],MATCH(TEXT(hf_kommune[[#This Row],[Kommunenr]],\"0\"),Table11[Nr],0),MATCH(hf_kommune[[#Headers],[2035]],Table11[#Headers],0))","v":379},{"$f":"INDEX(Table11[],MATCH(TEXT(hf_kommune[[#This Row],[Kommunenr]],\"0\"),Table11[Nr],0),MATCH(hf_kommune[[#Headers],[2036]],Table11[#Headers],0))","v":378},{"$f":"INDEX(Table11[],MATCH(TEXT(hf_kommune[[#This Row],[Kommunenr]],\"0\"),Table11[Nr],0),MATCH(hf_kommune[[#Headers],[2037]],Table11[#Headers],0))","v":383},{"$f":"INDEX(Table11[],MATCH(TEXT(hf_kommune[[#This Row],[Kommunenr]],\"0\"),Table11[Nr],0),MATCH(hf_kommune[[#Headers],[2038]],Table11[#Headers],0))","v":389},{"$f":"INDEX(Table11[],MATCH(TEXT(hf_kommune[[#This Row],[Kommunenr]],\"0\"),Table11[Nr],0),MATCH(hf_kommune[[#Headers],[2039]],Table11[#Headers],0))","v":404},{"$f":"INDEX(Table11[],MATCH(TEXT(hf_kommune[[#This Row],[Kommunenr]],\"0\"),Table11[Nr],0),MATCH(hf_kommune[[#Headers],[2040]],Table11[#Headers],0))","v":374},28023,28193,28366,28543,28723,28893,29057,29215,29368,29519,29666,29812,29957,30100,30243,30382,30517,30646,30770]
[3401,"Kongsvinger","Helse Sør-Øst","Akershus universitetssykehus","Kongsvinger",{"$f":"INDEX(Table11[],MATCH(TEXT(hf_kommune[[#This Row],[Kommunenr]],\"0\"),Table11[Nr],0),MATCH(hf_kommune[[#Headers],[2020]],Table11[#Headers],0))","v":275},{"$f":"INDEX(Table11[],MATCH(TEXT(hf_kommune[[#This Row],[Kommunenr]],\"0\"),Table11[Nr],0),MATCH(hf_kommune[[#Headers],[2021]],Table11[#Headers],0))","v":287},{"$f":"INDEX(Table11[],MATCH(TEXT(hf_kommune[[#This Row],[Kommunenr]],\"0\"),Table11[Nr],0),MATCH(hf_kommune[[#Headers],[2022]],Table11[#Headers],0))","v":255},{"$f":"INDEX(Table11[],MATCH(TEXT(hf_kommune[[#This Row],[Kommunenr]],\"0\"),Table11[Nr],0),MATCH(hf_kommune[[#Headers],[2023]],Table11[#Headers],0))","v":265},{"$f":"INDEX(Table11[],MATCH(TEXT(hf_kommune[[#This Row],[Kommunenr]],\"0\"),Table11[Nr],0),MATCH(hf_kommune[[#Headers],[2024]],Table11[#Headers],0))","v":277},{"$f":"INDEX(Table11[],MATCH(TEXT(hf_kommune[[#This Row],[Kommunenr]],\"0\"),Table11[Nr],0),MATCH(hf_kommune[[#Headers],[2025]],Table11[#Headers],0))","v":295},{"$f":"INDEX(Table11[],MATCH(TEXT(hf_kommune[[#This Row],[Kommunenr]],\"0\"),Table11[Nr],0),MATCH(hf_kommune[[#Headers],[2026]],Table11[#Headers],0))","v":282},{"$f":"INDEX(Table11[],MATCH(TEXT(hf_kommune[[#This Row],[Kommunenr]],\"0\"),Table11[Nr],0),MATCH(hf_kommune[[#Headers],[2027]],Table11[#Headers],0))","v":290},{"$f":"INDEX(Table11[],MATCH(TEXT(hf_kommune[[#This Row],[Kommunenr]],\"0\"),Table11[Nr],0),MATCH(hf_kommune[[#Headers],[2028]],Table11[#Headers],0))","v":254},{"$f":"INDEX(Table11[],MATCH(TEXT(hf_kommune[[#This Row],[Kommunenr]],\"0\"),Table11[Nr],0),MATCH(hf_kommune[[#Headers],[2029]],Table11[#Headers],0))","v":234},{"$f":"INDEX(Table11[],MATCH(TEXT(hf_kommune[[#This Row],[Kommunenr]],\"0\"),Table11[Nr],0),MATCH(hf_kommune[[#Headers],[2030]],Table11[#Headers],0))","v":250},{"$f":"INDEX(Table11[],MATCH(TEXT(hf_kommune[[#This Row],[Kommunenr]],\"0\"),Table11[Nr],0),MATCH(hf_kommune[[#Headers],[2031]],Table11[#Headers],0))","v":249},{"$f":"INDEX(Table11[],MATCH(TEXT(hf_kommune[[#This Row],[Kommunenr]],\"0\"),Table11[Nr],0),MATCH(hf_kommune[[#Headers],[2032]],Table11[#Headers],0))","v":229},{"$f":"INDEX(Table11[],MATCH(TEXT(hf_kommune[[#This Row],[Kommunenr]],\"0\"),Table11[Nr],0),MATCH(hf_kommune[[#Headers],[2033]],Table11[#Headers],0))","v":219},{"$f":"INDEX(Table11[],MATCH(TEXT(hf_kommune[[#This Row],[Kommunenr]],\"0\"),Table11[Nr],0),MATCH(hf_kommune[[#Headers],[2034]],Table11[#Headers],0))","v":202},{"$f":"INDEX(Table11[],MATCH(TEXT(hf_kommune[[#This Row],[Kommunenr]],\"0\"),Table11[Nr],0),MATCH(hf_kommune[[#Headers],[2035]],Table11[#Headers],0))","v":227},{"$f":"INDEX(Table11[],MATCH(TEXT(hf_kommune[[#This Row],[Kommunenr]],\"0\"),Table11[Nr],0),MATCH(hf_kommune[[#Headers],[2036]],Table11[#Headers],0))","v":219},{"$f":"INDEX(Table11[],MATCH(TEXT(hf_kommune[[#This Row],[Kommunenr]],\"0\"),Table11[Nr],0),MATCH(hf_kommune[[#Headers],[2037]],Table11[#Headers],0))","v":203},{"$f":"INDEX(Table11[],MATCH(TEXT(hf_kommune[[#This Row],[Kommunenr]],\"0\"),Table11[Nr],0),MATCH(hf_kommune[[#Headers],[2038]],Table11[#Headers],0))","v":226},{"$f":"INDEX(Table11[],MATCH(TEXT(hf_kommune[[#This Row],[Kommunenr]],\"0\"),Table11[Nr],0),MATCH(hf_kommune[[#Headers],[2039]],Table11[#Headers],0))","v":214},{"$f":"INDEX(Table11[],MATCH(TEXT(hf_kommune[[#This Row],[Kommunenr]],\"0\"),Table11[Nr],0),MATCH(hf_kommune[[#Headers],[2040]],Table11[#Headers],0))","v":230},17794,17795,17805,17824,17852,17880,17909,17938,17966,17994,18019,18044,18068,18092,18117,18140,18162,18183,18203]
[3814,"Kragerø","Helse Sør-Øst","Sykehuset Telemark","Skien",{"$f":"INDEX(Table11[],MATCH(TEXT(hf_kommune[[#This Row],[Kommunenr]],\"0\"),Table11[Nr],0),MATCH(hf_kommune[[#Headers],[2020]],Table11[#Headers],0))","v":135},{"$f":"INDEX(Table11[],MATCH(TEXT(hf_kommune[[#This Row],[Kommunenr]],\"0\"),Table11[Nr],0),MATCH(hf_kommune[[#Headers],[2021]],Table11[#Headers],0))","v":161},{"$f":"INDEX(Table11[],MATCH(TEXT(hf_kommune[[#This Row],[Kommunenr]],\"0\"),Table11[Nr],0),MATCH(hf_kommune[[#Headers],[2022]],Table11[#Headers],0))","v":145},{"$f":"INDEX(Table11[],MATCH(TEXT(hf_kommune[[#This Row],[Kommunenr]],\"0\"),Table11[Nr],0),MATCH(hf_kommune[[#Headers],[2023]],Table11[#Headers],0))","v":155},{"$f":"INDEX(Table11[],MATCH(TEXT(hf_kommune[[#This Row],[Kommunenr]],\"0\"),Table11[Nr],0),MATCH(hf_kommune[[#Headers],[2024]],Table11[#Headers],0))","v":185},{"$f":"INDEX(Table11[],MATCH(TEXT(hf_kommune[[#This Row],[Kommunenr]],\"0\"),Table11[Nr],0),MATCH(hf_kommune[[#Headers],[2025]],Table11[#Headers],0))","v":161},{"$f":"INDEX(Table11[],MATCH(TEXT(hf_kommune[[#This Row],[Kommunenr]],\"0\"),Table11[Nr],0),MATCH(hf_kommune[[#Headers],[2026]],Table11[#Headers],0))","v":168},{"$f":"INDEX(Table11[],MATCH(TEXT(hf_kommune[[#This Row],[Kommunenr]],\"0\"),Table11[Nr],0),MATCH(hf_kommune[[#Headers],[2027]],Table11[#Headers],0))","v":160},{"$f":"INDEX(Table11[],MATCH(TEXT(hf_kommune[[#This Row],[Kommunenr]],\"0\"),Table11[Nr],0),MATCH(hf_kommune[[#Headers],[2028]],Table11[#Headers],0))","v":161},{"$f":"INDEX(Table11[],MATCH(TEXT(hf_kommune[[#This Row],[Kommunenr]],\"0\"),Table11[Nr],0),MATCH(hf_kommune[[#Headers],[2029]],Table11[#Headers],0))","v":142},{"$f":"INDEX(Table11[],MATCH(TEXT(hf_kommune[[#This Row],[Kommunenr]],\"0\"),Table11[Nr],0),MATCH(hf_kommune[[#Headers],[2030]],Table11[#Headers],0))","v":143},{"$f":"INDEX(Table11[],MATCH(TEXT(hf_kommune[[#This Row],[Kommunenr]],\"0\"),Table11[Nr],0),MATCH(hf_kommune[[#Headers],[2031]],Table11[#Headers],0))","v":145},{"$f":"INDEX(Table11[],MATCH(TEXT(hf_kommune[[#This Row],[Kommunenr]],\"0\"),Table11[Nr],0),MATCH(hf_kommune[[#Headers],[2032]],Table11[#Headers],0))","v":131},{"$f":"INDEX(Table11[],MATCH(TEXT(hf_kommune[[#This Row],[Kommunenr]],\"0\"),Table11[Nr],0),MATCH(hf_kommune[[#Headers],[2033]],Table11[#Headers],0))","v":112},{"$f":"INDEX(Table11[],MATCH(TEXT(hf_kommune[[#This Row],[Kommunenr]],\"0\"),Table11[Nr],0),MATCH(hf_kommune[[#Headers],[2034]],Table11[#Headers],0))","v":128},{"$f":"INDEX(Table11[],MATCH(TEXT(hf_kommune[[#This Row],[Kommunenr]],\"0\"),Table11[Nr],0),MATCH(hf_kommune[[#Headers],[2035]],Table11[#Headers],0))","v":126},{"$f":"INDEX(Table11[],MATCH(TEXT(hf_kommune[[#This Row],[Kommunenr]],\"0\"),Table11[Nr],0),MATCH(hf_kommune[[#Headers],[2036]],Table11[#Headers],0))","v":124},{"$f":"INDEX(Table11[],MATCH(TEXT(hf_kommune[[#This Row],[Kommunenr]],\"0\"),Table11[Nr],0),MATCH(hf_kommune[[#Headers],[2037]],Table11[#Headers],0))","v":121},{"$f":"INDEX(Table11[],MATCH(TEXT(hf_kommune[[#This Row],[Kommunenr]],\"0\"),Table11[Nr],0),MATCH(hf_kommune[[#Headers],[2038]],Table11[#Headers],0))","v":126},{"$f":"INDEX(Table11[],MATCH(TEXT(hf_kommune[[#This Row],[Kommunenr]],\"0\"),Table11[Nr],0),MATCH(hf_kommune[[#Headers],[2039]],Table11[#Headers],0))","v":131},{"$f":"INDEX(Table11[],MATCH(TEXT(hf_kommune[[#This Row],[Kommunenr]],\"0\"),Table11[Nr],0),MATCH(hf_kommune[[#Headers],[2040]],Table11[#Headers],0))","v":116},10277,10243,10214,10189,10168,10146,10123,10101,10078,10056,10034,10011,9989,9967,9945,9924,9903,9882,9860]
[4204,"Kristiansand","Helse Sør-Øst","Sørlandet sykehus","Kristiansand",{"$f":"INDEX(Table11[],MATCH(TEXT(hf_kommune[[#This Row],[Kommunenr]],\"0\"),Table11[Nr],0),MATCH(hf_kommune[[#Headers],[2020]],Table11[#Headers],0))","v":1447},{"$f":"INDEX(Table11[],MATCH(TEXT(hf_kommune[[#This Row],[Kommunenr]],\"0\"),Table11[Nr],0),MATCH(hf_kommune[[#Headers],[2021]],Table11[#Headers],0))","v":1459},{"$f":"INDEX(Table11[],MATCH(TEXT(hf_kommune[[#This Row],[Kommunenr]],\"0\"),Table11[Nr],0),MATCH(hf_kommune[[#Headers],[2022]],Table11[#Headers],0))","v":1469},{"$f":"INDEX(Table11[],MATCH(TEXT(hf_kommune[[#This Row],[Kommunenr]],\"0\"),Table11[Nr],0),MATCH(hf_kommune[[#Headers],[2023]],Table11[#Headers],0))","v":1428},{"$f":"INDEX(Table11[],MATCH(TEXT(hf_kommune[[#This Row],[Kommunenr]],\"0\"),Table11[Nr],0),MATCH(hf_kommune[[#Headers],[2024]],Table11[#Headers],0))","v":1435},{"$f":"INDEX(Table11[],MATCH(TEXT(hf_kommune[[#This Row],[Kommunenr]],\"0\"),Table11[Nr],0),MATCH(hf_kommune[[#Headers],[2025]],Table11[#Headers],0))","v":1523},{"$f":"INDEX(Table11[],MATCH(TEXT(hf_kommune[[#This Row],[Kommunenr]],\"0\"),Table11[Nr],0),MATCH(hf_kommune[[#Headers],[2026]],Table11[#Headers],0))","v":1487},{"$f":"INDEX(Table11[],MATCH(TEXT(hf_kommune[[#This Row],[Kommunenr]],\"0\"),Table11[Nr],0),MATCH(hf_kommune[[#Headers],[2027]],Table11[#Headers],0))","v":1556},{"$f":"INDEX(Table11[],MATCH(TEXT(hf_kommune[[#This Row],[Kommunenr]],\"0\"),Table11[Nr],0),MATCH(hf_kommune[[#Headers],[2028]],Table11[#Headers],0))","v":1523},{"$f":"INDEX(Table11[],MATCH(TEXT(hf_kommune[[#This Row],[Kommunenr]],\"0\"),Table11[Nr],0),MATCH(hf_kommune[[#Headers],[2029]],Table11[#Headers],0))","v":1480},{"$f":"INDEX(Table11[],MATCH(TEXT(hf_kommune[[#This Row],[Kommunenr]],\"0\"),Table11[Nr],0),MATCH(hf_kommune[[#Headers],[2030]],Table11[#Headers],0))","v":1525},{"$f":"INDEX(Table11[],MATCH(TEXT(hf_kommune[[#This Row],[Kommunenr]],\"0\"),Table11[Nr],0),MATCH(hf_kommune[[#Headers],[2031]],Table11[#Headers],0))","v":1441},{"$f":"INDEX(Table11[],MATCH(TEXT(hf_kommune[[#This Row],[Kommunenr]],\"0\"),Table11[Nr],0),MATCH(hf_kommune[[#Headers],[2032]],Table11[#Headers],0))","v":1453},{"$f":"INDEX(Table11[],MATCH(TEXT(hf_kommune[[#This Row],[Kommunenr]],\"0\"),Table11[Nr],0),MATCH(hf_kommune[[#Headers],[2033]],Table11[#Headers],0))","v":1376},{"$f":"INDEX(Table11[],MATCH(TEXT(hf_kommune[[#This Row],[Kommunenr]],\"0\"),Table11[Nr],0),MATCH(hf_kommune[[#Headers],[2034]],Table11[#Headers],0))","v":1506},{"$f":"INDEX(Table11[],MATCH(TEXT(hf_kommune[[#This Row],[Kommunenr]],\"0\"),Table11[Nr],0),MATCH(hf_kommune[[#Headers],[2035]],Table11[#Headers],0))","v":1466},{"$f":"INDEX(Table11[],MATCH(TEXT(hf_kommune[[#This Row],[Kommunenr]],\"0\"),Table11[Nr],0),MATCH(hf_kommune[[#Headers],[2036]],Table11[#Headers],0))","v":1569},{"$f":"INDEX(Table11[],MATCH(TEXT(hf_kommune[[#This Row],[Kommunenr]],\"0\"),Table11[Nr],0),MATCH(hf_kommune[[#Headers],[2037]],Table11[#Headers],0))","v":1517},{"$f":"INDEX(Table11[],MATCH(TEXT(hf_kommune[[#This Row],[Kommunenr]],\"0\"),Table11[Nr],0),MATCH(hf_kommune[[#Headers],[2038]],Table11[#Headers],0))","v":1560},{"$f":"INDEX(Table11[],MATCH(TEXT(hf_kommune[[#This Row],[Kommunenr]],\"0\"),Table11[Nr],0),MATCH(hf_kommune[[#Headers],[2039]],Table11[#Headers],0))","v":1547},{"$f":"INDEX(Table11[],MATCH(TEXT(hf_kommune[[#This Row],[Kommunenr]],\"0\"),Table11[Nr],0),MATCH(hf_kommune[[#Headers],[2040]],Table11[#Headers],0))","v":1572},113579,114491,115346,116159,116938,117726,118519,119311,120099,120878,121643,122397,123140,123871,124591,125294,125970,126620,127246]
[1505,"Kristiansund","Helse Midt-Norge","Helse Møre og Romsdal","Kristiansund",{"$f":"INDEX(Table11[],MATCH(TEXT(hf_kommune[[#This Row],[Kommunenr]],\"0\"),Table11[Nr],0),MATCH(hf_kommune[[#Headers],[2020]],Table11[#Headers],0))","v":296},{"$f":"INDEX(Table11[],MATCH(TEXT(hf_kommune[[#This Row],[Kommunenr]],\"0\"),Table11[Nr],0),MATCH(hf_kommune[[#Headers],[2021]],Table11[#Headers],0))","v":309},{"$f":"INDEX(Table11[],MATCH(TEXT(hf_kommune[[#This Row],[Kommunenr]],\"0\"),Table11[Nr],0),MATCH(hf_kommune[[#Headers],[2022]],Table11[#Headers],0))","v":333},{"$f":"INDEX(Table11[],MATCH(TEXT(hf_kommune[[#This Row],[Kommunenr]],\"0\"),Table11[Nr],0),MATCH(hf_kommune[[#Headers],[2023]],Table11[#Headers],0))","v":363},{"$f":"INDEX(Table11[],MATCH(TEXT(hf_kommune[[#This Row],[Kommunenr]],\"0\"),Table11[Nr],0),MATCH(hf_kommune[[#Headers],[2024]],Table11[#Headers],0))","v":377},{"$f":"INDEX(Table11[],MATCH(TEXT(hf_kommune[[#This Row],[Kommunenr]],\"0\"),Table11[Nr],0),MATCH(hf_kommune[[#Headers],[2025]],Table11[#Headers],0))","v":323},{"$f":"INDEX(Table11[],MATCH(TEXT(hf_kommune[[#This Row],[Kommunenr]],\"0\"),Table11[Nr],0),MATCH(hf_kommune[[#Headers],[2026]],Table11[#Headers],0))","v":339},{"$f":"INDEX(Table11[],MATCH(TEXT(hf_kommune[[#This Row],[Kommunenr]],\"0\"),Table11[Nr],0),MATCH(hf_kommune[[#Headers],[2027]],Table11[#Headers],0))","v":334},{"$f":"INDEX(Table11[],MATCH(TEXT(hf_kommune[[#This Row],[Kommunenr]],\"0\"),Table11[Nr],0),MATCH(hf_kommune[[#Headers],[2028]],Table11[#Headers],0))","v":354},{"$f":"INDEX(Table11[],MATCH(TEXT(hf_kommune[[#This Row],[Kommunenr]],\"0\"),Table11[Nr],0),MATCH(hf_kommune[[#Headers],[2029]],Table11[#Headers],0))","v":330},{"$f":"INDEX(Table11[],MATCH(TEXT(hf_kommune[[#This Row],[Kommunenr]],\"0\"),Table11[Nr],0),MATCH(hf_kommune[[#Headers],[2030]],Table11[#Headers],0))","v":329},{"$f":"INDEX(Table11[],MATCH(TEXT(hf_kommune[[#This Row],[Kommunenr]],\"0\"),Table11[Nr],0),MATCH(hf_kommune[[#Headers],[2031]],Table11[#Headers],0))","v":271},{"$f":"INDEX(Table11[],MATCH(TEXT(hf_kommune[[#This Row],[Kommunenr]],\"0\"),Table11[Nr],0),MATCH(hf_kommune[[#Headers],[2032]],Table11[#Headers],0))","v":276},{"$f":"INDEX(Table11[],MATCH(TEXT(hf_kommune[[#This Row],[Kommunenr]],\"0\"),Table11[Nr],0),MATCH(hf_kommune[[#Headers],[2033]],Table11[#Headers],0))","v":287},{"$f":"INDEX(Table11[],MATCH(TEXT(hf_kommune[[#This Row],[Kommunenr]],\"0\"),Table11[Nr],0),MATCH(hf_kommune[[#Headers],[2034]],Table11[#Headers],0))","v":283},{"$f":"INDEX(Table11[],MATCH(TEXT(hf_kommune[[#This Row],[Kommunenr]],\"0\"),Table11[Nr],0),MATCH(hf_kommune[[#Headers],[2035]],Table11[#Headers],0))","v":302},{"$f":"INDEX(Table11[],MATCH(TEXT(hf_kommune[[#This Row],[Kommunenr]],\"0\"),Table11[Nr],0),MATCH(hf_kommune[[#Headers],[2036]],Table11[#Headers],0))","v":288},{"$f":"INDEX(Table11[],MATCH(TEXT(hf_kommune[[#This Row],[Kommunenr]],\"0\"),Table11[Nr],0),MATCH(hf_kommune[[#Headers],[2037]],Table11[#Headers],0))","v":296},{"$f":"INDEX(Table11[],MATCH(TEXT(hf_kommune[[#This Row],[Kommunenr]],\"0\"),Table11[Nr],0),MATCH(hf_kommune[[#Headers],[2038]],Table11[#Headers],0))","v":299},{"$f":"INDEX(Table11[],MATCH(TEXT(hf_kommune[[#This Row],[Kommunenr]],\"0\"),Table11[Nr],0),MATCH(hf_kommune[[#Headers],[2039]],Table11[#Headers],0))","v":286},{"$f":"INDEX(Table11[],MATCH(TEXT(hf_kommune[[#This Row],[Kommunenr]],\"0\"),Table11[Nr],0),MATCH(hf_kommune[[#Headers],[2040]],Table11[#Headers],0))","v":317},23987,23948,23940,23963,24016,24065,24111,24154,24196,24235,24273,24310,24346,24381,24415,24448,24476,24501,24521]
[3046,"Krødsherad","Helse Sør-Øst","Vestre Viken","Ringerike",{"$f":"INDEX(Table11[],MATCH(TEXT(hf_kommune[[#This Row],[Kommunenr]],\"0\"),Table11[Nr],0),MATCH(hf_kommune[[#Headers],[2020]],Table11[#Headers],0))","v":24},{"$f":"INDEX(Table11[],MATCH(TEXT(hf_kommune[[#This Row],[Kommunenr]],\"0\"),Table11[Nr],0),MATCH(hf_kommune[[#Headers],[2021]],Table11[#Headers],0))","v":24},{"$f":"INDEX(Table11[],MATCH(TEXT(hf_kommune[[#This Row],[Kommunenr]],\"0\"),Table11[Nr],0),MATCH(hf_kommune[[#Headers],[2022]],Table11[#Headers],0))","v":31},{"$f":"INDEX(Table11[],MATCH(TEXT(hf_kommune[[#This Row],[Kommunenr]],\"0\"),Table11[Nr],0),MATCH(hf_kommune[[#Headers],[2023]],Table11[#Headers],0))","v":37},{"$f":"INDEX(Table11[],MATCH(TEXT(hf_kommune[[#This Row],[Kommunenr]],\"0\"),Table11[Nr],0),MATCH(hf_kommune[[#Headers],[2024]],Table11[#Headers],0))","v":28},{"$f":"INDEX(Table11[],MATCH(TEXT(hf_kommune[[#This Row],[Kommunenr]],\"0\"),Table11[Nr],0),MATCH(hf_kommune[[#Headers],[2025]],Table11[#Headers],0))","v":30},{"$f":"INDEX(Table11[],MATCH(TEXT(hf_kommune[[#This Row],[Kommunenr]],\"0\"),Table11[Nr],0),MATCH(hf_kommune[[#Headers],[2026]],Table11[#Headers],0))","v":27},{"$f":"INDEX(Table11[],MATCH(TEXT(hf_kommune[[#This Row],[Kommunenr]],\"0\"),Table11[Nr],0),MATCH(hf_kommune[[#Headers],[2027]],Table11[#Headers],0))","v":38},{"$f":"INDEX(Table11[],MATCH(TEXT(hf_kommune[[#This Row],[Kommunenr]],\"0\"),Table11[Nr],0),MATCH(hf_kommune[[#Headers],[2028]],Table11[#Headers],0))","v":28},{"$f":"INDEX(Table11[],MATCH(TEXT(hf_kommune[[#This Row],[Kommunenr]],\"0\"),Table11[Nr],0),MATCH(hf_kommune[[#Headers],[2029]],Table11[#Headers],0))","v":30},{"$f":"INDEX(Table11[],MATCH(TEXT(hf_kommune[[#This Row],[Kommunenr]],\"0\"),Table11[Nr],0),MATCH(hf_kommune[[#Headers],[2030]],Table11[#Headers],0))","v":34},{"$f":"INDEX(Table11[],MATCH(TEXT(hf_kommune[[#This Row],[Kommunenr]],\"0\"),Table11[Nr],0),MATCH(hf_kommune[[#Headers],[2031]],Table11[#Headers],0))","v":30},{"$f":"INDEX(Table11[],MATCH(TEXT(hf_kommune[[#This Row],[Kommunenr]],\"0\"),Table11[Nr],0),MATCH(hf_kommune[[#Headers],[2032]],Table11[#Headers],0))","v":32},{"$f":"INDEX(Table11[],MATCH(TEXT(hf_kommune[[#This Row],[Kommunenr]],\"0\"),Table11[Nr],0),MATCH(hf_kommune[[#Headers],[2033]],Table11[#Headers],0))","v":29},{"$f":"INDEX(Table11[],MATCH(TEXT(hf_kommune[[#This Row],[Kommunenr]],\"0\"),Table11[Nr],0),MATCH(hf_kommune[[#Headers],[2034]],Table11[#Headers],0))","v":32},{"$f":"INDEX(Table11[],MATCH(TEXT(hf_kommune[[#This Row],[Kommunenr]],\"0\"),Table11[Nr],0),MATCH(hf_kommune[[#Headers],[2035]],Table11[#Headers],0))","v":29},{"$f":"INDEX(Table11[],MATCH(TEXT(hf_kommune[[#This Row],[Kommunenr]],\"0\"),Table11[Nr],0),MATCH(hf_kommune[[#Headers],[2036]],Table11[#Headers],0))","v":33},{"$f":"INDEX(Table11[],MATCH(TEXT(hf_kommune[[#This Row],[Kommunenr]],\"0\"),Table11[Nr],0),MATCH(hf_kommune[[#Headers],[2037]],Table11[#Headers],0))","v":31},{"$f":"INDEX(Table11[],MATCH(TEXT(hf_kommune[[#This Row],[Kommunenr]],\"0\"),Table11[Nr],0),MATCH(hf_kommune[[#Headers],[2038]],Table11[#Headers],0))","v":31},{"$f":"INDEX(Table11[],MATCH(TEXT(hf_kommune[[#This Row],[Kommunenr]],\"0\"),Table11[Nr],0),MATCH(hf_kommune[[#Headers],[2039]],Table11[#Headers],0))","v":31},{"$f":"INDEX(Table11[],MATCH(TEXT(hf_kommune[[#This Row],[Kommunenr]],\"0\"),Table11[Nr],0),MATCH(hf_kommune[[#Headers],[2040]],Table11[#Headers],0))","v":33},2203,2207,2214,2224,2238,2250,2262,2274,2285,2296,2307,2317,2326,2336,2345,2355,2364,2372,2381]
[4622,"Kvam","Helse Vest","Helse Bergen","Voss",{"$f":"INDEX(Table11[],MATCH(TEXT(hf_kommune[[#This Row],[Kommunenr]],\"0\"),Table11[Nr],0),MATCH(hf_kommune[[#Headers],[2020]],Table11[#Headers],0))","v":109},{"$f":"INDEX(Table11[],MATCH(TEXT(hf_kommune[[#This Row],[Kommunenr]],\"0\"),Table11[Nr],0),MATCH(hf_kommune[[#Headers],[2021]],Table11[#Headers],0))","v":126},{"$f":"INDEX(Table11[],MATCH(TEXT(hf_kommune[[#This Row],[Kommunenr]],\"0\"),Table11[Nr],0),MATCH(hf_kommune[[#Headers],[2022]],Table11[#Headers],0))","v":102},{"$f":"INDEX(Table11[],MATCH(TEXT(hf_kommune[[#This Row],[Kommunenr]],\"0\"),Table11[Nr],0),MATCH(hf_kommune[[#Headers],[2023]],Table11[#Headers],0))","v":115},{"$f":"INDEX(Table11[],MATCH(TEXT(hf_kommune[[#This Row],[Kommunenr]],\"0\"),Table11[Nr],0),MATCH(hf_kommune[[#Headers],[2024]],Table11[#Headers],0))","v":118},{"$f":"INDEX(Table11[],MATCH(TEXT(hf_kommune[[#This Row],[Kommunenr]],\"0\"),Table11[Nr],0),MATCH(hf_kommune[[#Headers],[2025]],Table11[#Headers],0))","v":139},{"$f":"INDEX(Table11[],MATCH(TEXT(hf_kommune[[#This Row],[Kommunenr]],\"0\"),Table11[Nr],0),MATCH(hf_kommune[[#Headers],[2026]],Table11[#Headers],0))","v":91},{"$f":"INDEX(Table11[],MATCH(TEXT(hf_kommune[[#This Row],[Kommunenr]],\"0\"),Table11[Nr],0),MATCH(hf_kommune[[#Headers],[2027]],Table11[#Headers],0))","v":124},{"$f":"INDEX(Table11[],MATCH(TEXT(hf_kommune[[#This Row],[Kommunenr]],\"0\"),Table11[Nr],0),MATCH(hf_kommune[[#Headers],[2028]],Table11[#Headers],0))","v":103},{"$f":"INDEX(Table11[],MATCH(TEXT(hf_kommune[[#This Row],[Kommunenr]],\"0\"),Table11[Nr],0),MATCH(hf_kommune[[#Headers],[2029]],Table11[#Headers],0))","v":106},{"$f":"INDEX(Table11[],MATCH(TEXT(hf_kommune[[#This Row],[Kommunenr]],\"0\"),Table11[Nr],0),MATCH(hf_kommune[[#Headers],[2030]],Table11[#Headers],0))","v":86},{"$f":"INDEX(Table11[],MATCH(TEXT(hf_kommune[[#This Row],[Kommunenr]],\"0\"),Table11[Nr],0),MATCH(hf_kommune[[#Headers],[2031]],Table11[#Headers],0))","v":109},{"$f":"INDEX(Table11[],MATCH(TEXT(hf_kommune[[#This Row],[Kommunenr]],\"0\"),Table11[Nr],0),MATCH(hf_kommune[[#Headers],[2032]],Table11[#Headers],0))","v":92},{"$f":"INDEX(Table11[],MATCH(TEXT(hf_kommune[[#This Row],[Kommunenr]],\"0\"),Table11[Nr],0),MATCH(hf_kommune[[#Headers],[2033]],Table11[#Headers],0))","v":105},{"$f":"INDEX(Table11[],MATCH(TEXT(hf_kommune[[#This Row],[Kommunenr]],\"0\"),Table11[Nr],0),MATCH(hf_kommune[[#Headers],[2034]],Table11[#Headers],0))","v":107},{"$f":"INDEX(Table11[],MATCH(TEXT(hf_kommune[[#This Row],[Kommunenr]],\"0\"),Table11[Nr],0),MATCH(hf_kommune[[#Headers],[2035]],Table11[#Headers],0))","v":106},{"$f":"INDEX(Table11[],MATCH(TEXT(hf_kommune[[#This Row],[Kommunenr]],\"0\"),Table11[Nr],0),MATCH(hf_kommune[[#Headers],[2036]],Table11[#Headers],0))","v":97},{"$f":"INDEX(Table11[],MATCH(TEXT(hf_kommune[[#This Row],[Kommunenr]],\"0\"),Table11[Nr],0),MATCH(hf_kommune[[#Headers],[2037]],Table11[#Headers],0))","v":94},{"$f":"INDEX(Table11[],MATCH(TEXT(hf_kommune[[#This Row],[Kommunenr]],\"0\"),Table11[Nr],0),MATCH(hf_kommune[[#Headers],[2038]],Table11[#Headers],0))","v":91},{"$f":"INDEX(Table11[],MATCH(TEXT(hf_kommune[[#This Row],[Kommunenr]],\"0\"),Table11[Nr],0),MATCH(hf_kommune[[#Headers],[2039]],Table11[#Headers],0))","v":91},{"$f":"INDEX(Table11[],MATCH(TEXT(hf_kommune[[#This Row],[Kommunenr]],\"0\"),Table11[Nr],0),MATCH(hf_kommune[[#Headers],[2040]],Table11[#Headers],0))","v":108},8360,8326,8301,8283,8273,8264,8254,8246,8238,8230,8221,8212,8202,8192,8183,8173,8161,8150,8138]
[4227,"Kvinesdal","Helse Sør-Øst","Sørlandet sykehus","Flekkefjord",{"$f":"INDEX(Table11[],MATCH(TEXT(hf_kommune[[#This Row],[Kommunenr]],\"0\"),Table11[Nr],0),MATCH(hf_kommune[[#Headers],[2020]],Table11[#Headers],0))","v":89},{"$f":"INDEX(Table11[],MATCH(TEXT(hf_kommune[[#This Row],[Kommunenr]],\"0\"),Table11[Nr],0),MATCH(hf_kommune[[#Headers],[2021]],Table11[#Headers],0))","v":73},{"$f":"INDEX(Table11[],MATCH(TEXT(hf_kommune[[#This Row],[Kommunenr]],\"0\"),Table11[Nr],0),MATCH(hf_kommune[[#Headers],[2022]],Table11[#Headers],0))","v":82},{"$f":"INDEX(Table11[],MATCH(TEXT(hf_kommune[[#This Row],[Kommunenr]],\"0\"),Table11[Nr],0),MATCH(hf_kommune[[#Headers],[2023]],Table11[#Headers],0))","v":81},{"$f":"INDEX(Table11[],MATCH(TEXT(hf_kommune[[#This Row],[Kommunenr]],\"0\"),Table11[Nr],0),MATCH(hf_kommune[[#Headers],[2024]],Table11[#Headers],0))","v":94},{"$f":"INDEX(Table11[],MATCH(TEXT(hf_kommune[[#This Row],[Kommunenr]],\"0\"),Table11[Nr],0),MATCH(hf_kommune[[#Headers],[2025]],Table11[#Headers],0))","v":80},{"$f":"INDEX(Table11[],MATCH(TEXT(hf_kommune[[#This Row],[Kommunenr]],\"0\"),Table11[Nr],0),MATCH(hf_kommune[[#Headers],[2026]],Table11[#Headers],0))","v":60},{"$f":"INDEX(Table11[],MATCH(TEXT(hf_kommune[[#This Row],[Kommunenr]],\"0\"),Table11[Nr],0),MATCH(hf_kommune[[#Headers],[2027]],Table11[#Headers],0))","v":90},{"$f":"INDEX(Table11[],MATCH(TEXT(hf_kommune[[#This Row],[Kommunenr]],\"0\"),Table11[Nr],0),MATCH(hf_kommune[[#Headers],[2028]],Table11[#Headers],0))","v":71},{"$f":"INDEX(Table11[],MATCH(TEXT(hf_kommune[[#This Row],[Kommunenr]],\"0\"),Table11[Nr],0),MATCH(hf_kommune[[#Headers],[2029]],Table11[#Headers],0))","v":76},{"$f":"INDEX(Table11[],MATCH(TEXT(hf_kommune[[#This Row],[Kommunenr]],\"0\"),Table11[Nr],0),MATCH(hf_kommune[[#Headers],[2030]],Table11[#Headers],0))","v":81},{"$f":"INDEX(Table11[],MATCH(TEXT(hf_kommune[[#This Row],[Kommunenr]],\"0\"),Table11[Nr],0),MATCH(hf_kommune[[#Headers],[2031]],Table11[#Headers],0))","v":70},{"$f":"INDEX(Table11[],MATCH(TEXT(hf_kommune[[#This Row],[Kommunenr]],\"0\"),Table11[Nr],0),MATCH(hf_kommune[[#Headers],[2032]],Table11[#Headers],0))","v":62},{"$f":"INDEX(Table11[],MATCH(TEXT(hf_kommune[[#This Row],[Kommunenr]],\"0\"),Table11[Nr],0),MATCH(hf_kommune[[#Headers],[2033]],Table11[#Headers],0))","v":51},{"$f":"INDEX(Table11[],MATCH(TEXT(hf_kommune[[#This Row],[Kommunenr]],\"0\"),Table11[Nr],0),MATCH(hf_kommune[[#Headers],[2034]],Table11[#Headers],0))","v":81},{"$f":"INDEX(Table11[],MATCH(TEXT(hf_kommune[[#This Row],[Kommunenr]],\"0\"),Table11[Nr],0),MATCH(hf_kommune[[#Headers],[2035]],Table11[#Headers],0))","v":67},{"$f":"INDEX(Table11[],MATCH(TEXT(hf_kommune[[#This Row],[Kommunenr]],\"0\"),Table11[Nr],0),MATCH(hf_kommune[[#Headers],[2036]],Table11[#Headers],0))","v":65},{"$f":"INDEX(Table11[],MATCH(TEXT(hf_kommune[[#This Row],[Kommunenr]],\"0\"),Table11[Nr],0),MATCH(hf_kommune[[#Headers],[2037]],Table11[#Headers],0))","v":61},{"$f":"INDEX(Table11[],MATCH(TEXT(hf_kommune[[#This Row],[Kommunenr]],\"0\"),Table11[Nr],0),MATCH(hf_kommune[[#Headers],[2038]],Table11[#Headers],0))","v":62},{"$f":"INDEX(Table11[],MATCH(TEXT(hf_kommune[[#This Row],[Kommunenr]],\"0\"),Table11[Nr],0),MATCH(hf_kommune[[#Headers],[2039]],Table11[#Headers],0))","v":68},{"$f":"INDEX(Table11[],MATCH(TEXT(hf_kommune[[#This Row],[Kommunenr]],\"0\"),Table11[Nr],0),MATCH(hf_kommune[[#Headers],[2040]],Table11[#Headers],0))","v":59},5869,5827,5797,5776,5764,5753,5742,5731,5721,5710,5699,5689,5679,5669,5661,5653,5645,5638,5632]
[4617,"Kvinnherad","Helse Vest","Helse Fonna","Stord",{"$f":"INDEX(Table11[],MATCH(TEXT(hf_kommune[[#This Row],[Kommunenr]],\"0\"),Table11[Nr],0),MATCH(hf_kommune[[#Headers],[2020]],Table11[#Headers],0))","v":170},{"$f":"INDEX(Table11[],MATCH(TEXT(hf_kommune[[#This Row],[Kommunenr]],\"0\"),Table11[Nr],0),MATCH(hf_kommune[[#Headers],[2021]],Table11[#Headers],0))","v":173},{"$f":"INDEX(Table11[],MATCH(TEXT(hf_kommune[[#This Row],[Kommunenr]],\"0\"),Table11[Nr],0),MATCH(hf_kommune[[#Headers],[2022]],Table11[#Headers],0))","v":180},{"$f":"INDEX(Table11[],MATCH(TEXT(hf_kommune[[#This Row],[Kommunenr]],\"0\"),Table11[Nr],0),MATCH(hf_kommune[[#Headers],[2023]],Table11[#Headers],0))","v":182},{"$f":"INDEX(Table11[],MATCH(TEXT(hf_kommune[[#This Row],[Kommunenr]],\"0\"),Table11[Nr],0),MATCH(hf_kommune[[#Headers],[2024]],Table11[#Headers],0))","v":211},{"$f":"INDEX(Table11[],MATCH(TEXT(hf_kommune[[#This Row],[Kommunenr]],\"0\"),Table11[Nr],0),MATCH(hf_kommune[[#Headers],[2025]],Table11[#Headers],0))","v":197},{"$f":"INDEX(Table11[],MATCH(TEXT(hf_kommune[[#This Row],[Kommunenr]],\"0\"),Table11[Nr],0),MATCH(hf_kommune[[#Headers],[2026]],Table11[#Headers],0))","v":182},{"$f":"INDEX(Table11[],MATCH(TEXT(hf_kommune[[#This Row],[Kommunenr]],\"0\"),Table11[Nr],0),MATCH(hf_kommune[[#Headers],[2027]],Table11[#Headers],0))","v":200},{"$f":"INDEX(Table11[],MATCH(TEXT(hf_kommune[[#This Row],[Kommunenr]],\"0\"),Table11[Nr],0),MATCH(hf_kommune[[#Headers],[2028]],Table11[#Headers],0))","v":155},{"$f":"INDEX(Table11[],MATCH(TEXT(hf_kommune[[#This Row],[Kommunenr]],\"0\"),Table11[Nr],0),MATCH(hf_kommune[[#Headers],[2029]],Table11[#Headers],0))","v":184},{"$f":"INDEX(Table11[],MATCH(TEXT(hf_kommune[[#This Row],[Kommunenr]],\"0\"),Table11[Nr],0),MATCH(hf_kommune[[#Headers],[2030]],Table11[#Headers],0))","v":148},{"$f":"INDEX(Table11[],MATCH(TEXT(hf_kommune[[#This Row],[Kommunenr]],\"0\"),Table11[Nr],0),MATCH(hf_kommune[[#Headers],[2031]],Table11[#Headers],0))","v":169},{"$f":"INDEX(Table11[],MATCH(TEXT(hf_kommune[[#This Row],[Kommunenr]],\"0\"),Table11[Nr],0),MATCH(hf_kommune[[#Headers],[2032]],Table11[#Headers],0))","v":141},{"$f":"INDEX(Table11[],MATCH(TEXT(hf_kommune[[#This Row],[Kommunenr]],\"0\"),Table11[Nr],0),MATCH(hf_kommune[[#Headers],[2033]],Table11[#Headers],0))","v":144},{"$f":"INDEX(Table11[],MATCH(TEXT(hf_kommune[[#This Row],[Kommunenr]],\"0\"),Table11[Nr],0),MATCH(hf_kommune[[#Headers],[2034]],Table11[#Headers],0))","v":160},{"$f":"INDEX(Table11[],MATCH(TEXT(hf_kommune[[#This Row],[Kommunenr]],\"0\"),Table11[Nr],0),MATCH(hf_kommune[[#Headers],[2035]],Table11[#Headers],0))","v":139},{"$f":"INDEX(Table11[],MATCH(TEXT(hf_kommune[[#This Row],[Kommunenr]],\"0\"),Table11[Nr],0),MATCH(hf_kommune[[#Headers],[2036]],Table11[#Headers],0))","v":156},{"$f":"INDEX(Table11[],MATCH(TEXT(hf_kommune[[#This Row],[Kommunenr]],\"0\"),Table11[Nr],0),MATCH(hf_kommune[[#Headers],[2037]],Table11[#Headers],0))","v":155},{"$f":"INDEX(Table11[],MATCH(TEXT(hf_kommune[[#This Row],[Kommunenr]],\"0\"),Table11[Nr],0),MATCH(hf_kommune[[#Headers],[2038]],Table11[#Headers],0))","v":160},{"$f":"INDEX(Table11[],MATCH(TEXT(hf_kommune[[#This Row],[Kommunenr]],\"0\"),Table11[Nr],0),MATCH(hf_kommune[[#Headers],[2039]],Table11[#Headers],0))","v":148},{"$f":"INDEX(Table11[],MATCH(TEXT(hf_kommune[[#This Row],[Kommunenr]],\"0\"),Table11[Nr],0),MATCH(hf_kommune[[#Headers],[2040]],Table11[#Headers],0))","v":148},12838,12751,12682,12630,12594,12560,12527,12495,12465,12436,12407,12379,12353,12328,12305,12283,12261,12239,12217]
[3821,"Kviteseid","Helse Sør-Øst","Sykehuset Telemark","Notodden",{"$f":"INDEX(Table11[],MATCH(TEXT(hf_kommune[[#This Row],[Kommunenr]],\"0\"),Table11[Nr],0),MATCH(hf_kommune[[#Headers],[2020]],Table11[#Headers],0))","v":50},{"$f":"INDEX(Table11[],MATCH(TEXT(hf_kommune[[#This Row],[Kommunenr]],\"0\"),Table11[Nr],0),MATCH(hf_kommune[[#Headers],[2021]],Table11[#Headers],0))","v":41},{"$f":"INDEX(Table11[],MATCH(TEXT(hf_kommune[[#This Row],[Kommunenr]],\"0\"),Table11[Nr],0),MATCH(hf_kommune[[#Headers],[2022]],Table11[#Headers],0))","v":43},{"$f":"INDEX(Table11[],MATCH(TEXT(hf_kommune[[#This Row],[Kommunenr]],\"0\"),Table11[Nr],0),MATCH(hf_kommune[[#Headers],[2023]],Table11[#Headers],0))","v":41},{"$f":"INDEX(Table11[],MATCH(TEXT(hf_kommune[[#This Row],[Kommunenr]],\"0\"),Table11[Nr],0),MATCH(hf_kommune[[#Headers],[2024]],Table11[#Headers],0))","v":32},{"$f":"INDEX(Table11[],MATCH(TEXT(hf_kommune[[#This Row],[Kommunenr]],\"0\"),Table11[Nr],0),MATCH(hf_kommune[[#Headers],[2025]],Table11[#Headers],0))","v":36},{"$f":"INDEX(Table11[],MATCH(TEXT(hf_kommune[[#This Row],[Kommunenr]],\"0\"),Table11[Nr],0),MATCH(hf_kommune[[#Headers],[2026]],Table11[#Headers],0))","v":42},{"$f":"INDEX(Table11[],MATCH(TEXT(hf_kommune[[#This Row],[Kommunenr]],\"0\"),Table11[Nr],0),MATCH(hf_kommune[[#Headers],[2027]],Table11[#Headers],0))","v":48},{"$f":"INDEX(Table11[],MATCH(TEXT(hf_kommune[[#This Row],[Kommunenr]],\"0\"),Table11[Nr],0),MATCH(hf_kommune[[#Headers],[2028]],Table11[#Headers],0))","v":41},{"$f":"INDEX(Table11[],MATCH(TEXT(hf_kommune[[#This Row],[Kommunenr]],\"0\"),Table11[Nr],0),MATCH(hf_kommune[[#Headers],[2029]],Table11[#Headers],0))","v":27},{"$f":"INDEX(Table11[],MATCH(TEXT(hf_kommune[[#This Row],[Kommunenr]],\"0\"),Table11[Nr],0),MATCH(hf_kommune[[#Headers],[2030]],Table11[#Headers],0))","v":42},{"$f":"INDEX(Table11[],MATCH(TEXT(hf_kommune[[#This Row],[Kommunenr]],\"0\"),Table11[Nr],0),MATCH(hf_kommune[[#Headers],[2031]],Table11[#Headers],0))","v":31},{"$f":"INDEX(Table11[],MATCH(TEXT(hf_kommune[[#This Row],[Kommunenr]],\"0\"),Table11[Nr],0),MATCH(hf_kommune[[#Headers],[2032]],Table11[#Headers],0))","v":34},{"$f":"INDEX(Table11[],MATCH(TEXT(hf_kommune[[#This Row],[Kommunenr]],\"0\"),Table11[Nr],0),MATCH(hf_kommune[[#Headers],[2033]],Table11[#Headers],0))","v":28},{"$f":"INDEX(Table11[],MATCH(TEXT(hf_kommune[[#This Row],[Kommunenr]],\"0\"),Table11[Nr],0),MATCH(hf_kommune[[#Headers],[2034]],Table11[#Headers],0))","v":34},{"$f":"INDEX(Table11[],MATCH(TEXT(hf_kommune[[#This Row],[Kommunenr]],\"0\"),Table11[Nr],0),MATCH(hf_kommune[[#Headers],[2035]],Table11[#Headers],0))","v":31},{"$f":"INDEX(Table11[],MATCH(TEXT(hf_kommune[[#This Row],[Kommunenr]],\"0\"),Table11[Nr],0),MATCH(hf_kommune[[#Headers],[2036]],Table11[#Headers],0))","v":27},{"$f":"INDEX(Table11[],MATCH(TEXT(hf_kommune[[#This Row],[Kommunenr]],\"0\"),Table11[Nr],0),MATCH(hf_kommune[[#Headers],[2037]],Table11[#Headers],0))","v":27},{"$f":"INDEX(Table11[],MATCH(TEXT(hf_kommune[[#This Row],[Kommunenr]],\"0\"),Table11[Nr],0),MATCH(hf_kommune[[#Headers],[2038]],Table11[#Headers],0))","v":39},{"$f":"INDEX(Table11[],MATCH(TEXT(hf_kommune[[#This Row],[Kommunenr]],\"0\"),Table11[Nr],0),MATCH(hf_kommune[[#Headers],[2039]],Table11[#Headers],0))","v":26},{"$f":"INDEX(Table11[],MATCH(TEXT(hf_kommune[[#This Row],[Kommunenr]],\"0\"),Table11[Nr],0),MATCH(hf_kommune[[#Headers],[2040]],Table11[#Headers],0))","v":35},2382,2375,2372,2373,2376,2381,2385,2390,2394,2398,2402,2406,2410,2414,2418,2421,2424,2427,2430]
[1144,"Kvitsøy","Helse Vest","Helse Stavanger","Stavanger",{"$f":"INDEX(Table11[],MATCH(TEXT(hf_kommune[[#This Row],[Kommunenr]],\"0\"),Table11[Nr],0),MATCH(hf_kommune[[#Headers],[2020]],Table11[#Headers],0))","v":11},{"$f":"INDEX(Table11[],MATCH(TEXT(hf_kommune[[#This Row],[Kommunenr]],\"0\"),Table11[Nr],0),MATCH(hf_kommune[[#Headers],[2021]],Table11[#Headers],0))","v":10},{"$f":"INDEX(Table11[],MATCH(TEXT(hf_kommune[[#This Row],[Kommunenr]],\"0\"),Table11[Nr],0),MATCH(hf_kommune[[#Headers],[2022]],Table11[#Headers],0))","v":6},{"$f":"INDEX(Table11[],MATCH(TEXT(hf_kommune[[#This Row],[Kommunenr]],\"0\"),Table11[Nr],0),MATCH(hf_kommune[[#Headers],[2023]],Table11[#Headers],0))","v":13},{"$f":"INDEX(Table11[],MATCH(TEXT(hf_kommune[[#This Row],[Kommunenr]],\"0\"),Table11[Nr],0),MATCH(hf_kommune[[#Headers],[2024]],Table11[#Headers],0))","v":15},{"$f":"INDEX(Table11[],MATCH(TEXT(hf_kommune[[#This Row],[Kommunenr]],\"0\"),Table11[Nr],0),MATCH(hf_kommune[[#Headers],[2025]],Table11[#Headers],0))","v":12},{"$f":"INDEX(Table11[],MATCH(TEXT(hf_kommune[[#This Row],[Kommunenr]],\"0\"),Table11[Nr],0),MATCH(hf_kommune[[#Headers],[2026]],Table11[#Headers],0))","v":7},{"$f":"INDEX(Table11[],MATCH(TEXT(hf_kommune[[#This Row],[Kommunenr]],\"0\"),Table11[Nr],0),MATCH(hf_kommune[[#Headers],[2027]],Table11[#Headers],0))","v":10},{"$f":"INDEX(Table11[],MATCH(TEXT(hf_kommune[[#This Row],[Kommunenr]],\"0\"),Table11[Nr],0),MATCH(hf_kommune[[#Headers],[2028]],Table11[#Headers],0))","v":5},{"$f":"INDEX(Table11[],MATCH(TEXT(hf_kommune[[#This Row],[Kommunenr]],\"0\"),Table11[Nr],0),MATCH(hf_kommune[[#Headers],[2029]],Table11[#Headers],0))","v":8},{"$f":"INDEX(Table11[],MATCH(TEXT(hf_kommune[[#This Row],[Kommunenr]],\"0\"),Table11[Nr],0),MATCH(hf_kommune[[#Headers],[2030]],Table11[#Headers],0))","v":12},{"$f":"INDEX(Table11[],MATCH(TEXT(hf_kommune[[#This Row],[Kommunenr]],\"0\"),Table11[Nr],0),MATCH(hf_kommune[[#Headers],[2031]],Table11[#Headers],0))","v":7},{"$f":"INDEX(Table11[],MATCH(TEXT(hf_kommune[[#This Row],[Kommunenr]],\"0\"),Table11[Nr],0),MATCH(hf_kommune[[#Headers],[2032]],Table11[#Headers],0))","v":8},{"$f":"INDEX(Table11[],MATCH(TEXT(hf_kommune[[#This Row],[Kommunenr]],\"0\"),Table11[Nr],0),MATCH(hf_kommune[[#Headers],[2033]],Table11[#Headers],0))","v":7},{"$f":"INDEX(Table11[],MATCH(TEXT(hf_kommune[[#This Row],[Kommunenr]],\"0\"),Table11[Nr],0),MATCH(hf_kommune[[#Headers],[2034]],Table11[#Headers],0))","v":7},{"$f":"INDEX(Table11[],MATCH(TEXT(hf_kommune[[#This Row],[Kommunenr]],\"0\"),Table11[Nr],0),MATCH(hf_kommune[[#Headers],[2035]],Table11[#Headers],0))","v":7},{"$f":"INDEX(Table11[],MATCH(TEXT(hf_kommune[[#This Row],[Kommunenr]],\"0\"),Table11[Nr],0),MATCH(hf_kommune[[#Headers],[2036]],Table11[#Headers],0))","v":8},{"$f":"INDEX(Table11[],MATCH(TEXT(hf_kommune[[#This Row],[Kommunenr]],\"0\"),Table11[Nr],0),MATCH(hf_kommune[[#Headers],[2037]],Table11[#Headers],0))","v":7},{"$f":"INDEX(Table11[],MATCH(TEXT(hf_kommune[[#This Row],[Kommunenr]],\"0\"),Table11[Nr],0),MATCH(hf_kommune[[#Headers],[2038]],Table11[#Headers],0))","v":9},{"$f":"INDEX(Table11[],MATCH(TEXT(hf_kommune[[#This Row],[Kommunenr]],\"0\"),Table11[Nr],0),MATCH(hf_kommune[[#Headers],[2039]],Table11[#Headers],0))","v":7},{"$f":"INDEX(Table11[],MATCH(TEXT(hf_kommune[[#This Row],[Kommunenr]],\"0\"),Table11[Nr],0),MATCH(hf_kommune[[#Headers],[2040]],Table11[#Headers],0))","v":7},518,518,519,520,522,524,527,528,532,535,538,541,545,548,552,556,560,563,567]
[5411,"Kvæfjord","Helse Nord","Universitetssykehuset Nord-Norge","Harstad",{"$f":"INDEX(Table11[],MATCH(TEXT(hf_kommune[[#This Row],[Kommunenr]],\"0\"),Table11[Nr],0),MATCH(hf_kommune[[#Headers],[2020]],Table11[#Headers],0))","v":39},{"$f":"INDEX(Table11[],MATCH(TEXT(hf_kommune[[#This Row],[Kommunenr]],\"0\"),Table11[Nr],0),MATCH(hf_kommune[[#Headers],[2021]],Table11[#Headers],0))","v":39},{"$f":"INDEX(Table11[],MATCH(TEXT(hf_kommune[[#This Row],[Kommunenr]],\"0\"),Table11[Nr],0),MATCH(hf_kommune[[#Headers],[2022]],Table11[#Headers],0))","v":36},{"$f":"INDEX(Table11[],MATCH(TEXT(hf_kommune[[#This Row],[Kommunenr]],\"0\"),Table11[Nr],0),MATCH(hf_kommune[[#Headers],[2023]],Table11[#Headers],0))","v":52},{"$f":"INDEX(Table11[],MATCH(TEXT(hf_kommune[[#This Row],[Kommunenr]],\"0\"),Table11[Nr],0),MATCH(hf_kommune[[#Headers],[2024]],Table11[#Headers],0))","v":35},{"$f":"INDEX(Table11[],MATCH(TEXT(hf_kommune[[#This Row],[Kommunenr]],\"0\"),Table11[Nr],0),MATCH(hf_kommune[[#Headers],[2025]],Table11[#Headers],0))","v":48},{"$f":"INDEX(Table11[],MATCH(TEXT(hf_kommune[[#This Row],[Kommunenr]],\"0\"),Table11[Nr],0),MATCH(hf_kommune[[#Headers],[2026]],Table11[#Headers],0))","v":39},{"$f":"INDEX(Table11[],MATCH(TEXT(hf_kommune[[#This Row],[Kommunenr]],\"0\"),Table11[Nr],0),MATCH(hf_kommune[[#Headers],[2027]],Table11[#Headers],0))","v":43},{"$f":"INDEX(Table11[],MATCH(TEXT(hf_kommune[[#This Row],[Kommunenr]],\"0\"),Table11[Nr],0),MATCH(hf_kommune[[#Headers],[2028]],Table11[#Headers],0))","v":47},{"$f":"INDEX(Table11[],MATCH(TEXT(hf_kommune[[#This Row],[Kommunenr]],\"0\"),Table11[Nr],0),MATCH(hf_kommune[[#Headers],[2029]],Table11[#Headers],0))","v":46},{"$f":"INDEX(Table11[],MATCH(TEXT(hf_kommune[[#This Row],[Kommunenr]],\"0\"),Table11[Nr],0),MATCH(hf_kommune[[#Headers],[2030]],Table11[#Headers],0))","v":43},{"$f":"INDEX(Table11[],MATCH(TEXT(hf_kommune[[#This Row],[Kommunenr]],\"0\"),Table11[Nr],0),MATCH(hf_kommune[[#Headers],[2031]],Table11[#Headers],0))","v":32},{"$f":"INDEX(Table11[],MATCH(TEXT(hf_kommune[[#This Row],[Kommunenr]],\"0\"),Table11[Nr],0),MATCH(hf_kommune[[#Headers],[2032]],Table11[#Headers],0))","v":31},{"$f":"INDEX(Table11[],MATCH(TEXT(hf_kommune[[#This Row],[Kommunenr]],\"0\"),Table11[Nr],0),MATCH(hf_kommune[[#Headers],[2033]],Table11[#Headers],0))","v":33},{"$f":"INDEX(Table11[],MATCH(TEXT(hf_kommune[[#This Row],[Kommunenr]],\"0\"),Table11[Nr],0),MATCH(hf_kommune[[#Headers],[2034]],Table11[#Headers],0))","v":31},{"$f":"INDEX(Table11[],MATCH(TEXT(hf_kommune[[#This Row],[Kommunenr]],\"0\"),Table11[Nr],0),MATCH(hf_kommune[[#Headers],[2035]],Table11[#Headers],0))","v":33},{"$f":"INDEX(Table11[],MATCH(TEXT(hf_kommune[[#This Row],[Kommunenr]],\"0\"),Table11[Nr],0),MATCH(hf_kommune[[#Headers],[2036]],Table11[#Headers],0))","v":31},{"$f":"INDEX(Table11[],MATCH(TEXT(hf_kommune[[#This Row],[Kommunenr]],\"0\"),Table11[Nr],0),MATCH(hf_kommune[[#Headers],[2037]],Table11[#Headers],0))","v":27},{"$f":"INDEX(Table11[],MATCH(TEXT(hf_kommune[[#This Row],[Kommunenr]],\"0\"),Table11[Nr],0),MATCH(hf_kommune[[#Headers],[2038]],Table11[#Headers],0))","v":26},{"$f":"INDEX(Table11[],MATCH(TEXT(hf_kommune[[#This Row],[Kommunenr]],\"0\"),Table11[Nr],0),MATCH(hf_kommune[[#Headers],[2039]],Table11[#Headers],0))","v":36},{"$f":"INDEX(Table11[],MATCH(TEXT(hf_kommune[[#This Row],[Kommunenr]],\"0\"),Table11[Nr],0),MATCH(hf_kommune[[#Headers],[2040]],Table11[#Headers],0))","v":35},2858,2866,2874,2882,2890,2898,2905,2912,2919,2925,2930,2935,2940,2944,2947,2949,2951,2951,2951]
[5429,"Kvænangen","Helse Nord","Universitetssykehuset Nord-Norge","Tromsø",{"$f":"INDEX(Table11[],MATCH(TEXT(hf_kommune[[#This Row],[Kommunenr]],\"0\"),Table11[Nr],0),MATCH(hf_kommune[[#Headers],[2020]],Table11[#Headers],0))","v":15},{"$f":"INDEX(Table11[],MATCH(TEXT(hf_kommune[[#This Row],[Kommunenr]],\"0\"),Table11[Nr],0),MATCH(hf_kommune[[#Headers],[2021]],Table11[#Headers],0))","v":25},{"$f":"INDEX(Table11[],MATCH(TEXT(hf_kommune[[#This Row],[Kommunenr]],\"0\"),Table11[Nr],0),MATCH(hf_kommune[[#Headers],[2022]],Table11[#Headers],0))","v":14},{"$f":"INDEX(Table11[],MATCH(TEXT(hf_kommune[[#This Row],[Kommunenr]],\"0\"),Table11[Nr],0),MATCH(hf_kommune[[#Headers],[2023]],Table11[#Headers],0))","v":26},{"$f":"INDEX(Table11[],MATCH(TEXT(hf_kommune[[#This Row],[Kommunenr]],\"0\"),Table11[Nr],0),MATCH(hf_kommune[[#Headers],[2024]],Table11[#Headers],0))","v":27},{"$f":"INDEX(Table11[],MATCH(TEXT(hf_kommune[[#This Row],[Kommunenr]],\"0\"),Table11[Nr],0),MATCH(hf_kommune[[#Headers],[2025]],Table11[#Headers],0))","v":19},{"$f":"INDEX(Table11[],MATCH(TEXT(hf_kommune[[#This Row],[Kommunenr]],\"0\"),Table11[Nr],0),MATCH(hf_kommune[[#Headers],[2026]],Table11[#Headers],0))","v":16},{"$f":"INDEX(Table11[],MATCH(TEXT(hf_kommune[[#This Row],[Kommunenr]],\"0\"),Table11[Nr],0),MATCH(hf_kommune[[#Headers],[2027]],Table11[#Headers],0))","v":23},{"$f":"INDEX(Table11[],MATCH(TEXT(hf_kommune[[#This Row],[Kommunenr]],\"0\"),Table11[Nr],0),MATCH(hf_kommune[[#Headers],[2028]],Table11[#Headers],0))","v":21},{"$f":"INDEX(Table11[],MATCH(TEXT(hf_kommune[[#This Row],[Kommunenr]],\"0\"),Table11[Nr],0),MATCH(hf_kommune[[#Headers],[2029]],Table11[#Headers],0))","v":17},{"$f":"INDEX(Table11[],MATCH(TEXT(hf_kommune[[#This Row],[Kommunenr]],\"0\"),Table11[Nr],0),MATCH(hf_kommune[[#Headers],[2030]],Table11[#Headers],0))","v":19},{"$f":"INDEX(Table11[],MATCH(TEXT(hf_kommune[[#This Row],[Kommunenr]],\"0\"),Table11[Nr],0),MATCH(hf_kommune[[#Headers],[2031]],Table11[#Headers],0))","v":16},{"$f":"INDEX(Table11[],MATCH(TEXT(hf_kommune[[#This Row],[Kommunenr]],\"0\"),Table11[Nr],0),MATCH(hf_kommune[[#Headers],[2032]],Table11[#Headers],0))","v":10},{"$f":"INDEX(Table11[],MATCH(TEXT(hf_kommune[[#This Row],[Kommunenr]],\"0\"),Table11[Nr],0),MATCH(hf_kommune[[#Headers],[2033]],Table11[#Headers],0))","v":13},{"$f":"INDEX(Table11[],MATCH(TEXT(hf_kommune[[#This Row],[Kommunenr]],\"0\"),Table11[Nr],0),MATCH(hf_kommune[[#Headers],[2034]],Table11[#Headers],0))","v":15},{"$f":"INDEX(Table11[],MATCH(TEXT(hf_kommune[[#This Row],[Kommunenr]],\"0\"),Table11[Nr],0),MATCH(hf_kommune[[#Headers],[2035]],Table11[#Headers],0))","v":15},{"$f":"INDEX(Table11[],MATCH(TEXT(hf_kommune[[#This Row],[Kommunenr]],\"0\"),Table11[Nr],0),MATCH(hf_kommune[[#Headers],[2036]],Table11[#Headers],0))","v":15},{"$f":"INDEX(Table11[],MATCH(TEXT(hf_kommune[[#This Row],[Kommunenr]],\"0\"),Table11[Nr],0),MATCH(hf_kommune[[#Headers],[2037]],Table11[#Headers],0))","v":14},{"$f":"INDEX(Table11[],MATCH(TEXT(hf_kommune[[#This Row],[Kommunenr]],\"0\"),Table11[Nr],0),MATCH(hf_kommune[[#Headers],[2038]],Table11[#Headers],0))","v":12},{"$f":"INDEX(Table11[],MATCH(TEXT(hf_kommune[[#This Row],[Kommunenr]],\"0\"),Table11[Nr],0),MATCH(hf_kommune[[#Headers],[2039]],Table11[#Headers],0))","v":15},{"$f":"INDEX(Table11[],MATCH(TEXT(hf_kommune[[#This Row],[Kommunenr]],\"0\"),Table11[Nr],0),MATCH(hf_kommune[[#Headers],[2040]],Table11[#Headers],0))","v":14},1206,1210,1212,1212,1210,1208,1205,1203,1201,1199,1197,1195,1193,1191,1189,1187,1186,1184,1183]
[3805,"Larvik","Helse Sør-Øst","Sykehuset i Vestfold","Tønsberg",{"$f":"INDEX(Table11[],MATCH(TEXT(hf_kommune[[#This Row],[Kommunenr]],\"0\"),Table11[Nr],0),MATCH(hf_kommune[[#Headers],[2020]],Table11[#Headers],0))","v":634},{"$f":"INDEX(Table11[],MATCH(TEXT(hf_kommune[[#This Row],[Kommunenr]],\"0\"),Table11[Nr],0),MATCH(hf_kommune[[#Headers],[2021]],Table11[#Headers],0))","v":696},{"$f":"INDEX(Table11[],MATCH(TEXT(hf_kommune[[#This Row],[Kommunenr]],\"0\"),Table11[Nr],0),MATCH(hf_kommune[[#Headers],[2022]],Table11[#Headers],0))","v":698},{"$f":"INDEX(Table11[],MATCH(TEXT(hf_kommune[[#This Row],[Kommunenr]],\"0\"),Table11[Nr],0),MATCH(hf_kommune[[#Headers],[2023]],Table11[#Headers],0))","v":668},{"$f":"INDEX(Table11[],MATCH(TEXT(hf_kommune[[#This Row],[Kommunenr]],\"0\"),Table11[Nr],0),MATCH(hf_kommune[[#Headers],[2024]],Table11[#Headers],0))","v":688},{"$f":"INDEX(Table11[],MATCH(TEXT(hf_kommune[[#This Row],[Kommunenr]],\"0\"),Table11[Nr],0),MATCH(hf_kommune[[#Headers],[2025]],Table11[#Headers],0))","v":720},{"$f":"INDEX(Table11[],MATCH(TEXT(hf_kommune[[#This Row],[Kommunenr]],\"0\"),Table11[Nr],0),MATCH(hf_kommune[[#Headers],[2026]],Table11[#Headers],0))","v":688},{"$f":"INDEX(Table11[],MATCH(TEXT(hf_kommune[[#This Row],[Kommunenr]],\"0\"),Table11[Nr],0),MATCH(hf_kommune[[#Headers],[2027]],Table11[#Headers],0))","v":686},{"$f":"INDEX(Table11[],MATCH(TEXT(hf_kommune[[#This Row],[Kommunenr]],\"0\"),Table11[Nr],0),MATCH(hf_kommune[[#Headers],[2028]],Table11[#Headers],0))","v":733},{"$f":"INDEX(Table11[],MATCH(TEXT(hf_kommune[[#This Row],[Kommunenr]],\"0\"),Table11[Nr],0),MATCH(hf_kommune[[#Headers],[2029]],Table11[#Headers],0))","v":662},{"$f":"INDEX(Table11[],MATCH(TEXT(hf_kommune[[#This Row],[Kommunenr]],\"0\"),Table11[Nr],0),MATCH(hf_kommune[[#Headers],[2030]],Table11[#Headers],0))","v":678},{"$f":"INDEX(Table11[],MATCH(TEXT(hf_kommune[[#This Row],[Kommunenr]],\"0\"),Table11[Nr],0),MATCH(hf_kommune[[#Headers],[2031]],Table11[#Headers],0))","v":684},{"$f":"INDEX(Table11[],MATCH(TEXT(hf_kommune[[#This Row],[Kommunenr]],\"0\"),Table11[Nr],0),MATCH(hf_kommune[[#Headers],[2032]],Table11[#Headers],0))","v":617},{"$f":"INDEX(Table11[],MATCH(TEXT(hf_kommune[[#This Row],[Kommunenr]],\"0\"),Table11[Nr],0),MATCH(hf_kommune[[#Headers],[2033]],Table11[#Headers],0))","v":573},{"$f":"INDEX(Table11[],MATCH(TEXT(hf_kommune[[#This Row],[Kommunenr]],\"0\"),Table11[Nr],0),MATCH(hf_kommune[[#Headers],[2034]],Table11[#Headers],0))","v":638},{"$f":"INDEX(Table11[],MATCH(TEXT(hf_kommune[[#This Row],[Kommunenr]],\"0\"),Table11[Nr],0),MATCH(hf_kommune[[#Headers],[2035]],Table11[#Headers],0))","v":635},{"$f":"INDEX(Table11[],MATCH(TEXT(hf_kommune[[#This Row],[Kommunenr]],\"0\"),Table11[Nr],0),MATCH(hf_kommune[[#Headers],[2036]],Table11[#Headers],0))","v":645},{"$f":"INDEX(Table11[],MATCH(TEXT(hf_kommune[[#This Row],[Kommunenr]],\"0\"),Table11[Nr],0),MATCH(hf_kommune[[#Headers],[2037]],Table11[#Headers],0))","v":628},{"$f":"INDEX(Table11[],MATCH(TEXT(hf_kommune[[#This Row],[Kommunenr]],\"0\"),Table11[Nr],0),MATCH(hf_kommune[[#Headers],[2038]],Table11[#Headers],0))","v":686},{"$f":"INDEX(Table11[],MATCH(TEXT(hf_kommune[[#This Row],[Kommunenr]],\"0\"),Table11[Nr],0),MATCH(hf_kommune[[#Headers],[2039]],Table11[#Headers],0))","v":667},{"$f":"INDEX(Table11[],MATCH(TEXT(hf_kommune[[#This Row],[Kommunenr]],\"0\"),Table11[Nr],0),MATCH(hf_kommune[[#Headers],[2040]],Table11[#Headers],0))","v":642},47168,47220,47308,47429,47579,47727,47871,48013,48153,48292,48430,48567,48703,48836,48969,49097,49219,49334,49443]
[5438,"Lebesby","Helse Nord","Finnmarkssykehuset","Hammerfest",{"$f":"INDEX(Table11[],MATCH(TEXT(hf_kommune[[#This Row],[Kommunenr]],\"0\"),Table11[Nr],0),MATCH(hf_kommune[[#Headers],[2020]],Table11[#Headers],0))","v":31},{"$f":"INDEX(Table11[],MATCH(TEXT(hf_kommune[[#This Row],[Kommunenr]],\"0\"),Table11[Nr],0),MATCH(hf_kommune[[#Headers],[2021]],Table11[#Headers],0))","v":21},{"$f":"INDEX(Table11[],MATCH(TEXT(hf_kommune[[#This Row],[Kommunenr]],\"0\"),Table11[Nr],0),MATCH(hf_kommune[[#Headers],[2022]],Table11[#Headers],0))","v":21},{"$f":"INDEX(Table11[],MATCH(TEXT(hf_kommune[[#This Row],[Kommunenr]],\"0\"),Table11[Nr],0),MATCH(hf_kommune[[#Headers],[2023]],Table11[#Headers],0))","v":15},{"$f":"INDEX(Table11[],MATCH(TEXT(hf_kommune[[#This Row],[Kommunenr]],\"0\"),Table11[Nr],0),MATCH(hf_kommune[[#Headers],[2024]],Table11[#Headers],0))","v":27},{"$f":"INDEX(Table11[],MATCH(TEXT(hf_kommune[[#This Row],[Kommunenr]],\"0\"),Table11[Nr],0),MATCH(hf_kommune[[#Headers],[2025]],Table11[#Headers],0))","v":20},{"$f":"INDEX(Table11[],MATCH(TEXT(hf_kommune[[#This Row],[Kommunenr]],\"0\"),Table11[Nr],0),MATCH(hf_kommune[[#Headers],[2026]],Table11[#Headers],0))","v":25},{"$f":"INDEX(Table11[],MATCH(TEXT(hf_kommune[[#This Row],[Kommunenr]],\"0\"),Table11[Nr],0),MATCH(hf_kommune[[#Headers],[2027]],Table11[#Headers],0))","v":21},{"$f":"INDEX(Table11[],MATCH(TEXT(hf_kommune[[#This Row],[Kommunenr]],\"0\"),Table11[Nr],0),MATCH(hf_kommune[[#Headers],[2028]],Table11[#Headers],0))","v":17},{"$f":"INDEX(Table11[],MATCH(TEXT(hf_kommune[[#This Row],[Kommunenr]],\"0\"),Table11[Nr],0),MATCH(hf_kommune[[#Headers],[2029]],Table11[#Headers],0))","v":15},{"$f":"INDEX(Table11[],MATCH(TEXT(hf_kommune[[#This Row],[Kommunenr]],\"0\"),Table11[Nr],0),MATCH(hf_kommune[[#Headers],[2030]],Table11[#Headers],0))","v":16},{"$f":"INDEX(Table11[],MATCH(TEXT(hf_kommune[[#This Row],[Kommunenr]],\"0\"),Table11[Nr],0),MATCH(hf_kommune[[#Headers],[2031]],Table11[#Headers],0))","v":13},{"$f":"INDEX(Table11[],MATCH(TEXT(hf_kommune[[#This Row],[Kommunenr]],\"0\"),Table11[Nr],0),MATCH(hf_kommune[[#Headers],[2032]],Table11[#Headers],0))","v":15},{"$f":"INDEX(Table11[],MATCH(TEXT(hf_kommune[[#This Row],[Kommunenr]],\"0\"),Table11[Nr],0),MATCH(hf_kommune[[#Headers],[2033]],Table11[#Headers],0))","v":12},{"$f":"INDEX(Table11[],MATCH(TEXT(hf_kommune[[#This Row],[Kommunenr]],\"0\"),Table11[Nr],0),MATCH(hf_kommune[[#Headers],[2034]],Table11[#Headers],0))","v":12},{"$f":"INDEX(Table11[],MATCH(TEXT(hf_kommune[[#This Row],[Kommunenr]],\"0\"),Table11[Nr],0),MATCH(hf_kommune[[#Headers],[2035]],Table11[#Headers],0))","v":15},{"$f":"INDEX(Table11[],MATCH(TEXT(hf_kommune[[#This Row],[Kommunenr]],\"0\"),Table11[Nr],0),MATCH(hf_kommune[[#Headers],[2036]],Table11[#Headers],0))","v":15},{"$f":"INDEX(Table11[],MATCH(TEXT(hf_kommune[[#This Row],[Kommunenr]],\"0\"),Table11[Nr],0),MATCH(hf_kommune[[#Headers],[2037]],Table11[#Headers],0))","v":13},{"$f":"INDEX(Table11[],MATCH(TEXT(hf_kommune[[#This Row],[Kommunenr]],\"0\"),Table11[Nr],0),MATCH(hf_kommune[[#Headers],[2038]],Table11[#Headers],0))","v":15},{"$f":"INDEX(Table11[],MATCH(TEXT(hf_kommune[[#This Row],[Kommunenr]],\"0\"),Table11[Nr],0),MATCH(hf_kommune[[#Headers],[2039]],Table11[#Headers],0))","v":18},{"$f":"INDEX(Table11[],MATCH(TEXT(hf_kommune[[#This Row],[Kommunenr]],\"0\"),Table11[Nr],0),MATCH(hf_kommune[[#Headers],[2040]],Table11[#Headers],0))","v":16},1317,1331,1342,1351,1356,1362,1368,1373,1379,1384,1390,1395,1400,1406,1411,1416,1421,1425,1429]
[1822,"Leirfjord","Helse Nord","Helgelandssykehuset","Sandnessjøen",{"$f":"INDEX(Table11[],MATCH(TEXT(hf_kommune[[#This Row],[Kommunenr]],\"0\"),Table11[Nr],0),MATCH(hf_kommune[[#Headers],[2020]],Table11[#Headers],0))","v":42},{"$f":"INDEX(Table11[],MATCH(TEXT(hf_kommune[[#This Row],[Kommunenr]],\"0\"),Table11[Nr],0),MATCH(hf_kommune[[#Headers],[2021]],Table11[#Headers],0))","v":27},{"$f":"INDEX(Table11[],MATCH(TEXT(hf_kommune[[#This Row],[Kommunenr]],\"0\"),Table11[Nr],0),MATCH(hf_kommune[[#Headers],[2022]],Table11[#Headers],0))","v":37},{"$f":"INDEX(Table11[],MATCH(TEXT(hf_kommune[[#This Row],[Kommunenr]],\"0\"),Table11[Nr],0),MATCH(hf_kommune[[#Headers],[2023]],Table11[#Headers],0))","v":28},{"$f":"INDEX(Table11[],MATCH(TEXT(hf_kommune[[#This Row],[Kommunenr]],\"0\"),Table11[Nr],0),MATCH(hf_kommune[[#Headers],[2024]],Table11[#Headers],0))","v":32},{"$f":"INDEX(Table11[],MATCH(TEXT(hf_kommune[[#This Row],[Kommunenr]],\"0\"),Table11[Nr],0),MATCH(hf_kommune[[#Headers],[2025]],Table11[#Headers],0))","v":27},{"$f":"INDEX(Table11[],MATCH(TEXT(hf_kommune[[#This Row],[Kommunenr]],\"0\"),Table11[Nr],0),MATCH(hf_kommune[[#Headers],[2026]],Table11[#Headers],0))","v":16},{"$f":"INDEX(Table11[],MATCH(TEXT(hf_kommune[[#This Row],[Kommunenr]],\"0\"),Table11[Nr],0),MATCH(hf_kommune[[#Headers],[2027]],Table11[#Headers],0))","v":29},{"$f":"INDEX(Table11[],MATCH(TEXT(hf_kommune[[#This Row],[Kommunenr]],\"0\"),Table11[Nr],0),MATCH(hf_kommune[[#Headers],[2028]],Table11[#Headers],0))","v":18},{"$f":"INDEX(Table11[],MATCH(TEXT(hf_kommune[[#This Row],[Kommunenr]],\"0\"),Table11[Nr],0),MATCH(hf_kommune[[#Headers],[2029]],Table11[#Headers],0))","v":35},{"$f":"INDEX(Table11[],MATCH(TEXT(hf_kommune[[#This Row],[Kommunenr]],\"0\"),Table11[Nr],0),MATCH(hf_kommune[[#Headers],[2030]],Table11[#Headers],0))","v":30},{"$f":"INDEX(Table11[],MATCH(TEXT(hf_kommune[[#This Row],[Kommunenr]],\"0\"),Table11[Nr],0),MATCH(hf_kommune[[#Headers],[2031]],Table11[#Headers],0))","v":27},{"$f":"INDEX(Table11[],MATCH(TEXT(hf_kommune[[#This Row],[Kommunenr]],\"0\"),Table11[Nr],0),MATCH(hf_kommune[[#Headers],[2032]],Table11[#Headers],0))","v":26},{"$f":"INDEX(Table11[],MATCH(TEXT(hf_kommune[[#This Row],[Kommunenr]],\"0\"),Table11[Nr],0),MATCH(hf_kommune[[#Headers],[2033]],Table11[#Headers],0))","v":25},{"$f":"INDEX(Table11[],MATCH(TEXT(hf_kommune[[#This Row],[Kommunenr]],\"0\"),Table11[Nr],0),MATCH(hf_kommune[[#Headers],[2034]],Table11[#Headers],0))","v":30},{"$f":"INDEX(Table11[],MATCH(TEXT(hf_kommune[[#This Row],[Kommunenr]],\"0\"),Table11[Nr],0),MATCH(hf_kommune[[#Headers],[2035]],Table11[#Headers],0))","v":25},{"$f":"INDEX(Table11[],MATCH(TEXT(hf_kommune[[#This Row],[Kommunenr]],\"0\"),Table11[Nr],0),MATCH(hf_kommune[[#Headers],[2036]],Table11[#Headers],0))","v":29},{"$f":"INDEX(Table11[],MATCH(TEXT(hf_kommune[[#This Row],[Kommunenr]],\"0\"),Table11[Nr],0),MATCH(hf_kommune[[#Headers],[2037]],Table11[#Headers],0))","v":36},{"$f":"INDEX(Table11[],MATCH(TEXT(hf_kommune[[#This Row],[Kommunenr]],\"0\"),Table11[Nr],0),MATCH(hf_kommune[[#Headers],[2038]],Table11[#Headers],0))","v":25},{"$f":"INDEX(Table11[],MATCH(TEXT(hf_kommune[[#This Row],[Kommunenr]],\"0\"),Table11[Nr],0),MATCH(hf_kommune[[#Headers],[2039]],Table11[#Headers],0))","v":29},{"$f":"INDEX(Table11[],MATCH(TEXT(hf_kommune[[#This Row],[Kommunenr]],\"0\"),Table11[Nr],0),MATCH(hf_kommune[[#Headers],[2040]],Table11[#Headers],0))","v":30},2290,2298,2308,2321,2337,2352,2366,2378,2390,2401,2410,2419,2427,2434,2440,2446,2451,2456,2460]
[5052,"Leka","Helse Midt-Norge","Helse Nord-Trøndelag","Namsos",{"$f":"INDEX(Table11[],MATCH(TEXT(hf_kommune[[#This Row],[Kommunenr]],\"0\"),Table11[Nr],0),MATCH(hf_kommune[[#Headers],[2020]],Table11[#Headers],0))","v":9},{"$f":"INDEX(Table11[],MATCH(TEXT(hf_kommune[[#This Row],[Kommunenr]],\"0\"),Table11[Nr],0),MATCH(hf_kommune[[#Headers],[2021]],Table11[#Headers],0))","v":6},{"$f":"INDEX(Table11[],MATCH(TEXT(hf_kommune[[#This Row],[Kommunenr]],\"0\"),Table11[Nr],0),MATCH(hf_kommune[[#Headers],[2022]],Table11[#Headers],0))","v":10},{"$f":"INDEX(Table11[],MATCH(TEXT(hf_kommune[[#This Row],[Kommunenr]],\"0\"),Table11[Nr],0),MATCH(hf_kommune[[#Headers],[2023]],Table11[#Headers],0))","v":9},{"$f":"INDEX(Table11[],MATCH(TEXT(hf_kommune[[#This Row],[Kommunenr]],\"0\"),Table11[Nr],0),MATCH(hf_kommune[[#Headers],[2024]],Table11[#Headers],0))","v":7},{"$f":"INDEX(Table11[],MATCH(TEXT(hf_kommune[[#This Row],[Kommunenr]],\"0\"),Table11[Nr],0),MATCH(hf_kommune[[#Headers],[2025]],Table11[#Headers],0))","v":8},{"$f":"INDEX(Table11[],MATCH(TEXT(hf_kommune[[#This Row],[Kommunenr]],\"0\"),Table11[Nr],0),MATCH(hf_kommune[[#Headers],[2026]],Table11[#Headers],0))","v":7},{"$f":"INDEX(Table11[],MATCH(TEXT(hf_kommune[[#This Row],[Kommunenr]],\"0\"),Table11[Nr],0),MATCH(hf_kommune[[#Headers],[2027]],Table11[#Headers],0))","v":9},{"$f":"INDEX(Table11[],MATCH(TEXT(hf_kommune[[#This Row],[Kommunenr]],\"0\"),Table11[Nr],0),MATCH(hf_kommune[[#Headers],[2028]],Table11[#Headers],0))","v":7},{"$f":"INDEX(Table11[],MATCH(TEXT(hf_kommune[[#This Row],[Kommunenr]],\"0\"),Table11[Nr],0),MATCH(hf_kommune[[#Headers],[2029]],Table11[#Headers],0))","v":9},{"$f":"INDEX(Table11[],MATCH(TEXT(hf_kommune[[#This Row],[Kommunenr]],\"0\"),Table11[Nr],0),MATCH(hf_kommune[[#Headers],[2030]],Table11[#Headers],0))","v":5},{"$f":"INDEX(Table11[],MATCH(TEXT(hf_kommune[[#This Row],[Kommunenr]],\"0\"),Table11[Nr],0),MATCH(hf_kommune[[#Headers],[2031]],Table11[#Headers],0))","v":6},{"$f":"INDEX(Table11[],MATCH(TEXT(hf_kommune[[#This Row],[Kommunenr]],\"0\"),Table11[Nr],0),MATCH(hf_kommune[[#Headers],[2032]],Table11[#Headers],0))","v":6},{"$f":"INDEX(Table11[],MATCH(TEXT(hf_kommune[[#This Row],[Kommunenr]],\"0\"),Table11[Nr],0),MATCH(hf_kommune[[#Headers],[2033]],Table11[#Headers],0))","v":4},{"$f":"INDEX(Table11[],MATCH(TEXT(hf_kommune[[#This Row],[Kommunenr]],\"0\"),Table11[Nr],0),MATCH(hf_kommune[[#Headers],[2034]],Table11[#Headers],0))","v":5},{"$f":"INDEX(Table11[],MATCH(TEXT(hf_kommune[[#This Row],[Kommunenr]],\"0\"),Table11[Nr],0),MATCH(hf_kommune[[#Headers],[2035]],Table11[#Headers],0))","v":6},{"$f":"INDEX(Table11[],MATCH(TEXT(hf_kommune[[#This Row],[Kommunenr]],\"0\"),Table11[Nr],0),MATCH(hf_kommune[[#Headers],[2036]],Table11[#Headers],0))","v":4},{"$f":"INDEX(Table11[],MATCH(TEXT(hf_kommune[[#This Row],[Kommunenr]],\"0\"),Table11[Nr],0),MATCH(hf_kommune[[#Headers],[2037]],Table11[#Headers],0))","v":7},{"$f":"INDEX(Table11[],MATCH(TEXT(hf_kommune[[#This Row],[Kommunenr]],\"0\"),Table11[Nr],0),MATCH(hf_kommune[[#Headers],[2038]],Table11[#Headers],0))","v":5},{"$f":"INDEX(Table11[],MATCH(TEXT(hf_kommune[[#This Row],[Kommunenr]],\"0\"),Table11[Nr],0),MATCH(hf_kommune[[#Headers],[2039]],Table11[#Headers],0))","v":7},{"$f":"INDEX(Table11[],MATCH(TEXT(hf_kommune[[#This Row],[Kommunenr]],\"0\"),Table11[Nr],0),MATCH(hf_kommune[[#Headers],[2040]],Table11[#Headers],0))","v":9},545,543,542,542,544,546,548,549,551,552,554,555,557,558,559,560,561,562,562]
[3432,"Lesja","Helse Sør-Øst","Sykehuset Innlandet","Lillehammer",{"$f":"INDEX(Table11[],MATCH(TEXT(hf_kommune[[#This Row],[Kommunenr]],\"0\"),Table11[Nr],0),MATCH(hf_kommune[[#Headers],[2020]],Table11[#Headers],0))","v":29},{"$f":"INDEX(Table11[],MATCH(TEXT(hf_kommune[[#This Row],[Kommunenr]],\"0\"),Table11[Nr],0),MATCH(hf_kommune[[#Headers],[2021]],Table11[#Headers],0))","v":24},{"$f":"INDEX(Table11[],MATCH(TEXT(hf_kommune[[#This Row],[Kommunenr]],\"0\"),Table11[Nr],0),MATCH(hf_kommune[[#Headers],[2022]],Table11[#Headers],0))","v":28},{"$f":"INDEX(Table11[],MATCH(TEXT(hf_kommune[[#This Row],[Kommunenr]],\"0\"),Table11[Nr],0),MATCH(hf_kommune[[#Headers],[2023]],Table11[#Headers],0))","v":32},{"$f":"INDEX(Table11[],MATCH(TEXT(hf_kommune[[#This Row],[Kommunenr]],\"0\"),Table11[Nr],0),MATCH(hf_kommune[[#Headers],[2024]],Table11[#Headers],0))","v":29},{"$f":"INDEX(Table11[],MATCH(TEXT(hf_kommune[[#This Row],[Kommunenr]],\"0\"),Table11[Nr],0),MATCH(hf_kommune[[#Headers],[2025]],Table11[#Headers],0))","v":25},{"$f":"INDEX(Table11[],MATCH(TEXT(hf_kommune[[#This Row],[Kommunenr]],\"0\"),Table11[Nr],0),MATCH(hf_kommune[[#Headers],[2026]],Table11[#Headers],0))","v":27},{"$f":"INDEX(Table11[],MATCH(TEXT(hf_kommune[[#This Row],[Kommunenr]],\"0\"),Table11[Nr],0),MATCH(hf_kommune[[#Headers],[2027]],Table11[#Headers],0))","v":29},{"$f":"INDEX(Table11[],MATCH(TEXT(hf_kommune[[#This Row],[Kommunenr]],\"0\"),Table11[Nr],0),MATCH(hf_kommune[[#Headers],[2028]],Table11[#Headers],0))","v":26},{"$f":"INDEX(Table11[],MATCH(TEXT(hf_kommune[[#This Row],[Kommunenr]],\"0\"),Table11[Nr],0),MATCH(hf_kommune[[#Headers],[2029]],Table11[#Headers],0))","v":30},{"$f":"INDEX(Table11[],MATCH(TEXT(hf_kommune[[#This Row],[Kommunenr]],\"0\"),Table11[Nr],0),MATCH(hf_kommune[[#Headers],[2030]],Table11[#Headers],0))","v":28},{"$f":"INDEX(Table11[],MATCH(TEXT(hf_kommune[[#This Row],[Kommunenr]],\"0\"),Table11[Nr],0),MATCH(hf_kommune[[#Headers],[2031]],Table11[#Headers],0))","v":23},{"$f":"INDEX(Table11[],MATCH(TEXT(hf_kommune[[#This Row],[Kommunenr]],\"0\"),Table11[Nr],0),MATCH(hf_kommune[[#Headers],[2032]],Table11[#Headers],0))","v":24},{"$f":"INDEX(Table11[],MATCH(TEXT(hf_kommune[[#This Row],[Kommunenr]],\"0\"),Table11[Nr],0),MATCH(hf_kommune[[#Headers],[2033]],Table11[#Headers],0))","v":19},{"$f":"INDEX(Table11[],MATCH(TEXT(hf_kommune[[#This Row],[Kommunenr]],\"0\"),Table11[Nr],0),MATCH(hf_kommune[[#Headers],[2034]],Table11[#Headers],0))","v":24},{"$f":"INDEX(Table11[],MATCH(TEXT(hf_kommune[[#This Row],[Kommunenr]],\"0\"),Table11[Nr],0),MATCH(hf_kommune[[#Headers],[2035]],Table11[#Headers],0))","v":18},{"$f":"INDEX(Table11[],MATCH(TEXT(hf_kommune[[#This Row],[Kommunenr]],\"0\"),Table11[Nr],0),MATCH(hf_kommune[[#Headers],[2036]],Table11[#Headers],0))","v":27},{"$f":"INDEX(Table11[],MATCH(TEXT(hf_kommune[[#This Row],[Kommunenr]],\"0\"),Table11[Nr],0),MATCH(hf_kommune[[#Headers],[2037]],Table11[#Headers],0))","v":17},{"$f":"INDEX(Table11[],MATCH(TEXT(hf_kommune[[#This Row],[Kommunenr]],\"0\"),Table11[Nr],0),MATCH(hf_kommune[[#Headers],[2038]],Table11[#Headers],0))","v":17},{"$f":"INDEX(Table11[],MATCH(TEXT(hf_kommune[[#This Row],[Kommunenr]],\"0\"),Table11[Nr],0),MATCH(hf_kommune[[#Headers],[2039]],Table11[#Headers],0))","v":19},{"$f":"INDEX(Table11[],MATCH(TEXT(hf_kommune[[#This Row],[Kommunenr]],\"0\"),Table11[Nr],0),MATCH(hf_kommune[[#Headers],[2040]],Table11[#Headers],0))","v":18},1950,1936,1921,1905,1888,1872,1855,1840,1825,1810,1796,1783,1771,1759,1747,1736,1724,1714,1703]
[5037,"Levanger","Helse Midt-Norge","Helse Nord-Trøndelag","Levanger",{"$f":"INDEX(Table11[],MATCH(TEXT(hf_kommune[[#This Row],[Kommunenr]],\"0\"),Table11[Nr],0),MATCH(hf_kommune[[#Headers],[2020]],Table11[#Headers],0))","v":277},{"$f":"INDEX(Table11[],MATCH(TEXT(hf_kommune[[#This Row],[Kommunenr]],\"0\"),Table11[Nr],0),MATCH(hf_kommune[[#Headers],[2021]],Table11[#Headers],0))","v":290},{"$f":"INDEX(Table11[],MATCH(TEXT(hf_kommune[[#This Row],[Kommunenr]],\"0\"),Table11[Nr],0),MATCH(hf_kommune[[#Headers],[2022]],Table11[#Headers],0))","v":281},{"$f":"INDEX(Table11[],MATCH(TEXT(hf_kommune[[#This Row],[Kommunenr]],\"0\"),Table11[Nr],0),MATCH(hf_kommune[[#Headers],[2023]],Table11[#Headers],0))","v":296},{"$f":"INDEX(Table11[],MATCH(TEXT(hf_kommune[[#This Row],[Kommunenr]],\"0\"),Table11[Nr],0),MATCH(hf_kommune[[#Headers],[2024]],Table11[#Headers],0))","v":260},{"$f":"INDEX(Table11[],MATCH(TEXT(hf_kommune[[#This Row],[Kommunenr]],\"0\"),Table11[Nr],0),MATCH(hf_kommune[[#Headers],[2025]],Table11[#Headers],0))","v":274},{"$f":"INDEX(Table11[],MATCH(TEXT(hf_kommune[[#This Row],[Kommunenr]],\"0\"),Table11[Nr],0),MATCH(hf_kommune[[#Headers],[2026]],Table11[#Headers],0))","v":238},{"$f":"INDEX(Table11[],MATCH(TEXT(hf_kommune[[#This Row],[Kommunenr]],\"0\"),Table11[Nr],0),MATCH(hf_kommune[[#Headers],[2027]],Table11[#Headers],0))","v":258},{"$f":"INDEX(Table11[],MATCH(TEXT(hf_kommune[[#This Row],[Kommunenr]],\"0\"),Table11[Nr],0),MATCH(hf_kommune[[#Headers],[2028]],Table11[#Headers],0))","v":246},{"$f":"INDEX(Table11[],MATCH(TEXT(hf_kommune[[#This Row],[Kommunenr]],\"0\"),Table11[Nr],0),MATCH(hf_kommune[[#Headers],[2029]],Table11[#Headers],0))","v":235},{"$f":"INDEX(Table11[],MATCH(TEXT(hf_kommune[[#This Row],[Kommunenr]],\"0\"),Table11[Nr],0),MATCH(hf_kommune[[#Headers],[2030]],Table11[#Headers],0))","v":243},{"$f":"INDEX(Table11[],MATCH(TEXT(hf_kommune[[#This Row],[Kommunenr]],\"0\"),Table11[Nr],0),MATCH(hf_kommune[[#Headers],[2031]],Table11[#Headers],0))","v":225},{"$f":"INDEX(Table11[],MATCH(TEXT(hf_kommune[[#This Row],[Kommunenr]],\"0\"),Table11[Nr],0),MATCH(hf_kommune[[#Headers],[2032]],Table11[#Headers],0))","v":201},{"$f":"INDEX(Table11[],MATCH(TEXT(hf_kommune[[#This Row],[Kommunenr]],\"0\"),Table11[Nr],0),MATCH(hf_kommune[[#Headers],[2033]],Table11[#Headers],0))","v":229},{"$f":"INDEX(Table11[],MATCH(TEXT(hf_kommune[[#This Row],[Kommunenr]],\"0\"),Table11[Nr],0),MATCH(hf_kommune[[#Headers],[2034]],Table11[#Headers],0))","v":241},{"$f":"INDEX(Table11[],MATCH(TEXT(hf_kommune[[#This Row],[Kommunenr]],\"0\"),Table11[Nr],0),MATCH(hf_kommune[[#Headers],[2035]],Table11[#Headers],0))","v":233},{"$f":"INDEX(Table11[],MATCH(TEXT(hf_kommune[[#This Row],[Kommunenr]],\"0\"),Table11[Nr],0),MATCH(hf_kommune[[#Headers],[2036]],Table11[#Headers],0))","v":239},{"$f":"INDEX(Table11[],MATCH(TEXT(hf_kommune[[#This Row],[Kommunenr]],\"0\"),Table11[Nr],0),MATCH(hf_kommune[[#Headers],[2037]],Table11[#Headers],0))","v":223},{"$f":"INDEX(Table11[],MATCH(TEXT(hf_kommune[[#This Row],[Kommunenr]],\"0\"),Table11[Nr],0),MATCH(hf_kommune[[#Headers],[2038]],Table11[#Headers],0))","v":238},{"$f":"INDEX(Table11[],MATCH(TEXT(hf_kommune[[#This Row],[Kommunenr]],\"0\"),Table11[Nr],0),MATCH(hf_kommune[[#Headers],[2039]],Table11[#Headers],0))","v":226},{"$f":"INDEX(Table11[],MATCH(TEXT(hf_kommune[[#This Row],[Kommunenr]],\"0\"),Table11[Nr],0),MATCH(hf_kommune[[#Headers],[2040]],Table11[#Headers],0))","v":247},20211,20266,20334,20416,20514,20609,20702,20794,20885,20973,21059,21142,21223,21301,21377,21449,21518,21582,21642]
[3049,"Lier","Helse Sør-Øst","Vestre Viken","Drammen",{"$f":"INDEX(Table11[],MATCH(TEXT(hf_kommune[[#This Row],[Kommunenr]],\"0\"),Table11[Nr],0),MATCH(hf_kommune[[#Headers],[2020]],Table11[#Headers],0))","v":384},{"$f":"INDEX(Table11[],MATCH(TEXT(hf_kommune[[#This Row],[Kommunenr]],\"0\"),Table11[Nr],0),MATCH(hf_kommune[[#Headers],[2021]],Table11[#Headers],0))","v":392},{"$f":"INDEX(Table11[],MATCH(TEXT(hf_kommune[[#This Row],[Kommunenr]],\"0\"),Table11[Nr],0),MATCH(hf_kommune[[#Headers],[2022]],Table11[#Headers],0))","v":402},{"$f":"INDEX(Table11[],MATCH(TEXT(hf_kommune[[#This Row],[Kommunenr]],\"0\"),Table11[Nr],0),MATCH(hf_kommune[[#Headers],[2023]],Table11[#Headers],0))","v":396},{"$f":"INDEX(Table11[],MATCH(TEXT(hf_kommune[[#This Row],[Kommunenr]],\"0\"),Table11[Nr],0),MATCH(hf_kommune[[#Headers],[2024]],Table11[#Headers],0))","v":423},{"$f":"INDEX(Table11[],MATCH(TEXT(hf_kommune[[#This Row],[Kommunenr]],\"0\"),Table11[Nr],0),MATCH(hf_kommune[[#Headers],[2025]],Table11[#Headers],0))","v":419},{"$f":"INDEX(Table11[],MATCH(TEXT(hf_kommune[[#This Row],[Kommunenr]],\"0\"),Table11[Nr],0),MATCH(hf_kommune[[#Headers],[2026]],Table11[#Headers],0))","v":402},{"$f":"INDEX(Table11[],MATCH(TEXT(hf_kommune[[#This Row],[Kommunenr]],\"0\"),Table11[Nr],0),MATCH(hf_kommune[[#Headers],[2027]],Table11[#Headers],0))","v":436},{"$f":"INDEX(Table11[],MATCH(TEXT(hf_kommune[[#This Row],[Kommunenr]],\"0\"),Table11[Nr],0),MATCH(hf_kommune[[#Headers],[2028]],Table11[#Headers],0))","v":428},{"$f":"INDEX(Table11[],MATCH(TEXT(hf_kommune[[#This Row],[Kommunenr]],\"0\"),Table11[Nr],0),MATCH(hf_kommune[[#Headers],[2029]],Table11[#Headers],0))","v":416},{"$f":"INDEX(Table11[],MATCH(TEXT(hf_kommune[[#This Row],[Kommunenr]],\"0\"),Table11[Nr],0),MATCH(hf_kommune[[#Headers],[2030]],Table11[#Headers],0))","v":431},{"$f":"INDEX(Table11[],MATCH(TEXT(hf_kommune[[#This Row],[Kommunenr]],\"0\"),Table11[Nr],0),MATCH(hf_kommune[[#Headers],[2031]],Table11[#Headers],0))","v":387},{"$f":"INDEX(Table11[],MATCH(TEXT(hf_kommune[[#This Row],[Kommunenr]],\"0\"),Table11[Nr],0),MATCH(hf_kommune[[#Headers],[2032]],Table11[#Headers],0))","v":405},{"$f":"INDEX(Table11[],MATCH(TEXT(hf_kommune[[#This Row],[Kommunenr]],\"0\"),Table11[Nr],0),MATCH(hf_kommune[[#Headers],[2033]],Table11[#Headers],0))","v":393},{"$f":"INDEX(Table11[],MATCH(TEXT(hf_kommune[[#This Row],[Kommunenr]],\"0\"),Table11[Nr],0),MATCH(hf_kommune[[#Headers],[2034]],Table11[#Headers],0))","v":429},{"$f":"INDEX(Table11[],MATCH(TEXT(hf_kommune[[#This Row],[Kommunenr]],\"0\"),Table11[Nr],0),MATCH(hf_kommune[[#Headers],[2035]],Table11[#Headers],0))","v":424},{"$f":"INDEX(Table11[],MATCH(TEXT(hf_kommune[[#This Row],[Kommunenr]],\"0\"),Table11[Nr],0),MATCH(hf_kommune[[#Headers],[2036]],Table11[#Headers],0))","v":416},{"$f":"INDEX(Table11[],MATCH(TEXT(hf_kommune[[#This Row],[Kommunenr]],\"0\"),Table11[Nr],0),MATCH(hf_kommune[[#Headers],[2037]],Table11[#Headers],0))","v":403},{"$f":"INDEX(Table11[],MATCH(TEXT(hf_kommune[[#This Row],[Kommunenr]],\"0\"),Table11[Nr],0),MATCH(hf_kommune[[#Headers],[2038]],Table11[#Headers],0))","v":436},{"$f":"INDEX(Table11[],MATCH(TEXT(hf_kommune[[#This Row],[Kommunenr]],\"0\"),Table11[Nr],0),MATCH(hf_kommune[[#Headers],[2039]],Table11[#Headers],0))","v":439},{"$f":"INDEX(Table11[],MATCH(TEXT(hf_kommune[[#This Row],[Kommunenr]],\"0\"),Table11[Nr],0),MATCH(hf_kommune[[#Headers],[2040]],Table11[#Headers],0))","v":423},27522,27859,28158,28423,28655,28883,29106,29323,29533,29738,29935,30127,30316,30501,30684,30863,31038,31208,31374]
[5042,"Lierne","Helse Midt-Norge","Helse Nord-Trøndelag","Namsos",{"$f":"INDEX(Table11[],MATCH(TEXT(hf_kommune[[#This Row],[Kommunenr]],\"0\"),Table11[Nr],0),MATCH(hf_kommune[[#Headers],[2020]],Table11[#Headers],0))","v":17},{"$f":"INDEX(Table11[],MATCH(TEXT(hf_kommune[[#This Row],[Kommunenr]],\"0\"),Table11[Nr],0),MATCH(hf_kommune[[#Headers],[2021]],Table11[#Headers],0))","v":21},{"$f":"INDEX(Table11[],MATCH(TEXT(hf_kommune[[#This Row],[Kommunenr]],\"0\"),Table11[Nr],0),MATCH(hf_kommune[[#Headers],[2022]],Table11[#Headers],0))","v":12},{"$f":"INDEX(Table11[],MATCH(TEXT(hf_kommune[[#This Row],[Kommunenr]],\"0\"),Table11[Nr],0),MATCH(hf_kommune[[#Headers],[2023]],Table11[#Headers],0))","v":20},{"$f":"INDEX(Table11[],MATCH(TEXT(hf_kommune[[#This Row],[Kommunenr]],\"0\"),Table11[Nr],0),MATCH(hf_kommune[[#Headers],[2024]],Table11[#Headers],0))","v":17},{"$f":"INDEX(Table11[],MATCH(TEXT(hf_kommune[[#This Row],[Kommunenr]],\"0\"),Table11[Nr],0),MATCH(hf_kommune[[#Headers],[2025]],Table11[#Headers],0))","v":22},{"$f":"INDEX(Table11[],MATCH(TEXT(hf_kommune[[#This Row],[Kommunenr]],\"0\"),Table11[Nr],0),MATCH(hf_kommune[[#Headers],[2026]],Table11[#Headers],0))","v":21},{"$f":"INDEX(Table11[],MATCH(TEXT(hf_kommune[[#This Row],[Kommunenr]],\"0\"),Table11[Nr],0),MATCH(hf_kommune[[#Headers],[2027]],Table11[#Headers],0))","v":15},{"$f":"INDEX(Table11[],MATCH(TEXT(hf_kommune[[#This Row],[Kommunenr]],\"0\"),Table11[Nr],0),MATCH(hf_kommune[[#Headers],[2028]],Table11[#Headers],0))","v":26},{"$f":"INDEX(Table11[],MATCH(TEXT(hf_kommune[[#This Row],[Kommunenr]],\"0\"),Table11[Nr],0),MATCH(hf_kommune[[#Headers],[2029]],Table11[#Headers],0))","v":21},{"$f":"INDEX(Table11[],MATCH(TEXT(hf_kommune[[#This Row],[Kommunenr]],\"0\"),Table11[Nr],0),MATCH(hf_kommune[[#Headers],[2030]],Table11[#Headers],0))","v":19},{"$f":"INDEX(Table11[],MATCH(TEXT(hf_kommune[[#This Row],[Kommunenr]],\"0\"),Table11[Nr],0),MATCH(hf_kommune[[#Headers],[2031]],Table11[#Headers],0))","v":16},{"$f":"INDEX(Table11[],MATCH(TEXT(hf_kommune[[#This Row],[Kommunenr]],\"0\"),Table11[Nr],0),MATCH(hf_kommune[[#Headers],[2032]],Table11[#Headers],0))","v":12},{"$f":"INDEX(Table11[],MATCH(TEXT(hf_kommune[[#This Row],[Kommunenr]],\"0\"),Table11[Nr],0),MATCH(hf_kommune[[#Headers],[2033]],Table11[#Headers],0))","v":18},{"$f":"INDEX(Table11[],MATCH(TEXT(hf_kommune[[#This Row],[Kommunenr]],\"0\"),Table11[Nr],0),MATCH(hf_kommune[[#Headers],[2034]],Table11[#Headers],0))","v":21},{"$f":"INDEX(Table11[],MATCH(TEXT(hf_kommune[[#This Row],[Kommunenr]],\"0\"),Table11[Nr],0),MATCH(hf_kommune[[#Headers],[2035]],Table11[#Headers],0))","v":12},{"$f":"INDEX(Table11[],MATCH(TEXT(hf_kommune[[#This Row],[Kommunenr]],\"0\"),Table11[Nr],0),MATCH(hf_kommune[[#Headers],[2036]],Table11[#Headers],0))","v":12},{"$f":"INDEX(Table11[],MATCH(TEXT(hf_kommune[[#This Row],[Kommunenr]],\"0\"),Table11[Nr],0),MATCH(hf_kommune[[#Headers],[2037]],Table11[#Headers],0))","v":16},{"$f":"INDEX(Table11[],MATCH(TEXT(hf_kommune[[#This Row],[Kommunenr]],\"0\"),Table11[Nr],0),MATCH(hf_kommune[[#Headers],[2038]],Table11[#Headers],0))","v":14},{"$f":"INDEX(Table11[],MATCH(TEXT(hf_kommune[[#This Row],[Kommunenr]],\"0\"),Table11[Nr],0),MATCH(hf_kommune[[#Headers],[2039]],Table11[#Headers],0))","v":12},{"$f":"INDEX(Table11[],MATCH(TEXT(hf_kommune[[#This Row],[Kommunenr]],\"0\"),Table11[Nr],0),MATCH(hf_kommune[[#Headers],[2040]],Table11[#Headers],0))","v":13},1306,1288,1273,1260,1249,1239,1230,1221,1213,1204,1196,1188,1180,1172,1164,1156,1149,1141,1133]
[3405,"Lillehammer","Helse Sør-Øst","Sykehuset Innlandet","Lillehammer",{"$f":"INDEX(Table11[],MATCH(TEXT(hf_kommune[[#This Row],[Kommunenr]],\"0\"),Table11[Nr],0),MATCH(hf_kommune[[#Headers],[2020]],Table11[#Headers],0))","v":367},{"$f":"INDEX(Table11[],MATCH(TEXT(hf_kommune[[#This Row],[Kommunenr]],\"0\"),Table11[Nr],0),MATCH(hf_kommune[[#Headers],[2021]],Table11[#Headers],0))","v":342},{"$f":"INDEX(Table11[],MATCH(TEXT(hf_kommune[[#This Row],[Kommunenr]],\"0\"),Table11[Nr],0),MATCH(hf_kommune[[#Headers],[2022]],Table11[#Headers],0))","v":391},{"$f":"INDEX(Table11[],MATCH(TEXT(hf_kommune[[#This Row],[Kommunenr]],\"0\"),Table11[Nr],0),MATCH(hf_kommune[[#Headers],[2023]],Table11[#Headers],0))","v":396},{"$f":"INDEX(Table11[],MATCH(TEXT(hf_kommune[[#This Row],[Kommunenr]],\"0\"),Table11[Nr],0),MATCH(hf_kommune[[#Headers],[2024]],Table11[#Headers],0))","v":407},{"$f":"INDEX(Table11[],MATCH(TEXT(hf_kommune[[#This Row],[Kommunenr]],\"0\"),Table11[Nr],0),MATCH(hf_kommune[[#Headers],[2025]],Table11[#Headers],0))","v":386},{"$f":"INDEX(Table11[],MATCH(TEXT(hf_kommune[[#This Row],[Kommunenr]],\"0\"),Table11[Nr],0),MATCH(hf_kommune[[#Headers],[2026]],Table11[#Headers],0))","v":381},{"$f":"INDEX(Table11[],MATCH(TEXT(hf_kommune[[#This Row],[Kommunenr]],\"0\"),Table11[Nr],0),MATCH(hf_kommune[[#Headers],[2027]],Table11[#Headers],0))","v":381},{"$f":"INDEX(Table11[],MATCH(TEXT(hf_kommune[[#This Row],[Kommunenr]],\"0\"),Table11[Nr],0),MATCH(hf_kommune[[#Headers],[2028]],Table11[#Headers],0))","v":357},{"$f":"INDEX(Table11[],MATCH(TEXT(hf_kommune[[#This Row],[Kommunenr]],\"0\"),Table11[Nr],0),MATCH(hf_kommune[[#Headers],[2029]],Table11[#Headers],0))","v":371},{"$f":"INDEX(Table11[],MATCH(TEXT(hf_kommune[[#This Row],[Kommunenr]],\"0\"),Table11[Nr],0),MATCH(hf_kommune[[#Headers],[2030]],Table11[#Headers],0))","v":371},{"$f":"INDEX(Table11[],MATCH(TEXT(hf_kommune[[#This Row],[Kommunenr]],\"0\"),Table11[Nr],0),MATCH(hf_kommune[[#Headers],[2031]],Table11[#Headers],0))","v":354},{"$f":"INDEX(Table11[],MATCH(TEXT(hf_kommune[[#This Row],[Kommunenr]],\"0\"),Table11[Nr],0),MATCH(hf_kommune[[#Headers],[2032]],Table11[#Headers],0))","v":305},{"$f":"INDEX(Table11[],MATCH(TEXT(hf_kommune[[#This Row],[Kommunenr]],\"0\"),Table11[Nr],0),MATCH(hf_kommune[[#Headers],[2033]],Table11[#Headers],0))","v":327},{"$f":"INDEX(Table11[],MATCH(TEXT(hf_kommune[[#This Row],[Kommunenr]],\"0\"),Table11[Nr],0),MATCH(hf_kommune[[#Headers],[2034]],Table11[#Headers],0))","v":337},{"$f":"INDEX(Table11[],MATCH(TEXT(hf_kommune[[#This Row],[Kommunenr]],\"0\"),Table11[Nr],0),MATCH(hf_kommune[[#Headers],[2035]],Table11[#Headers],0))","v":345},{"$f":"INDEX(Table11[],MATCH(TEXT(hf_kommune[[#This Row],[Kommunenr]],\"0\"),Table11[Nr],0),MATCH(hf_kommune[[#Headers],[2036]],Table11[#Headers],0))","v":325},{"$f":"INDEX(Table11[],MATCH(TEXT(hf_kommune[[#This Row],[Kommunenr]],\"0\"),Table11[Nr],0),MATCH(hf_kommune[[#Headers],[2037]],Table11[#Headers],0))","v":338},{"$f":"INDEX(Table11[],MATCH(TEXT(hf_kommune[[#This Row],[Kommunenr]],\"0\"),Table11[Nr],0),MATCH(hf_kommune[[#Headers],[2038]],Table11[#Headers],0))","v":330},{"$f":"INDEX(Table11[],MATCH(TEXT(hf_kommune[[#This Row],[Kommunenr]],\"0\"),Table11[Nr],0),MATCH(hf_kommune[[#Headers],[2039]],Table11[#Headers],0))","v":333},{"$f":"INDEX(Table11[],MATCH(TEXT(hf_kommune[[#This Row],[Kommunenr]],\"0\"),Table11[Nr],0),MATCH(hf_kommune[[#Headers],[2040]],Table11[#Headers],0))","v":335},28880,29096,29271,29412,29525,29644,29768,29895,30023,30150,30273,30392,30507,30620,30730,30836,30936,31030,31120]
[4215,"Lillesand","Helse Sør-Øst","Sørlandet sykehus","Arendal",{"$f":"INDEX(Table11[],MATCH(TEXT(hf_kommune[[#This Row],[Kommunenr]],\"0\"),Table11[Nr],0),MATCH(hf_kommune[[#Headers],[2020]],Table11[#Headers],0))","v":149},{"$f":"INDEX(Table11[],MATCH(TEXT(hf_kommune[[#This Row],[Kommunenr]],\"0\"),Table11[Nr],0),MATCH(hf_kommune[[#Headers],[2021]],Table11[#Headers],0))","v":157},{"$f":"INDEX(Table11[],MATCH(TEXT(hf_kommune[[#This Row],[Kommunenr]],\"0\"),Table11[Nr],0),MATCH(hf_kommune[[#Headers],[2022]],Table11[#Headers],0))","v":142},{"$f":"INDEX(Table11[],MATCH(TEXT(hf_kommune[[#This Row],[Kommunenr]],\"0\"),Table11[Nr],0),MATCH(hf_kommune[[#Headers],[2023]],Table11[#Headers],0))","v":176},{"$f":"INDEX(Table11[],MATCH(TEXT(hf_kommune[[#This Row],[Kommunenr]],\"0\"),Table11[Nr],0),MATCH(hf_kommune[[#Headers],[2024]],Table11[#Headers],0))","v":167},{"$f":"INDEX(Table11[],MATCH(TEXT(hf_kommune[[#This Row],[Kommunenr]],\"0\"),Table11[Nr],0),MATCH(hf_kommune[[#Headers],[2025]],Table11[#Headers],0))","v":154},{"$f":"INDEX(Table11[],MATCH(TEXT(hf_kommune[[#This Row],[Kommunenr]],\"0\"),Table11[Nr],0),MATCH(hf_kommune[[#Headers],[2026]],Table11[#Headers],0))","v":157},{"$f":"INDEX(Table11[],MATCH(TEXT(hf_kommune[[#This Row],[Kommunenr]],\"0\"),Table11[Nr],0),MATCH(hf_kommune[[#Headers],[2027]],Table11[#Headers],0))","v":164},{"$f":"INDEX(Table11[],MATCH(TEXT(hf_kommune[[#This Row],[Kommunenr]],\"0\"),Table11[Nr],0),MATCH(hf_kommune[[#Headers],[2028]],Table11[#Headers],0))","v":158},{"$f":"INDEX(Table11[],MATCH(TEXT(hf_kommune[[#This Row],[Kommunenr]],\"0\"),Table11[Nr],0),MATCH(hf_kommune[[#Headers],[2029]],Table11[#Headers],0))","v":160},{"$f":"INDEX(Table11[],MATCH(TEXT(hf_kommune[[#This Row],[Kommunenr]],\"0\"),Table11[Nr],0),MATCH(hf_kommune[[#Headers],[2030]],Table11[#Headers],0))","v":141},{"$f":"INDEX(Table11[],MATCH(TEXT(hf_kommune[[#This Row],[Kommunenr]],\"0\"),Table11[Nr],0),MATCH(hf_kommune[[#Headers],[2031]],Table11[#Headers],0))","v":183},{"$f":"INDEX(Table11[],MATCH(TEXT(hf_kommune[[#This Row],[Kommunenr]],\"0\"),Table11[Nr],0),MATCH(hf_kommune[[#Headers],[2032]],Table11[#Headers],0))","v":153},{"$f":"INDEX(Table11[],MATCH(TEXT(hf_kommune[[#This Row],[Kommunenr]],\"0\"),Table11[Nr],0),MATCH(hf_kommune[[#Headers],[2033]],Table11[#Headers],0))","v":164},{"$f":"INDEX(Table11[],MATCH(TEXT(hf_kommune[[#This Row],[Kommunenr]],\"0\"),Table11[Nr],0),MATCH(hf_kommune[[#Headers],[2034]],Table11[#Headers],0))","v":154},{"$f":"INDEX(Table11[],MATCH(TEXT(hf_kommune[[#This Row],[Kommunenr]],\"0\"),Table11[Nr],0),MATCH(hf_kommune[[#Headers],[2035]],Table11[#Headers],0))","v":160},{"$f":"INDEX(Table11[],MATCH(TEXT(hf_kommune[[#This Row],[Kommunenr]],\"0\"),Table11[Nr],0),MATCH(hf_kommune[[#Headers],[2036]],Table11[#Headers],0))","v":165},{"$f":"INDEX(Table11[],MATCH(TEXT(hf_kommune[[#This Row],[Kommunenr]],\"0\"),Table11[Nr],0),MATCH(hf_kommune[[#Headers],[2037]],Table11[#Headers],0))","v":172},{"$f":"INDEX(Table11[],MATCH(TEXT(hf_kommune[[#This Row],[Kommunenr]],\"0\"),Table11[Nr],0),MATCH(hf_kommune[[#Headers],[2038]],Table11[#Headers],0))","v":177},{"$f":"INDEX(Table11[],MATCH(TEXT(hf_kommune[[#This Row],[Kommunenr]],\"0\"),Table11[Nr],0),MATCH(hf_kommune[[#Headers],[2039]],Table11[#Headers],0))","v":144},{"$f":"INDEX(Table11[],MATCH(TEXT(hf_kommune[[#This Row],[Kommunenr]],\"0\"),Table11[Nr],0),MATCH(hf_kommune[[#Headers],[2040]],Table11[#Headers],0))","v":169},11222,11302,11383,11468,11554,11637,11718,11796,11872,11946,12018,12090,12161,12232,12303,12374,12443,12510,12576]
[3030,"Lillestrøm","Helse Sør-Øst","Akershus universitetssykehus","Ahus",{"$f":"INDEX(Table11[],MATCH(TEXT(hf_kommune[[#This Row],[Kommunenr]],\"0\"),Table11[Nr],0),MATCH(hf_kommune[[#Headers],[2020]],Table11[#Headers],0))","v":1175},{"$f":"INDEX(Table11[],MATCH(TEXT(hf_kommune[[#This Row],[Kommunenr]],\"0\"),Table11[Nr],0),MATCH(hf_kommune[[#Headers],[2021]],Table11[#Headers],0))","v":1215},{"$f":"INDEX(Table11[],MATCH(TEXT(hf_kommune[[#This Row],[Kommunenr]],\"0\"),Table11[Nr],0),MATCH(hf_kommune[[#Headers],[2022]],Table11[#Headers],0))","v":1318},{"$f":"INDEX(Table11[],MATCH(TEXT(hf_kommune[[#This Row],[Kommunenr]],\"0\"),Table11[Nr],0),MATCH(hf_kommune[[#Headers],[2023]],Table11[#Headers],0))","v":1262},{"$f":"INDEX(Table11[],MATCH(TEXT(hf_kommune[[#This Row],[Kommunenr]],\"0\"),Table11[Nr],0),MATCH(hf_kommune[[#Headers],[2024]],Table11[#Headers],0))","v":1352},{"$f":"INDEX(Table11[],MATCH(TEXT(hf_kommune[[#This Row],[Kommunenr]],\"0\"),Table11[Nr],0),MATCH(hf_kommune[[#Headers],[2025]],Table11[#Headers],0))","v":1378},{"$f":"INDEX(Table11[],MATCH(TEXT(hf_kommune[[#This Row],[Kommunenr]],\"0\"),Table11[Nr],0),MATCH(hf_kommune[[#Headers],[2026]],Table11[#Headers],0))","v":1326},{"$f":"INDEX(Table11[],MATCH(TEXT(hf_kommune[[#This Row],[Kommunenr]],\"0\"),Table11[Nr],0),MATCH(hf_kommune[[#Headers],[2027]],Table11[#Headers],0))","v":1372},{"$f":"INDEX(Table11[],MATCH(TEXT(hf_kommune[[#This Row],[Kommunenr]],\"0\"),Table11[Nr],0),MATCH(hf_kommune[[#Headers],[2028]],Table11[#Headers],0))","v":1419},{"$f":"INDEX(Table11[],MATCH(TEXT(hf_kommune[[#This Row],[Kommunenr]],\"0\"),Table11[Nr],0),MATCH(hf_kommune[[#Headers],[2029]],Table11[#Headers],0))","v":1350},{"$f":"INDEX(Table11[],MATCH(TEXT(hf_kommune[[#This Row],[Kommunenr]],\"0\"),Table11[Nr],0),MATCH(hf_kommune[[#Headers],[2030]],Table11[#Headers],0))","v":1362},{"$f":"INDEX(Table11[],MATCH(TEXT(hf_kommune[[#This Row],[Kommunenr]],\"0\"),Table11[Nr],0),MATCH(hf_kommune[[#Headers],[2031]],Table11[#Headers],0))","v":1282},{"$f":"INDEX(Table11[],MATCH(TEXT(hf_kommune[[#This Row],[Kommunenr]],\"0\"),Table11[Nr],0),MATCH(hf_kommune[[#Headers],[2032]],Table11[#Headers],0))","v":1268},{"$f":"INDEX(Table11[],MATCH(TEXT(hf_kommune[[#This Row],[Kommunenr]],\"0\"),Table11[Nr],0),MATCH(hf_kommune[[#Headers],[2033]],Table11[#Headers],0))","v":1230},{"$f":"INDEX(Table11[],MATCH(TEXT(hf_kommune[[#This Row],[Kommunenr]],\"0\"),Table11[Nr],0),MATCH(hf_kommune[[#Headers],[2034]],Table11[#Headers],0))","v":1267},{"$f":"INDEX(Table11[],MATCH(TEXT(hf_kommune[[#This Row],[Kommunenr]],\"0\"),Table11[Nr],0),MATCH(hf_kommune[[#Headers],[2035]],Table11[#Headers],0))","v":1305},{"$f":"INDEX(Table11[],MATCH(TEXT(hf_kommune[[#This Row],[Kommunenr]],\"0\"),Table11[Nr],0),MATCH(hf_kommune[[#Headers],[2036]],Table11[#Headers],0))","v":1319},{"$f":"INDEX(Table11[],MATCH(TEXT(hf_kommune[[#This Row],[Kommunenr]],\"0\"),Table11[Nr],0),MATCH(hf_kommune[[#Headers],[2037]],Table11[#Headers],0))","v":1329},{"$f":"INDEX(Table11[],MATCH(TEXT(hf_kommune[[#This Row],[Kommunenr]],\"0\"),Table11[Nr],0),MATCH(hf_kommune[[#Headers],[2038]],Table11[#Headers],0))","v":1345},{"$f":"INDEX(Table11[],MATCH(TEXT(hf_kommune[[#This Row],[Kommunenr]],\"0\"),Table11[Nr],0),MATCH(hf_kommune[[#Headers],[2039]],Table11[#Headers],0))","v":1347},{"$f":"INDEX(Table11[],MATCH(TEXT(hf_kommune[[#This Row],[Kommunenr]],\"0\"),Table11[Nr],0),MATCH(hf_kommune[[#Headers],[2040]],Table11[#Headers],0))","v":1363},87640,88478,89279,90048,90790,91515,92223,92917,93596,94261,94911,95548,96174,96792,97403,98004,98590,99160,99716]
[4205,"Lindesnes","Helse Sør-Øst","Sørlandet sykehus","Kristiansand",{"$f":"INDEX(Table11[],MATCH(TEXT(hf_kommune[[#This Row],[Kommunenr]],\"0\"),Table11[Nr],0),MATCH(hf_kommune[[#Headers],[2020]],Table11[#Headers],0))","v":333},{"$f":"INDEX(Table11[],MATCH(TEXT(hf_kommune[[#This Row],[Kommunenr]],\"0\"),Table11[Nr],0),MATCH(hf_kommune[[#Headers],[2021]],Table11[#Headers],0))","v":295},{"$f":"INDEX(Table11[],MATCH(TEXT(hf_kommune[[#This Row],[Kommunenr]],\"0\"),Table11[Nr],0),MATCH(hf_kommune[[#Headers],[2022]],Table11[#Headers],0))","v":333},{"$f":"INDEX(Table11[],MATCH(TEXT(hf_kommune[[#This Row],[Kommunenr]],\"0\"),Table11[Nr],0),MATCH(hf_kommune[[#Headers],[2023]],Table11[#Headers],0))","v":345},{"$f":"INDEX(Table11[],MATCH(TEXT(hf_kommune[[#This Row],[Kommunenr]],\"0\"),Table11[Nr],0),MATCH(hf_kommune[[#Headers],[2024]],Table11[#Headers],0))","v":311},{"$f":"INDEX(Table11[],MATCH(TEXT(hf_kommune[[#This Row],[Kommunenr]],\"0\"),Table11[Nr],0),MATCH(hf_kommune[[#Headers],[2025]],Table11[#Headers],0))","v":312},{"$f":"INDEX(Table11[],MATCH(TEXT(hf_kommune[[#This Row],[Kommunenr]],\"0\"),Table11[Nr],0),MATCH(hf_kommune[[#Headers],[2026]],Table11[#Headers],0))","v":343},{"$f":"INDEX(Table11[],MATCH(TEXT(hf_kommune[[#This Row],[Kommunenr]],\"0\"),Table11[Nr],0),MATCH(hf_kommune[[#Headers],[2027]],Table11[#Headers],0))","v":347},{"$f":"INDEX(Table11[],MATCH(TEXT(hf_kommune[[#This Row],[Kommunenr]],\"0\"),Table11[Nr],0),MATCH(hf_kommune[[#Headers],[2028]],Table11[#Headers],0))","v":322},{"$f":"INDEX(Table11[],MATCH(TEXT(hf_kommune[[#This Row],[Kommunenr]],\"0\"),Table11[Nr],0),MATCH(hf_kommune[[#Headers],[2029]],Table11[#Headers],0))","v":298},{"$f":"INDEX(Table11[],MATCH(TEXT(hf_kommune[[#This Row],[Kommunenr]],\"0\"),Table11[Nr],0),MATCH(hf_kommune[[#Headers],[2030]],Table11[#Headers],0))","v":328},{"$f":"INDEX(Table11[],MATCH(TEXT(hf_kommune[[#This Row],[Kommunenr]],\"0\"),Table11[Nr],0),MATCH(hf_kommune[[#Headers],[2031]],Table11[#Headers],0))","v":312},{"$f":"INDEX(Table11[],MATCH(TEXT(hf_kommune[[#This Row],[Kommunenr]],\"0\"),Table11[Nr],0),MATCH(hf_kommune[[#Headers],[2032]],Table11[#Headers],0))","v":309},{"$f":"INDEX(Table11[],MATCH(TEXT(hf_kommune[[#This Row],[Kommunenr]],\"0\"),Table11[Nr],0),MATCH(hf_kommune[[#Headers],[2033]],Table11[#Headers],0))","v":274},{"$f":"INDEX(Table11[],MATCH(TEXT(hf_kommune[[#This Row],[Kommunenr]],\"0\"),Table11[Nr],0),MATCH(hf_kommune[[#Headers],[2034]],Table11[#Headers],0))","v":310},{"$f":"INDEX(Table11[],MATCH(TEXT(hf_kommune[[#This Row],[Kommunenr]],\"0\"),Table11[Nr],0),MATCH(hf_kommune[[#Headers],[2035]],Table11[#Headers],0))","v":282},{"$f":"INDEX(Table11[],MATCH(TEXT(hf_kommune[[#This Row],[Kommunenr]],\"0\"),Table11[Nr],0),MATCH(hf_kommune[[#Headers],[2036]],Table11[#Headers],0))","v":304},{"$f":"INDEX(Table11[],MATCH(TEXT(hf_kommune[[#This Row],[Kommunenr]],\"0\"),Table11[Nr],0),MATCH(hf_kommune[[#Headers],[2037]],Table11[#Headers],0))","v":318},{"$f":"INDEX(Table11[],MATCH(TEXT(hf_kommune[[#This Row],[Kommunenr]],\"0\"),Table11[Nr],0),MATCH(hf_kommune[[#Headers],[2038]],Table11[#Headers],0))","v":306},{"$f":"INDEX(Table11[],MATCH(TEXT(hf_kommune[[#This Row],[Kommunenr]],\"0\"),Table11[Nr],0),MATCH(hf_kommune[[#Headers],[2039]],Table11[#Headers],0))","v":294},{"$f":"INDEX(Table11[],MATCH(TEXT(hf_kommune[[#This Row],[Kommunenr]],\"0\"),Table11[Nr],0),MATCH(hf_kommune[[#Headers],[2040]],Table11[#Headers],0))","v":282},23018,23029,23045,23067,23095,23125,23155,23186,23218,23250,23282,23314,23346,23378,23411,23445,23476,23506,23535]
[5415,"Loabák - Lavangen","Helse Nord","Universitetssykehuset Nord-Norge","Narvik",{"$f":"INDEX(Table11[],MATCH(TEXT(hf_kommune[[#This Row],[Kommunenr]],\"0\"),Table11[Nr],0),MATCH(hf_kommune[[#Headers],[2020]],Table11[#Headers],0))","v":14},{"$f":"INDEX(Table11[],MATCH(TEXT(hf_kommune[[#This Row],[Kommunenr]],\"0\"),Table11[Nr],0),MATCH(hf_kommune[[#Headers],[2021]],Table11[#Headers],0))","v":14},{"$f":"INDEX(Table11[],MATCH(TEXT(hf_kommune[[#This Row],[Kommunenr]],\"0\"),Table11[Nr],0),MATCH(hf_kommune[[#Headers],[2022]],Table11[#Headers],0))","v":9},{"$f":"INDEX(Table11[],MATCH(TEXT(hf_kommune[[#This Row],[Kommunenr]],\"0\"),Table11[Nr],0),MATCH(hf_kommune[[#Headers],[2023]],Table11[#Headers],0))","v":14},{"$f":"INDEX(Table11[],MATCH(TEXT(hf_kommune[[#This Row],[Kommunenr]],\"0\"),Table11[Nr],0),MATCH(hf_kommune[[#Headers],[2024]],Table11[#Headers],0))","v":22},{"$f":"INDEX(Table11[],MATCH(TEXT(hf_kommune[[#This Row],[Kommunenr]],\"0\"),Table11[Nr],0),MATCH(hf_kommune[[#Headers],[2025]],Table11[#Headers],0))","v":12},{"$f":"INDEX(Table11[],MATCH(TEXT(hf_kommune[[#This Row],[Kommunenr]],\"0\"),Table11[Nr],0),MATCH(hf_kommune[[#Headers],[2026]],Table11[#Headers],0))","v":13},{"$f":"INDEX(Table11[],MATCH(TEXT(hf_kommune[[#This Row],[Kommunenr]],\"0\"),Table11[Nr],0),MATCH(hf_kommune[[#Headers],[2027]],Table11[#Headers],0))","v":17},{"$f":"INDEX(Table11[],MATCH(TEXT(hf_kommune[[#This Row],[Kommunenr]],\"0\"),Table11[Nr],0),MATCH(hf_kommune[[#Headers],[2028]],Table11[#Headers],0))","v":13},{"$f":"INDEX(Table11[],MATCH(TEXT(hf_kommune[[#This Row],[Kommunenr]],\"0\"),Table11[Nr],0),MATCH(hf_kommune[[#Headers],[2029]],Table11[#Headers],0))","v":15},{"$f":"INDEX(Table11[],MATCH(TEXT(hf_kommune[[#This Row],[Kommunenr]],\"0\"),Table11[Nr],0),MATCH(hf_kommune[[#Headers],[2030]],Table11[#Headers],0))","v":19},{"$f":"INDEX(Table11[],MATCH(TEXT(hf_kommune[[#This Row],[Kommunenr]],\"0\"),Table11[Nr],0),MATCH(hf_kommune[[#Headers],[2031]],Table11[#Headers],0))","v":12},{"$f":"INDEX(Table11[],MATCH(TEXT(hf_kommune[[#This Row],[Kommunenr]],\"0\"),Table11[Nr],0),MATCH(hf_kommune[[#Headers],[2032]],Table11[#Headers],0))","v":16},{"$f":"INDEX(Table11[],MATCH(TEXT(hf_kommune[[#This Row],[Kommunenr]],\"0\"),Table11[Nr],0),MATCH(hf_kommune[[#Headers],[2033]],Table11[#Headers],0))","v":12},{"$f":"INDEX(Table11[],MATCH(TEXT(hf_kommune[[#This Row],[Kommunenr]],\"0\"),Table11[Nr],0),MATCH(hf_kommune[[#Headers],[2034]],Table11[#Headers],0))","v":12},{"$f":"INDEX(Table11[],MATCH(TEXT(hf_kommune[[#This Row],[Kommunenr]],\"0\"),Table11[Nr],0),MATCH(hf_kommune[[#Headers],[2035]],Table11[#Headers],0))","v":14},{"$f":"INDEX(Table11[],MATCH(TEXT(hf_kommune[[#This Row],[Kommunenr]],\"0\"),Table11[Nr],0),MATCH(hf_kommune[[#Headers],[2036]],Table11[#Headers],0))","v":11},{"$f":"INDEX(Table11[],MATCH(TEXT(hf_kommune[[#This Row],[Kommunenr]],\"0\"),Table11[Nr],0),MATCH(hf_kommune[[#Headers],[2037]],Table11[#Headers],0))","v":11},{"$f":"INDEX(Table11[],MATCH(TEXT(hf_kommune[[#This Row],[Kommunenr]],\"0\"),Table11[Nr],0),MATCH(hf_kommune[[#Headers],[2038]],Table11[#Headers],0))","v":11},{"$f":"INDEX(Table11[],MATCH(TEXT(hf_kommune[[#This Row],[Kommunenr]],\"0\"),Table11[Nr],0),MATCH(hf_kommune[[#Headers],[2039]],Table11[#Headers],0))","v":12},{"$f":"INDEX(Table11[],MATCH(TEXT(hf_kommune[[#This Row],[Kommunenr]],\"0\"),Table11[Nr],0),MATCH(hf_kommune[[#Headers],[2040]],Table11[#Headers],0))","v":10},997,983,973,966,961,957,953,949,945,941,937,934,931,928,926,924,922,921,920]
[3434,"Lom","Helse Sør-Øst","Sykehuset Innlandet","Lillehammer",{"$f":"INDEX(Table11[],MATCH(TEXT(hf_kommune[[#This Row],[Kommunenr]],\"0\"),Table11[Nr],0),MATCH(hf_kommune[[#Headers],[2020]],Table11[#Headers],0))","v":30},{"$f":"INDEX(Table11[],MATCH(TEXT(hf_kommune[[#This Row],[Kommunenr]],\"0\"),Table11[Nr],0),MATCH(hf_kommune[[#Headers],[2021]],Table11[#Headers],0))","v":38},{"$f":"INDEX(Table11[],MATCH(TEXT(hf_kommune[[#This Row],[Kommunenr]],\"0\"),Table11[Nr],0),MATCH(hf_kommune[[#Headers],[2022]],Table11[#Headers],0))","v":30},{"$f":"INDEX(Table11[],MATCH(TEXT(hf_kommune[[#This Row],[Kommunenr]],\"0\"),Table11[Nr],0),MATCH(hf_kommune[[#Headers],[2023]],Table11[#Headers],0))","v":24},{"$f":"INDEX(Table11[],MATCH(TEXT(hf_kommune[[#This Row],[Kommunenr]],\"0\"),Table11[Nr],0),MATCH(hf_kommune[[#Headers],[2024]],Table11[#Headers],0))","v":28},{"$f":"INDEX(Table11[],MATCH(TEXT(hf_kommune[[#This Row],[Kommunenr]],\"0\"),Table11[Nr],0),MATCH(hf_kommune[[#Headers],[2025]],Table11[#Headers],0))","v":39},{"$f":"INDEX(Table11[],MATCH(TEXT(hf_kommune[[#This Row],[Kommunenr]],\"0\"),Table11[Nr],0),MATCH(hf_kommune[[#Headers],[2026]],Table11[#Headers],0))","v":36},{"$f":"INDEX(Table11[],MATCH(TEXT(hf_kommune[[#This Row],[Kommunenr]],\"0\"),Table11[Nr],0),MATCH(hf_kommune[[#Headers],[2027]],Table11[#Headers],0))","v":28},{"$f":"INDEX(Table11[],MATCH(TEXT(hf_kommune[[#This Row],[Kommunenr]],\"0\"),Table11[Nr],0),MATCH(hf_kommune[[#Headers],[2028]],Table11[#Headers],0))","v":33},{"$f":"INDEX(Table11[],MATCH(TEXT(hf_kommune[[#This Row],[Kommunenr]],\"0\"),Table11[Nr],0),MATCH(hf_kommune[[#Headers],[2029]],Table11[#Headers],0))","v":26},{"$f":"INDEX(Table11[],MATCH(TEXT(hf_kommune[[#This Row],[Kommunenr]],\"0\"),Table11[Nr],0),MATCH(hf_kommune[[#Headers],[2030]],Table11[#Headers],0))","v":28},{"$f":"INDEX(Table11[],MATCH(TEXT(hf_kommune[[#This Row],[Kommunenr]],\"0\"),Table11[Nr],0),MATCH(hf_kommune[[#Headers],[2031]],Table11[#Headers],0))","v":27},{"$f":"INDEX(Table11[],MATCH(TEXT(hf_kommune[[#This Row],[Kommunenr]],\"0\"),Table11[Nr],0),MATCH(hf_kommune[[#Headers],[2032]],Table11[#Headers],0))","v":17},{"$f":"INDEX(Table11[],MATCH(TEXT(hf_kommune[[#This Row],[Kommunenr]],\"0\"),Table11[Nr],0),MATCH(hf_kommune[[#Headers],[2033]],Table11[#Headers],0))","v":23},{"$f":"INDEX(Table11[],MATCH(TEXT(hf_kommune[[#This Row],[Kommunenr]],\"0\"),Table11[Nr],0),MATCH(hf_kommune[[#Headers],[2034]],Table11[#Headers],0))","v":26},{"$f":"INDEX(Table11[],MATCH(TEXT(hf_kommune[[#This Row],[Kommunenr]],\"0\"),Table11[Nr],0),MATCH(hf_kommune[[#Headers],[2035]],Table11[#Headers],0))","v":25},{"$f":"INDEX(Table11[],MATCH(TEXT(hf_kommune[[#This Row],[Kommunenr]],\"0\"),Table11[Nr],0),MATCH(hf_kommune[[#Headers],[2036]],Table11[#Headers],0))","v":24},{"$f":"INDEX(Table11[],MATCH(TEXT(hf_kommune[[#This Row],[Kommunenr]],\"0\"),Table11[Nr],0),MATCH(hf_kommune[[#Headers],[2037]],Table11[#Headers],0))","v":27},{"$f":"INDEX(Table11[],MATCH(TEXT(hf_kommune[[#This Row],[Kommunenr]],\"0\"),Table11[Nr],0),MATCH(hf_kommune[[#Headers],[2038]],Table11[#Headers],0))","v":20},{"$f":"INDEX(Table11[],MATCH(TEXT(hf_kommune[[#This Row],[Kommunenr]],\"0\"),Table11[Nr],0),MATCH(hf_kommune[[#Headers],[2039]],Table11[#Headers],0))","v":22},{"$f":"INDEX(Table11[],MATCH(TEXT(hf_kommune[[#This Row],[Kommunenr]],\"0\"),Table11[Nr],0),MATCH(hf_kommune[[#Headers],[2040]],Table11[#Headers],0))","v":21},2179,2160,2143,2128,2115,2104,2093,2082,2073,2063,2054,2044,2034,2025,2015,2005,1994,1984,1973]
[5432,"Loppa","Helse Nord","Finnmarkssykehuset","Hammerfest",{"$f":"INDEX(Table11[],MATCH(TEXT(hf_kommune[[#This Row],[Kommunenr]],\"0\"),Table11[Nr],0),MATCH(hf_kommune[[#Headers],[2020]],Table11[#Headers],0))","v":18},{"$f":"INDEX(Table11[],MATCH(TEXT(hf_kommune[[#This Row],[Kommunenr]],\"0\"),Table11[Nr],0),MATCH(hf_kommune[[#Headers],[2021]],Table11[#Headers],0))","v":14},{"$f":"INDEX(Table11[],MATCH(TEXT(hf_kommune[[#This Row],[Kommunenr]],\"0\"),Table11[Nr],0),MATCH(hf_kommune[[#Headers],[2022]],Table11[#Headers],0))","v":13},{"$f":"INDEX(Table11[],MATCH(TEXT(hf_kommune[[#This Row],[Kommunenr]],\"0\"),Table11[Nr],0),MATCH(hf_kommune[[#Headers],[2023]],Table11[#Headers],0))","v":7},{"$f":"INDEX(Table11[],MATCH(TEXT(hf_kommune[[#This Row],[Kommunenr]],\"0\"),Table11[Nr],0),MATCH(hf_kommune[[#Headers],[2024]],Table11[#Headers],0))","v":13},{"$f":"INDEX(Table11[],MATCH(TEXT(hf_kommune[[#This Row],[Kommunenr]],\"0\"),Table11[Nr],0),MATCH(hf_kommune[[#Headers],[2025]],Table11[#Headers],0))","v":11},{"$f":"INDEX(Table11[],MATCH(TEXT(hf_kommune[[#This Row],[Kommunenr]],\"0\"),Table11[Nr],0),MATCH(hf_kommune[[#Headers],[2026]],Table11[#Headers],0))","v":14},{"$f":"INDEX(Table11[],MATCH(TEXT(hf_kommune[[#This Row],[Kommunenr]],\"0\"),Table11[Nr],0),MATCH(hf_kommune[[#Headers],[2027]],Table11[#Headers],0))","v":16},{"$f":"INDEX(Table11[],MATCH(TEXT(hf_kommune[[#This Row],[Kommunenr]],\"0\"),Table11[Nr],0),MATCH(hf_kommune[[#Headers],[2028]],Table11[#Headers],0))","v":16},{"$f":"INDEX(Table11[],MATCH(TEXT(hf_kommune[[#This Row],[Kommunenr]],\"0\"),Table11[Nr],0),MATCH(hf_kommune[[#Headers],[2029]],Table11[#Headers],0))","v":15},{"$f":"INDEX(Table11[],MATCH(TEXT(hf_kommune[[#This Row],[Kommunenr]],\"0\"),Table11[Nr],0),MATCH(hf_kommune[[#Headers],[2030]],Table11[#Headers],0))","v":15},{"$f":"INDEX(Table11[],MATCH(TEXT(hf_kommune[[#This Row],[Kommunenr]],\"0\"),Table11[Nr],0),MATCH(hf_kommune[[#Headers],[2031]],Table11[#Headers],0))","v":10},{"$f":"INDEX(Table11[],MATCH(TEXT(hf_kommune[[#This Row],[Kommunenr]],\"0\"),Table11[Nr],0),MATCH(hf_kommune[[#Headers],[2032]],Table11[#Headers],0))","v":13},{"$f":"INDEX(Table11[],MATCH(TEXT(hf_kommune[[#This Row],[Kommunenr]],\"0\"),Table11[Nr],0),MATCH(hf_kommune[[#Headers],[2033]],Table11[#Headers],0))","v":11},{"$f":"INDEX(Table11[],MATCH(TEXT(hf_kommune[[#This Row],[Kommunenr]],\"0\"),Table11[Nr],0),MATCH(hf_kommune[[#Headers],[2034]],Table11[#Headers],0))","v":10},{"$f":"INDEX(Table11[],MATCH(TEXT(hf_kommune[[#This Row],[Kommunenr]],\"0\"),Table11[Nr],0),MATCH(hf_kommune[[#Headers],[2035]],Table11[#Headers],0))","v":9},{"$f":"INDEX(Table11[],MATCH(TEXT(hf_kommune[[#This Row],[Kommunenr]],\"0\"),Table11[Nr],0),MATCH(hf_kommune[[#Headers],[2036]],Table11[#Headers],0))","v":8},{"$f":"INDEX(Table11[],MATCH(TEXT(hf_kommune[[#This Row],[Kommunenr]],\"0\"),Table11[Nr],0),MATCH(hf_kommune[[#Headers],[2037]],Table11[#Headers],0))","v":9},{"$f":"INDEX(Table11[],MATCH(TEXT(hf_kommune[[#This Row],[Kommunenr]],\"0\"),Table11[Nr],0),MATCH(hf_kommune[[#Headers],[2038]],Table11[#Headers],0))","v":9},{"$f":"INDEX(Table11[],MATCH(TEXT(hf_kommune[[#This Row],[Kommunenr]],\"0\"),Table11[Nr],0),MATCH(hf_kommune[[#Headers],[2039]],Table11[#Headers],0))","v":9},{"$f":"INDEX(Table11[],MATCH(TEXT(hf_kommune[[#This Row],[Kommunenr]],\"0\"),Table11[Nr],0),MATCH(hf_kommune[[#Headers],[2040]],Table11[#Headers],0))","v":13},925,940,950,957,960,964,967,971,974,978,981,984,986,989,991,993,995,996,998]
[1112,"Lund","Helse Vest","Sørlandet sykehus","Flekkefjord",{"$f":"INDEX(Table11[],MATCH(TEXT(hf_kommune[[#This Row],[Kommunenr]],\"0\"),Table11[Nr],0),MATCH(hf_kommune[[#Headers],[2020]],Table11[#Headers],0))","v":36},{"$f":"INDEX(Table11[],MATCH(TEXT(hf_kommune[[#This Row],[Kommunenr]],\"0\"),Table11[Nr],0),MATCH(hf_kommune[[#Headers],[2021]],Table11[#Headers],0))","v":56},{"$f":"INDEX(Table11[],MATCH(TEXT(hf_kommune[[#This Row],[Kommunenr]],\"0\"),Table11[Nr],0),MATCH(hf_kommune[[#Headers],[2022]],Table11[#Headers],0))","v":42},{"$f":"INDEX(Table11[],MATCH(TEXT(hf_kommune[[#This Row],[Kommunenr]],\"0\"),Table11[Nr],0),MATCH(hf_kommune[[#Headers],[2023]],Table11[#Headers],0))","v":52},{"$f":"INDEX(Table11[],MATCH(TEXT(hf_kommune[[#This Row],[Kommunenr]],\"0\"),Table11[Nr],0),MATCH(hf_kommune[[#Headers],[2024]],Table11[#Headers],0))","v":45},{"$f":"INDEX(Table11[],MATCH(TEXT(hf_kommune[[#This Row],[Kommunenr]],\"0\"),Table11[Nr],0),MATCH(hf_kommune[[#Headers],[2025]],Table11[#Headers],0))","v":42},{"$f":"INDEX(Table11[],MATCH(TEXT(hf_kommune[[#This Row],[Kommunenr]],\"0\"),Table11[Nr],0),MATCH(hf_kommune[[#Headers],[2026]],Table11[#Headers],0))","v":47},{"$f":"INDEX(Table11[],MATCH(TEXT(hf_kommune[[#This Row],[Kommunenr]],\"0\"),Table11[Nr],0),MATCH(hf_kommune[[#Headers],[2027]],Table11[#Headers],0))","v":40},{"$f":"INDEX(Table11[],MATCH(TEXT(hf_kommune[[#This Row],[Kommunenr]],\"0\"),Table11[Nr],0),MATCH(hf_kommune[[#Headers],[2028]],Table11[#Headers],0))","v":41},{"$f":"INDEX(Table11[],MATCH(TEXT(hf_kommune[[#This Row],[Kommunenr]],\"0\"),Table11[Nr],0),MATCH(hf_kommune[[#Headers],[2029]],Table11[#Headers],0))","v":46},{"$f":"INDEX(Table11[],MATCH(TEXT(hf_kommune[[#This Row],[Kommunenr]],\"0\"),Table11[Nr],0),MATCH(hf_kommune[[#Headers],[2030]],Table11[#Headers],0))","v":40},{"$f":"INDEX(Table11[],MATCH(TEXT(hf_kommune[[#This Row],[Kommunenr]],\"0\"),Table11[Nr],0),MATCH(hf_kommune[[#Headers],[2031]],Table11[#Headers],0))","v":38},{"$f":"INDEX(Table11[],MATCH(TEXT(hf_kommune[[#This Row],[Kommunenr]],\"0\"),Table11[Nr],0),MATCH(hf_kommune[[#Headers],[2032]],Table11[#Headers],0))","v":29},{"$f":"INDEX(Table11[],MATCH(TEXT(hf_kommune[[#This Row],[Kommunenr]],\"0\"),Table11[Nr],0),MATCH(hf_kommune[[#Headers],[2033]],Table11[#Headers],0))","v":34},{"$f":"INDEX(Table11[],MATCH(TEXT(hf_kommune[[#This Row],[Kommunenr]],\"0\"),Table11[Nr],0),MATCH(hf_kommune[[#Headers],[2034]],Table11[#Headers],0))","v":36},{"$f":"INDEX(Table11[],MATCH(TEXT(hf_kommune[[#This Row],[Kommunenr]],\"0\"),Table11[Nr],0),MATCH(hf_kommune[[#Headers],[2035]],Table11[#Headers],0))","v":44},{"$f":"INDEX(Table11[],MATCH(TEXT(hf_kommune[[#This Row],[Kommunenr]],\"0\"),Table11[Nr],0),MATCH(hf_kommune[[#Headers],[2036]],Table11[#Headers],0))","v":33},{"$f":"INDEX(Table11[],MATCH(TEXT(hf_kommune[[#This Row],[Kommunenr]],\"0\"),Table11[Nr],0),MATCH(hf_kommune[[#Headers],[2037]],Table11[#Headers],0))","v":38},{"$f":"INDEX(Table11[],MATCH(TEXT(hf_kommune[[#This Row],[Kommunenr]],\"0\"),Table11[Nr],0),MATCH(hf_kommune[[#Headers],[2038]],Table11[#Headers],0))","v":42},{"$f":"INDEX(Table11[],MATCH(TEXT(hf_kommune[[#This Row],[Kommunenr]],\"0\"),Table11[Nr],0),MATCH(hf_kommune[[#Headers],[2039]],Table11[#Headers],0))","v":38},{"$f":"INDEX(Table11[],MATCH(TEXT(hf_kommune[[#This Row],[Kommunenr]],\"0\"),Table11[Nr],0),MATCH(hf_kommune[[#Headers],[2040]],Table11[#Headers],0))","v":41},3203,3212,3220,3229,3238,3248,3257,3265,3273,3281,3288,3295,3301,3308,3314,3321,3327,3332,3337]
[3054,"Lunner","Helse Sør-Øst","Sykehuset Innlandet","Gjøvik",{"$f":"INDEX(Table11[],MATCH(TEXT(hf_kommune[[#This Row],[Kommunenr]],\"0\"),Table11[Nr],0),MATCH(hf_kommune[[#Headers],[2020]],Table11[#Headers],0))","v":123},{"$f":"INDEX(Table11[],MATCH(TEXT(hf_kommune[[#This Row],[Kommunenr]],\"0\"),Table11[Nr],0),MATCH(hf_kommune[[#Headers],[2021]],Table11[#Headers],0))","v":125},{"$f":"INDEX(Table11[],MATCH(TEXT(hf_kommune[[#This Row],[Kommunenr]],\"0\"),Table11[Nr],0),MATCH(hf_kommune[[#Headers],[2022]],Table11[#Headers],0))","v":147},{"$f":"INDEX(Table11[],MATCH(TEXT(hf_kommune[[#This Row],[Kommunenr]],\"0\"),Table11[Nr],0),MATCH(hf_kommune[[#Headers],[2023]],Table11[#Headers],0))","v":153},{"$f":"INDEX(Table11[],MATCH(TEXT(hf_kommune[[#This Row],[Kommunenr]],\"0\"),Table11[Nr],0),MATCH(hf_kommune[[#Headers],[2024]],Table11[#Headers],0))","v":155},{"$f":"INDEX(Table11[],MATCH(TEXT(hf_kommune[[#This Row],[Kommunenr]],\"0\"),Table11[Nr],0),MATCH(hf_kommune[[#Headers],[2025]],Table11[#Headers],0))","v":151},{"$f":"INDEX(Table11[],MATCH(TEXT(hf_kommune[[#This Row],[Kommunenr]],\"0\"),Table11[Nr],0),MATCH(hf_kommune[[#Headers],[2026]],Table11[#Headers],0))","v":145},{"$f":"INDEX(Table11[],MATCH(TEXT(hf_kommune[[#This Row],[Kommunenr]],\"0\"),Table11[Nr],0),MATCH(hf_kommune[[#Headers],[2027]],Table11[#Headers],0))","v":137},{"$f":"INDEX(Table11[],MATCH(TEXT(hf_kommune[[#This Row],[Kommunenr]],\"0\"),Table11[Nr],0),MATCH(hf_kommune[[#Headers],[2028]],Table11[#Headers],0))","v":152},{"$f":"INDEX(Table11[],MATCH(TEXT(hf_kommune[[#This Row],[Kommunenr]],\"0\"),Table11[Nr],0),MATCH(hf_kommune[[#Headers],[2029]],Table11[#Headers],0))","v":129},{"$f":"INDEX(Table11[],MATCH(TEXT(hf_kommune[[#This Row],[Kommunenr]],\"0\"),Table11[Nr],0),MATCH(hf_kommune[[#Headers],[2030]],Table11[#Headers],0))","v":118},{"$f":"INDEX(Table11[],MATCH(TEXT(hf_kommune[[#This Row],[Kommunenr]],\"0\"),Table11[Nr],0),MATCH(hf_kommune[[#Headers],[2031]],Table11[#Headers],0))","v":114},{"$f":"INDEX(Table11[],MATCH(TEXT(hf_kommune[[#This Row],[Kommunenr]],\"0\"),Table11[Nr],0),MATCH(hf_kommune[[#Headers],[2032]],Table11[#Headers],0))","v":122},{"$f":"INDEX(Table11[],MATCH(TEXT(hf_kommune[[#This Row],[Kommunenr]],\"0\"),Table11[Nr],0),MATCH(hf_kommune[[#Headers],[2033]],Table11[#Headers],0))","v":116},{"$f":"INDEX(Table11[],MATCH(TEXT(hf_kommune[[#This Row],[Kommunenr]],\"0\"),Table11[Nr],0),MATCH(hf_kommune[[#Headers],[2034]],Table11[#Headers],0))","v":128},{"$f":"INDEX(Table11[],MATCH(TEXT(hf_kommune[[#This Row],[Kommunenr]],\"0\"),Table11[Nr],0),MATCH(hf_kommune[[#Headers],[2035]],Table11[#Headers],0))","v":134},{"$f":"INDEX(Table11[],MATCH(TEXT(hf_kommune[[#This Row],[Kommunenr]],\"0\"),Table11[Nr],0),MATCH(hf_kommune[[#Headers],[2036]],Table11[#Headers],0))","v":120},{"$f":"INDEX(Table11[],MATCH(TEXT(hf_kommune[[#This Row],[Kommunenr]],\"0\"),Table11[Nr],0),MATCH(hf_kommune[[#Headers],[2037]],Table11[#Headers],0))","v":126},{"$f":"INDEX(Table11[],MATCH(TEXT(hf_kommune[[#This Row],[Kommunenr]],\"0\"),Table11[Nr],0),MATCH(hf_kommune[[#Headers],[2038]],Table11[#Headers],0))","v":116},{"$f":"INDEX(Table11[],MATCH(TEXT(hf_kommune[[#This Row],[Kommunenr]],\"0\"),Table11[Nr],0),MATCH(hf_kommune[[#Headers],[2039]],Table11[#Headers],0))","v":135},{"$f":"INDEX(Table11[],MATCH(TEXT(hf_kommune[[#This Row],[Kommunenr]],\"0\"),Table11[Nr],0),MATCH(hf_kommune[[#Headers],[2040]],Table11[#Headers],0))","v":132},9034,9045,9064,9093,9130,9167,9207,9247,9288,9329,9369,9410,9449,9487,9526,9563,9599,9634,9668]
[1834,"Lurøy","Helse Nord","Helgelandssykehuset","Sandnessjøen",{"$f":"INDEX(Table11[],MATCH(TEXT(hf_kommune[[#This Row],[Kommunenr]],\"0\"),Table11[Nr],0),MATCH(hf_kommune[[#Headers],[2020]],Table11[#Headers],0))","v":32},{"$f":"INDEX(Table11[],MATCH(TEXT(hf_kommune[[#This Row],[Kommunenr]],\"0\"),Table11[Nr],0),MATCH(hf_kommune[[#Headers],[2021]],Table11[#Headers],0))","v":28},{"$f":"INDEX(Table11[],MATCH(TEXT(hf_kommune[[#This Row],[Kommunenr]],\"0\"),Table11[Nr],0),MATCH(hf_kommune[[#Headers],[2022]],Table11[#Headers],0))","v":22},{"$f":"INDEX(Table11[],MATCH(TEXT(hf_kommune[[#This Row],[Kommunenr]],\"0\"),Table11[Nr],0),MATCH(hf_kommune[[#Headers],[2023]],Table11[#Headers],0))","v":26},{"$f":"INDEX(Table11[],MATCH(TEXT(hf_kommune[[#This Row],[Kommunenr]],\"0\"),Table11[Nr],0),MATCH(hf_kommune[[#Headers],[2024]],Table11[#Headers],0))","v":37},{"$f":"INDEX(Table11[],MATCH(TEXT(hf_kommune[[#This Row],[Kommunenr]],\"0\"),Table11[Nr],0),MATCH(hf_kommune[[#Headers],[2025]],Table11[#Headers],0))","v":22},{"$f":"INDEX(Table11[],MATCH(TEXT(hf_kommune[[#This Row],[Kommunenr]],\"0\"),Table11[Nr],0),MATCH(hf_kommune[[#Headers],[2026]],Table11[#Headers],0))","v":26},{"$f":"INDEX(Table11[],MATCH(TEXT(hf_kommune[[#This Row],[Kommunenr]],\"0\"),Table11[Nr],0),MATCH(hf_kommune[[#Headers],[2027]],Table11[#Headers],0))","v":25},{"$f":"INDEX(Table11[],MATCH(TEXT(hf_kommune[[#This Row],[Kommunenr]],\"0\"),Table11[Nr],0),MATCH(hf_kommune[[#Headers],[2028]],Table11[#Headers],0))","v":24},{"$f":"INDEX(Table11[],MATCH(TEXT(hf_kommune[[#This Row],[Kommunenr]],\"0\"),Table11[Nr],0),MATCH(hf_kommune[[#Headers],[2029]],Table11[#Headers],0))","v":23},{"$f":"INDEX(Table11[],MATCH(TEXT(hf_kommune[[#This Row],[Kommunenr]],\"0\"),Table11[Nr],0),MATCH(hf_kommune[[#Headers],[2030]],Table11[#Headers],0))","v":23},{"$f":"INDEX(Table11[],MATCH(TEXT(hf_kommune[[#This Row],[Kommunenr]],\"0\"),Table11[Nr],0),MATCH(hf_kommune[[#Headers],[2031]],Table11[#Headers],0))","v":24},{"$f":"INDEX(Table11[],MATCH(TEXT(hf_kommune[[#This Row],[Kommunenr]],\"0\"),Table11[Nr],0),MATCH(hf_kommune[[#Headers],[2032]],Table11[#Headers],0))","v":24},{"$f":"INDEX(Table11[],MATCH(TEXT(hf_kommune[[#This Row],[Kommunenr]],\"0\"),Table11[Nr],0),MATCH(hf_kommune[[#Headers],[2033]],Table11[#Headers],0))","v":17},{"$f":"INDEX(Table11[],MATCH(TEXT(hf_kommune[[#This Row],[Kommunenr]],\"0\"),Table11[Nr],0),MATCH(hf_kommune[[#Headers],[2034]],Table11[#Headers],0))","v":19},{"$f":"INDEX(Table11[],MATCH(TEXT(hf_kommune[[#This Row],[Kommunenr]],\"0\"),Table11[Nr],0),MATCH(hf_kommune[[#Headers],[2035]],Table11[#Headers],0))","v":17},{"$f":"INDEX(Table11[],MATCH(TEXT(hf_kommune[[#This Row],[Kommunenr]],\"0\"),Table11[Nr],0),MATCH(hf_kommune[[#Headers],[2036]],Table11[#Headers],0))","v":24},{"$f":"INDEX(Table11[],MATCH(TEXT(hf_kommune[[#This Row],[Kommunenr]],\"0\"),Table11[Nr],0),MATCH(hf_kommune[[#Headers],[2037]],Table11[#Headers],0))","v":17},{"$f":"INDEX(Table11[],MATCH(TEXT(hf_kommune[[#This Row],[Kommunenr]],\"0\"),Table11[Nr],0),MATCH(hf_kommune[[#Headers],[2038]],Table11[#Headers],0))","v":21},{"$f":"INDEX(Table11[],MATCH(TEXT(hf_kommune[[#This Row],[Kommunenr]],\"0\"),Table11[Nr],0),MATCH(hf_kommune[[#Headers],[2039]],Table11[#Headers],0))","v":23},{"$f":"INDEX(Table11[],MATCH(TEXT(hf_kommune[[#This Row],[Kommunenr]],\"0\"),Table11[Nr],0),MATCH(hf_kommune[[#Headers],[2040]],Table11[#Headers],0))","v":26},1877,1875,1875,1877,1880,1882,1885,1887,1889,1890,1891,1891,1891,1892,1892,1892,1893,1893,1893]
[4644,"Luster","Helse Vest","Helse Førde","Lærdal",{"$f":"INDEX(Table11[],MATCH(TEXT(hf_kommune[[#This Row],[Kommunenr]],\"0\"),Table11[Nr],0),MATCH(hf_kommune[[#Headers],[2020]],Table11[#Headers],0))","v":68},{"$f":"INDEX(Table11[],MATCH(TEXT(hf_kommune[[#This Row],[Kommunenr]],\"0\"),Table11[Nr],0),MATCH(hf_kommune[[#Headers],[2021]],Table11[#Headers],0))","v":67},{"$f":"INDEX(Table11[],MATCH(TEXT(hf_kommune[[#This Row],[Kommunenr]],\"0\"),Table11[Nr],0),MATCH(hf_kommune[[#Headers],[2022]],Table11[#Headers],0))","v":64},{"$f":"INDEX(Table11[],MATCH(TEXT(hf_kommune[[#This Row],[Kommunenr]],\"0\"),Table11[Nr],0),MATCH(hf_kommune[[#Headers],[2023]],Table11[#Headers],0))","v":72},{"$f":"INDEX(Table11[],MATCH(TEXT(hf_kommune[[#This Row],[Kommunenr]],\"0\"),Table11[Nr],0),MATCH(hf_kommune[[#Headers],[2024]],Table11[#Headers],0))","v":73},{"$f":"INDEX(Table11[],MATCH(TEXT(hf_kommune[[#This Row],[Kommunenr]],\"0\"),Table11[Nr],0),MATCH(hf_kommune[[#Headers],[2025]],Table11[#Headers],0))","v":58},{"$f":"INDEX(Table11[],MATCH(TEXT(hf_kommune[[#This Row],[Kommunenr]],\"0\"),Table11[Nr],0),MATCH(hf_kommune[[#Headers],[2026]],Table11[#Headers],0))","v":72},{"$f":"INDEX(Table11[],MATCH(TEXT(hf_kommune[[#This Row],[Kommunenr]],\"0\"),Table11[Nr],0),MATCH(hf_kommune[[#Headers],[2027]],Table11[#Headers],0))","v":77},{"$f":"INDEX(Table11[],MATCH(TEXT(hf_kommune[[#This Row],[Kommunenr]],\"0\"),Table11[Nr],0),MATCH(hf_kommune[[#Headers],[2028]],Table11[#Headers],0))","v":67},{"$f":"INDEX(Table11[],MATCH(TEXT(hf_kommune[[#This Row],[Kommunenr]],\"0\"),Table11[Nr],0),MATCH(hf_kommune[[#Headers],[2029]],Table11[#Headers],0))","v":70},{"$f":"INDEX(Table11[],MATCH(TEXT(hf_kommune[[#This Row],[Kommunenr]],\"0\"),Table11[Nr],0),MATCH(hf_kommune[[#Headers],[2030]],Table11[#Headers],0))","v":55},{"$f":"INDEX(Table11[],MATCH(TEXT(hf_kommune[[#This Row],[Kommunenr]],\"0\"),Table11[Nr],0),MATCH(hf_kommune[[#Headers],[2031]],Table11[#Headers],0))","v":63},{"$f":"INDEX(Table11[],MATCH(TEXT(hf_kommune[[#This Row],[Kommunenr]],\"0\"),Table11[Nr],0),MATCH(hf_kommune[[#Headers],[2032]],Table11[#Headers],0))","v":60},{"$f":"INDEX(Table11[],MATCH(TEXT(hf_kommune[[#This Row],[Kommunenr]],\"0\"),Table11[Nr],0),MATCH(hf_kommune[[#Headers],[2033]],Table11[#Headers],0))","v":52},{"$f":"INDEX(Table11[],MATCH(TEXT(hf_kommune[[#This Row],[Kommunenr]],\"0\"),Table11[Nr],0),MATCH(hf_kommune[[#Headers],[2034]],Table11[#Headers],0))","v":64},{"$f":"INDEX(Table11[],MATCH(TEXT(hf_kommune[[#This Row],[Kommunenr]],\"0\"),Table11[Nr],0),MATCH(hf_kommune[[#Headers],[2035]],Table11[#Headers],0))","v":56},{"$f":"INDEX(Table11[],MATCH(TEXT(hf_kommune[[#This Row],[Kommunenr]],\"0\"),Table11[Nr],0),MATCH(hf_kommune[[#Headers],[2036]],Table11[#Headers],0))","v":57},{"$f":"INDEX(Table11[],MATCH(TEXT(hf_kommune[[#This Row],[Kommunenr]],\"0\"),Table11[Nr],0),MATCH(hf_kommune[[#Headers],[2037]],Table11[#Headers],0))","v":60},{"$f":"INDEX(Table11[],MATCH(TEXT(hf_kommune[[#This Row],[Kommunenr]],\"0\"),Table11[Nr],0),MATCH(hf_kommune[[#Headers],[2038]],Table11[#Headers],0))","v":55},{"$f":"INDEX(Table11[],MATCH(TEXT(hf_kommune[[#This Row],[Kommunenr]],\"0\"),Table11[Nr],0),MATCH(hf_kommune[[#Headers],[2039]],Table11[#Headers],0))","v":67},{"$f":"INDEX(Table11[],MATCH(TEXT(hf_kommune[[#This Row],[Kommunenr]],\"0\"),Table11[Nr],0),MATCH(hf_kommune[[#Headers],[2040]],Table11[#Headers],0))","v":69},5091,5067,5050,5040,5036,5032,5029,5025,5022,5018,5015,5011,5007,5003,4998,4993,4987,4980,4973]
[4225,"Lyngdal","Helse Sør-Øst","Sørlandet sykehus","Flekkefjord",{"$f":"INDEX(Table11[],MATCH(TEXT(hf_kommune[[#This Row],[Kommunenr]],\"0\"),Table11[Nr],0),MATCH(hf_kommune[[#Headers],[2020]],Table11[#Headers],0))","v":120},{"$f":"INDEX(Table11[],MATCH(TEXT(hf_kommune[[#This Row],[Kommunenr]],\"0\"),Table11[Nr],0),MATCH(hf_kommune[[#Headers],[2021]],Table11[#Headers],0))","v":116},{"$f":"INDEX(Table11[],MATCH(TEXT(hf_kommune[[#This Row],[Kommunenr]],\"0\"),Table11[Nr],0),MATCH(hf_kommune[[#Headers],[2022]],Table11[#Headers],0))","v":131},{"$f":"INDEX(Table11[],MATCH(TEXT(hf_kommune[[#This Row],[Kommunenr]],\"0\"),Table11[Nr],0),MATCH(hf_kommune[[#Headers],[2023]],Table11[#Headers],0))","v":127},{"$f":"INDEX(Table11[],MATCH(TEXT(hf_kommune[[#This Row],[Kommunenr]],\"0\"),Table11[Nr],0),MATCH(hf_kommune[[#Headers],[2024]],Table11[#Headers],0))","v":152},{"$f":"INDEX(Table11[],MATCH(TEXT(hf_kommune[[#This Row],[Kommunenr]],\"0\"),Table11[Nr],0),MATCH(hf_kommune[[#Headers],[2025]],Table11[#Headers],0))","v":158},{"$f":"INDEX(Table11[],MATCH(TEXT(hf_kommune[[#This Row],[Kommunenr]],\"0\"),Table11[Nr],0),MATCH(hf_kommune[[#Headers],[2026]],Table11[#Headers],0))","v":155},{"$f":"INDEX(Table11[],MATCH(TEXT(hf_kommune[[#This Row],[Kommunenr]],\"0\"),Table11[Nr],0),MATCH(hf_kommune[[#Headers],[2027]],Table11[#Headers],0))","v":130},{"$f":"INDEX(Table11[],MATCH(TEXT(hf_kommune[[#This Row],[Kommunenr]],\"0\"),Table11[Nr],0),MATCH(hf_kommune[[#Headers],[2028]],Table11[#Headers],0))","v":143},{"$f":"INDEX(Table11[],MATCH(TEXT(hf_kommune[[#This Row],[Kommunenr]],\"0\"),Table11[Nr],0),MATCH(hf_kommune[[#Headers],[2029]],Table11[#Headers],0))","v":149},{"$f":"INDEX(Table11[],MATCH(TEXT(hf_kommune[[#This Row],[Kommunenr]],\"0\"),Table11[Nr],0),MATCH(hf_kommune[[#Headers],[2030]],Table11[#Headers],0))","v":125},{"$f":"INDEX(Table11[],MATCH(TEXT(hf_kommune[[#This Row],[Kommunenr]],\"0\"),Table11[Nr],0),MATCH(hf_kommune[[#Headers],[2031]],Table11[#Headers],0))","v":128},{"$f":"INDEX(Table11[],MATCH(TEXT(hf_kommune[[#This Row],[Kommunenr]],\"0\"),Table11[Nr],0),MATCH(hf_kommune[[#Headers],[2032]],Table11[#Headers],0))","v":135},{"$f":"INDEX(Table11[],MATCH(TEXT(hf_kommune[[#This Row],[Kommunenr]],\"0\"),Table11[Nr],0),MATCH(hf_kommune[[#Headers],[2033]],Table11[#Headers],0))","v":129},{"$f":"INDEX(Table11[],MATCH(TEXT(hf_kommune[[#This Row],[Kommunenr]],\"0\"),Table11[Nr],0),MATCH(hf_kommune[[#Headers],[2034]],Table11[#Headers],0))","v":134},{"$f":"INDEX(Table11[],MATCH(TEXT(hf_kommune[[#This Row],[Kommunenr]],\"0\"),Table11[Nr],0),MATCH(hf_kommune[[#Headers],[2035]],Table11[#Headers],0))","v":137},{"$f":"INDEX(Table11[],MATCH(TEXT(hf_kommune[[#This Row],[Kommunenr]],\"0\"),Table11[Nr],0),MATCH(hf_kommune[[#Headers],[2036]],Table11[#Headers],0))","v":141},{"$f":"INDEX(Table11[],MATCH(TEXT(hf_kommune[[#This Row],[Kommunenr]],\"0\"),Table11[Nr],0),MATCH(hf_kommune[[#Headers],[2037]],Table11[#Headers],0))","v":144},{"$f":"INDEX(Table11[],MATCH(TEXT(hf_kommune[[#This Row],[Kommunenr]],\"0\"),Table11[Nr],0),MATCH(hf_kommune[[#Headers],[2038]],Table11[#Headers],0))","v":139},{"$f":"INDEX(Table11[],MATCH(TEXT(hf_kommune[[#This Row],[Kommunenr]],\"0\"),Table11[Nr],0),MATCH(hf_kommune[[#Headers],[2039]],Table11[#Headers],0))","v":142},{"$f":"INDEX(Table11[],MATCH(TEXT(hf_kommune[[#This Row],[Kommunenr]],\"0\"),Table11[Nr],0),MATCH(hf_kommune[[#Headers],[2040]],Table11[#Headers],0))","v":136},10358,10371,10392,10421,10460,10499,10538,10578,10618,10658,10696,10733,10770,10806,10842,10876,10909,10940,10970]
[5424,"Lyngen","Helse Nord","Universitetssykehuset Nord-Norge","Tromsø",{"$f":"INDEX(Table11[],MATCH(TEXT(hf_kommune[[#This Row],[Kommunenr]],\"0\"),Table11[Nr],0),MATCH(hf_kommune[[#Headers],[2020]],Table11[#Headers],0))","v":33},{"$f":"INDEX(Table11[],MATCH(TEXT(hf_kommune[[#This Row],[Kommunenr]],\"0\"),Table11[Nr],0),MATCH(hf_kommune[[#Headers],[2021]],Table11[#Headers],0))","v":40},{"$f":"INDEX(Table11[],MATCH(TEXT(hf_kommune[[#This Row],[Kommunenr]],\"0\"),Table11[Nr],0),MATCH(hf_kommune[[#Headers],[2022]],Table11[#Headers],0))","v":35},{"$f":"INDEX(Table11[],MATCH(TEXT(hf_kommune[[#This Row],[Kommunenr]],\"0\"),Table11[Nr],0),MATCH(hf_kommune[[#Headers],[2023]],Table11[#Headers],0))","v":43},{"$f":"INDEX(Table11[],MATCH(TEXT(hf_kommune[[#This Row],[Kommunenr]],\"0\"),Table11[Nr],0),MATCH(hf_kommune[[#Headers],[2024]],Table11[#Headers],0))","v":36},{"$f":"INDEX(Table11[],MATCH(TEXT(hf_kommune[[#This Row],[Kommunenr]],\"0\"),Table11[Nr],0),MATCH(hf_kommune[[#Headers],[2025]],Table11[#Headers],0))","v":46},{"$f":"INDEX(Table11[],MATCH(TEXT(hf_kommune[[#This Row],[Kommunenr]],\"0\"),Table11[Nr],0),MATCH(hf_kommune[[#Headers],[2026]],Table11[#Headers],0))","v":43},{"$f":"INDEX(Table11[],MATCH(TEXT(hf_kommune[[#This Row],[Kommunenr]],\"0\"),Table11[Nr],0),MATCH(hf_kommune[[#Headers],[2027]],Table11[#Headers],0))","v":49},{"$f":"INDEX(Table11[],MATCH(TEXT(hf_kommune[[#This Row],[Kommunenr]],\"0\"),Table11[Nr],0),MATCH(hf_kommune[[#Headers],[2028]],Table11[#Headers],0))","v":37},{"$f":"INDEX(Table11[],MATCH(TEXT(hf_kommune[[#This Row],[Kommunenr]],\"0\"),Table11[Nr],0),MATCH(hf_kommune[[#Headers],[2029]],Table11[#Headers],0))","v":38},{"$f":"INDEX(Table11[],MATCH(TEXT(hf_kommune[[#This Row],[Kommunenr]],\"0\"),Table11[Nr],0),MATCH(hf_kommune[[#Headers],[2030]],Table11[#Headers],0))","v":39},{"$f":"INDEX(Table11[],MATCH(TEXT(hf_kommune[[#This Row],[Kommunenr]],\"0\"),Table11[Nr],0),MATCH(hf_kommune[[#Headers],[2031]],Table11[#Headers],0))","v":25},{"$f":"INDEX(Table11[],MATCH(TEXT(hf_kommune[[#This Row],[Kommunenr]],\"0\"),Table11[Nr],0),MATCH(hf_kommune[[#Headers],[2032]],Table11[#Headers],0))","v":34},{"$f":"INDEX(Table11[],MATCH(TEXT(hf_kommune[[#This Row],[Kommunenr]],\"0\"),Table11[Nr],0),MATCH(hf_kommune[[#Headers],[2033]],Table11[#Headers],0))","v":24},{"$f":"INDEX(Table11[],MATCH(TEXT(hf_kommune[[#This Row],[Kommunenr]],\"0\"),Table11[Nr],0),MATCH(hf_kommune[[#Headers],[2034]],Table11[#Headers],0))","v":34},{"$f":"INDEX(Table11[],MATCH(TEXT(hf_kommune[[#This Row],[Kommunenr]],\"0\"),Table11[Nr],0),MATCH(hf_kommune[[#Headers],[2035]],Table11[#Headers],0))","v":29},{"$f":"INDEX(Table11[],MATCH(TEXT(hf_kommune[[#This Row],[Kommunenr]],\"0\"),Table11[Nr],0),MATCH(hf_kommune[[#Headers],[2036]],Table11[#Headers],0))","v":33},{"$f":"INDEX(Table11[],MATCH(TEXT(hf_kommune[[#This Row],[Kommunenr]],\"0\"),Table11[Nr],0),MATCH(hf_kommune[[#Headers],[2037]],Table11[#Headers],0))","v":28},{"$f":"INDEX(Table11[],MATCH(TEXT(hf_kommune[[#This Row],[Kommunenr]],\"0\"),Table11[Nr],0),MATCH(hf_kommune[[#Headers],[2038]],Table11[#Headers],0))","v":26},{"$f":"INDEX(Table11[],MATCH(TEXT(hf_kommune[[#This Row],[Kommunenr]],\"0\"),Table11[Nr],0),MATCH(hf_kommune[[#Headers],[2039]],Table11[#Headers],0))","v":31},{"$f":"INDEX(Table11[],MATCH(TEXT(hf_kommune[[#This Row],[Kommunenr]],\"0\"),Table11[Nr],0),MATCH(hf_kommune[[#Headers],[2040]],Table11[#Headers],0))","v":31},2725,2698,2675,2656,2641,2626,2613,2600,2588,2576,2565,2554,2544,2533,2523,2513,2503,2492,2482]
[4642,"Lærdal","Helse Vest","Helse Førde","Lærdal",{"$f":"INDEX(Table11[],MATCH(TEXT(hf_kommune[[#This Row],[Kommunenr]],\"0\"),Table11[Nr],0),MATCH(hf_kommune[[#Headers],[2020]],Table11[#Headers],0))","v":23},{"$f":"INDEX(Table11[],MATCH(TEXT(hf_kommune[[#This Row],[Kommunenr]],\"0\"),Table11[Nr],0),MATCH(hf_kommune[[#Headers],[2021]],Table11[#Headers],0))","v":38},{"$f":"INDEX(Table11[],MATCH(TEXT(hf_kommune[[#This Row],[Kommunenr]],\"0\"),Table11[Nr],0),MATCH(hf_kommune[[#Headers],[2022]],Table11[#Headers],0))","v":30},{"$f":"INDEX(Table11[],MATCH(TEXT(hf_kommune[[#This Row],[Kommunenr]],\"0\"),Table11[Nr],0),MATCH(hf_kommune[[#Headers],[2023]],Table11[#Headers],0))","v":34},{"$f":"INDEX(Table11[],MATCH(TEXT(hf_kommune[[#This Row],[Kommunenr]],\"0\"),Table11[Nr],0),MATCH(hf_kommune[[#Headers],[2024]],Table11[#Headers],0))","v":36},{"$f":"INDEX(Table11[],MATCH(TEXT(hf_kommune[[#This Row],[Kommunenr]],\"0\"),Table11[Nr],0),MATCH(hf_kommune[[#Headers],[2025]],Table11[#Headers],0))","v":32},{"$f":"INDEX(Table11[],MATCH(TEXT(hf_kommune[[#This Row],[Kommunenr]],\"0\"),Table11[Nr],0),MATCH(hf_kommune[[#Headers],[2026]],Table11[#Headers],0))","v":22},{"$f":"INDEX(Table11[],MATCH(TEXT(hf_kommune[[#This Row],[Kommunenr]],\"0\"),Table11[Nr],0),MATCH(hf_kommune[[#Headers],[2027]],Table11[#Headers],0))","v":35},{"$f":"INDEX(Table11[],MATCH(TEXT(hf_kommune[[#This Row],[Kommunenr]],\"0\"),Table11[Nr],0),MATCH(hf_kommune[[#Headers],[2028]],Table11[#Headers],0))","v":29},{"$f":"INDEX(Table11[],MATCH(TEXT(hf_kommune[[#This Row],[Kommunenr]],\"0\"),Table11[Nr],0),MATCH(hf_kommune[[#Headers],[2029]],Table11[#Headers],0))","v":29},{"$f":"INDEX(Table11[],MATCH(TEXT(hf_kommune[[#This Row],[Kommunenr]],\"0\"),Table11[Nr],0),MATCH(hf_kommune[[#Headers],[2030]],Table11[#Headers],0))","v":30},{"$f":"INDEX(Table11[],MATCH(TEXT(hf_kommune[[#This Row],[Kommunenr]],\"0\"),Table11[Nr],0),MATCH(hf_kommune[[#Headers],[2031]],Table11[#Headers],0))","v":28},{"$f":"INDEX(Table11[],MATCH(TEXT(hf_kommune[[#This Row],[Kommunenr]],\"0\"),Table11[Nr],0),MATCH(hf_kommune[[#Headers],[2032]],Table11[#Headers],0))","v":31},{"$f":"INDEX(Table11[],MATCH(TEXT(hf_kommune[[#This Row],[Kommunenr]],\"0\"),Table11[Nr],0),MATCH(hf_kommune[[#Headers],[2033]],Table11[#Headers],0))","v":21},{"$f":"INDEX(Table11[],MATCH(TEXT(hf_kommune[[#This Row],[Kommunenr]],\"0\"),Table11[Nr],0),MATCH(hf_kommune[[#Headers],[2034]],Table11[#Headers],0))","v":27},{"$f":"INDEX(Table11[],MATCH(TEXT(hf_kommune[[#This Row],[Kommunenr]],\"0\"),Table11[Nr],0),MATCH(hf_kommune[[#Headers],[2035]],Table11[#Headers],0))","v":24},{"$f":"INDEX(Table11[],MATCH(TEXT(hf_kommune[[#This Row],[Kommunenr]],\"0\"),Table11[Nr],0),MATCH(hf_kommune[[#Headers],[2036]],Table11[#Headers],0))","v":22},{"$f":"INDEX(Table11[],MATCH(TEXT(hf_kommune[[#This Row],[Kommunenr]],\"0\"),Table11[Nr],0),MATCH(hf_kommune[[#Headers],[2037]],Table11[#Headers],0))","v":24},{"$f":"INDEX(Table11[],MATCH(TEXT(hf_kommune[[#This Row],[Kommunenr]],\"0\"),Table11[Nr],0),MATCH(hf_kommune[[#Headers],[2038]],Table11[#Headers],0))","v":28},{"$f":"INDEX(Table11[],MATCH(TEXT(hf_kommune[[#This Row],[Kommunenr]],\"0\"),Table11[Nr],0),MATCH(hf_kommune[[#Headers],[2039]],Table11[#Headers],0))","v":23},{"$f":"INDEX(Table11[],MATCH(TEXT(hf_kommune[[#This Row],[Kommunenr]],\"0\"),Table11[Nr],0),MATCH(hf_kommune[[#Headers],[2040]],Table11[#Headers],0))","v":22},2103,2097,2093,2090,2087,2085,2083,2082,2080,2079,2078,2076,2075,2073,2071,2069,2066,2062,2058]
[1851,"Lødingen","Helse Nord","Universitetssykehuset Nord-Norge","Harstad",{"$f":"INDEX(Table11[],MATCH(TEXT(hf_kommune[[#This Row],[Kommunenr]],\"0\"),Table11[Nr],0),MATCH(hf_kommune[[#Headers],[2020]],Table11[#Headers],0))","v":29},{"$f":"INDEX(Table11[],MATCH(TEXT(hf_kommune[[#This Row],[Kommunenr]],\"0\"),Table11[Nr],0),MATCH(hf_kommune[[#Headers],[2021]],Table11[#Headers],0))","v":30},{"$f":"INDEX(Table11[],MATCH(TEXT(hf_kommune[[#This Row],[Kommunenr]],\"0\"),Table11[Nr],0),MATCH(hf_kommune[[#Headers],[2022]],Table11[#Headers],0))","v":31},{"$f":"INDEX(Table11[],MATCH(TEXT(hf_kommune[[#This Row],[Kommunenr]],\"0\"),Table11[Nr],0),MATCH(hf_kommune[[#Headers],[2023]],Table11[#Headers],0))","v":31},{"$f":"INDEX(Table11[],MATCH(TEXT(hf_kommune[[#This Row],[Kommunenr]],\"0\"),Table11[Nr],0),MATCH(hf_kommune[[#Headers],[2024]],Table11[#Headers],0))","v":35},{"$f":"INDEX(Table11[],MATCH(TEXT(hf_kommune[[#This Row],[Kommunenr]],\"0\"),Table11[Nr],0),MATCH(hf_kommune[[#Headers],[2025]],Table11[#Headers],0))","v":26},{"$f":"INDEX(Table11[],MATCH(TEXT(hf_kommune[[#This Row],[Kommunenr]],\"0\"),Table11[Nr],0),MATCH(hf_kommune[[#Headers],[2026]],Table11[#Headers],0))","v":35},{"$f":"INDEX(Table11[],MATCH(TEXT(hf_kommune[[#This Row],[Kommunenr]],\"0\"),Table11[Nr],0),MATCH(hf_kommune[[#Headers],[2027]],Table11[#Headers],0))","v":36},{"$f":"INDEX(Table11[],MATCH(TEXT(hf_kommune[[#This Row],[Kommunenr]],\"0\"),Table11[Nr],0),MATCH(hf_kommune[[#Headers],[2028]],Table11[#Headers],0))","v":40},{"$f":"INDEX(Table11[],MATCH(TEXT(hf_kommune[[#This Row],[Kommunenr]],\"0\"),Table11[Nr],0),MATCH(hf_kommune[[#Headers],[2029]],Table11[#Headers],0))","v":28},{"$f":"INDEX(Table11[],MATCH(TEXT(hf_kommune[[#This Row],[Kommunenr]],\"0\"),Table11[Nr],0),MATCH(hf_kommune[[#Headers],[2030]],Table11[#Headers],0))","v":26},{"$f":"INDEX(Table11[],MATCH(TEXT(hf_kommune[[#This Row],[Kommunenr]],\"0\"),Table11[Nr],0),MATCH(hf_kommune[[#Headers],[2031]],Table11[#Headers],0))","v":21},{"$f":"INDEX(Table11[],MATCH(TEXT(hf_kommune[[#This Row],[Kommunenr]],\"0\"),Table11[Nr],0),MATCH(hf_kommune[[#Headers],[2032]],Table11[#Headers],0))","v":21},{"$f":"INDEX(Table11[],MATCH(TEXT(hf_kommune[[#This Row],[Kommunenr]],\"0\"),Table11[Nr],0),MATCH(hf_kommune[[#Headers],[2033]],Table11[#Headers],0))","v":21},{"$f":"INDEX(Table11[],MATCH(TEXT(hf_kommune[[#This Row],[Kommunenr]],\"0\"),Table11[Nr],0),MATCH(hf_kommune[[#Headers],[2034]],Table11[#Headers],0))","v":30},{"$f":"INDEX(Table11[],MATCH(TEXT(hf_kommune[[#This Row],[Kommunenr]],\"0\"),Table11[Nr],0),MATCH(hf_kommune[[#Headers],[2035]],Table11[#Headers],0))","v":25},{"$f":"INDEX(Table11[],MATCH(TEXT(hf_kommune[[#This Row],[Kommunenr]],\"0\"),Table11[Nr],0),MATCH(hf_kommune[[#Headers],[2036]],Table11[#Headers],0))","v":21},{"$f":"INDEX(Table11[],MATCH(TEXT(hf_kommune[[#This Row],[Kommunenr]],\"0\"),Table11[Nr],0),MATCH(hf_kommune[[#Headers],[2037]],Table11[#Headers],0))","v":17},{"$f":"INDEX(Table11[],MATCH(TEXT(hf_kommune[[#This Row],[Kommunenr]],\"0\"),Table11[Nr],0),MATCH(hf_kommune[[#Headers],[2038]],Table11[#Headers],0))","v":22},{"$f":"INDEX(Table11[],MATCH(TEXT(hf_kommune[[#This Row],[Kommunenr]],\"0\"),Table11[Nr],0),MATCH(hf_kommune[[#Headers],[2039]],Table11[#Headers],0))","v":19},{"$f":"INDEX(Table11[],MATCH(TEXT(hf_kommune[[#This Row],[Kommunenr]],\"0\"),Table11[Nr],0),MATCH(hf_kommune[[#Headers],[2040]],Table11[#Headers],0))","v":22},2019,2021,2026,2034,2044,2054,2062,2069,2076,2082,2087,2092,2097,2101,2104,2108,2110,2112,2114]
[3029,"Lørenskog","Helse Sør-Øst","Akershus universitetssykehus","Ahus",{"$f":"INDEX(Table11[],MATCH(TEXT(hf_kommune[[#This Row],[Kommunenr]],\"0\"),Table11[Nr],0),MATCH(hf_kommune[[#Headers],[2020]],Table11[#Headers],0))","v":600},{"$f":"INDEX(Table11[],MATCH(TEXT(hf_kommune[[#This Row],[Kommunenr]],\"0\"),Table11[Nr],0),MATCH(hf_kommune[[#Headers],[2021]],Table11[#Headers],0))","v":572},{"$f":"INDEX(Table11[],MATCH(TEXT(hf_kommune[[#This Row],[Kommunenr]],\"0\"),Table11[Nr],0),MATCH(hf_kommune[[#Headers],[2022]],Table11[#Headers],0))","v":621},{"$f":"INDEX(Table11[],MATCH(TEXT(hf_kommune[[#This Row],[Kommunenr]],\"0\"),Table11[Nr],0),MATCH(hf_kommune[[#Headers],[2023]],Table11[#Headers],0))","v":617},{"$f":"INDEX(Table11[],MATCH(TEXT(hf_kommune[[#This Row],[Kommunenr]],\"0\"),Table11[Nr],0),MATCH(hf_kommune[[#Headers],[2024]],Table11[#Headers],0))","v":657},{"$f":"INDEX(Table11[],MATCH(TEXT(hf_kommune[[#This Row],[Kommunenr]],\"0\"),Table11[Nr],0),MATCH(hf_kommune[[#Headers],[2025]],Table11[#Headers],0))","v":648},{"$f":"INDEX(Table11[],MATCH(TEXT(hf_kommune[[#This Row],[Kommunenr]],\"0\"),Table11[Nr],0),MATCH(hf_kommune[[#Headers],[2026]],Table11[#Headers],0))","v":603},{"$f":"INDEX(Table11[],MATCH(TEXT(hf_kommune[[#This Row],[Kommunenr]],\"0\"),Table11[Nr],0),MATCH(hf_kommune[[#Headers],[2027]],Table11[#Headers],0))","v":690},{"$f":"INDEX(Table11[],MATCH(TEXT(hf_kommune[[#This Row],[Kommunenr]],\"0\"),Table11[Nr],0),MATCH(hf_kommune[[#Headers],[2028]],Table11[#Headers],0))","v":659},{"$f":"INDEX(Table11[],MATCH(TEXT(hf_kommune[[#This Row],[Kommunenr]],\"0\"),Table11[Nr],0),MATCH(hf_kommune[[#Headers],[2029]],Table11[#Headers],0))","v":600},{"$f":"INDEX(Table11[],MATCH(TEXT(hf_kommune[[#This Row],[Kommunenr]],\"0\"),Table11[Nr],0),MATCH(hf_kommune[[#Headers],[2030]],Table11[#Headers],0))","v":628},{"$f":"INDEX(Table11[],MATCH(TEXT(hf_kommune[[#This Row],[Kommunenr]],\"0\"),Table11[Nr],0),MATCH(hf_kommune[[#Headers],[2031]],Table11[#Headers],0))","v":668},{"$f":"INDEX(Table11[],MATCH(TEXT(hf_kommune[[#This Row],[Kommunenr]],\"0\"),Table11[Nr],0),MATCH(hf_kommune[[#Headers],[2032]],Table11[#Headers],0))","v":611},{"$f":"INDEX(Table11[],MATCH(TEXT(hf_kommune[[#This Row],[Kommunenr]],\"0\"),Table11[Nr],0),MATCH(hf_kommune[[#Headers],[2033]],Table11[#Headers],0))","v":639},{"$f":"INDEX(Table11[],MATCH(TEXT(hf_kommune[[#This Row],[Kommunenr]],\"0\"),Table11[Nr],0),MATCH(hf_kommune[[#Headers],[2034]],Table11[#Headers],0))","v":649},{"$f":"INDEX(Table11[],MATCH(TEXT(hf_kommune[[#This Row],[Kommunenr]],\"0\"),Table11[Nr],0),MATCH(hf_kommune[[#Headers],[2035]],Table11[#Headers],0))","v":651},{"$f":"INDEX(Table11[],MATCH(TEXT(hf_kommune[[#This Row],[Kommunenr]],\"0\"),Table11[Nr],0),MATCH(hf_kommune[[#Headers],[2036]],Table11[#Headers],0))","v":647},{"$f":"INDEX(Table11[],MATCH(TEXT(hf_kommune[[#This Row],[Kommunenr]],\"0\"),Table11[Nr],0),MATCH(hf_kommune[[#Headers],[2037]],Table11[#Headers],0))","v":662},{"$f":"INDEX(Table11[],MATCH(TEXT(hf_kommune[[#This Row],[Kommunenr]],\"0\"),Table11[Nr],0),MATCH(hf_kommune[[#Headers],[2038]],Table11[#Headers],0))","v":700},{"$f":"INDEX(Table11[],MATCH(TEXT(hf_kommune[[#This Row],[Kommunenr]],\"0\"),Table11[Nr],0),MATCH(hf_kommune[[#Headers],[2039]],Table11[#Headers],0))","v":711},{"$f":"INDEX(Table11[],MATCH(TEXT(hf_kommune[[#This Row],[Kommunenr]],\"0\"),Table11[Nr],0),MATCH(hf_kommune[[#Headers],[2040]],Table11[#Headers],0))","v":727},43378,44159,44808,45333,45745,46156,46564,46967,47362,47748,48123,48488,48843,49187,49521,49842,50148,50441,50721]
[3412,"Løten","Helse Sør-Øst","Sykehuset Innlandet","Hamar",{"$f":"INDEX(Table11[],MATCH(TEXT(hf_kommune[[#This Row],[Kommunenr]],\"0\"),Table11[Nr],0),MATCH(hf_kommune[[#Headers],[2020]],Table11[#Headers],0))","v":103},{"$f":"INDEX(Table11[],MATCH(TEXT(hf_kommune[[#This Row],[Kommunenr]],\"0\"),Table11[Nr],0),MATCH(hf_kommune[[#Headers],[2021]],Table11[#Headers],0))","v":109},{"$f":"INDEX(Table11[],MATCH(TEXT(hf_kommune[[#This Row],[Kommunenr]],\"0\"),Table11[Nr],0),MATCH(hf_kommune[[#Headers],[2022]],Table11[#Headers],0))","v":121},{"$f":"INDEX(Table11[],MATCH(TEXT(hf_kommune[[#This Row],[Kommunenr]],\"0\"),Table11[Nr],0),MATCH(hf_kommune[[#Headers],[2023]],Table11[#Headers],0))","v":103},{"$f":"INDEX(Table11[],MATCH(TEXT(hf_kommune[[#This Row],[Kommunenr]],\"0\"),Table11[Nr],0),MATCH(hf_kommune[[#Headers],[2024]],Table11[#Headers],0))","v":107},{"$f":"INDEX(Table11[],MATCH(TEXT(hf_kommune[[#This Row],[Kommunenr]],\"0\"),Table11[Nr],0),MATCH(hf_kommune[[#Headers],[2025]],Table11[#Headers],0))","v":127},{"$f":"INDEX(Table11[],MATCH(TEXT(hf_kommune[[#This Row],[Kommunenr]],\"0\"),Table11[Nr],0),MATCH(hf_kommune[[#Headers],[2026]],Table11[#Headers],0))","v":96},{"$f":"INDEX(Table11[],MATCH(TEXT(hf_kommune[[#This Row],[Kommunenr]],\"0\"),Table11[Nr],0),MATCH(hf_kommune[[#Headers],[2027]],Table11[#Headers],0))","v":120},{"$f":"INDEX(Table11[],MATCH(TEXT(hf_kommune[[#This Row],[Kommunenr]],\"0\"),Table11[Nr],0),MATCH(hf_kommune[[#Headers],[2028]],Table11[#Headers],0))","v":113},{"$f":"INDEX(Table11[],MATCH(TEXT(hf_kommune[[#This Row],[Kommunenr]],\"0\"),Table11[Nr],0),MATCH(hf_kommune[[#Headers],[2029]],Table11[#Headers],0))","v":102},{"$f":"INDEX(Table11[],MATCH(TEXT(hf_kommune[[#This Row],[Kommunenr]],\"0\"),Table11[Nr],0),MATCH(hf_kommune[[#Headers],[2030]],Table11[#Headers],0))","v":103},{"$f":"INDEX(Table11[],MATCH(TEXT(hf_kommune[[#This Row],[Kommunenr]],\"0\"),Table11[Nr],0),MATCH(hf_kommune[[#Headers],[2031]],Table11[#Headers],0))","v":93},{"$f":"INDEX(Table11[],MATCH(TEXT(hf_kommune[[#This Row],[Kommunenr]],\"0\"),Table11[Nr],0),MATCH(hf_kommune[[#Headers],[2032]],Table11[#Headers],0))","v":99},{"$f":"INDEX(Table11[],MATCH(TEXT(hf_kommune[[#This Row],[Kommunenr]],\"0\"),Table11[Nr],0),MATCH(hf_kommune[[#Headers],[2033]],Table11[#Headers],0))","v":109},{"$f":"INDEX(Table11[],MATCH(TEXT(hf_kommune[[#This Row],[Kommunenr]],\"0\"),Table11[Nr],0),MATCH(hf_kommune[[#Headers],[2034]],Table11[#Headers],0))","v":99},{"$f":"INDEX(Table11[],MATCH(TEXT(hf_kommune[[#This Row],[Kommunenr]],\"0\"),Table11[Nr],0),MATCH(hf_kommune[[#Headers],[2035]],Table11[#Headers],0))","v":95},{"$f":"INDEX(Table11[],MATCH(TEXT(hf_kommune[[#This Row],[Kommunenr]],\"0\"),Table11[Nr],0),MATCH(hf_kommune[[#Headers],[2036]],Table11[#Headers],0))","v":110},{"$f":"INDEX(Table11[],MATCH(TEXT(hf_kommune[[#This Row],[Kommunenr]],\"0\"),Table11[Nr],0),MATCH(hf_kommune[[#Headers],[2037]],Table11[#Headers],0))","v":98},{"$f":"INDEX(Table11[],MATCH(TEXT(hf_kommune[[#This Row],[Kommunenr]],\"0\"),Table11[Nr],0),MATCH(hf_kommune[[#Headers],[2038]],Table11[#Headers],0))","v":109},{"$f":"INDEX(Table11[],MATCH(TEXT(hf_kommune[[#This Row],[Kommunenr]],\"0\"),Table11[Nr],0),MATCH(hf_kommune[[#Headers],[2039]],Table11[#Headers],0))","v":107},{"$f":"INDEX(Table11[],MATCH(TEXT(hf_kommune[[#This Row],[Kommunenr]],\"0\"),Table11[Nr],0),MATCH(hf_kommune[[#Headers],[2040]],Table11[#Headers],0))","v":111},7778,7831,7880,7926,7969,8010,8049,8087,8123,8157,8190,8221,8251,8280,8309,8337,8363,8388,8412]
[5031,"Malvik","Helse Midt-Norge","St. Olavs hospital","St. Olav - Øya",{"$f":"INDEX(Table11[],MATCH(TEXT(hf_kommune[[#This Row],[Kommunenr]],\"0\"),Table11[Nr],0),MATCH(hf_kommune[[#Headers],[2020]],Table11[#Headers],0))","v":188},{"$f":"INDEX(Table11[],MATCH(TEXT(hf_kommune[[#This Row],[Kommunenr]],\"0\"),Table11[Nr],0),MATCH(hf_kommune[[#Headers],[2021]],Table11[#Headers],0))","v":206},{"$f":"INDEX(Table11[],MATCH(TEXT(hf_kommune[[#This Row],[Kommunenr]],\"0\"),Table11[Nr],0),MATCH(hf_kommune[[#Headers],[2022]],Table11[#Headers],0))","v":205},{"$f":"INDEX(Table11[],MATCH(TEXT(hf_kommune[[#This Row],[Kommunenr]],\"0\"),Table11[Nr],0),MATCH(hf_kommune[[#Headers],[2023]],Table11[#Headers],0))","v":194},{"$f":"INDEX(Table11[],MATCH(TEXT(hf_kommune[[#This Row],[Kommunenr]],\"0\"),Table11[Nr],0),MATCH(hf_kommune[[#Headers],[2024]],Table11[#Headers],0))","v":219},{"$f":"INDEX(Table11[],MATCH(TEXT(hf_kommune[[#This Row],[Kommunenr]],\"0\"),Table11[Nr],0),MATCH(hf_kommune[[#Headers],[2025]],Table11[#Headers],0))","v":230},{"$f":"INDEX(Table11[],MATCH(TEXT(hf_kommune[[#This Row],[Kommunenr]],\"0\"),Table11[Nr],0),MATCH(hf_kommune[[#Headers],[2026]],Table11[#Headers],0))","v":211},{"$f":"INDEX(Table11[],MATCH(TEXT(hf_kommune[[#This Row],[Kommunenr]],\"0\"),Table11[Nr],0),MATCH(hf_kommune[[#Headers],[2027]],Table11[#Headers],0))","v":230},{"$f":"INDEX(Table11[],MATCH(TEXT(hf_kommune[[#This Row],[Kommunenr]],\"0\"),Table11[Nr],0),MATCH(hf_kommune[[#Headers],[2028]],Table11[#Headers],0))","v":232},{"$f":"INDEX(Table11[],MATCH(TEXT(hf_kommune[[#This Row],[Kommunenr]],\"0\"),Table11[Nr],0),MATCH(hf_kommune[[#Headers],[2029]],Table11[#Headers],0))","v":196},{"$f":"INDEX(Table11[],MATCH(TEXT(hf_kommune[[#This Row],[Kommunenr]],\"0\"),Table11[Nr],0),MATCH(hf_kommune[[#Headers],[2030]],Table11[#Headers],0))","v":213},{"$f":"INDEX(Table11[],MATCH(TEXT(hf_kommune[[#This Row],[Kommunenr]],\"0\"),Table11[Nr],0),MATCH(hf_kommune[[#Headers],[2031]],Table11[#Headers],0))","v":198},{"$f":"INDEX(Table11[],MATCH(TEXT(hf_kommune[[#This Row],[Kommunenr]],\"0\"),Table11[Nr],0),MATCH(hf_kommune[[#Headers],[2032]],Table11[#Headers],0))","v":164},{"$f":"INDEX(Table11[],MATCH(TEXT(hf_kommune[[#This Row],[Kommunenr]],\"0\"),Table11[Nr],0),MATCH(hf_kommune[[#Headers],[2033]],Table11[#Headers],0))","v":181},{"$f":"INDEX(Table11[],MATCH(TEXT(hf_kommune[[#This Row],[Kommunenr]],\"0\"),Table11[Nr],0),MATCH(hf_kommune[[#Headers],[2034]],Table11[#Headers],0))","v":198},{"$f":"INDEX(Table11[],MATCH(TEXT(hf_kommune[[#This Row],[Kommunenr]],\"0\"),Table11[Nr],0),MATCH(hf_kommune[[#Headers],[2035]],Table11[#Headers],0))","v":209},{"$f":"INDEX(Table11[],MATCH(TEXT(hf_kommune[[#This Row],[Kommunenr]],\"0\"),Table11[Nr],0),MATCH(hf_kommune[[#Headers],[2036]],Table11[#Headers],0))","v":190},{"$f":"INDEX(Table11[],MATCH(TEXT(hf_kommune[[#This Row],[Kommunenr]],\"0\"),Table11[Nr],0),MATCH(hf_kommune[[#Headers],[2037]],Table11[#Headers],0))","v":202},{"$f":"INDEX(Table11[],MATCH(TEXT(hf_kommune[[#This Row],[Kommunenr]],\"0\"),Table11[Nr],0),MATCH(hf_kommune[[#Headers],[2038]],Table11[#Headers],0))","v":196},{"$f":"INDEX(Table11[],MATCH(TEXT(hf_kommune[[#This Row],[Kommunenr]],\"0\"),Table11[Nr],0),MATCH(hf_kommune[[#Headers],[2039]],Table11[#Headers],0))","v":197},{"$f":"INDEX(Table11[],MATCH(TEXT(hf_kommune[[#This Row],[Kommunenr]],\"0\"),Table11[Nr],0),MATCH(hf_kommune[[#Headers],[2040]],Table11[#Headers],0))","v":200},14449,14596,14735,14868,14995,15121,15244,15364,15483,15598,15710,15819,15925,16029,16131,16231,16326,16418,16507]
[3013,"Marker","Helse Sør-Øst","Sykehuset Østfold","Kalnes",{"$f":"INDEX(Table11[],MATCH(TEXT(hf_kommune[[#This Row],[Kommunenr]],\"0\"),Table11[Nr],0),MATCH(hf_kommune[[#Headers],[2020]],Table11[#Headers],0))","v":66},{"$f":"INDEX(Table11[],MATCH(TEXT(hf_kommune[[#This Row],[Kommunenr]],\"0\"),Table11[Nr],0),MATCH(hf_kommune[[#Headers],[2021]],Table11[#Headers],0))","v":65},{"$f":"INDEX(Table11[],MATCH(TEXT(hf_kommune[[#This Row],[Kommunenr]],\"0\"),Table11[Nr],0),MATCH(hf_kommune[[#Headers],[2022]],Table11[#Headers],0))","v":52},{"$f":"INDEX(Table11[],MATCH(TEXT(hf_kommune[[#This Row],[Kommunenr]],\"0\"),Table11[Nr],0),MATCH(hf_kommune[[#Headers],[2023]],Table11[#Headers],0))","v":56},{"$f":"INDEX(Table11[],MATCH(TEXT(hf_kommune[[#This Row],[Kommunenr]],\"0\"),Table11[Nr],0),MATCH(hf_kommune[[#Headers],[2024]],Table11[#Headers],0))","v":57},{"$f":"INDEX(Table11[],MATCH(TEXT(hf_kommune[[#This Row],[Kommunenr]],\"0\"),Table11[Nr],0),MATCH(hf_kommune[[#Headers],[2025]],Table11[#Headers],0))","v":51},{"$f":"INDEX(Table11[],MATCH(TEXT(hf_kommune[[#This Row],[Kommunenr]],\"0\"),Table11[Nr],0),MATCH(hf_kommune[[#Headers],[2026]],Table11[#Headers],0))","v":54},{"$f":"INDEX(Table11[],MATCH(TEXT(hf_kommune[[#This Row],[Kommunenr]],\"0\"),Table11[Nr],0),MATCH(hf_kommune[[#Headers],[2027]],Table11[#Headers],0))","v":50},{"$f":"INDEX(Table11[],MATCH(TEXT(hf_kommune[[#This Row],[Kommunenr]],\"0\"),Table11[Nr],0),MATCH(hf_kommune[[#Headers],[2028]],Table11[#Headers],0))","v":60},{"$f":"INDEX(Table11[],MATCH(TEXT(hf_kommune[[#This Row],[Kommunenr]],\"0\"),Table11[Nr],0),MATCH(hf_kommune[[#Headers],[2029]],Table11[#Headers],0))","v":53},{"$f":"INDEX(Table11[],MATCH(TEXT(hf_kommune[[#This Row],[Kommunenr]],\"0\"),Table11[Nr],0),MATCH(hf_kommune[[#Headers],[2030]],Table11[#Headers],0))","v":58},{"$f":"INDEX(Table11[],MATCH(TEXT(hf_kommune[[#This Row],[Kommunenr]],\"0\"),Table11[Nr],0),MATCH(hf_kommune[[#Headers],[2031]],Table11[#Headers],0))","v":54},{"$f":"INDEX(Table11[],MATCH(TEXT(hf_kommune[[#This Row],[Kommunenr]],\"0\"),Table11[Nr],0),MATCH(hf_kommune[[#Headers],[2032]],Table11[#Headers],0))","v":42},{"$f":"INDEX(Table11[],MATCH(TEXT(hf_kommune[[#This Row],[Kommunenr]],\"0\"),Table11[Nr],0),MATCH(hf_kommune[[#Headers],[2033]],Table11[#Headers],0))","v":50},{"$f":"INDEX(Table11[],MATCH(TEXT(hf_kommune[[#This Row],[Kommunenr]],\"0\"),Table11[Nr],0),MATCH(hf_kommune[[#Headers],[2034]],Table11[#Headers],0))","v":48},{"$f":"INDEX(Table11[],MATCH(TEXT(hf_kommune[[#This Row],[Kommunenr]],\"0\"),Table11[Nr],0),MATCH(hf_kommune[[#Headers],[2035]],Table11[#Headers],0))","v":50},{"$f":"INDEX(Table11[],MATCH(TEXT(hf_kommune[[#This Row],[Kommunenr]],\"0\"),Table11[Nr],0),MATCH(hf_kommune[[#Headers],[2036]],Table11[#Headers],0))","v":44},{"$f":"INDEX(Table11[],MATCH(TEXT(hf_kommune[[#This Row],[Kommunenr]],\"0\"),Table11[Nr],0),MATCH(hf_kommune[[#Headers],[2037]],Table11[#Headers],0))","v":51},{"$f":"INDEX(Table11[],MATCH(TEXT(hf_kommune[[#This Row],[Kommunenr]],\"0\"),Table11[Nr],0),MATCH(hf_kommune[[#Headers],[2038]],Table11[#Headers],0))","v":49},{"$f":"INDEX(Table11[],MATCH(TEXT(hf_kommune[[#This Row],[Kommunenr]],\"0\"),Table11[Nr],0),MATCH(hf_kommune[[#Headers],[2039]],Table11[#Headers],0))","v":46},{"$f":"INDEX(Table11[],MATCH(TEXT(hf_kommune[[#This Row],[Kommunenr]],\"0\"),Table11[Nr],0),MATCH(hf_kommune[[#Headers],[2040]],Table11[#Headers],0))","v":51},3596,3602,3615,3632,3655,3678,3701,3724,3746,3768,3790,3811,3831,3851,3871,3890,3907,3924,3940]
[4634,"Masfjorden","Helse Vest","Helse Bergen","Haukeland",{"$f":"INDEX(Table11[],MATCH(TEXT(hf_kommune[[#This Row],[Kommunenr]],\"0\"),Table11[Nr],0),MATCH(hf_kommune[[#Headers],[2020]],Table11[#Headers],0))","v":23},{"$f":"INDEX(Table11[],MATCH(TEXT(hf_kommune[[#This Row],[Kommunenr]],\"0\"),Table11[Nr],0),MATCH(hf_kommune[[#Headers],[2021]],Table11[#Headers],0))","v":26},{"$f":"INDEX(Table11[],MATCH(TEXT(hf_kommune[[#This Row],[Kommunenr]],\"0\"),Table11[Nr],0),MATCH(hf_kommune[[#Headers],[2022]],Table11[#Headers],0))","v":23},{"$f":"INDEX(Table11[],MATCH(TEXT(hf_kommune[[#This Row],[Kommunenr]],\"0\"),Table11[Nr],0),MATCH(hf_kommune[[#Headers],[2023]],Table11[#Headers],0))","v":17},{"$f":"INDEX(Table11[],MATCH(TEXT(hf_kommune[[#This Row],[Kommunenr]],\"0\"),Table11[Nr],0),MATCH(hf_kommune[[#Headers],[2024]],Table11[#Headers],0))","v":19},{"$f":"INDEX(Table11[],MATCH(TEXT(hf_kommune[[#This Row],[Kommunenr]],\"0\"),Table11[Nr],0),MATCH(hf_kommune[[#Headers],[2025]],Table11[#Headers],0))","v":18},{"$f":"INDEX(Table11[],MATCH(TEXT(hf_kommune[[#This Row],[Kommunenr]],\"0\"),Table11[Nr],0),MATCH(hf_kommune[[#Headers],[2026]],Table11[#Headers],0))","v":22},{"$f":"INDEX(Table11[],MATCH(TEXT(hf_kommune[[#This Row],[Kommunenr]],\"0\"),Table11[Nr],0),MATCH(hf_kommune[[#Headers],[2027]],Table11[#Headers],0))","v":20},{"$f":"INDEX(Table11[],MATCH(TEXT(hf_kommune[[#This Row],[Kommunenr]],\"0\"),Table11[Nr],0),MATCH(hf_kommune[[#Headers],[2028]],Table11[#Headers],0))","v":19},{"$f":"INDEX(Table11[],MATCH(TEXT(hf_kommune[[#This Row],[Kommunenr]],\"0\"),Table11[Nr],0),MATCH(hf_kommune[[#Headers],[2029]],Table11[#Headers],0))","v":15},{"$f":"INDEX(Table11[],MATCH(TEXT(hf_kommune[[#This Row],[Kommunenr]],\"0\"),Table11[Nr],0),MATCH(hf_kommune[[#Headers],[2030]],Table11[#Headers],0))","v":22},{"$f":"INDEX(Table11[],MATCH(TEXT(hf_kommune[[#This Row],[Kommunenr]],\"0\"),Table11[Nr],0),MATCH(hf_kommune[[#Headers],[2031]],Table11[#Headers],0))","v":16},{"$f":"INDEX(Table11[],MATCH(TEXT(hf_kommune[[#This Row],[Kommunenr]],\"0\"),Table11[Nr],0),MATCH(hf_kommune[[#Headers],[2032]],Table11[#Headers],0))","v":13},{"$f":"INDEX(Table11[],MATCH(TEXT(hf_kommune[[#This Row],[Kommunenr]],\"0\"),Table11[Nr],0),MATCH(hf_kommune[[#Headers],[2033]],Table11[#Headers],0))","v":15},{"$f":"INDEX(Table11[],MATCH(TEXT(hf_kommune[[#This Row],[Kommunenr]],\"0\"),Table11[Nr],0),MATCH(hf_kommune[[#Headers],[2034]],Table11[#Headers],0))","v":17},{"$f":"INDEX(Table11[],MATCH(TEXT(hf_kommune[[#This Row],[Kommunenr]],\"0\"),Table11[Nr],0),MATCH(hf_kommune[[#Headers],[2035]],Table11[#Headers],0))","v":16},{"$f":"INDEX(Table11[],MATCH(TEXT(hf_kommune[[#This Row],[Kommunenr]],\"0\"),Table11[Nr],0),MATCH(hf_kommune[[#Headers],[2036]],Table11[#Headers],0))","v":22},{"$f":"INDEX(Table11[],MATCH(TEXT(hf_kommune[[#This Row],[Kommunenr]],\"0\"),Table11[Nr],0),MATCH(hf_kommune[[#Headers],[2037]],Table11[#Headers],0))","v":13},{"$f":"INDEX(Table11[],MATCH(TEXT(hf_kommune[[#This Row],[Kommunenr]],\"0\"),Table11[Nr],0),MATCH(hf_kommune[[#Headers],[2038]],Table11[#Headers],0))","v":22},{"$f":"INDEX(Table11[],MATCH(TEXT(hf_kommune[[#This Row],[Kommunenr]],\"0\"),Table11[Nr],0),MATCH(hf_kommune[[#Headers],[2039]],Table11[#Headers],0))","v":22},{"$f":"INDEX(Table11[],MATCH(TEXT(hf_kommune[[#This Row],[Kommunenr]],\"0\"),Table11[Nr],0),MATCH(hf_kommune[[#Headers],[2040]],Table11[#Headers],0))","v":18},1673,1668,1666,1665,1667,1669,1672,1674,1676,1679,1681,1683,1686,1689,1691,1694,1697,1699,1702]
[5028,"Melhus","Helse Midt-Norge","St. Olavs hospital","St. Olav - Øya",{"$f":"INDEX(Table11[],MATCH(TEXT(hf_kommune[[#This Row],[Kommunenr]],\"0\"),Table11[Nr],0),MATCH(hf_kommune[[#Headers],[2020]],Table11[#Headers],0))","v":219},{"$f":"INDEX(Table11[],MATCH(TEXT(hf_kommune[[#This Row],[Kommunenr]],\"0\"),Table11[Nr],0),MATCH(hf_kommune[[#Headers],[2021]],Table11[#Headers],0))","v":200},{"$f":"INDEX(Table11[],MATCH(TEXT(hf_kommune[[#This Row],[Kommunenr]],\"0\"),Table11[Nr],0),MATCH(hf_kommune[[#Headers],[2022]],Table11[#Headers],0))","v":244},{"$f":"INDEX(Table11[],MATCH(TEXT(hf_kommune[[#This Row],[Kommunenr]],\"0\"),Table11[Nr],0),MATCH(hf_kommune[[#Headers],[2023]],Table11[#Headers],0))","v":239},{"$f":"INDEX(Table11[],MATCH(TEXT(hf_kommune[[#This Row],[Kommunenr]],\"0\"),Table11[Nr],0),MATCH(hf_kommune[[#Headers],[2024]],Table11[#Headers],0))","v":244},{"$f":"INDEX(Table11[],MATCH(TEXT(hf_kommune[[#This Row],[Kommunenr]],\"0\"),Table11[Nr],0),MATCH(hf_kommune[[#Headers],[2025]],Table11[#Headers],0))","v":244},{"$f":"INDEX(Table11[],MATCH(TEXT(hf_kommune[[#This Row],[Kommunenr]],\"0\"),Table11[Nr],0),MATCH(hf_kommune[[#Headers],[2026]],Table11[#Headers],0))","v":243},{"$f":"INDEX(Table11[],MATCH(TEXT(hf_kommune[[#This Row],[Kommunenr]],\"0\"),Table11[Nr],0),MATCH(hf_kommune[[#Headers],[2027]],Table11[#Headers],0))","v":226},{"$f":"INDEX(Table11[],MATCH(TEXT(hf_kommune[[#This Row],[Kommunenr]],\"0\"),Table11[Nr],0),MATCH(hf_kommune[[#Headers],[2028]],Table11[#Headers],0))","v":240},{"$f":"INDEX(Table11[],MATCH(TEXT(hf_kommune[[#This Row],[Kommunenr]],\"0\"),Table11[Nr],0),MATCH(hf_kommune[[#Headers],[2029]],Table11[#Headers],0))","v":253},{"$f":"INDEX(Table11[],MATCH(TEXT(hf_kommune[[#This Row],[Kommunenr]],\"0\"),Table11[Nr],0),MATCH(hf_kommune[[#Headers],[2030]],Table11[#Headers],0))","v":256},{"$f":"INDEX(Table11[],MATCH(TEXT(hf_kommune[[#This Row],[Kommunenr]],\"0\"),Table11[Nr],0),MATCH(hf_kommune[[#Headers],[2031]],Table11[#Headers],0))","v":217},{"$f":"INDEX(Table11[],MATCH(TEXT(hf_kommune[[#This Row],[Kommunenr]],\"0\"),Table11[Nr],0),MATCH(hf_kommune[[#Headers],[2032]],Table11[#Headers],0))","v":234},{"$f":"INDEX(Table11[],MATCH(TEXT(hf_kommune[[#This Row],[Kommunenr]],\"0\"),Table11[Nr],0),MATCH(hf_kommune[[#Headers],[2033]],Table11[#Headers],0))","v":233},{"$f":"INDEX(Table11[],MATCH(TEXT(hf_kommune[[#This Row],[Kommunenr]],\"0\"),Table11[Nr],0),MATCH(hf_kommune[[#Headers],[2034]],Table11[#Headers],0))","v":199},{"$f":"INDEX(Table11[],MATCH(TEXT(hf_kommune[[#This Row],[Kommunenr]],\"0\"),Table11[Nr],0),MATCH(hf_kommune[[#Headers],[2035]],Table11[#Headers],0))","v":229},{"$f":"INDEX(Table11[],MATCH(TEXT(hf_kommune[[#This Row],[Kommunenr]],\"0\"),Table11[Nr],0),MATCH(hf_kommune[[#Headers],[2036]],Table11[#Headers],0))","v":215},{"$f":"INDEX(Table11[],MATCH(TEXT(hf_kommune[[#This Row],[Kommunenr]],\"0\"),Table11[Nr],0),MATCH(hf_kommune[[#Headers],[2037]],Table11[#Headers],0))","v":209},{"$f":"INDEX(Table11[],MATCH(TEXT(hf_kommune[[#This Row],[Kommunenr]],\"0\"),Table11[Nr],0),MATCH(hf_kommune[[#Headers],[2038]],Table11[#Headers],0))","v":243},{"$f":"INDEX(Table11[],MATCH(TEXT(hf_kommune[[#This Row],[Kommunenr]],\"0\"),Table11[Nr],0),MATCH(hf_kommune[[#Headers],[2039]],Table11[#Headers],0))","v":234},{"$f":"INDEX(Table11[],MATCH(TEXT(hf_kommune[[#This Row],[Kommunenr]],\"0\"),Table11[Nr],0),MATCH(hf_kommune[[#Headers],[2040]],Table11[#Headers],0))","v":228},16986,17112,17233,17352,17467,17581,17695,17809,17920,18030,18136,18238,18339,18438,18535,18631,18724,18814,18902]
[1837,"Meløy","Helse Nord","Nordlandssykehuset","Bodø",{"$f":"INDEX(Table11[],MATCH(TEXT(hf_kommune[[#This Row],[Kommunenr]],\"0\"),Table11[Nr],0),MATCH(hf_kommune[[#Headers],[2020]],Table11[#Headers],0))","v":94},{"$f":"INDEX(Table11[],MATCH(TEXT(hf_kommune[[#This Row],[Kommunenr]],\"0\"),Table11[Nr],0),MATCH(hf_kommune[[#Headers],[2021]],Table11[#Headers],0))","v":92},{"$f":"INDEX(Table11[],MATCH(TEXT(hf_kommune[[#This Row],[Kommunenr]],\"0\"),Table11[Nr],0),MATCH(hf_kommune[[#Headers],[2022]],Table11[#Headers],0))","v":86},{"$f":"INDEX(Table11[],MATCH(TEXT(hf_kommune[[#This Row],[Kommunenr]],\"0\"),Table11[Nr],0),MATCH(hf_kommune[[#Headers],[2023]],Table11[#Headers],0))","v":101},{"$f":"INDEX(Table11[],MATCH(TEXT(hf_kommune[[#This Row],[Kommunenr]],\"0\"),Table11[Nr],0),MATCH(hf_kommune[[#Headers],[2024]],Table11[#Headers],0))","v":95},{"$f":"INDEX(Table11[],MATCH(TEXT(hf_kommune[[#This Row],[Kommunenr]],\"0\"),Table11[Nr],0),MATCH(hf_kommune[[#Headers],[2025]],Table11[#Headers],0))","v":102},{"$f":"INDEX(Table11[],MATCH(TEXT(hf_kommune[[#This Row],[Kommunenr]],\"0\"),Table11[Nr],0),MATCH(hf_kommune[[#Headers],[2026]],Table11[#Headers],0))","v":99},{"$f":"INDEX(Table11[],MATCH(TEXT(hf_kommune[[#This Row],[Kommunenr]],\"0\"),Table11[Nr],0),MATCH(hf_kommune[[#Headers],[2027]],Table11[#Headers],0))","v":78},{"$f":"INDEX(Table11[],MATCH(TEXT(hf_kommune[[#This Row],[Kommunenr]],\"0\"),Table11[Nr],0),MATCH(hf_kommune[[#Headers],[2028]],Table11[#Headers],0))","v":82},{"$f":"INDEX(Table11[],MATCH(TEXT(hf_kommune[[#This Row],[Kommunenr]],\"0\"),Table11[Nr],0),MATCH(hf_kommune[[#Headers],[2029]],Table11[#Headers],0))","v":66},{"$f":"INDEX(Table11[],MATCH(TEXT(hf_kommune[[#This Row],[Kommunenr]],\"0\"),Table11[Nr],0),MATCH(hf_kommune[[#Headers],[2030]],Table11[#Headers],0))","v":79},{"$f":"INDEX(Table11[],MATCH(TEXT(hf_kommune[[#This Row],[Kommunenr]],\"0\"),Table11[Nr],0),MATCH(hf_kommune[[#Headers],[2031]],Table11[#Headers],0))","v":72},{"$f":"INDEX(Table11[],MATCH(TEXT(hf_kommune[[#This Row],[Kommunenr]],\"0\"),Table11[Nr],0),MATCH(hf_kommune[[#Headers],[2032]],Table11[#Headers],0))","v":64},{"$f":"INDEX(Table11[],MATCH(TEXT(hf_kommune[[#This Row],[Kommunenr]],\"0\"),Table11[Nr],0),MATCH(hf_kommune[[#Headers],[2033]],Table11[#Headers],0))","v":53},{"$f":"INDEX(Table11[],MATCH(TEXT(hf_kommune[[#This Row],[Kommunenr]],\"0\"),Table11[Nr],0),MATCH(hf_kommune[[#Headers],[2034]],Table11[#Headers],0))","v":62},{"$f":"INDEX(Table11[],MATCH(TEXT(hf_kommune[[#This Row],[Kommunenr]],\"0\"),Table11[Nr],0),MATCH(hf_kommune[[#Headers],[2035]],Table11[#Headers],0))","v":58},{"$f":"INDEX(Table11[],MATCH(TEXT(hf_kommune[[#This Row],[Kommunenr]],\"0\"),Table11[Nr],0),MATCH(hf_kommune[[#Headers],[2036]],Table11[#Headers],0))","v":58},{"$f":"INDEX(Table11[],MATCH(TEXT(hf_kommune[[#This Row],[Kommunenr]],\"0\"),Table11[Nr],0),MATCH(hf_kommune[[#Headers],[2037]],Table11[#Headers],0))","v":70},{"$f":"INDEX(Table11[],MATCH(TEXT(hf_kommune[[#This Row],[Kommunenr]],\"0\"),Table11[Nr],0),MATCH(hf_kommune[[#Headers],[2038]],Table11[#Headers],0))","v":67},{"$f":"INDEX(Table11[],MATCH(TEXT(hf_kommune[[#This Row],[Kommunenr]],\"0\"),Table11[Nr],0),MATCH(hf_kommune[[#Headers],[2039]],Table11[#Headers],0))","v":62},{"$f":"INDEX(Table11[],MATCH(TEXT(hf_kommune[[#This Row],[Kommunenr]],\"0\"),Table11[Nr],0),MATCH(hf_kommune[[#Headers],[2040]],Table11[#Headers],0))","v":63},6209,6176,6144,6115,6088,6063,6039,6015,5992,5969,5947,5924,5903,5882,5862,5842,5823,5804,5785]
[5034,"Meråker","Helse Midt-Norge","Helse Nord-Trøndelag","Levanger",{"$f":"INDEX(Table11[],MATCH(TEXT(hf_kommune[[#This Row],[Kommunenr]],\"0\"),Table11[Nr],0),MATCH(hf_kommune[[#Headers],[2020]],Table11[#Headers],0))","v":34},{"$f":"INDEX(Table11[],MATCH(TEXT(hf_kommune[[#This Row],[Kommunenr]],\"0\"),Table11[Nr],0),MATCH(hf_kommune[[#Headers],[2021]],Table11[#Headers],0))","v":28},{"$f":"INDEX(Table11[],MATCH(TEXT(hf_kommune[[#This Row],[Kommunenr]],\"0\"),Table11[Nr],0),MATCH(hf_kommune[[#Headers],[2022]],Table11[#Headers],0))","v":40},{"$f":"INDEX(Table11[],MATCH(TEXT(hf_kommune[[#This Row],[Kommunenr]],\"0\"),Table11[Nr],0),MATCH(hf_kommune[[#Headers],[2023]],Table11[#Headers],0))","v":41},{"$f":"INDEX(Table11[],MATCH(TEXT(hf_kommune[[#This Row],[Kommunenr]],\"0\"),Table11[Nr],0),MATCH(hf_kommune[[#Headers],[2024]],Table11[#Headers],0))","v":39},{"$f":"INDEX(Table11[],MATCH(TEXT(hf_kommune[[#This Row],[Kommunenr]],\"0\"),Table11[Nr],0),MATCH(hf_kommune[[#Headers],[2025]],Table11[#Headers],0))","v":29},{"$f":"INDEX(Table11[],MATCH(TEXT(hf_kommune[[#This Row],[Kommunenr]],\"0\"),Table11[Nr],0),MATCH(hf_kommune[[#Headers],[2026]],Table11[#Headers],0))","v":42},{"$f":"INDEX(Table11[],MATCH(TEXT(hf_kommune[[#This Row],[Kommunenr]],\"0\"),Table11[Nr],0),MATCH(hf_kommune[[#Headers],[2027]],Table11[#Headers],0))","v":38},{"$f":"INDEX(Table11[],MATCH(TEXT(hf_kommune[[#This Row],[Kommunenr]],\"0\"),Table11[Nr],0),MATCH(hf_kommune[[#Headers],[2028]],Table11[#Headers],0))","v":34},{"$f":"INDEX(Table11[],MATCH(TEXT(hf_kommune[[#This Row],[Kommunenr]],\"0\"),Table11[Nr],0),MATCH(hf_kommune[[#Headers],[2029]],Table11[#Headers],0))","v":32},{"$f":"INDEX(Table11[],MATCH(TEXT(hf_kommune[[#This Row],[Kommunenr]],\"0\"),Table11[Nr],0),MATCH(hf_kommune[[#Headers],[2030]],Table11[#Headers],0))","v":40},{"$f":"INDEX(Table11[],MATCH(TEXT(hf_kommune[[#This Row],[Kommunenr]],\"0\"),Table11[Nr],0),MATCH(hf_kommune[[#Headers],[2031]],Table11[#Headers],0))","v":35},{"$f":"INDEX(Table11[],MATCH(TEXT(hf_kommune[[#This Row],[Kommunenr]],\"0\"),Table11[Nr],0),MATCH(hf_kommune[[#Headers],[2032]],Table11[#Headers],0))","v":32},{"$f":"INDEX(Table11[],MATCH(TEXT(hf_kommune[[#This Row],[Kommunenr]],\"0\"),Table11[Nr],0),MATCH(hf_kommune[[#Headers],[2033]],Table11[#Headers],0))","v":22},{"$f":"INDEX(Table11[],MATCH(TEXT(hf_kommune[[#This Row],[Kommunenr]],\"0\"),Table11[Nr],0),MATCH(hf_kommune[[#Headers],[2034]],Table11[#Headers],0))","v":39},{"$f":"INDEX(Table11[],MATCH(TEXT(hf_kommune[[#This Row],[Kommunenr]],\"0\"),Table11[Nr],0),MATCH(hf_kommune[[#Headers],[2035]],Table11[#Headers],0))","v":33},{"$f":"INDEX(Table11[],MATCH(TEXT(hf_kommune[[#This Row],[Kommunenr]],\"0\"),Table11[Nr],0),MATCH(hf_kommune[[#Headers],[2036]],Table11[#Headers],0))","v":32},{"$f":"INDEX(Table11[],MATCH(TEXT(hf_kommune[[#This Row],[Kommunenr]],\"0\"),Table11[Nr],0),MATCH(hf_kommune[[#Headers],[2037]],Table11[#Headers],0))","v":33},{"$f":"INDEX(Table11[],MATCH(TEXT(hf_kommune[[#This Row],[Kommunenr]],\"0\"),Table11[Nr],0),MATCH(hf_kommune[[#Headers],[2038]],Table11[#Headers],0))","v":34},{"$f":"INDEX(Table11[],MATCH(TEXT(hf_kommune[[#This Row],[Kommunenr]],\"0\"),Table11[Nr],0),MATCH(hf_kommune[[#Headers],[2039]],Table11[#Headers],0))","v":33},{"$f":"INDEX(Table11[],MATCH(TEXT(hf_kommune[[#This Row],[Kommunenr]],\"0\"),Table11[Nr],0),MATCH(hf_kommune[[#Headers],[2040]],Table11[#Headers],0))","v":33},2415,2420,2428,2441,2456,2471,2487,2501,2515,2529,2542,2554,2566,2578,2588,2598,2608,2616,2624]
[5027,"Midtre Gauldal","Helse Midt-Norge","St. Olavs hospital","St. Olav - Øya",{"$f":"INDEX(Table11[],MATCH(TEXT(hf_kommune[[#This Row],[Kommunenr]],\"0\"),Table11[Nr],0),MATCH(hf_kommune[[#Headers],[2020]],Table11[#Headers],0))","v":88},{"$f":"INDEX(Table11[],MATCH(TEXT(hf_kommune[[#This Row],[Kommunenr]],\"0\"),Table11[Nr],0),MATCH(hf_kommune[[#Headers],[2021]],Table11[#Headers],0))","v":95},{"$f":"INDEX(Table11[],MATCH(TEXT(hf_kommune[[#This Row],[Kommunenr]],\"0\"),Table11[Nr],0),MATCH(hf_kommune[[#Headers],[2022]],Table11[#Headers],0))","v":96},{"$f":"INDEX(Table11[],MATCH(TEXT(hf_kommune[[#This Row],[Kommunenr]],\"0\"),Table11[Nr],0),MATCH(hf_kommune[[#Headers],[2023]],Table11[#Headers],0))","v":89},{"$f":"INDEX(Table11[],MATCH(TEXT(hf_kommune[[#This Row],[Kommunenr]],\"0\"),Table11[Nr],0),MATCH(hf_kommune[[#Headers],[2024]],Table11[#Headers],0))","v":82},{"$f":"INDEX(Table11[],MATCH(TEXT(hf_kommune[[#This Row],[Kommunenr]],\"0\"),Table11[Nr],0),MATCH(hf_kommune[[#Headers],[2025]],Table11[#Headers],0))","v":85},{"$f":"INDEX(Table11[],MATCH(TEXT(hf_kommune[[#This Row],[Kommunenr]],\"0\"),Table11[Nr],0),MATCH(hf_kommune[[#Headers],[2026]],Table11[#Headers],0))","v":89},{"$f":"INDEX(Table11[],MATCH(TEXT(hf_kommune[[#This Row],[Kommunenr]],\"0\"),Table11[Nr],0),MATCH(hf_kommune[[#Headers],[2027]],Table11[#Headers],0))","v":73},{"$f":"INDEX(Table11[],MATCH(TEXT(hf_kommune[[#This Row],[Kommunenr]],\"0\"),Table11[Nr],0),MATCH(hf_kommune[[#Headers],[2028]],Table11[#Headers],0))","v":76},{"$f":"INDEX(Table11[],MATCH(TEXT(hf_kommune[[#This Row],[Kommunenr]],\"0\"),Table11[Nr],0),MATCH(hf_kommune[[#Headers],[2029]],Table11[#Headers],0))","v":84},{"$f":"INDEX(Table11[],MATCH(TEXT(hf_kommune[[#This Row],[Kommunenr]],\"0\"),Table11[Nr],0),MATCH(hf_kommune[[#Headers],[2030]],Table11[#Headers],0))","v":75},{"$f":"INDEX(Table11[],MATCH(TEXT(hf_kommune[[#This Row],[Kommunenr]],\"0\"),Table11[Nr],0),MATCH(hf_kommune[[#Headers],[2031]],Table11[#Headers],0))","v":69},{"$f":"INDEX(Table11[],MATCH(TEXT(hf_kommune[[#This Row],[Kommunenr]],\"0\"),Table11[Nr],0),MATCH(hf_kommune[[#Headers],[2032]],Table11[#Headers],0))","v":69},{"$f":"INDEX(Table11[],MATCH(TEXT(hf_kommune[[#This Row],[Kommunenr]],\"0\"),Table11[Nr],0),MATCH(hf_kommune[[#Headers],[2033]],Table11[#Headers],0))","v":65},{"$f":"INDEX(Table11[],MATCH(TEXT(hf_kommune[[#This Row],[Kommunenr]],\"0\"),Table11[Nr],0),MATCH(hf_kommune[[#Headers],[2034]],Table11[#Headers],0))","v":60},{"$f":"INDEX(Table11[],MATCH(TEXT(hf_kommune[[#This Row],[Kommunenr]],\"0\"),Table11[Nr],0),MATCH(hf_kommune[[#Headers],[2035]],Table11[#Headers],0))","v":63},{"$f":"INDEX(Table11[],MATCH(TEXT(hf_kommune[[#This Row],[Kommunenr]],\"0\"),Table11[Nr],0),MATCH(hf_kommune[[#Headers],[2036]],Table11[#Headers],0))","v":73},{"$f":"INDEX(Table11[],MATCH(TEXT(hf_kommune[[#This Row],[Kommunenr]],\"0\"),Table11[Nr],0),MATCH(hf_kommune[[#Headers],[2037]],Table11[#Headers],0))","v":64},{"$f":"INDEX(Table11[],MATCH(TEXT(hf_kommune[[#This Row],[Kommunenr]],\"0\"),Table11[Nr],0),MATCH(hf_kommune[[#Headers],[2038]],Table11[#Headers],0))","v":71},{"$f":"INDEX(Table11[],MATCH(TEXT(hf_kommune[[#This Row],[Kommunenr]],\"0\"),Table11[Nr],0),MATCH(hf_kommune[[#Headers],[2039]],Table11[#Headers],0))","v":68},{"$f":"INDEX(Table11[],MATCH(TEXT(hf_kommune[[#This Row],[Kommunenr]],\"0\"),Table11[Nr],0),MATCH(hf_kommune[[#Headers],[2040]],Table11[#Headers],0))","v":67},6175,6163,6162,6172,6192,6211,6231,6250,6269,6287,6304,6320,6335,6350,6363,6377,6389,6401,6413]
[3817,"Midt-Telemark","Helse Sør-Øst","Sykehuset Telemark","Notodden",{"$f":"INDEX(Table11[],MATCH(TEXT(hf_kommune[[#This Row],[Kommunenr]],\"0\"),Table11[Nr],0),MATCH(hf_kommune[[#Headers],[2020]],Table11[#Headers],0))","v":123},{"$f":"INDEX(Table11[],MATCH(TEXT(hf_kommune[[#This Row],[Kommunenr]],\"0\"),Table11[Nr],0),MATCH(hf_kommune[[#Headers],[2021]],Table11[#Headers],0))","v":113},{"$f":"INDEX(Table11[],MATCH(TEXT(hf_kommune[[#This Row],[Kommunenr]],\"0\"),Table11[Nr],0),MATCH(hf_kommune[[#Headers],[2022]],Table11[#Headers],0))","v":143},{"$f":"INDEX(Table11[],MATCH(TEXT(hf_kommune[[#This Row],[Kommunenr]],\"0\"),Table11[Nr],0),MATCH(hf_kommune[[#Headers],[2023]],Table11[#Headers],0))","v":130},{"$f":"INDEX(Table11[],MATCH(TEXT(hf_kommune[[#This Row],[Kommunenr]],\"0\"),Table11[Nr],0),MATCH(hf_kommune[[#Headers],[2024]],Table11[#Headers],0))","v":141},{"$f":"INDEX(Table11[],MATCH(TEXT(hf_kommune[[#This Row],[Kommunenr]],\"0\"),Table11[Nr],0),MATCH(hf_kommune[[#Headers],[2025]],Table11[#Headers],0))","v":115},{"$f":"INDEX(Table11[],MATCH(TEXT(hf_kommune[[#This Row],[Kommunenr]],\"0\"),Table11[Nr],0),MATCH(hf_kommune[[#Headers],[2026]],Table11[#Headers],0))","v":157},{"$f":"INDEX(Table11[],MATCH(TEXT(hf_kommune[[#This Row],[Kommunenr]],\"0\"),Table11[Nr],0),MATCH(hf_kommune[[#Headers],[2027]],Table11[#Headers],0))","v":133},{"$f":"INDEX(Table11[],MATCH(TEXT(hf_kommune[[#This Row],[Kommunenr]],\"0\"),Table11[Nr],0),MATCH(hf_kommune[[#Headers],[2028]],Table11[#Headers],0))","v":160},{"$f":"INDEX(Table11[],MATCH(TEXT(hf_kommune[[#This Row],[Kommunenr]],\"0\"),Table11[Nr],0),MATCH(hf_kommune[[#Headers],[2029]],Table11[#Headers],0))","v":140},{"$f":"INDEX(Table11[],MATCH(TEXT(hf_kommune[[#This Row],[Kommunenr]],\"0\"),Table11[Nr],0),MATCH(hf_kommune[[#Headers],[2030]],Table11[#Headers],0))","v":138},{"$f":"INDEX(Table11[],MATCH(TEXT(hf_kommune[[#This Row],[Kommunenr]],\"0\"),Table11[Nr],0),MATCH(hf_kommune[[#Headers],[2031]],Table11[#Headers],0))","v":137},{"$f":"INDEX(Table11[],MATCH(TEXT(hf_kommune[[#This Row],[Kommunenr]],\"0\"),Table11[Nr],0),MATCH(hf_kommune[[#Headers],[2032]],Table11[#Headers],0))","v":129},{"$f":"INDEX(Table11[],MATCH(TEXT(hf_kommune[[#This Row],[Kommunenr]],\"0\"),Table11[Nr],0),MATCH(hf_kommune[[#Headers],[2033]],Table11[#Headers],0))","v":141},{"$f":"INDEX(Table11[],MATCH(TEXT(hf_kommune[[#This Row],[Kommunenr]],\"0\"),Table11[Nr],0),MATCH(hf_kommune[[#Headers],[2034]],Table11[#Headers],0))","v":135},{"$f":"INDEX(Table11[],MATCH(TEXT(hf_kommune[[#This Row],[Kommunenr]],\"0\"),Table11[Nr],0),MATCH(hf_kommune[[#Headers],[2035]],Table11[#Headers],0))","v":125},{"$f":"INDEX(Table11[],MATCH(TEXT(hf_kommune[[#This Row],[Kommunenr]],\"0\"),Table11[Nr],0),MATCH(hf_kommune[[#Headers],[2036]],Table11[#Headers],0))","v":144},{"$f":"INDEX(Table11[],MATCH(TEXT(hf_kommune[[#This Row],[Kommunenr]],\"0\"),Table11[Nr],0),MATCH(hf_kommune[[#Headers],[2037]],Table11[#Headers],0))","v":137},{"$f":"INDEX(Table11[],MATCH(TEXT(hf_kommune[[#This Row],[Kommunenr]],\"0\"),Table11[Nr],0),MATCH(hf_kommune[[#Headers],[2038]],Table11[#Headers],0))","v":137},{"$f":"INDEX(Table11[],MATCH(TEXT(hf_kommune[[#This Row],[Kommunenr]],\"0\"),Table11[Nr],0),MATCH(hf_kommune[[#Headers],[2039]],Table11[#Headers],0))","v":139},{"$f":"INDEX(Table11[],MATCH(TEXT(hf_kommune[[#This Row],[Kommunenr]],\"0\"),Table11[Nr],0),MATCH(hf_kommune[[#Headers],[2040]],Table11[#Headers],0))","v":132},10562,10631,10694,10753,10811,10870,10930,10990,11049,11107,11163,11216,11268,11318,11366,11412,11455,11496,11534]
[4629,"Modalen","Helse Vest","Helse Bergen","Voss",{"$f":"INDEX(Table11[],MATCH(TEXT(hf_kommune[[#This Row],[Kommunenr]],\"0\"),Table11[Nr],0),MATCH(hf_kommune[[#Headers],[2020]],Table11[#Headers],0))","v":9},{"$f":"INDEX(Table11[],MATCH(TEXT(hf_kommune[[#This Row],[Kommunenr]],\"0\"),Table11[Nr],0),MATCH(hf_kommune[[#Headers],[2021]],Table11[#Headers],0))","v":4},{"$f":"INDEX(Table11[],MATCH(TEXT(hf_kommune[[#This Row],[Kommunenr]],\"0\"),Table11[Nr],0),MATCH(hf_kommune[[#Headers],[2022]],Table11[#Headers],0))","v":6},{"$f":"INDEX(Table11[],MATCH(TEXT(hf_kommune[[#This Row],[Kommunenr]],\"0\"),Table11[Nr],0),MATCH(hf_kommune[[#Headers],[2023]],Table11[#Headers],0))","v":8},{"$f":"INDEX(Table11[],MATCH(TEXT(hf_kommune[[#This Row],[Kommunenr]],\"0\"),Table11[Nr],0),MATCH(hf_kommune[[#Headers],[2024]],Table11[#Headers],0))","v":0},{"$f":"INDEX(Table11[],MATCH(TEXT(hf_kommune[[#This Row],[Kommunenr]],\"0\"),Table11[Nr],0),MATCH(hf_kommune[[#Headers],[2025]],Table11[#Headers],0))","v":1},{"$f":"INDEX(Table11[],MATCH(TEXT(hf_kommune[[#This Row],[Kommunenr]],\"0\"),Table11[Nr],0),MATCH(hf_kommune[[#Headers],[2026]],Table11[#Headers],0))","v":4},{"$f":"INDEX(Table11[],MATCH(TEXT(hf_kommune[[#This Row],[Kommunenr]],\"0\"),Table11[Nr],0),MATCH(hf_kommune[[#Headers],[2027]],Table11[#Headers],0))","v":4},{"$f":"INDEX(Table11[],MATCH(TEXT(hf_kommune[[#This Row],[Kommunenr]],\"0\"),Table11[Nr],0),MATCH(hf_kommune[[#Headers],[2028]],Table11[#Headers],0))","v":6},{"$f":"INDEX(Table11[],MATCH(TEXT(hf_kommune[[#This Row],[Kommunenr]],\"0\"),Table11[Nr],0),MATCH(hf_kommune[[#Headers],[2029]],Table11[#Headers],0))","v":6},{"$f":"INDEX(Table11[],MATCH(TEXT(hf_kommune[[#This Row],[Kommunenr]],\"0\"),Table11[Nr],0),MATCH(hf_kommune[[#Headers],[2030]],Table11[#Headers],0))","v":5},{"$f":"INDEX(Table11[],MATCH(TEXT(hf_kommune[[#This Row],[Kommunenr]],\"0\"),Table11[Nr],0),MATCH(hf_kommune[[#Headers],[2031]],Table11[#Headers],0))","v":2},{"$f":"INDEX(Table11[],MATCH(TEXT(hf_kommune[[#This Row],[Kommunenr]],\"0\"),Table11[Nr],0),MATCH(hf_kommune[[#Headers],[2032]],Table11[#Headers],0))","v":4},{"$f":"INDEX(Table11[],MATCH(TEXT(hf_kommune[[#This Row],[Kommunenr]],\"0\"),Table11[Nr],0),MATCH(hf_kommune[[#Headers],[2033]],Table11[#Headers],0))","v":5},{"$f":"INDEX(Table11[],MATCH(TEXT(hf_kommune[[#This Row],[Kommunenr]],\"0\"),Table11[Nr],0),MATCH(hf_kommune[[#Headers],[2034]],Table11[#Headers],0))","v":6},{"$f":"INDEX(Table11[],MATCH(TEXT(hf_kommune[[#This Row],[Kommunenr]],\"0\"),Table11[Nr],0),MATCH(hf_kommune[[#Headers],[2035]],Table11[#Headers],0))","v":5},{"$f":"INDEX(Table11[],MATCH(TEXT(hf_kommune[[#This Row],[Kommunenr]],\"0\"),Table11[Nr],0),MATCH(hf_kommune[[#Headers],[2036]],Table11[#Headers],0))","v":4},{"$f":"INDEX(Table11[],MATCH(TEXT(hf_kommune[[#This Row],[Kommunenr]],\"0\"),Table11[Nr],0),MATCH(hf_kommune[[#Headers],[2037]],Table11[#Headers],0))","v":6},{"$f":"INDEX(Table11[],MATCH(TEXT(hf_kommune[[#This Row],[Kommunenr]],\"0\"),Table11[Nr],0),MATCH(hf_kommune[[#Headers],[2038]],Table11[#Headers],0))","v":5},{"$f":"INDEX(Table11[],MATCH(TEXT(hf_kommune[[#This Row],[Kommunenr]],\"0\"),Table11[Nr],0),MATCH(hf_kommune[[#Headers],[2039]],Table11[#Headers],0))","v":8},{"$f":"INDEX(Table11[],MATCH(TEXT(hf_kommune[[#This Row],[Kommunenr]],\"0\"),Table11[Nr],0),MATCH(hf_kommune[[#Headers],[2040]],Table11[#Headers],0))","v":5},389,390,392,395,398,401,404,408,411,414,417,421,424,428,432,435,439,442,444]
[3047,"Modum","Helse Sør-Øst","Vestre Viken","Drammen",{"$f":"INDEX(Table11[],MATCH(TEXT(hf_kommune[[#This Row],[Kommunenr]],\"0\"),Table11[Nr],0),MATCH(hf_kommune[[#Headers],[2020]],Table11[#Headers],0))","v":217},{"$f":"INDEX(Table11[],MATCH(TEXT(hf_kommune[[#This Row],[Kommunenr]],\"0\"),Table11[Nr],0),MATCH(hf_kommune[[#Headers],[2021]],Table11[#Headers],0))","v":182},{"$f":"INDEX(Table11[],MATCH(TEXT(hf_kommune[[#This Row],[Kommunenr]],\"0\"),Table11[Nr],0),MATCH(hf_kommune[[#Headers],[2022]],Table11[#Headers],0))","v":204},{"$f":"INDEX(Table11[],MATCH(TEXT(hf_kommune[[#This Row],[Kommunenr]],\"0\"),Table11[Nr],0),MATCH(hf_kommune[[#Headers],[2023]],Table11[#Headers],0))","v":184},{"$f":"INDEX(Table11[],MATCH(TEXT(hf_kommune[[#This Row],[Kommunenr]],\"0\"),Table11[Nr],0),MATCH(hf_kommune[[#Headers],[2024]],Table11[#Headers],0))","v":194},{"$f":"INDEX(Table11[],MATCH(TEXT(hf_kommune[[#This Row],[Kommunenr]],\"0\"),Table11[Nr],0),MATCH(hf_kommune[[#Headers],[2025]],Table11[#Headers],0))","v":211},{"$f":"INDEX(Table11[],MATCH(TEXT(hf_kommune[[#This Row],[Kommunenr]],\"0\"),Table11[Nr],0),MATCH(hf_kommune[[#Headers],[2026]],Table11[#Headers],0))","v":202},{"$f":"INDEX(Table11[],MATCH(TEXT(hf_kommune[[#This Row],[Kommunenr]],\"0\"),Table11[Nr],0),MATCH(hf_kommune[[#Headers],[2027]],Table11[#Headers],0))","v":233},{"$f":"INDEX(Table11[],MATCH(TEXT(hf_kommune[[#This Row],[Kommunenr]],\"0\"),Table11[Nr],0),MATCH(hf_kommune[[#Headers],[2028]],Table11[#Headers],0))","v":204},{"$f":"INDEX(Table11[],MATCH(TEXT(hf_kommune[[#This Row],[Kommunenr]],\"0\"),Table11[Nr],0),MATCH(hf_kommune[[#Headers],[2029]],Table11[#Headers],0))","v":191},{"$f":"INDEX(Table11[],MATCH(TEXT(hf_kommune[[#This Row],[Kommunenr]],\"0\"),Table11[Nr],0),MATCH(hf_kommune[[#Headers],[2030]],Table11[#Headers],0))","v":202},{"$f":"INDEX(Table11[],MATCH(TEXT(hf_kommune[[#This Row],[Kommunenr]],\"0\"),Table11[Nr],0),MATCH(hf_kommune[[#Headers],[2031]],Table11[#Headers],0))","v":198},{"$f":"INDEX(Table11[],MATCH(TEXT(hf_kommune[[#This Row],[Kommunenr]],\"0\"),Table11[Nr],0),MATCH(hf_kommune[[#Headers],[2032]],Table11[#Headers],0))","v":186},{"$f":"INDEX(Table11[],MATCH(TEXT(hf_kommune[[#This Row],[Kommunenr]],\"0\"),Table11[Nr],0),MATCH(hf_kommune[[#Headers],[2033]],Table11[#Headers],0))","v":185},{"$f":"INDEX(Table11[],MATCH(TEXT(hf_kommune[[#This Row],[Kommunenr]],\"0\"),Table11[Nr],0),MATCH(hf_kommune[[#Headers],[2034]],Table11[#Headers],0))","v":191},{"$f":"INDEX(Table11[],MATCH(TEXT(hf_kommune[[#This Row],[Kommunenr]],\"0\"),Table11[Nr],0),MATCH(hf_kommune[[#Headers],[2035]],Table11[#Headers],0))","v":203},{"$f":"INDEX(Table11[],MATCH(TEXT(hf_kommune[[#This Row],[Kommunenr]],\"0\"),Table11[Nr],0),MATCH(hf_kommune[[#Headers],[2036]],Table11[#Headers],0))","v":203},{"$f":"INDEX(Table11[],MATCH(TEXT(hf_kommune[[#This Row],[Kommunenr]],\"0\"),Table11[Nr],0),MATCH(hf_kommune[[#Headers],[2037]],Table11[#Headers],0))","v":207},{"$f":"INDEX(Table11[],MATCH(TEXT(hf_kommune[[#This Row],[Kommunenr]],\"0\"),Table11[Nr],0),MATCH(hf_kommune[[#Headers],[2038]],Table11[#Headers],0))","v":206},{"$f":"INDEX(Table11[],MATCH(TEXT(hf_kommune[[#This Row],[Kommunenr]],\"0\"),Table11[Nr],0),MATCH(hf_kommune[[#Headers],[2039]],Table11[#Headers],0))","v":200},{"$f":"INDEX(Table11[],MATCH(TEXT(hf_kommune[[#This Row],[Kommunenr]],\"0\"),Table11[Nr],0),MATCH(hf_kommune[[#Headers],[2040]],Table11[#Headers],0))","v":211},14205,14267,14338,14417,14506,14594,14681,14768,14853,14937,15018,15098,15176,15253,15329,15403,15475,15543,15610]
[1506,"Molde","Helse Midt-Norge","Helse Møre og Romsdal","Molde",{"$f":"INDEX(Table11[],MATCH(TEXT(hf_kommune[[#This Row],[Kommunenr]],\"0\"),Table11[Nr],0),MATCH(hf_kommune[[#Headers],[2020]],Table11[#Headers],0))","v":428},{"$f":"INDEX(Table11[],MATCH(TEXT(hf_kommune[[#This Row],[Kommunenr]],\"0\"),Table11[Nr],0),MATCH(hf_kommune[[#Headers],[2021]],Table11[#Headers],0))","v":421},{"$f":"INDEX(Table11[],MATCH(TEXT(hf_kommune[[#This Row],[Kommunenr]],\"0\"),Table11[Nr],0),MATCH(hf_kommune[[#Headers],[2022]],Table11[#Headers],0))","v":433},{"$f":"INDEX(Table11[],MATCH(TEXT(hf_kommune[[#This Row],[Kommunenr]],\"0\"),Table11[Nr],0),MATCH(hf_kommune[[#Headers],[2023]],Table11[#Headers],0))","v":394},{"$f":"INDEX(Table11[],MATCH(TEXT(hf_kommune[[#This Row],[Kommunenr]],\"0\"),Table11[Nr],0),MATCH(hf_kommune[[#Headers],[2024]],Table11[#Headers],0))","v":458},{"$f":"INDEX(Table11[],MATCH(TEXT(hf_kommune[[#This Row],[Kommunenr]],\"0\"),Table11[Nr],0),MATCH(hf_kommune[[#Headers],[2025]],Table11[#Headers],0))","v":453},{"$f":"INDEX(Table11[],MATCH(TEXT(hf_kommune[[#This Row],[Kommunenr]],\"0\"),Table11[Nr],0),MATCH(hf_kommune[[#Headers],[2026]],Table11[#Headers],0))","v":429},{"$f":"INDEX(Table11[],MATCH(TEXT(hf_kommune[[#This Row],[Kommunenr]],\"0\"),Table11[Nr],0),MATCH(hf_kommune[[#Headers],[2027]],Table11[#Headers],0))","v":434},{"$f":"INDEX(Table11[],MATCH(TEXT(hf_kommune[[#This Row],[Kommunenr]],\"0\"),Table11[Nr],0),MATCH(hf_kommune[[#Headers],[2028]],Table11[#Headers],0))","v":423},{"$f":"INDEX(Table11[],MATCH(TEXT(hf_kommune[[#This Row],[Kommunenr]],\"0\"),Table11[Nr],0),MATCH(hf_kommune[[#Headers],[2029]],Table11[#Headers],0))","v":403},{"$f":"INDEX(Table11[],MATCH(TEXT(hf_kommune[[#This Row],[Kommunenr]],\"0\"),Table11[Nr],0),MATCH(hf_kommune[[#Headers],[2030]],Table11[#Headers],0))","v":381},{"$f":"INDEX(Table11[],MATCH(TEXT(hf_kommune[[#This Row],[Kommunenr]],\"0\"),Table11[Nr],0),MATCH(hf_kommune[[#Headers],[2031]],Table11[#Headers],0))","v":333},{"$f":"INDEX(Table11[],MATCH(TEXT(hf_kommune[[#This Row],[Kommunenr]],\"0\"),Table11[Nr],0),MATCH(hf_kommune[[#Headers],[2032]],Table11[#Headers],0))","v":369},{"$f":"INDEX(Table11[],MATCH(TEXT(hf_kommune[[#This Row],[Kommunenr]],\"0\"),Table11[Nr],0),MATCH(hf_kommune[[#Headers],[2033]],Table11[#Headers],0))","v":367},{"$f":"INDEX(Table11[],MATCH(TEXT(hf_kommune[[#This Row],[Kommunenr]],\"0\"),Table11[Nr],0),MATCH(hf_kommune[[#Headers],[2034]],Table11[#Headers],0))","v":384},{"$f":"INDEX(Table11[],MATCH(TEXT(hf_kommune[[#This Row],[Kommunenr]],\"0\"),Table11[Nr],0),MATCH(hf_kommune[[#Headers],[2035]],Table11[#Headers],0))","v":391},{"$f":"INDEX(Table11[],MATCH(TEXT(hf_kommune[[#This Row],[Kommunenr]],\"0\"),Table11[Nr],0),MATCH(hf_kommune[[#Headers],[2036]],Table11[#Headers],0))","v":414},{"$f":"INDEX(Table11[],MATCH(TEXT(hf_kommune[[#This Row],[Kommunenr]],\"0\"),Table11[Nr],0),MATCH(hf_kommune[[#Headers],[2037]],Table11[#Headers],0))","v":394},{"$f":"INDEX(Table11[],MATCH(TEXT(hf_kommune[[#This Row],[Kommunenr]],\"0\"),Table11[Nr],0),MATCH(hf_kommune[[#Headers],[2038]],Table11[#Headers],0))","v":401},{"$f":"INDEX(Table11[],MATCH(TEXT(hf_kommune[[#This Row],[Kommunenr]],\"0\"),Table11[Nr],0),MATCH(hf_kommune[[#Headers],[2039]],Table11[#Headers],0))","v":403},{"$f":"INDEX(Table11[],MATCH(TEXT(hf_kommune[[#This Row],[Kommunenr]],\"0\"),Table11[Nr],0),MATCH(hf_kommune[[#Headers],[2040]],Table11[#Headers],0))","v":424},31945,31990,32059,32153,32273,32391,32506,32617,32725,32828,32926,33020,33110,33198,33284,33366,33442,33511,33575]
[1874,"Moskenes","Helse Nord","Nordlandssykehuset","Lofoten",{"$f":"INDEX(Table11[],MATCH(TEXT(hf_kommune[[#This Row],[Kommunenr]],\"0\"),Table11[Nr],0),MATCH(hf_kommune[[#Headers],[2020]],Table11[#Headers],0))","v":20},{"$f":"INDEX(Table11[],MATCH(TEXT(hf_kommune[[#This Row],[Kommunenr]],\"0\"),Table11[Nr],0),MATCH(hf_kommune[[#Headers],[2021]],Table11[#Headers],0))","v":12},{"$f":"INDEX(Table11[],MATCH(TEXT(hf_kommune[[#This Row],[Kommunenr]],\"0\"),Table11[Nr],0),MATCH(hf_kommune[[#Headers],[2022]],Table11[#Headers],0))","v":16},{"$f":"INDEX(Table11[],MATCH(TEXT(hf_kommune[[#This Row],[Kommunenr]],\"0\"),Table11[Nr],0),MATCH(hf_kommune[[#Headers],[2023]],Table11[#Headers],0))","v":12},{"$f":"INDEX(Table11[],MATCH(TEXT(hf_kommune[[#This Row],[Kommunenr]],\"0\"),Table11[Nr],0),MATCH(hf_kommune[[#Headers],[2024]],Table11[#Headers],0))","v":12},{"$f":"INDEX(Table11[],MATCH(TEXT(hf_kommune[[#This Row],[Kommunenr]],\"0\"),Table11[Nr],0),MATCH(hf_kommune[[#Headers],[2025]],Table11[#Headers],0))","v":17},{"$f":"INDEX(Table11[],MATCH(TEXT(hf_kommune[[#This Row],[Kommunenr]],\"0\"),Table11[Nr],0),MATCH(hf_kommune[[#Headers],[2026]],Table11[#Headers],0))","v":17},{"$f":"INDEX(Table11[],MATCH(TEXT(hf_kommune[[#This Row],[Kommunenr]],\"0\"),Table11[Nr],0),MATCH(hf_kommune[[#Headers],[2027]],Table11[#Headers],0))","v":15},{"$f":"INDEX(Table11[],MATCH(TEXT(hf_kommune[[#This Row],[Kommunenr]],\"0\"),Table11[Nr],0),MATCH(hf_kommune[[#Headers],[2028]],Table11[#Headers],0))","v":17},{"$f":"INDEX(Table11[],MATCH(TEXT(hf_kommune[[#This Row],[Kommunenr]],\"0\"),Table11[Nr],0),MATCH(hf_kommune[[#Headers],[2029]],Table11[#Headers],0))","v":15},{"$f":"INDEX(Table11[],MATCH(TEXT(hf_kommune[[#This Row],[Kommunenr]],\"0\"),Table11[Nr],0),MATCH(hf_kommune[[#Headers],[2030]],Table11[#Headers],0))","v":12},{"$f":"INDEX(Table11[],MATCH(TEXT(hf_kommune[[#This Row],[Kommunenr]],\"0\"),Table11[Nr],0),MATCH(hf_kommune[[#Headers],[2031]],Table11[#Headers],0))","v":15},{"$f":"INDEX(Table11[],MATCH(TEXT(hf_kommune[[#This Row],[Kommunenr]],\"0\"),Table11[Nr],0),MATCH(hf_kommune[[#Headers],[2032]],Table11[#Headers],0))","v":17},{"$f":"INDEX(Table11[],MATCH(TEXT(hf_kommune[[#This Row],[Kommunenr]],\"0\"),Table11[Nr],0),MATCH(hf_kommune[[#Headers],[2033]],Table11[#Headers],0))","v":16},{"$f":"INDEX(Table11[],MATCH(TEXT(hf_kommune[[#This Row],[Kommunenr]],\"0\"),Table11[Nr],0),MATCH(hf_kommune[[#Headers],[2034]],Table11[#Headers],0))","v":19},{"$f":"INDEX(Table11[],MATCH(TEXT(hf_kommune[[#This Row],[Kommunenr]],\"0\"),Table11[Nr],0),MATCH(hf_kommune[[#Headers],[2035]],Table11[#Headers],0))","v":13},{"$f":"INDEX(Table11[],MATCH(TEXT(hf_kommune[[#This Row],[Kommunenr]],\"0\"),Table11[Nr],0),MATCH(hf_kommune[[#Headers],[2036]],Table11[#Headers],0))","v":16},{"$f":"INDEX(Table11[],MATCH(TEXT(hf_kommune[[#This Row],[Kommunenr]],\"0\"),Table11[Nr],0),MATCH(hf_kommune[[#Headers],[2037]],Table11[#Headers],0))","v":17},{"$f":"INDEX(Table11[],MATCH(TEXT(hf_kommune[[#This Row],[Kommunenr]],\"0\"),Table11[Nr],0),MATCH(hf_kommune[[#Headers],[2038]],Table11[#Headers],0))","v":19},{"$f":"INDEX(Table11[],MATCH(TEXT(hf_kommune[[#This Row],[Kommunenr]],\"0\"),Table11[Nr],0),MATCH(hf_kommune[[#Headers],[2039]],Table11[#Headers],0))","v":14},{"$f":"INDEX(Table11[],MATCH(TEXT(hf_kommune[[#This Row],[Kommunenr]],\"0\"),Table11[Nr],0),MATCH(hf_kommune[[#Headers],[2040]],Table11[#Headers],0))","v":14},1024,1031,1037,1042,1047,1052,1058,1063,1068,1073,1079,1084,1090,1095,1101,1106,1111,1116,1121]
[3002,"Moss","Helse Sør-Øst","Sykehuset Østfold","Kalnes",{"$f":"INDEX(Table11[],MATCH(TEXT(hf_kommune[[#This Row],[Kommunenr]],\"0\"),Table11[Nr],0),MATCH(hf_kommune[[#Headers],[2020]],Table11[#Headers],0))","v":750},{"$f":"INDEX(Table11[],MATCH(TEXT(hf_kommune[[#This Row],[Kommunenr]],\"0\"),Table11[Nr],0),MATCH(hf_kommune[[#Headers],[2021]],Table11[#Headers],0))","v":755},{"$f":"INDEX(Table11[],MATCH(TEXT(hf_kommune[[#This Row],[Kommunenr]],\"0\"),Table11[Nr],0),MATCH(hf_kommune[[#Headers],[2022]],Table11[#Headers],0))","v":737},{"$f":"INDEX(Table11[],MATCH(TEXT(hf_kommune[[#This Row],[Kommunenr]],\"0\"),Table11[Nr],0),MATCH(hf_kommune[[#Headers],[2023]],Table11[#Headers],0))","v":762},{"$f":"INDEX(Table11[],MATCH(TEXT(hf_kommune[[#This Row],[Kommunenr]],\"0\"),Table11[Nr],0),MATCH(hf_kommune[[#Headers],[2024]],Table11[#Headers],0))","v":807},{"$f":"INDEX(Table11[],MATCH(TEXT(hf_kommune[[#This Row],[Kommunenr]],\"0\"),Table11[Nr],0),MATCH(hf_kommune[[#Headers],[2025]],Table11[#Headers],0))","v":801},{"$f":"INDEX(Table11[],MATCH(TEXT(hf_kommune[[#This Row],[Kommunenr]],\"0\"),Table11[Nr],0),MATCH(hf_kommune[[#Headers],[2026]],Table11[#Headers],0))","v":752},{"$f":"INDEX(Table11[],MATCH(TEXT(hf_kommune[[#This Row],[Kommunenr]],\"0\"),Table11[Nr],0),MATCH(hf_kommune[[#Headers],[2027]],Table11[#Headers],0))","v":790},{"$f":"INDEX(Table11[],MATCH(TEXT(hf_kommune[[#This Row],[Kommunenr]],\"0\"),Table11[Nr],0),MATCH(hf_kommune[[#Headers],[2028]],Table11[#Headers],0))","v":783},{"$f":"INDEX(Table11[],MATCH(TEXT(hf_kommune[[#This Row],[Kommunenr]],\"0\"),Table11[Nr],0),MATCH(hf_kommune[[#Headers],[2029]],Table11[#Headers],0))","v":745},{"$f":"INDEX(Table11[],MATCH(TEXT(hf_kommune[[#This Row],[Kommunenr]],\"0\"),Table11[Nr],0),MATCH(hf_kommune[[#Headers],[2030]],Table11[#Headers],0))","v":759},{"$f":"INDEX(Table11[],MATCH(TEXT(hf_kommune[[#This Row],[Kommunenr]],\"0\"),Table11[Nr],0),MATCH(hf_kommune[[#Headers],[2031]],Table11[#Headers],0))","v":737},{"$f":"INDEX(Table11[],MATCH(TEXT(hf_kommune[[#This Row],[Kommunenr]],\"0\"),Table11[Nr],0),MATCH(hf_kommune[[#Headers],[2032]],Table11[#Headers],0))","v":689},{"$f":"INDEX(Table11[],MATCH(TEXT(hf_kommune[[#This Row],[Kommunenr]],\"0\"),Table11[Nr],0),MATCH(hf_kommune[[#Headers],[2033]],Table11[#Headers],0))","v":695},{"$f":"INDEX(Table11[],MATCH(TEXT(hf_kommune[[#This Row],[Kommunenr]],\"0\"),Table11[Nr],0),MATCH(hf_kommune[[#Headers],[2034]],Table11[#Headers],0))","v":718},{"$f":"INDEX(Table11[],MATCH(TEXT(hf_kommune[[#This Row],[Kommunenr]],\"0\"),Table11[Nr],0),MATCH(hf_kommune[[#Headers],[2035]],Table11[#Headers],0))","v":704},{"$f":"INDEX(Table11[],MATCH(TEXT(hf_kommune[[#This Row],[Kommunenr]],\"0\"),Table11[Nr],0),MATCH(hf_kommune[[#Headers],[2036]],Table11[#Headers],0))","v":739},{"$f":"INDEX(Table11[],MATCH(TEXT(hf_kommune[[#This Row],[Kommunenr]],\"0\"),Table11[Nr],0),MATCH(hf_kommune[[#Headers],[2037]],Table11[#Headers],0))","v":711},{"$f":"INDEX(Table11[],MATCH(TEXT(hf_kommune[[#This Row],[Kommunenr]],\"0\"),Table11[Nr],0),MATCH(hf_kommune[[#Headers],[2038]],Table11[#Headers],0))","v":702},{"$f":"INDEX(Table11[],MATCH(TEXT(hf_kommune[[#This Row],[Kommunenr]],\"0\"),Table11[Nr],0),MATCH(hf_kommune[[#Headers],[2039]],Table11[#Headers],0))","v":736},{"$f":"INDEX(Table11[],MATCH(TEXT(hf_kommune[[#This Row],[Kommunenr]],\"0\"),Table11[Nr],0),MATCH(hf_kommune[[#Headers],[2040]],Table11[#Headers],0))","v":723},49712,49976,50245,50522,50807,51089,51368,51644,51918,52189,52457,52723,52987,53251,53515,53777,54034,54287,54535]
[5418,"Målselv","Helse Nord","Universitetssykehuset Nord-Norge","Tromsø",{"$f":"INDEX(Table11[],MATCH(TEXT(hf_kommune[[#This Row],[Kommunenr]],\"0\"),Table11[Nr],0),MATCH(hf_kommune[[#Headers],[2020]],Table11[#Headers],0))","v":80},{"$f":"INDEX(Table11[],MATCH(TEXT(hf_kommune[[#This Row],[Kommunenr]],\"0\"),Table11[Nr],0),MATCH(hf_kommune[[#Headers],[2021]],Table11[#Headers],0))","v":97},{"$f":"INDEX(Table11[],MATCH(TEXT(hf_kommune[[#This Row],[Kommunenr]],\"0\"),Table11[Nr],0),MATCH(hf_kommune[[#Headers],[2022]],Table11[#Headers],0))","v":77},{"$f":"INDEX(Table11[],MATCH(TEXT(hf_kommune[[#This Row],[Kommunenr]],\"0\"),Table11[Nr],0),MATCH(hf_kommune[[#Headers],[2023]],Table11[#Headers],0))","v":77},{"$f":"INDEX(Table11[],MATCH(TEXT(hf_kommune[[#This Row],[Kommunenr]],\"0\"),Table11[Nr],0),MATCH(hf_kommune[[#Headers],[2024]],Table11[#Headers],0))","v":90},{"$f":"INDEX(Table11[],MATCH(TEXT(hf_kommune[[#This Row],[Kommunenr]],\"0\"),Table11[Nr],0),MATCH(hf_kommune[[#Headers],[2025]],Table11[#Headers],0))","v":101},{"$f":"INDEX(Table11[],MATCH(TEXT(hf_kommune[[#This Row],[Kommunenr]],\"0\"),Table11[Nr],0),MATCH(hf_kommune[[#Headers],[2026]],Table11[#Headers],0))","v":108},{"$f":"INDEX(Table11[],MATCH(TEXT(hf_kommune[[#This Row],[Kommunenr]],\"0\"),Table11[Nr],0),MATCH(hf_kommune[[#Headers],[2027]],Table11[#Headers],0))","v":82},{"$f":"INDEX(Table11[],MATCH(TEXT(hf_kommune[[#This Row],[Kommunenr]],\"0\"),Table11[Nr],0),MATCH(hf_kommune[[#Headers],[2028]],Table11[#Headers],0))","v":70},{"$f":"INDEX(Table11[],MATCH(TEXT(hf_kommune[[#This Row],[Kommunenr]],\"0\"),Table11[Nr],0),MATCH(hf_kommune[[#Headers],[2029]],Table11[#Headers],0))","v":86},{"$f":"INDEX(Table11[],MATCH(TEXT(hf_kommune[[#This Row],[Kommunenr]],\"0\"),Table11[Nr],0),MATCH(hf_kommune[[#Headers],[2030]],Table11[#Headers],0))","v":76},{"$f":"INDEX(Table11[],MATCH(TEXT(hf_kommune[[#This Row],[Kommunenr]],\"0\"),Table11[Nr],0),MATCH(hf_kommune[[#Headers],[2031]],Table11[#Headers],0))","v":61},{"$f":"INDEX(Table11[],MATCH(TEXT(hf_kommune[[#This Row],[Kommunenr]],\"0\"),Table11[Nr],0),MATCH(hf_kommune[[#Headers],[2032]],Table11[#Headers],0))","v":68},{"$f":"INDEX(Table11[],MATCH(TEXT(hf_kommune[[#This Row],[Kommunenr]],\"0\"),Table11[Nr],0),MATCH(hf_kommune[[#Headers],[2033]],Table11[#Headers],0))","v":70},{"$f":"INDEX(Table11[],MATCH(TEXT(hf_kommune[[#This Row],[Kommunenr]],\"0\"),Table11[Nr],0),MATCH(hf_kommune[[#Headers],[2034]],Table11[#Headers],0))","v":69},{"$f":"INDEX(Table11[],MATCH(TEXT(hf_kommune[[#This Row],[Kommunenr]],\"0\"),Table11[Nr],0),MATCH(hf_kommune[[#Headers],[2035]],Table11[#Headers],0))","v":53},{"$f":"INDEX(Table11[],MATCH(TEXT(hf_kommune[[#This Row],[Kommunenr]],\"0\"),Table11[Nr],0),MATCH(hf_kommune[[#Headers],[2036]],Table11[#Headers],0))","v":62},{"$f":"INDEX(Table11[],MATCH(TEXT(hf_kommune[[#This Row],[Kommunenr]],\"0\"),Table11[Nr],0),MATCH(hf_kommune[[#Headers],[2037]],Table11[#Headers],0))","v":64},{"$f":"INDEX(Table11[],MATCH(TEXT(hf_kommune[[#This Row],[Kommunenr]],\"0\"),Table11[Nr],0),MATCH(hf_kommune[[#Headers],[2038]],Table11[#Headers],0))","v":66},{"$f":"INDEX(Table11[],MATCH(TEXT(hf_kommune[[#This Row],[Kommunenr]],\"0\"),Table11[Nr],0),MATCH(hf_kommune[[#Headers],[2039]],Table11[#Headers],0))","v":71},{"$f":"INDEX(Table11[],MATCH(TEXT(hf_kommune[[#This Row],[Kommunenr]],\"0\"),Table11[Nr],0),MATCH(hf_kommune[[#Headers],[2040]],Table11[#Headers],0))","v":66},6648,6662,6680,6702,6729,6754,6778,6801,6824,6848,6870,6893,6914,6934,6952,6969,6983,6996,7007]
[5434,"Måsøy","Helse Nord","Finnmarkssykehuset","Hammerfest",{"$f":"INDEX(Table11[],MATCH(TEXT(hf_kommune[[#This Row],[Kommunenr]],\"0\"),Table11[Nr],0),MATCH(hf_kommune[[#Headers],[2020]],Table11[#Headers],0))","v":17},{"$f":"INDEX(Table11[],MATCH(TEXT(hf_kommune[[#This Row],[Kommunenr]],\"0\"),Table11[Nr],0),MATCH(hf_kommune[[#Headers],[2021]],Table11[#Headers],0))","v":17},{"$f":"INDEX(Table11[],MATCH(TEXT(hf_kommune[[#This Row],[Kommunenr]],\"0\"),Table11[Nr],0),MATCH(hf_kommune[[#Headers],[2022]],Table11[#Headers],0))","v":19},{"$f":"INDEX(Table11[],MATCH(TEXT(hf_kommune[[#This Row],[Kommunenr]],\"0\"),Table11[Nr],0),MATCH(hf_kommune[[#Headers],[2023]],Table11[#Headers],0))","v":15},{"$f":"INDEX(Table11[],MATCH(TEXT(hf_kommune[[#This Row],[Kommunenr]],\"0\"),Table11[Nr],0),MATCH(hf_kommune[[#Headers],[2024]],Table11[#Headers],0))","v":16},{"$f":"INDEX(Table11[],MATCH(TEXT(hf_kommune[[#This Row],[Kommunenr]],\"0\"),Table11[Nr],0),MATCH(hf_kommune[[#Headers],[2025]],Table11[#Headers],0))","v":19},{"$f":"INDEX(Table11[],MATCH(TEXT(hf_kommune[[#This Row],[Kommunenr]],\"0\"),Table11[Nr],0),MATCH(hf_kommune[[#Headers],[2026]],Table11[#Headers],0))","v":17},{"$f":"INDEX(Table11[],MATCH(TEXT(hf_kommune[[#This Row],[Kommunenr]],\"0\"),Table11[Nr],0),MATCH(hf_kommune[[#Headers],[2027]],Table11[#Headers],0))","v":24},{"$f":"INDEX(Table11[],MATCH(TEXT(hf_kommune[[#This Row],[Kommunenr]],\"0\"),Table11[Nr],0),MATCH(hf_kommune[[#Headers],[2028]],Table11[#Headers],0))","v":14},{"$f":"INDEX(Table11[],MATCH(TEXT(hf_kommune[[#This Row],[Kommunenr]],\"0\"),Table11[Nr],0),MATCH(hf_kommune[[#Headers],[2029]],Table11[#Headers],0))","v":13},{"$f":"INDEX(Table11[],MATCH(TEXT(hf_kommune[[#This Row],[Kommunenr]],\"0\"),Table11[Nr],0),MATCH(hf_kommune[[#Headers],[2030]],Table11[#Headers],0))","v":18},{"$f":"INDEX(Table11[],MATCH(TEXT(hf_kommune[[#This Row],[Kommunenr]],\"0\"),Table11[Nr],0),MATCH(hf_kommune[[#Headers],[2031]],Table11[#Headers],0))","v":14},{"$f":"INDEX(Table11[],MATCH(TEXT(hf_kommune[[#This Row],[Kommunenr]],\"0\"),Table11[Nr],0),MATCH(hf_kommune[[#Headers],[2032]],Table11[#Headers],0))","v":17},{"$f":"INDEX(Table11[],MATCH(TEXT(hf_kommune[[#This Row],[Kommunenr]],\"0\"),Table11[Nr],0),MATCH(hf_kommune[[#Headers],[2033]],Table11[#Headers],0))","v":15},{"$f":"INDEX(Table11[],MATCH(TEXT(hf_kommune[[#This Row],[Kommunenr]],\"0\"),Table11[Nr],0),MATCH(hf_kommune[[#Headers],[2034]],Table11[#Headers],0))","v":19},{"$f":"INDEX(Table11[],MATCH(TEXT(hf_kommune[[#This Row],[Kommunenr]],\"0\"),Table11[Nr],0),MATCH(hf_kommune[[#Headers],[2035]],Table11[#Headers],0))","v":17},{"$f":"INDEX(Table11[],MATCH(TEXT(hf_kommune[[#This Row],[Kommunenr]],\"0\"),Table11[Nr],0),MATCH(hf_kommune[[#Headers],[2036]],Table11[#Headers],0))","v":20},{"$f":"INDEX(Table11[],MATCH(TEXT(hf_kommune[[#This Row],[Kommunenr]],\"0\"),Table11[Nr],0),MATCH(hf_kommune[[#Headers],[2037]],Table11[#Headers],0))","v":18},{"$f":"INDEX(Table11[],MATCH(TEXT(hf_kommune[[#This Row],[Kommunenr]],\"0\"),Table11[Nr],0),MATCH(hf_kommune[[#Headers],[2038]],Table11[#Headers],0))","v":19},{"$f":"INDEX(Table11[],MATCH(TEXT(hf_kommune[[#This Row],[Kommunenr]],\"0\"),Table11[Nr],0),MATCH(hf_kommune[[#Headers],[2039]],Table11[#Headers],0))","v":17},{"$f":"INDEX(Table11[],MATCH(TEXT(hf_kommune[[#This Row],[Kommunenr]],\"0\"),Table11[Nr],0),MATCH(hf_kommune[[#Headers],[2040]],Table11[#Headers],0))","v":18},1264,1281,1294,1302,1307,1311,1315,1320,1324,1328,1331,1335,1338,1342,1345,1347,1350,1352,1354]
[5007,"Namsos","Helse Midt-Norge","Helse Nord-Trøndelag","Namsos",{"$f":"INDEX(Table11[],MATCH(TEXT(hf_kommune[[#This Row],[Kommunenr]],\"0\"),Table11[Nr],0),MATCH(hf_kommune[[#Headers],[2020]],Table11[#Headers],0))","v":200},{"$f":"INDEX(Table11[],MATCH(TEXT(hf_kommune[[#This Row],[Kommunenr]],\"0\"),Table11[Nr],0),MATCH(hf_kommune[[#Headers],[2021]],Table11[#Headers],0))","v":214},{"$f":"INDEX(Table11[],MATCH(TEXT(hf_kommune[[#This Row],[Kommunenr]],\"0\"),Table11[Nr],0),MATCH(hf_kommune[[#Headers],[2022]],Table11[#Headers],0))","v":214},{"$f":"INDEX(Table11[],MATCH(TEXT(hf_kommune[[#This Row],[Kommunenr]],\"0\"),Table11[Nr],0),MATCH(hf_kommune[[#Headers],[2023]],Table11[#Headers],0))","v":228},{"$f":"INDEX(Table11[],MATCH(TEXT(hf_kommune[[#This Row],[Kommunenr]],\"0\"),Table11[Nr],0),MATCH(hf_kommune[[#Headers],[2024]],Table11[#Headers],0))","v":205},{"$f":"INDEX(Table11[],MATCH(TEXT(hf_kommune[[#This Row],[Kommunenr]],\"0\"),Table11[Nr],0),MATCH(hf_kommune[[#Headers],[2025]],Table11[#Headers],0))","v":208},{"$f":"INDEX(Table11[],MATCH(TEXT(hf_kommune[[#This Row],[Kommunenr]],\"0\"),Table11[Nr],0),MATCH(hf_kommune[[#Headers],[2026]],Table11[#Headers],0))","v":199},{"$f":"INDEX(Table11[],MATCH(TEXT(hf_kommune[[#This Row],[Kommunenr]],\"0\"),Table11[Nr],0),MATCH(hf_kommune[[#Headers],[2027]],Table11[#Headers],0))","v":202},{"$f":"INDEX(Table11[],MATCH(TEXT(hf_kommune[[#This Row],[Kommunenr]],\"0\"),Table11[Nr],0),MATCH(hf_kommune[[#Headers],[2028]],Table11[#Headers],0))","v":215},{"$f":"INDEX(Table11[],MATCH(TEXT(hf_kommune[[#This Row],[Kommunenr]],\"0\"),Table11[Nr],0),MATCH(hf_kommune[[#Headers],[2029]],Table11[#Headers],0))","v":199},{"$f":"INDEX(Table11[],MATCH(TEXT(hf_kommune[[#This Row],[Kommunenr]],\"0\"),Table11[Nr],0),MATCH(hf_kommune[[#Headers],[2030]],Table11[#Headers],0))","v":165},{"$f":"INDEX(Table11[],MATCH(TEXT(hf_kommune[[#This Row],[Kommunenr]],\"0\"),Table11[Nr],0),MATCH(hf_kommune[[#Headers],[2031]],Table11[#Headers],0))","v":150},{"$f":"INDEX(Table11[],MATCH(TEXT(hf_kommune[[#This Row],[Kommunenr]],\"0\"),Table11[Nr],0),MATCH(hf_kommune[[#Headers],[2032]],Table11[#Headers],0))","v":157},{"$f":"INDEX(Table11[],MATCH(TEXT(hf_kommune[[#This Row],[Kommunenr]],\"0\"),Table11[Nr],0),MATCH(hf_kommune[[#Headers],[2033]],Table11[#Headers],0))","v":161},{"$f":"INDEX(Table11[],MATCH(TEXT(hf_kommune[[#This Row],[Kommunenr]],\"0\"),Table11[Nr],0),MATCH(hf_kommune[[#Headers],[2034]],Table11[#Headers],0))","v":151},{"$f":"INDEX(Table11[],MATCH(TEXT(hf_kommune[[#This Row],[Kommunenr]],\"0\"),Table11[Nr],0),MATCH(hf_kommune[[#Headers],[2035]],Table11[#Headers],0))","v":167},{"$f":"INDEX(Table11[],MATCH(TEXT(hf_kommune[[#This Row],[Kommunenr]],\"0\"),Table11[Nr],0),MATCH(hf_kommune[[#Headers],[2036]],Table11[#Headers],0))","v":156},{"$f":"INDEX(Table11[],MATCH(TEXT(hf_kommune[[#This Row],[Kommunenr]],\"0\"),Table11[Nr],0),MATCH(hf_kommune[[#Headers],[2037]],Table11[#Headers],0))","v":138},{"$f":"INDEX(Table11[],MATCH(TEXT(hf_kommune[[#This Row],[Kommunenr]],\"0\"),Table11[Nr],0),MATCH(hf_kommune[[#Headers],[2038]],Table11[#Headers],0))","v":144},{"$f":"INDEX(Table11[],MATCH(TEXT(hf_kommune[[#This Row],[Kommunenr]],\"0\"),Table11[Nr],0),MATCH(hf_kommune[[#Headers],[2039]],Table11[#Headers],0))","v":153},{"$f":"INDEX(Table11[],MATCH(TEXT(hf_kommune[[#This Row],[Kommunenr]],\"0\"),Table11[Nr],0),MATCH(hf_kommune[[#Headers],[2040]],Table11[#Headers],0))","v":179},15057,14999,14955,14925,14908,14893,14882,14872,14862,14853,14844,14835,14826,14818,14811,14804,14795,14786,14775]
[5044,"Namsskogan","Helse Midt-Norge","Helse Nord-Trøndelag","Namsos",{"$f":"INDEX(Table11[],MATCH(TEXT(hf_kommune[[#This Row],[Kommunenr]],\"0\"),Table11[Nr],0),MATCH(hf_kommune[[#Headers],[2020]],Table11[#Headers],0))","v":7},{"$f":"INDEX(Table11[],MATCH(TEXT(hf_kommune[[#This Row],[Kommunenr]],\"0\"),Table11[Nr],0),MATCH(hf_kommune[[#Headers],[2021]],Table11[#Headers],0))","v":12},{"$f":"INDEX(Table11[],MATCH(TEXT(hf_kommune[[#This Row],[Kommunenr]],\"0\"),Table11[Nr],0),MATCH(hf_kommune[[#Headers],[2022]],Table11[#Headers],0))","v":18},{"$f":"INDEX(Table11[],MATCH(TEXT(hf_kommune[[#This Row],[Kommunenr]],\"0\"),Table11[Nr],0),MATCH(hf_kommune[[#Headers],[2023]],Table11[#Headers],0))","v":19},{"$f":"INDEX(Table11[],MATCH(TEXT(hf_kommune[[#This Row],[Kommunenr]],\"0\"),Table11[Nr],0),MATCH(hf_kommune[[#Headers],[2024]],Table11[#Headers],0))","v":13},{"$f":"INDEX(Table11[],MATCH(TEXT(hf_kommune[[#This Row],[Kommunenr]],\"0\"),Table11[Nr],0),MATCH(hf_kommune[[#Headers],[2025]],Table11[#Headers],0))","v":16},{"$f":"INDEX(Table11[],MATCH(TEXT(hf_kommune[[#This Row],[Kommunenr]],\"0\"),Table11[Nr],0),MATCH(hf_kommune[[#Headers],[2026]],Table11[#Headers],0))","v":9},{"$f":"INDEX(Table11[],MATCH(TEXT(hf_kommune[[#This Row],[Kommunenr]],\"0\"),Table11[Nr],0),MATCH(hf_kommune[[#Headers],[2027]],Table11[#Headers],0))","v":15},{"$f":"INDEX(Table11[],MATCH(TEXT(hf_kommune[[#This Row],[Kommunenr]],\"0\"),Table11[Nr],0),MATCH(hf_kommune[[#Headers],[2028]],Table11[#Headers],0))","v":12},{"$f":"INDEX(Table11[],MATCH(TEXT(hf_kommune[[#This Row],[Kommunenr]],\"0\"),Table11[Nr],0),MATCH(hf_kommune[[#Headers],[2029]],Table11[#Headers],0))","v":10},{"$f":"INDEX(Table11[],MATCH(TEXT(hf_kommune[[#This Row],[Kommunenr]],\"0\"),Table11[Nr],0),MATCH(hf_kommune[[#Headers],[2030]],Table11[#Headers],0))","v":8},{"$f":"INDEX(Table11[],MATCH(TEXT(hf_kommune[[#This Row],[Kommunenr]],\"0\"),Table11[Nr],0),MATCH(hf_kommune[[#Headers],[2031]],Table11[#Headers],0))","v":7},{"$f":"INDEX(Table11[],MATCH(TEXT(hf_kommune[[#This Row],[Kommunenr]],\"0\"),Table11[Nr],0),MATCH(hf_kommune[[#Headers],[2032]],Table11[#Headers],0))","v":12},{"$f":"INDEX(Table11[],MATCH(TEXT(hf_kommune[[#This Row],[Kommunenr]],\"0\"),Table11[Nr],0),MATCH(hf_kommune[[#Headers],[2033]],Table11[#Headers],0))","v":9},{"$f":"INDEX(Table11[],MATCH(TEXT(hf_kommune[[#This Row],[Kommunenr]],\"0\"),Table11[Nr],0),MATCH(hf_kommune[[#Headers],[2034]],Table11[#Headers],0))","v":8},{"$f":"INDEX(Table11[],MATCH(TEXT(hf_kommune[[#This Row],[Kommunenr]],\"0\"),Table11[Nr],0),MATCH(hf_kommune[[#Headers],[2035]],Table11[#Headers],0))","v":8},{"$f":"INDEX(Table11[],MATCH(TEXT(hf_kommune[[#This Row],[Kommunenr]],\"0\"),Table11[Nr],0),MATCH(hf_kommune[[#Headers],[2036]],Table11[#Headers],0))","v":10},{"$f":"INDEX(Table11[],MATCH(TEXT(hf_kommune[[#This Row],[Kommunenr]],\"0\"),Table11[Nr],0),MATCH(hf_kommune[[#Headers],[2037]],Table11[#Headers],0))","v":12},{"$f":"INDEX(Table11[],MATCH(TEXT(hf_kommune[[#This Row],[Kommunenr]],\"0\"),Table11[Nr],0),MATCH(hf_kommune[[#Headers],[2038]],Table11[#Headers],0))","v":11},{"$f":"INDEX(Table11[],MATCH(TEXT(hf_kommune[[#This Row],[Kommunenr]],\"0\"),Table11[Nr],0),MATCH(hf_kommune[[#Headers],[2039]],Table11[#Headers],0))","v":14},{"$f":"INDEX(Table11[],MATCH(TEXT(hf_kommune[[#This Row],[Kommunenr]],\"0\"),Table11[Nr],0),MATCH(hf_kommune[[#Headers],[2040]],Table11[#Headers],0))","v":11},845,848,852,857,863,869,875,880,885,890,895,900,904,909,913,917,921,925,929]
[3036,"Nannestad","Helse Sør-Øst","Akershus universitetssykehus","Ahus",{"$f":"INDEX(Table11[],MATCH(TEXT(hf_kommune[[#This Row],[Kommunenr]],\"0\"),Table11[Nr],0),MATCH(hf_kommune[[#Headers],[2020]],Table11[#Headers],0))","v":208},{"$f":"INDEX(Table11[],MATCH(TEXT(hf_kommune[[#This Row],[Kommunenr]],\"0\"),Table11[Nr],0),MATCH(hf_kommune[[#Headers],[2021]],Table11[#Headers],0))","v":195},{"$f":"INDEX(Table11[],MATCH(TEXT(hf_kommune[[#This Row],[Kommunenr]],\"0\"),Table11[Nr],0),MATCH(hf_kommune[[#Headers],[2022]],Table11[#Headers],0))","v":207},{"$f":"INDEX(Table11[],MATCH(TEXT(hf_kommune[[#This Row],[Kommunenr]],\"0\"),Table11[Nr],0),MATCH(hf_kommune[[#Headers],[2023]],Table11[#Headers],0))","v":232},{"$f":"INDEX(Table11[],MATCH(TEXT(hf_kommune[[#This Row],[Kommunenr]],\"0\"),Table11[Nr],0),MATCH(hf_kommune[[#Headers],[2024]],Table11[#Headers],0))","v":241},{"$f":"INDEX(Table11[],MATCH(TEXT(hf_kommune[[#This Row],[Kommunenr]],\"0\"),Table11[Nr],0),MATCH(hf_kommune[[#Headers],[2025]],Table11[#Headers],0))","v":235},{"$f":"INDEX(Table11[],MATCH(TEXT(hf_kommune[[#This Row],[Kommunenr]],\"0\"),Table11[Nr],0),MATCH(hf_kommune[[#Headers],[2026]],Table11[#Headers],0))","v":259},{"$f":"INDEX(Table11[],MATCH(TEXT(hf_kommune[[#This Row],[Kommunenr]],\"0\"),Table11[Nr],0),MATCH(hf_kommune[[#Headers],[2027]],Table11[#Headers],0))","v":232},{"$f":"INDEX(Table11[],MATCH(TEXT(hf_kommune[[#This Row],[Kommunenr]],\"0\"),Table11[Nr],0),MATCH(hf_kommune[[#Headers],[2028]],Table11[#Headers],0))","v":245},{"$f":"INDEX(Table11[],MATCH(TEXT(hf_kommune[[#This Row],[Kommunenr]],\"0\"),Table11[Nr],0),MATCH(hf_kommune[[#Headers],[2029]],Table11[#Headers],0))","v":240},{"$f":"INDEX(Table11[],MATCH(TEXT(hf_kommune[[#This Row],[Kommunenr]],\"0\"),Table11[Nr],0),MATCH(hf_kommune[[#Headers],[2030]],Table11[#Headers],0))","v":236},{"$f":"INDEX(Table11[],MATCH(TEXT(hf_kommune[[#This Row],[Kommunenr]],\"0\"),Table11[Nr],0),MATCH(hf_kommune[[#Headers],[2031]],Table11[#Headers],0))","v":233},{"$f":"INDEX(Table11[],MATCH(TEXT(hf_kommune[[#This Row],[Kommunenr]],\"0\"),Table11[Nr],0),MATCH(hf_kommune[[#Headers],[2032]],Table11[#Headers],0))","v":248},{"$f":"INDEX(Table11[],MATCH(TEXT(hf_kommune[[#This Row],[Kommunenr]],\"0\"),Table11[Nr],0),MATCH(hf_kommune[[#Headers],[2033]],Table11[#Headers],0))","v":229},{"$f":"INDEX(Table11[],MATCH(TEXT(hf_kommune[[#This Row],[Kommunenr]],\"0\"),Table11[Nr],0),MATCH(hf_kommune[[#Headers],[2034]],Table11[#Headers],0))","v":234},{"$f":"INDEX(Table11[],MATCH(TEXT(hf_kommune[[#This Row],[Kommunenr]],\"0\"),Table11[Nr],0),MATCH(hf_kommune[[#Headers],[2035]],Table11[#Headers],0))","v":251},{"$f":"INDEX(Table11[],MATCH(TEXT(hf_kommune[[#This Row],[Kommunenr]],\"0\"),Table11[Nr],0),MATCH(hf_kommune[[#Headers],[2036]],Table11[#Headers],0))","v":263},{"$f":"INDEX(Table11[],MATCH(TEXT(hf_kommune[[#This Row],[Kommunenr]],\"0\"),Table11[Nr],0),MATCH(hf_kommune[[#Headers],[2037]],Table11[#Headers],0))","v":240},{"$f":"INDEX(Table11[],MATCH(TEXT(hf_kommune[[#This Row],[Kommunenr]],\"0\"),Table11[Nr],0),MATCH(hf_kommune[[#Headers],[2038]],Table11[#Headers],0))","v":267},{"$f":"INDEX(Table11[],MATCH(TEXT(hf_kommune[[#This Row],[Kommunenr]],\"0\"),Table11[Nr],0),MATCH(hf_kommune[[#Headers],[2039]],Table11[#Headers],0))","v":258},{"$f":"INDEX(Table11[],MATCH(TEXT(hf_kommune[[#This Row],[Kommunenr]],\"0\"),Table11[Nr],0),MATCH(hf_kommune[[#Headers],[2040]],Table11[#Headers],0))","v":258},14955,15293,15573,15798,15973,16145,16315,16483,16648,16810,16968,17123,17273,17421,17564,17702,17834,17961,18084]
[1806,"Narvik","Helse Nord","Universitetssykehuset Nord-Norge","Narvik",{"$f":"INDEX(Table11[],MATCH(TEXT(hf_kommune[[#This Row],[Kommunenr]],\"0\"),Table11[Nr],0),MATCH(hf_kommune[[#Headers],[2020]],Table11[#Headers],0))","v":303},{"$f":"INDEX(Table11[],MATCH(TEXT(hf_kommune[[#This Row],[Kommunenr]],\"0\"),Table11[Nr],0),MATCH(hf_kommune[[#Headers],[2021]],Table11[#Headers],0))","v":319},{"$f":"INDEX(Table11[],MATCH(TEXT(hf_kommune[[#This Row],[Kommunenr]],\"0\"),Table11[Nr],0),MATCH(hf_kommune[[#Headers],[2022]],Table11[#Headers],0))","v":316},{"$f":"INDEX(Table11[],MATCH(TEXT(hf_kommune[[#This Row],[Kommunenr]],\"0\"),Table11[Nr],0),MATCH(hf_kommune[[#Headers],[2023]],Table11[#Headers],0))","v":300},{"$f":"INDEX(Table11[],MATCH(TEXT(hf_kommune[[#This Row],[Kommunenr]],\"0\"),Table11[Nr],0),MATCH(hf_kommune[[#Headers],[2024]],Table11[#Headers],0))","v":323},{"$f":"INDEX(Table11[],MATCH(TEXT(hf_kommune[[#This Row],[Kommunenr]],\"0\"),Table11[Nr],0),MATCH(hf_kommune[[#Headers],[2025]],Table11[#Headers],0))","v":287},{"$f":"INDEX(Table11[],MATCH(TEXT(hf_kommune[[#This Row],[Kommunenr]],\"0\"),Table11[Nr],0),MATCH(hf_kommune[[#Headers],[2026]],Table11[#Headers],0))","v":285},{"$f":"INDEX(Table11[],MATCH(TEXT(hf_kommune[[#This Row],[Kommunenr]],\"0\"),Table11[Nr],0),MATCH(hf_kommune[[#Headers],[2027]],Table11[#Headers],0))","v":243},{"$f":"INDEX(Table11[],MATCH(TEXT(hf_kommune[[#This Row],[Kommunenr]],\"0\"),Table11[Nr],0),MATCH(hf_kommune[[#Headers],[2028]],Table11[#Headers],0))","v":239},{"$f":"INDEX(Table11[],MATCH(TEXT(hf_kommune[[#This Row],[Kommunenr]],\"0\"),Table11[Nr],0),MATCH(hf_kommune[[#Headers],[2029]],Table11[#Headers],0))","v":245},{"$f":"INDEX(Table11[],MATCH(TEXT(hf_kommune[[#This Row],[Kommunenr]],\"0\"),Table11[Nr],0),MATCH(hf_kommune[[#Headers],[2030]],Table11[#Headers],0))","v":259},{"$f":"INDEX(Table11[],MATCH(TEXT(hf_kommune[[#This Row],[Kommunenr]],\"0\"),Table11[Nr],0),MATCH(hf_kommune[[#Headers],[2031]],Table11[#Headers],0))","v":249},{"$f":"INDEX(Table11[],MATCH(TEXT(hf_kommune[[#This Row],[Kommunenr]],\"0\"),Table11[Nr],0),MATCH(hf_kommune[[#Headers],[2032]],Table11[#Headers],0))","v":209},{"$f":"INDEX(Table11[],MATCH(TEXT(hf_kommune[[#This Row],[Kommunenr]],\"0\"),Table11[Nr],0),MATCH(hf_kommune[[#Headers],[2033]],Table11[#Headers],0))","v":226},{"$f":"INDEX(Table11[],MATCH(TEXT(hf_kommune[[#This Row],[Kommunenr]],\"0\"),Table11[Nr],0),MATCH(hf_kommune[[#Headers],[2034]],Table11[#Headers],0))","v":242},{"$f":"INDEX(Table11[],MATCH(TEXT(hf_kommune[[#This Row],[Kommunenr]],\"0\"),Table11[Nr],0),MATCH(hf_kommune[[#Headers],[2035]],Table11[#Headers],0))","v":230},{"$f":"INDEX(Table11[],MATCH(TEXT(hf_kommune[[#This Row],[Kommunenr]],\"0\"),Table11[Nr],0),MATCH(hf_kommune[[#Headers],[2036]],Table11[#Headers],0))","v":235},{"$f":"INDEX(Table11[],MATCH(TEXT(hf_kommune[[#This Row],[Kommunenr]],\"0\"),Table11[Nr],0),MATCH(hf_kommune[[#Headers],[2037]],Table11[#Headers],0))","v":251},{"$f":"INDEX(Table11[],MATCH(TEXT(hf_kommune[[#This Row],[Kommunenr]],\"0\"),Table11[Nr],0),MATCH(hf_kommune[[#Headers],[2038]],Table11[#Headers],0))","v":249},{"$f":"INDEX(Table11[],MATCH(TEXT(hf_kommune[[#This Row],[Kommunenr]],\"0\"),Table11[Nr],0),MATCH(hf_kommune[[#Headers],[2039]],Table11[#Headers],0))","v":233},{"$f":"INDEX(Table11[],MATCH(TEXT(hf_kommune[[#This Row],[Kommunenr]],\"0\"),Table11[Nr],0),MATCH(hf_kommune[[#Headers],[2040]],Table11[#Headers],0))","v":248},21492,21375,21280,21209,21160,21113,21066,21021,20976,20932,20889,20846,20803,20762,20721,20681,20639,20596,20552]
[3034,"Nes","Helse Sør-Øst","Akershus universitetssykehus","Ahus",{"$f":"INDEX(Table11[],MATCH(TEXT(hf_kommune[[#This Row],[Kommunenr]],\"0\"),Table11[Nr],0),MATCH(hf_kommune[[#Headers],[2020]],Table11[#Headers],0))","v":311},{"$f":"INDEX(Table11[],MATCH(TEXT(hf_kommune[[#This Row],[Kommunenr]],\"0\"),Table11[Nr],0),MATCH(hf_kommune[[#Headers],[2021]],Table11[#Headers],0))","v":344},{"$f":"INDEX(Table11[],MATCH(TEXT(hf_kommune[[#This Row],[Kommunenr]],\"0\"),Table11[Nr],0),MATCH(hf_kommune[[#Headers],[2022]],Table11[#Headers],0))","v":366},{"$f":"INDEX(Table11[],MATCH(TEXT(hf_kommune[[#This Row],[Kommunenr]],\"0\"),Table11[Nr],0),MATCH(hf_kommune[[#Headers],[2023]],Table11[#Headers],0))","v":395},{"$f":"INDEX(Table11[],MATCH(TEXT(hf_kommune[[#This Row],[Kommunenr]],\"0\"),Table11[Nr],0),MATCH(hf_kommune[[#Headers],[2024]],Table11[#Headers],0))","v":354},{"$f":"INDEX(Table11[],MATCH(TEXT(hf_kommune[[#This Row],[Kommunenr]],\"0\"),Table11[Nr],0),MATCH(hf_kommune[[#Headers],[2025]],Table11[#Headers],0))","v":363},{"$f":"INDEX(Table11[],MATCH(TEXT(hf_kommune[[#This Row],[Kommunenr]],\"0\"),Table11[Nr],0),MATCH(hf_kommune[[#Headers],[2026]],Table11[#Headers],0))","v":355},{"$f":"INDEX(Table11[],MATCH(TEXT(hf_kommune[[#This Row],[Kommunenr]],\"0\"),Table11[Nr],0),MATCH(hf_kommune[[#Headers],[2027]],Table11[#Headers],0))","v":355},{"$f":"INDEX(Table11[],MATCH(TEXT(hf_kommune[[#This Row],[Kommunenr]],\"0\"),Table11[Nr],0),MATCH(hf_kommune[[#Headers],[2028]],Table11[#Headers],0))","v":377},{"$f":"INDEX(Table11[],MATCH(TEXT(hf_kommune[[#This Row],[Kommunenr]],\"0\"),Table11[Nr],0),MATCH(hf_kommune[[#Headers],[2029]],Table11[#Headers],0))","v":367},{"$f":"INDEX(Table11[],MATCH(TEXT(hf_kommune[[#This Row],[Kommunenr]],\"0\"),Table11[Nr],0),MATCH(hf_kommune[[#Headers],[2030]],Table11[#Headers],0))","v":349},{"$f":"INDEX(Table11[],MATCH(TEXT(hf_kommune[[#This Row],[Kommunenr]],\"0\"),Table11[Nr],0),MATCH(hf_kommune[[#Headers],[2031]],Table11[#Headers],0))","v":370},{"$f":"INDEX(Table11[],MATCH(TEXT(hf_kommune[[#This Row],[Kommunenr]],\"0\"),Table11[Nr],0),MATCH(hf_kommune[[#Headers],[2032]],Table11[#Headers],0))","v":342},{"$f":"INDEX(Table11[],MATCH(TEXT(hf_kommune[[#This Row],[Kommunenr]],\"0\"),Table11[Nr],0),MATCH(hf_kommune[[#Headers],[2033]],Table11[#Headers],0))","v":343},{"$f":"INDEX(Table11[],MATCH(TEXT(hf_kommune[[#This Row],[Kommunenr]],\"0\"),Table11[Nr],0),MATCH(hf_kommune[[#Headers],[2034]],Table11[#Headers],0))","v":348},{"$f":"INDEX(Table11[],MATCH(TEXT(hf_kommune[[#This Row],[Kommunenr]],\"0\"),Table11[Nr],0),MATCH(hf_kommune[[#Headers],[2035]],Table11[#Headers],0))","v":347},{"$f":"INDEX(Table11[],MATCH(TEXT(hf_kommune[[#This Row],[Kommunenr]],\"0\"),Table11[Nr],0),MATCH(hf_kommune[[#Headers],[2036]],Table11[#Headers],0))","v":340},{"$f":"INDEX(Table11[],MATCH(TEXT(hf_kommune[[#This Row],[Kommunenr]],\"0\"),Table11[Nr],0),MATCH(hf_kommune[[#Headers],[2037]],Table11[#Headers],0))","v":353},{"$f":"INDEX(Table11[],MATCH(TEXT(hf_kommune[[#This Row],[Kommunenr]],\"0\"),Table11[Nr],0),MATCH(hf_kommune[[#Headers],[2038]],Table11[#Headers],0))","v":365},{"$f":"INDEX(Table11[],MATCH(TEXT(hf_kommune[[#This Row],[Kommunenr]],\"0\"),Table11[Nr],0),MATCH(hf_kommune[[#Headers],[2039]],Table11[#Headers],0))","v":377},{"$f":"INDEX(Table11[],MATCH(TEXT(hf_kommune[[#This Row],[Kommunenr]],\"0\"),Table11[Nr],0),MATCH(hf_kommune[[#Headers],[2040]],Table11[#Headers],0))","v":382},23727,24027,24311,24579,24832,25081,25324,25563,25795,26020,26237,26447,26650,26847,27038,27224,27403,27575,27740]
[3040,"Nesbyen","Helse Sør-Øst","Vestre Viken","Ringerike",{"$f":"INDEX(Table11[],MATCH(TEXT(hf_kommune[[#This Row],[Kommunenr]],\"0\"),Table11[Nr],0),MATCH(hf_kommune[[#Headers],[2020]],Table11[#Headers],0))","v":46},{"$f":"INDEX(Table11[],MATCH(TEXT(hf_kommune[[#This Row],[Kommunenr]],\"0\"),Table11[Nr],0),MATCH(hf_kommune[[#Headers],[2021]],Table11[#Headers],0))","v":47},{"$f":"INDEX(Table11[],MATCH(TEXT(hf_kommune[[#This Row],[Kommunenr]],\"0\"),Table11[Nr],0),MATCH(hf_kommune[[#Headers],[2022]],Table11[#Headers],0))","v":55},{"$f":"INDEX(Table11[],MATCH(TEXT(hf_kommune[[#This Row],[Kommunenr]],\"0\"),Table11[Nr],0),MATCH(hf_kommune[[#Headers],[2023]],Table11[#Headers],0))","v":49},{"$f":"INDEX(Table11[],MATCH(TEXT(hf_kommune[[#This Row],[Kommunenr]],\"0\"),Table11[Nr],0),MATCH(hf_kommune[[#Headers],[2024]],Table11[#Headers],0))","v":51},{"$f":"INDEX(Table11[],MATCH(TEXT(hf_kommune[[#This Row],[Kommunenr]],\"0\"),Table11[Nr],0),MATCH(hf_kommune[[#Headers],[2025]],Table11[#Headers],0))","v":63},{"$f":"INDEX(Table11[],MATCH(TEXT(hf_kommune[[#This Row],[Kommunenr]],\"0\"),Table11[Nr],0),MATCH(hf_kommune[[#Headers],[2026]],Table11[#Headers],0))","v":42},{"$f":"INDEX(Table11[],MATCH(TEXT(hf_kommune[[#This Row],[Kommunenr]],\"0\"),Table11[Nr],0),MATCH(hf_kommune[[#Headers],[2027]],Table11[#Headers],0))","v":60},{"$f":"INDEX(Table11[],MATCH(TEXT(hf_kommune[[#This Row],[Kommunenr]],\"0\"),Table11[Nr],0),MATCH(hf_kommune[[#Headers],[2028]],Table11[#Headers],0))","v":52},{"$f":"INDEX(Table11[],MATCH(TEXT(hf_kommune[[#This Row],[Kommunenr]],\"0\"),Table11[Nr],0),MATCH(hf_kommune[[#Headers],[2029]],Table11[#Headers],0))","v":34},{"$f":"INDEX(Table11[],MATCH(TEXT(hf_kommune[[#This Row],[Kommunenr]],\"0\"),Table11[Nr],0),MATCH(hf_kommune[[#Headers],[2030]],Table11[#Headers],0))","v":44},{"$f":"INDEX(Table11[],MATCH(TEXT(hf_kommune[[#This Row],[Kommunenr]],\"0\"),Table11[Nr],0),MATCH(hf_kommune[[#Headers],[2031]],Table11[#Headers],0))","v":37},{"$f":"INDEX(Table11[],MATCH(TEXT(hf_kommune[[#This Row],[Kommunenr]],\"0\"),Table11[Nr],0),MATCH(hf_kommune[[#Headers],[2032]],Table11[#Headers],0))","v":46},{"$f":"INDEX(Table11[],MATCH(TEXT(hf_kommune[[#This Row],[Kommunenr]],\"0\"),Table11[Nr],0),MATCH(hf_kommune[[#Headers],[2033]],Table11[#Headers],0))","v":45},{"$f":"INDEX(Table11[],MATCH(TEXT(hf_kommune[[#This Row],[Kommunenr]],\"0\"),Table11[Nr],0),MATCH(hf_kommune[[#Headers],[2034]],Table11[#Headers],0))","v":44},{"$f":"INDEX(Table11[],MATCH(TEXT(hf_kommune[[#This Row],[Kommunenr]],\"0\"),Table11[Nr],0),MATCH(hf_kommune[[#Headers],[2035]],Table11[#Headers],0))","v":36},{"$f":"INDEX(Table11[],MATCH(TEXT(hf_kommune[[#This Row],[Kommunenr]],\"0\"),Table11[Nr],0),MATCH(hf_kommune[[#Headers],[2036]],Table11[#Headers],0))","v":31},{"$f":"INDEX(Table11[],MATCH(TEXT(hf_kommune[[#This Row],[Kommunenr]],\"0\"),Table11[Nr],0),MATCH(hf_kommune[[#Headers],[2037]],Table11[#Headers],0))","v":33},{"$f":"INDEX(Table11[],MATCH(TEXT(hf_kommune[[#This Row],[Kommunenr]],\"0\"),Table11[Nr],0),MATCH(hf_kommune[[#Headers],[2038]],Table11[#Headers],0))","v":36},{"$f":"INDEX(Table11[],MATCH(TEXT(hf_kommune[[#This Row],[Kommunenr]],\"0\"),Table11[Nr],0),MATCH(hf_kommune[[#Headers],[2039]],Table11[#Headers],0))","v":38},{"$f":"INDEX(Table11[],MATCH(TEXT(hf_kommune[[#This Row],[Kommunenr]],\"0\"),Table11[Nr],0),MATCH(hf_kommune[[#Headers],[2040]],Table11[#Headers],0))","v":33},3193,3170,3154,3147,3148,3150,3153,3156,3160,3165,3170,3175,3180,3186,3190,3195,3199,3202,3205]
[1828,"Nesna","Helse Nord","Helgelandssykehuset","Mo i Rana",{"$f":"INDEX(Table11[],MATCH(TEXT(hf_kommune[[#This Row],[Kommunenr]],\"0\"),Table11[Nr],0),MATCH(hf_kommune[[#Headers],[2020]],Table11[#Headers],0))","v":25},{"$f":"INDEX(Table11[],MATCH(TEXT(hf_kommune[[#This Row],[Kommunenr]],\"0\"),Table11[Nr],0),MATCH(hf_kommune[[#Headers],[2021]],Table11[#Headers],0))","v":26},{"$f":"INDEX(Table11[],MATCH(TEXT(hf_kommune[[#This Row],[Kommunenr]],\"0\"),Table11[Nr],0),MATCH(hf_kommune[[#Headers],[2022]],Table11[#Headers],0))","v":26},{"$f":"INDEX(Table11[],MATCH(TEXT(hf_kommune[[#This Row],[Kommunenr]],\"0\"),Table11[Nr],0),MATCH(hf_kommune[[#Headers],[2023]],Table11[#Headers],0))","v":31},{"$f":"INDEX(Table11[],MATCH(TEXT(hf_kommune[[#This Row],[Kommunenr]],\"0\"),Table11[Nr],0),MATCH(hf_kommune[[#Headers],[2024]],Table11[#Headers],0))","v":24},{"$f":"INDEX(Table11[],MATCH(TEXT(hf_kommune[[#This Row],[Kommunenr]],\"0\"),Table11[Nr],0),MATCH(hf_kommune[[#Headers],[2025]],Table11[#Headers],0))","v":27},{"$f":"INDEX(Table11[],MATCH(TEXT(hf_kommune[[#This Row],[Kommunenr]],\"0\"),Table11[Nr],0),MATCH(hf_kommune[[#Headers],[2026]],Table11[#Headers],0))","v":23},{"$f":"INDEX(Table11[],MATCH(TEXT(hf_kommune[[#This Row],[Kommunenr]],\"0\"),Table11[Nr],0),MATCH(hf_kommune[[#Headers],[2027]],Table11[#Headers],0))","v":28},{"$f":"INDEX(Table11[],MATCH(TEXT(hf_kommune[[#This Row],[Kommunenr]],\"0\"),Table11[Nr],0),MATCH(hf_kommune[[#Headers],[2028]],Table11[#Headers],0))","v":21},{"$f":"INDEX(Table11[],MATCH(TEXT(hf_kommune[[#This Row],[Kommunenr]],\"0\"),Table11[Nr],0),MATCH(hf_kommune[[#Headers],[2029]],Table11[#Headers],0))","v":26},{"$f":"INDEX(Table11[],MATCH(TEXT(hf_kommune[[#This Row],[Kommunenr]],\"0\"),Table11[Nr],0),MATCH(hf_kommune[[#Headers],[2030]],Table11[#Headers],0))","v":31},{"$f":"INDEX(Table11[],MATCH(TEXT(hf_kommune[[#This Row],[Kommunenr]],\"0\"),Table11[Nr],0),MATCH(hf_kommune[[#Headers],[2031]],Table11[#Headers],0))","v":30},{"$f":"INDEX(Table11[],MATCH(TEXT(hf_kommune[[#This Row],[Kommunenr]],\"0\"),Table11[Nr],0),MATCH(hf_kommune[[#Headers],[2032]],Table11[#Headers],0))","v":24},{"$f":"INDEX(Table11[],MATCH(TEXT(hf_kommune[[#This Row],[Kommunenr]],\"0\"),Table11[Nr],0),MATCH(hf_kommune[[#Headers],[2033]],Table11[#Headers],0))","v":26},{"$f":"INDEX(Table11[],MATCH(TEXT(hf_kommune[[#This Row],[Kommunenr]],\"0\"),Table11[Nr],0),MATCH(hf_kommune[[#Headers],[2034]],Table11[#Headers],0))","v":24},{"$f":"INDEX(Table11[],MATCH(TEXT(hf_kommune[[#This Row],[Kommunenr]],\"0\"),Table11[Nr],0),MATCH(hf_kommune[[#Headers],[2035]],Table11[#Headers],0))","v":23},{"$f":"INDEX(Table11[],MATCH(TEXT(hf_kommune[[#This Row],[Kommunenr]],\"0\"),Table11[Nr],0),MATCH(hf_kommune[[#Headers],[2036]],Table11[#Headers],0))","v":28},{"$f":"INDEX(Table11[],MATCH(TEXT(hf_kommune[[#This Row],[Kommunenr]],\"0\"),Table11[Nr],0),MATCH(hf_kommune[[#Headers],[2037]],Table11[#Headers],0))","v":19},{"$f":"INDEX(Table11[],MATCH(TEXT(hf_kommune[[#This Row],[Kommunenr]],\"0\"),Table11[Nr],0),MATCH(hf_kommune[[#Headers],[2038]],Table11[#Headers],0))","v":21},{"$f":"INDEX(Table11[],MATCH(TEXT(hf_kommune[[#This Row],[Kommunenr]],\"0\"),Table11[Nr],0),MATCH(hf_kommune[[#Headers],[2039]],Table11[#Headers],0))","v":28},{"$f":"INDEX(Table11[],MATCH(TEXT(hf_kommune[[#This Row],[Kommunenr]],\"0\"),Table11[Nr],0),MATCH(hf_kommune[[#Headers],[2040]],Table11[#Headers],0))","v":25},1769,1784,1803,1828,1857,1884,1910,1934,1957,1980,2000,2021,2040,2059,2077,2095,2111,2127,2142]
[3023,"Nesodden","Helse Sør-Øst","Akershus universitetssykehus","Ski",{"$f":"INDEX(Table11[],MATCH(TEXT(hf_kommune[[#This Row],[Kommunenr]],\"0\"),Table11[Nr],0),MATCH(hf_kommune[[#Headers],[2020]],Table11[#Headers],0))","v":272},{"$f":"INDEX(Table11[],MATCH(TEXT(hf_kommune[[#This Row],[Kommunenr]],\"0\"),Table11[Nr],0),MATCH(hf_kommune[[#Headers],[2021]],Table11[#Headers],0))","v":315},{"$f":"INDEX(Table11[],MATCH(TEXT(hf_kommune[[#This Row],[Kommunenr]],\"0\"),Table11[Nr],0),MATCH(hf_kommune[[#Headers],[2022]],Table11[#Headers],0))","v":318},{"$f":"INDEX(Table11[],MATCH(TEXT(hf_kommune[[#This Row],[Kommunenr]],\"0\"),Table11[Nr],0),MATCH(hf_kommune[[#Headers],[2023]],Table11[#Headers],0))","v":281},{"$f":"INDEX(Table11[],MATCH(TEXT(hf_kommune[[#This Row],[Kommunenr]],\"0\"),Table11[Nr],0),MATCH(hf_kommune[[#Headers],[2024]],Table11[#Headers],0))","v":280},{"$f":"INDEX(Table11[],MATCH(TEXT(hf_kommune[[#This Row],[Kommunenr]],\"0\"),Table11[Nr],0),MATCH(hf_kommune[[#Headers],[2025]],Table11[#Headers],0))","v":303},{"$f":"INDEX(Table11[],MATCH(TEXT(hf_kommune[[#This Row],[Kommunenr]],\"0\"),Table11[Nr],0),MATCH(hf_kommune[[#Headers],[2026]],Table11[#Headers],0))","v":289},{"$f":"INDEX(Table11[],MATCH(TEXT(hf_kommune[[#This Row],[Kommunenr]],\"0\"),Table11[Nr],0),MATCH(hf_kommune[[#Headers],[2027]],Table11[#Headers],0))","v":299},{"$f":"INDEX(Table11[],MATCH(TEXT(hf_kommune[[#This Row],[Kommunenr]],\"0\"),Table11[Nr],0),MATCH(hf_kommune[[#Headers],[2028]],Table11[#Headers],0))","v":294},{"$f":"INDEX(Table11[],MATCH(TEXT(hf_kommune[[#This Row],[Kommunenr]],\"0\"),Table11[Nr],0),MATCH(hf_kommune[[#Headers],[2029]],Table11[#Headers],0))","v":293},{"$f":"INDEX(Table11[],MATCH(TEXT(hf_kommune[[#This Row],[Kommunenr]],\"0\"),Table11[Nr],0),MATCH(hf_kommune[[#Headers],[2030]],Table11[#Headers],0))","v":324},{"$f":"INDEX(Table11[],MATCH(TEXT(hf_kommune[[#This Row],[Kommunenr]],\"0\"),Table11[Nr],0),MATCH(hf_kommune[[#Headers],[2031]],Table11[#Headers],0))","v":290},{"$f":"INDEX(Table11[],MATCH(TEXT(hf_kommune[[#This Row],[Kommunenr]],\"0\"),Table11[Nr],0),MATCH(hf_kommune[[#Headers],[2032]],Table11[#Headers],0))","v":276},{"$f":"INDEX(Table11[],MATCH(TEXT(hf_kommune[[#This Row],[Kommunenr]],\"0\"),Table11[Nr],0),MATCH(hf_kommune[[#Headers],[2033]],Table11[#Headers],0))","v":286},{"$f":"INDEX(Table11[],MATCH(TEXT(hf_kommune[[#This Row],[Kommunenr]],\"0\"),Table11[Nr],0),MATCH(hf_kommune[[#Headers],[2034]],Table11[#Headers],0))","v":318},{"$f":"INDEX(Table11[],MATCH(TEXT(hf_kommune[[#This Row],[Kommunenr]],\"0\"),Table11[Nr],0),MATCH(hf_kommune[[#Headers],[2035]],Table11[#Headers],0))","v":312},{"$f":"INDEX(Table11[],MATCH(TEXT(hf_kommune[[#This Row],[Kommunenr]],\"0\"),Table11[Nr],0),MATCH(hf_kommune[[#Headers],[2036]],Table11[#Headers],0))","v":296},{"$f":"INDEX(Table11[],MATCH(TEXT(hf_kommune[[#This Row],[Kommunenr]],\"0\"),Table11[Nr],0),MATCH(hf_kommune[[#Headers],[2037]],Table11[#Headers],0))","v":304},{"$f":"INDEX(Table11[],MATCH(TEXT(hf_kommune[[#This Row],[Kommunenr]],\"0\"),Table11[Nr],0),MATCH(hf_kommune[[#Headers],[2038]],Table11[#Headers],0))","v":315},{"$f":"INDEX(Table11[],MATCH(TEXT(hf_kommune[[#This Row],[Kommunenr]],\"0\"),Table11[Nr],0),MATCH(hf_kommune[[#Headers],[2039]],Table11[#Headers],0))","v":309},{"$f":"INDEX(Table11[],MATCH(TEXT(hf_kommune[[#This Row],[Kommunenr]],\"0\"),Table11[Nr],0),MATCH(hf_kommune[[#Headers],[2040]],Table11[#Headers],0))","v":316},19856,20007,20166,20332,20503,20669,20829,20984,21134,21277,21415,21546,21673,21795,21915,22032,22147,22259,22368]
[3822,"Nissedal","Helse Sør-Øst","Sykehuset Telemark","Skien",{"$f":"INDEX(Table11[],MATCH(TEXT(hf_kommune[[#This Row],[Kommunenr]],\"0\"),Table11[Nr],0),MATCH(hf_kommune[[#Headers],[2020]],Table11[#Headers],0))","v":16},{"$f":"INDEX(Table11[],MATCH(TEXT(hf_kommune[[#This Row],[Kommunenr]],\"0\"),Table11[Nr],0),MATCH(hf_kommune[[#Headers],[2021]],Table11[#Headers],0))","v":20},{"$f":"INDEX(Table11[],MATCH(TEXT(hf_kommune[[#This Row],[Kommunenr]],\"0\"),Table11[Nr],0),MATCH(hf_kommune[[#Headers],[2022]],Table11[#Headers],0))","v":25},{"$f":"INDEX(Table11[],MATCH(TEXT(hf_kommune[[#This Row],[Kommunenr]],\"0\"),Table11[Nr],0),MATCH(hf_kommune[[#Headers],[2023]],Table11[#Headers],0))","v":21},{"$f":"INDEX(Table11[],MATCH(TEXT(hf_kommune[[#This Row],[Kommunenr]],\"0\"),Table11[Nr],0),MATCH(hf_kommune[[#Headers],[2024]],Table11[#Headers],0))","v":23},{"$f":"INDEX(Table11[],MATCH(TEXT(hf_kommune[[#This Row],[Kommunenr]],\"0\"),Table11[Nr],0),MATCH(hf_kommune[[#Headers],[2025]],Table11[#Headers],0))","v":27},{"$f":"INDEX(Table11[],MATCH(TEXT(hf_kommune[[#This Row],[Kommunenr]],\"0\"),Table11[Nr],0),MATCH(hf_kommune[[#Headers],[2026]],Table11[#Headers],0))","v":34},{"$f":"INDEX(Table11[],MATCH(TEXT(hf_kommune[[#This Row],[Kommunenr]],\"0\"),Table11[Nr],0),MATCH(hf_kommune[[#Headers],[2027]],Table11[#Headers],0))","v":22},{"$f":"INDEX(Table11[],MATCH(TEXT(hf_kommune[[#This Row],[Kommunenr]],\"0\"),Table11[Nr],0),MATCH(hf_kommune[[#Headers],[2028]],Table11[#Headers],0))","v":16},{"$f":"INDEX(Table11[],MATCH(TEXT(hf_kommune[[#This Row],[Kommunenr]],\"0\"),Table11[Nr],0),MATCH(hf_kommune[[#Headers],[2029]],Table11[#Headers],0))","v":17},{"$f":"INDEX(Table11[],MATCH(TEXT(hf_kommune[[#This Row],[Kommunenr]],\"0\"),Table11[Nr],0),MATCH(hf_kommune[[#Headers],[2030]],Table11[#Headers],0))","v":16},{"$f":"INDEX(Table11[],MATCH(TEXT(hf_kommune[[#This Row],[Kommunenr]],\"0\"),Table11[Nr],0),MATCH(hf_kommune[[#Headers],[2031]],Table11[#Headers],0))","v":21},{"$f":"INDEX(Table11[],MATCH(TEXT(hf_kommune[[#This Row],[Kommunenr]],\"0\"),Table11[Nr],0),MATCH(hf_kommune[[#Headers],[2032]],Table11[#Headers],0))","v":21},{"$f":"INDEX(Table11[],MATCH(TEXT(hf_kommune[[#This Row],[Kommunenr]],\"0\"),Table11[Nr],0),MATCH(hf_kommune[[#Headers],[2033]],Table11[#Headers],0))","v":19},{"$f":"INDEX(Table11[],MATCH(TEXT(hf_kommune[[#This Row],[Kommunenr]],\"0\"),Table11[Nr],0),MATCH(hf_kommune[[#Headers],[2034]],Table11[#Headers],0))","v":19},{"$f":"INDEX(Table11[],MATCH(TEXT(hf_kommune[[#This Row],[Kommunenr]],\"0\"),Table11[Nr],0),MATCH(hf_kommune[[#Headers],[2035]],Table11[#Headers],0))","v":24},{"$f":"INDEX(Table11[],MATCH(TEXT(hf_kommune[[#This Row],[Kommunenr]],\"0\"),Table11[Nr],0),MATCH(hf_kommune[[#Headers],[2036]],Table11[#Headers],0))","v":22},{"$f":"INDEX(Table11[],MATCH(TEXT(hf_kommune[[#This Row],[Kommunenr]],\"0\"),Table11[Nr],0),MATCH(hf_kommune[[#Headers],[2037]],Table11[#Headers],0))","v":17},{"$f":"INDEX(Table11[],MATCH(TEXT(hf_kommune[[#This Row],[Kommunenr]],\"0\"),Table11[Nr],0),MATCH(hf_kommune[[#Headers],[2038]],Table11[#Headers],0))","v":14},{"$f":"INDEX(Table11[],MATCH(TEXT(hf_kommune[[#This Row],[Kommunenr]],\"0\"),Table11[Nr],0),MATCH(hf_kommune[[#Headers],[2039]],Table11[#Headers],0))","v":20},{"$f":"INDEX(Table11[],MATCH(TEXT(hf_kommune[[#This Row],[Kommunenr]],\"0\"),Table11[Nr],0),MATCH(hf_kommune[[#Headers],[2040]],Table11[#Headers],0))","v":20},1445,1447,1450,1455,1460,1465,1468,1472,1474,1477,1479,1481,1483,1484,1486,1487,1489,1491,1492]
[3031,"Nittedal","Helse Sør-Øst","Akershus universitetssykehus","Ahus",{"$f":"INDEX(Table11[],MATCH(TEXT(hf_kommune[[#This Row],[Kommunenr]],\"0\"),Table11[Nr],0),MATCH(hf_kommune[[#Headers],[2020]],Table11[#Headers],0))","v":333},{"$f":"INDEX(Table11[],MATCH(TEXT(hf_kommune[[#This Row],[Kommunenr]],\"0\"),Table11[Nr],0),MATCH(hf_kommune[[#Headers],[2021]],Table11[#Headers],0))","v":334},{"$f":"INDEX(Table11[],MATCH(TEXT(hf_kommune[[#This Row],[Kommunenr]],\"0\"),Table11[Nr],0),MATCH(hf_kommune[[#Headers],[2022]],Table11[#Headers],0))","v":399},{"$f":"INDEX(Table11[],MATCH(TEXT(hf_kommune[[#This Row],[Kommunenr]],\"0\"),Table11[Nr],0),MATCH(hf_kommune[[#Headers],[2023]],Table11[#Headers],0))","v":400},{"$f":"INDEX(Table11[],MATCH(TEXT(hf_kommune[[#This Row],[Kommunenr]],\"0\"),Table11[Nr],0),MATCH(hf_kommune[[#Headers],[2024]],Table11[#Headers],0))","v":374},{"$f":"INDEX(Table11[],MATCH(TEXT(hf_kommune[[#This Row],[Kommunenr]],\"0\"),Table11[Nr],0),MATCH(hf_kommune[[#Headers],[2025]],Table11[#Headers],0))","v":398},{"$f":"INDEX(Table11[],MATCH(TEXT(hf_kommune[[#This Row],[Kommunenr]],\"0\"),Table11[Nr],0),MATCH(hf_kommune[[#Headers],[2026]],Table11[#Headers],0))","v":409},{"$f":"INDEX(Table11[],MATCH(TEXT(hf_kommune[[#This Row],[Kommunenr]],\"0\"),Table11[Nr],0),MATCH(hf_kommune[[#Headers],[2027]],Table11[#Headers],0))","v":396},{"$f":"INDEX(Table11[],MATCH(TEXT(hf_kommune[[#This Row],[Kommunenr]],\"0\"),Table11[Nr],0),MATCH(hf_kommune[[#Headers],[2028]],Table11[#Headers],0))","v":391},{"$f":"INDEX(Table11[],MATCH(TEXT(hf_kommune[[#This Row],[Kommunenr]],\"0\"),Table11[Nr],0),MATCH(hf_kommune[[#Headers],[2029]],Table11[#Headers],0))","v":402},{"$f":"INDEX(Table11[],MATCH(TEXT(hf_kommune[[#This Row],[Kommunenr]],\"0\"),Table11[Nr],0),MATCH(hf_kommune[[#Headers],[2030]],Table11[#Headers],0))","v":406},{"$f":"INDEX(Table11[],MATCH(TEXT(hf_kommune[[#This Row],[Kommunenr]],\"0\"),Table11[Nr],0),MATCH(hf_kommune[[#Headers],[2031]],Table11[#Headers],0))","v":354},{"$f":"INDEX(Table11[],MATCH(TEXT(hf_kommune[[#This Row],[Kommunenr]],\"0\"),Table11[Nr],0),MATCH(hf_kommune[[#Headers],[2032]],Table11[#Headers],0))","v":353},{"$f":"INDEX(Table11[],MATCH(TEXT(hf_kommune[[#This Row],[Kommunenr]],\"0\"),Table11[Nr],0),MATCH(hf_kommune[[#Headers],[2033]],Table11[#Headers],0))","v":381},{"$f":"INDEX(Table11[],MATCH(TEXT(hf_kommune[[#This Row],[Kommunenr]],\"0\"),Table11[Nr],0),MATCH(hf_kommune[[#Headers],[2034]],Table11[#Headers],0))","v":353},{"$f":"INDEX(Table11[],MATCH(TEXT(hf_kommune[[#This Row],[Kommunenr]],\"0\"),Table11[Nr],0),MATCH(hf_kommune[[#Headers],[2035]],Table11[#Headers],0))","v":383},{"$f":"INDEX(Table11[],MATCH(TEXT(hf_kommune[[#This Row],[Kommunenr]],\"0\"),Table11[Nr],0),MATCH(hf_kommune[[#Headers],[2036]],Table11[#Headers],0))","v":369},{"$f":"INDEX(Table11[],MATCH(TEXT(hf_kommune[[#This Row],[Kommunenr]],\"0\"),Table11[Nr],0),MATCH(hf_kommune[[#Headers],[2037]],Table11[#Headers],0))","v":386},{"$f":"INDEX(Table11[],MATCH(TEXT(hf_kommune[[#This Row],[Kommunenr]],\"0\"),Table11[Nr],0),MATCH(hf_kommune[[#Headers],[2038]],Table11[#Headers],0))","v":373},{"$f":"INDEX(Table11[],MATCH(TEXT(hf_kommune[[#This Row],[Kommunenr]],\"0\"),Table11[Nr],0),MATCH(hf_kommune[[#Headers],[2039]],Table11[#Headers],0))","v":374},{"$f":"INDEX(Table11[],MATCH(TEXT(hf_kommune[[#This Row],[Kommunenr]],\"0\"),Table11[Nr],0),MATCH(hf_kommune[[#Headers],[2040]],Table11[#Headers],0))","v":389},24551,24725,24909,25102,25303,25499,25689,25874,26052,26226,26395,26561,26727,26891,27055,27220,27382,27542,27699]
[3816,"Nome","Helse Sør-Øst","Sykehuset Telemark","Notodden",{"$f":"INDEX(Table11[],MATCH(TEXT(hf_kommune[[#This Row],[Kommunenr]],\"0\"),Table11[Nr],0),MATCH(hf_kommune[[#Headers],[2020]],Table11[#Headers],0))","v":81},{"$f":"INDEX(Table11[],MATCH(TEXT(hf_kommune[[#This Row],[Kommunenr]],\"0\"),Table11[Nr],0),MATCH(hf_kommune[[#Headers],[2021]],Table11[#Headers],0))","v":109},{"$f":"INDEX(Table11[],MATCH(TEXT(hf_kommune[[#This Row],[Kommunenr]],\"0\"),Table11[Nr],0),MATCH(hf_kommune[[#Headers],[2022]],Table11[#Headers],0))","v":113},{"$f":"INDEX(Table11[],MATCH(TEXT(hf_kommune[[#This Row],[Kommunenr]],\"0\"),Table11[Nr],0),MATCH(hf_kommune[[#Headers],[2023]],Table11[#Headers],0))","v":117},{"$f":"INDEX(Table11[],MATCH(TEXT(hf_kommune[[#This Row],[Kommunenr]],\"0\"),Table11[Nr],0),MATCH(hf_kommune[[#Headers],[2024]],Table11[#Headers],0))","v":90},{"$f":"INDEX(Table11[],MATCH(TEXT(hf_kommune[[#This Row],[Kommunenr]],\"0\"),Table11[Nr],0),MATCH(hf_kommune[[#Headers],[2025]],Table11[#Headers],0))","v":106},{"$f":"INDEX(Table11[],MATCH(TEXT(hf_kommune[[#This Row],[Kommunenr]],\"0\"),Table11[Nr],0),MATCH(hf_kommune[[#Headers],[2026]],Table11[#Headers],0))","v":97},{"$f":"INDEX(Table11[],MATCH(TEXT(hf_kommune[[#This Row],[Kommunenr]],\"0\"),Table11[Nr],0),MATCH(hf_kommune[[#Headers],[2027]],Table11[#Headers],0))","v":95},{"$f":"INDEX(Table11[],MATCH(TEXT(hf_kommune[[#This Row],[Kommunenr]],\"0\"),Table11[Nr],0),MATCH(hf_kommune[[#Headers],[2028]],Table11[#Headers],0))","v":102},{"$f":"INDEX(Table11[],MATCH(TEXT(hf_kommune[[#This Row],[Kommunenr]],\"0\"),Table11[Nr],0),MATCH(hf_kommune[[#Headers],[2029]],Table11[#Headers],0))","v":80},{"$f":"INDEX(Table11[],MATCH(TEXT(hf_kommune[[#This Row],[Kommunenr]],\"0\"),Table11[Nr],0),MATCH(hf_kommune[[#Headers],[2030]],Table11[#Headers],0))","v":91},{"$f":"INDEX(Table11[],MATCH(TEXT(hf_kommune[[#This Row],[Kommunenr]],\"0\"),Table11[Nr],0),MATCH(hf_kommune[[#Headers],[2031]],Table11[#Headers],0))","v":84},{"$f":"INDEX(Table11[],MATCH(TEXT(hf_kommune[[#This Row],[Kommunenr]],\"0\"),Table11[Nr],0),MATCH(hf_kommune[[#Headers],[2032]],Table11[#Headers],0))","v":78},{"$f":"INDEX(Table11[],MATCH(TEXT(hf_kommune[[#This Row],[Kommunenr]],\"0\"),Table11[Nr],0),MATCH(hf_kommune[[#Headers],[2033]],Table11[#Headers],0))","v":80},{"$f":"INDEX(Table11[],MATCH(TEXT(hf_kommune[[#This Row],[Kommunenr]],\"0\"),Table11[Nr],0),MATCH(hf_kommune[[#Headers],[2034]],Table11[#Headers],0))","v":74},{"$f":"INDEX(Table11[],MATCH(TEXT(hf_kommune[[#This Row],[Kommunenr]],\"0\"),Table11[Nr],0),MATCH(hf_kommune[[#Headers],[2035]],Table11[#Headers],0))","v":81},{"$f":"INDEX(Table11[],MATCH(TEXT(hf_kommune[[#This Row],[Kommunenr]],\"0\"),Table11[Nr],0),MATCH(hf_kommune[[#Headers],[2036]],Table11[#Headers],0))","v":80},{"$f":"INDEX(Table11[],MATCH(TEXT(hf_kommune[[#This Row],[Kommunenr]],\"0\"),Table11[Nr],0),MATCH(hf_kommune[[#Headers],[2037]],Table11[#Headers],0))","v":69},{"$f":"INDEX(Table11[],MATCH(TEXT(hf_kommune[[#This Row],[Kommunenr]],\"0\"),Table11[Nr],0),MATCH(hf_kommune[[#Headers],[2038]],Table11[#Headers],0))","v":84},{"$f":"INDEX(Table11[],MATCH(TEXT(hf_kommune[[#This Row],[Kommunenr]],\"0\"),Table11[Nr],0),MATCH(hf_kommune[[#Headers],[2039]],Table11[#Headers],0))","v":72},{"$f":"INDEX(Table11[],MATCH(TEXT(hf_kommune[[#This Row],[Kommunenr]],\"0\"),Table11[Nr],0),MATCH(hf_kommune[[#Headers],[2040]],Table11[#Headers],0))","v":74},6475,6466,6460,6458,6457,6457,6458,6458,6458,6457,6456,6454,6451,6447,6444,6440,6436,6432,6427]
[3451,"Nord-Aurdal","Helse Sør-Øst","Sykehuset Innlandet","Gjøvik",{"$f":"INDEX(Table11[],MATCH(TEXT(hf_kommune[[#This Row],[Kommunenr]],\"0\"),Table11[Nr],0),MATCH(hf_kommune[[#Headers],[2020]],Table11[#Headers],0))","v":77},{"$f":"INDEX(Table11[],MATCH(TEXT(hf_kommune[[#This Row],[Kommunenr]],\"0\"),Table11[Nr],0),MATCH(hf_kommune[[#Headers],[2021]],Table11[#Headers],0))","v":89},{"$f":"INDEX(Table11[],MATCH(TEXT(hf_kommune[[#This Row],[Kommunenr]],\"0\"),Table11[Nr],0),MATCH(hf_kommune[[#Headers],[2022]],Table11[#Headers],0))","v":93},{"$f":"INDEX(Table11[],MATCH(TEXT(hf_kommune[[#This Row],[Kommunenr]],\"0\"),Table11[Nr],0),MATCH(hf_kommune[[#Headers],[2023]],Table11[#Headers],0))","v":95},{"$f":"INDEX(Table11[],MATCH(TEXT(hf_kommune[[#This Row],[Kommunenr]],\"0\"),Table11[Nr],0),MATCH(hf_kommune[[#Headers],[2024]],Table11[#Headers],0))","v":79},{"$f":"INDEX(Table11[],MATCH(TEXT(hf_kommune[[#This Row],[Kommunenr]],\"0\"),Table11[Nr],0),MATCH(hf_kommune[[#Headers],[2025]],Table11[#Headers],0))","v":98},{"$f":"INDEX(Table11[],MATCH(TEXT(hf_kommune[[#This Row],[Kommunenr]],\"0\"),Table11[Nr],0),MATCH(hf_kommune[[#Headers],[2026]],Table11[#Headers],0))","v":85},{"$f":"INDEX(Table11[],MATCH(TEXT(hf_kommune[[#This Row],[Kommunenr]],\"0\"),Table11[Nr],0),MATCH(hf_kommune[[#Headers],[2027]],Table11[#Headers],0))","v":93},{"$f":"INDEX(Table11[],MATCH(TEXT(hf_kommune[[#This Row],[Kommunenr]],\"0\"),Table11[Nr],0),MATCH(hf_kommune[[#Headers],[2028]],Table11[#Headers],0))","v":92},{"$f":"INDEX(Table11[],MATCH(TEXT(hf_kommune[[#This Row],[Kommunenr]],\"0\"),Table11[Nr],0),MATCH(hf_kommune[[#Headers],[2029]],Table11[#Headers],0))","v":93},{"$f":"INDEX(Table11[],MATCH(TEXT(hf_kommune[[#This Row],[Kommunenr]],\"0\"),Table11[Nr],0),MATCH(hf_kommune[[#Headers],[2030]],Table11[#Headers],0))","v":84},{"$f":"INDEX(Table11[],MATCH(TEXT(hf_kommune[[#This Row],[Kommunenr]],\"0\"),Table11[Nr],0),MATCH(hf_kommune[[#Headers],[2031]],Table11[#Headers],0))","v":86},{"$f":"INDEX(Table11[],MATCH(TEXT(hf_kommune[[#This Row],[Kommunenr]],\"0\"),Table11[Nr],0),MATCH(hf_kommune[[#Headers],[2032]],Table11[#Headers],0))","v":87},{"$f":"INDEX(Table11[],MATCH(TEXT(hf_kommune[[#This Row],[Kommunenr]],\"0\"),Table11[Nr],0),MATCH(hf_kommune[[#Headers],[2033]],Table11[#Headers],0))","v":63},{"$f":"INDEX(Table11[],MATCH(TEXT(hf_kommune[[#This Row],[Kommunenr]],\"0\"),Table11[Nr],0),MATCH(hf_kommune[[#Headers],[2034]],Table11[#Headers],0))","v":77},{"$f":"INDEX(Table11[],MATCH(TEXT(hf_kommune[[#This Row],[Kommunenr]],\"0\"),Table11[Nr],0),MATCH(hf_kommune[[#Headers],[2035]],Table11[#Headers],0))","v":73},{"$f":"INDEX(Table11[],MATCH(TEXT(hf_kommune[[#This Row],[Kommunenr]],\"0\"),Table11[Nr],0),MATCH(hf_kommune[[#Headers],[2036]],Table11[#Headers],0))","v":81},{"$f":"INDEX(Table11[],MATCH(TEXT(hf_kommune[[#This Row],[Kommunenr]],\"0\"),Table11[Nr],0),MATCH(hf_kommune[[#Headers],[2037]],Table11[#Headers],0))","v":82},{"$f":"INDEX(Table11[],MATCH(TEXT(hf_kommune[[#This Row],[Kommunenr]],\"0\"),Table11[Nr],0),MATCH(hf_kommune[[#Headers],[2038]],Table11[#Headers],0))","v":71},{"$f":"INDEX(Table11[],MATCH(TEXT(hf_kommune[[#This Row],[Kommunenr]],\"0\"),Table11[Nr],0),MATCH(hf_kommune[[#Headers],[2039]],Table11[#Headers],0))","v":72},{"$f":"INDEX(Table11[],MATCH(TEXT(hf_kommune[[#This Row],[Kommunenr]],\"0\"),Table11[Nr],0),MATCH(hf_kommune[[#Headers],[2040]],Table11[#Headers],0))","v":72},6372,6365,6362,6364,6370,6376,6382,6389,6397,6404,6411,6418,6425,6431,6437,6441,6444,6446,6447]
[3436,"Nord-Fron","Helse Sør-Øst","Sykehuset Innlandet","Lillehammer",{"$f":"INDEX(Table11[],MATCH(TEXT(hf_kommune[[#This Row],[Kommunenr]],\"0\"),Table11[Nr],0),MATCH(hf_kommune[[#Headers],[2020]],Table11[#Headers],0))","v":92},{"$f":"INDEX(Table11[],MATCH(TEXT(hf_kommune[[#This Row],[Kommunenr]],\"0\"),Table11[Nr],0),MATCH(hf_kommune[[#Headers],[2021]],Table11[#Headers],0))","v":71},{"$f":"INDEX(Table11[],MATCH(TEXT(hf_kommune[[#This Row],[Kommunenr]],\"0\"),Table11[Nr],0),MATCH(hf_kommune[[#Headers],[2022]],Table11[#Headers],0))","v":95},{"$f":"INDEX(Table11[],MATCH(TEXT(hf_kommune[[#This Row],[Kommunenr]],\"0\"),Table11[Nr],0),MATCH(hf_kommune[[#Headers],[2023]],Table11[#Headers],0))","v":99},{"$f":"INDEX(Table11[],MATCH(TEXT(hf_kommune[[#This Row],[Kommunenr]],\"0\"),Table11[Nr],0),MATCH(hf_kommune[[#Headers],[2024]],Table11[#Headers],0))","v":97},{"$f":"INDEX(Table11[],MATCH(TEXT(hf_kommune[[#This Row],[Kommunenr]],\"0\"),Table11[Nr],0),MATCH(hf_kommune[[#Headers],[2025]],Table11[#Headers],0))","v":82},{"$f":"INDEX(Table11[],MATCH(TEXT(hf_kommune[[#This Row],[Kommunenr]],\"0\"),Table11[Nr],0),MATCH(hf_kommune[[#Headers],[2026]],Table11[#Headers],0))","v":81},{"$f":"INDEX(Table11[],MATCH(TEXT(hf_kommune[[#This Row],[Kommunenr]],\"0\"),Table11[Nr],0),MATCH(hf_kommune[[#Headers],[2027]],Table11[#Headers],0))","v":85},{"$f":"INDEX(Table11[],MATCH(TEXT(hf_kommune[[#This Row],[Kommunenr]],\"0\"),Table11[Nr],0),MATCH(hf_kommune[[#Headers],[2028]],Table11[#Headers],0))","v":85},{"$f":"INDEX(Table11[],MATCH(TEXT(hf_kommune[[#This Row],[Kommunenr]],\"0\"),Table11[Nr],0),MATCH(hf_kommune[[#Headers],[2029]],Table11[#Headers],0))","v":80},{"$f":"INDEX(Table11[],MATCH(TEXT(hf_kommune[[#This Row],[Kommunenr]],\"0\"),Table11[Nr],0),MATCH(hf_kommune[[#Headers],[2030]],Table11[#Headers],0))","v":61},{"$f":"INDEX(Table11[],MATCH(TEXT(hf_kommune[[#This Row],[Kommunenr]],\"0\"),Table11[Nr],0),MATCH(hf_kommune[[#Headers],[2031]],Table11[#Headers],0))","v":60},{"$f":"INDEX(Table11[],MATCH(TEXT(hf_kommune[[#This Row],[Kommunenr]],\"0\"),Table11[Nr],0),MATCH(hf_kommune[[#Headers],[2032]],Table11[#Headers],0))","v":55},{"$f":"INDEX(Table11[],MATCH(TEXT(hf_kommune[[#This Row],[Kommunenr]],\"0\"),Table11[Nr],0),MATCH(hf_kommune[[#Headers],[2033]],Table11[#Headers],0))","v":56},{"$f":"INDEX(Table11[],MATCH(TEXT(hf_kommune[[#This Row],[Kommunenr]],\"0\"),Table11[Nr],0),MATCH(hf_kommune[[#Headers],[2034]],Table11[#Headers],0))","v":55},{"$f":"INDEX(Table11[],MATCH(TEXT(hf_kommune[[#This Row],[Kommunenr]],\"0\"),Table11[Nr],0),MATCH(hf_kommune[[#Headers],[2035]],Table11[#Headers],0))","v":58},{"$f":"INDEX(Table11[],MATCH(TEXT(hf_kommune[[#This Row],[Kommunenr]],\"0\"),Table11[Nr],0),MATCH(hf_kommune[[#Headers],[2036]],Table11[#Headers],0))","v":60},{"$f":"INDEX(Table11[],MATCH(TEXT(hf_kommune[[#This Row],[Kommunenr]],\"0\"),Table11[Nr],0),MATCH(hf_kommune[[#Headers],[2037]],Table11[#Headers],0))","v":53},{"$f":"INDEX(Table11[],MATCH(TEXT(hf_kommune[[#This Row],[Kommunenr]],\"0\"),Table11[Nr],0),MATCH(hf_kommune[[#Headers],[2038]],Table11[#Headers],0))","v":63},{"$f":"INDEX(Table11[],MATCH(TEXT(hf_kommune[[#This Row],[Kommunenr]],\"0\"),Table11[Nr],0),MATCH(hf_kommune[[#Headers],[2039]],Table11[#Headers],0))","v":51},{"$f":"INDEX(Table11[],MATCH(TEXT(hf_kommune[[#This Row],[Kommunenr]],\"0\"),Table11[Nr],0),MATCH(hf_kommune[[#Headers],[2040]],Table11[#Headers],0))","v":60},5647,5616,5588,5564,5545,5526,5509,5493,5478,5463,5449,5434,5420,5406,5392,5377,5362,5348,5332]
[5435,"Nordkapp","Helse Nord","Finnmarkssykehuset","Hammerfest",{"$f":"INDEX(Table11[],MATCH(TEXT(hf_kommune[[#This Row],[Kommunenr]],\"0\"),Table11[Nr],0),MATCH(hf_kommune[[#Headers],[2020]],Table11[#Headers],0))","v":53},{"$f":"INDEX(Table11[],MATCH(TEXT(hf_kommune[[#This Row],[Kommunenr]],\"0\"),Table11[Nr],0),MATCH(hf_kommune[[#Headers],[2021]],Table11[#Headers],0))","v":45},{"$f":"INDEX(Table11[],MATCH(TEXT(hf_kommune[[#This Row],[Kommunenr]],\"0\"),Table11[Nr],0),MATCH(hf_kommune[[#Headers],[2022]],Table11[#Headers],0))","v":52},{"$f":"INDEX(Table11[],MATCH(TEXT(hf_kommune[[#This Row],[Kommunenr]],\"0\"),Table11[Nr],0),MATCH(hf_kommune[[#Headers],[2023]],Table11[#Headers],0))","v":51},{"$f":"INDEX(Table11[],MATCH(TEXT(hf_kommune[[#This Row],[Kommunenr]],\"0\"),Table11[Nr],0),MATCH(hf_kommune[[#Headers],[2024]],Table11[#Headers],0))","v":50},{"$f":"INDEX(Table11[],MATCH(TEXT(hf_kommune[[#This Row],[Kommunenr]],\"0\"),Table11[Nr],0),MATCH(hf_kommune[[#Headers],[2025]],Table11[#Headers],0))","v":50},{"$f":"INDEX(Table11[],MATCH(TEXT(hf_kommune[[#This Row],[Kommunenr]],\"0\"),Table11[Nr],0),MATCH(hf_kommune[[#Headers],[2026]],Table11[#Headers],0))","v":48},{"$f":"INDEX(Table11[],MATCH(TEXT(hf_kommune[[#This Row],[Kommunenr]],\"0\"),Table11[Nr],0),MATCH(hf_kommune[[#Headers],[2027]],Table11[#Headers],0))","v":44},{"$f":"INDEX(Table11[],MATCH(TEXT(hf_kommune[[#This Row],[Kommunenr]],\"0\"),Table11[Nr],0),MATCH(hf_kommune[[#Headers],[2028]],Table11[#Headers],0))","v":34},{"$f":"INDEX(Table11[],MATCH(TEXT(hf_kommune[[#This Row],[Kommunenr]],\"0\"),Table11[Nr],0),MATCH(hf_kommune[[#Headers],[2029]],Table11[#Headers],0))","v":39},{"$f":"INDEX(Table11[],MATCH(TEXT(hf_kommune[[#This Row],[Kommunenr]],\"0\"),Table11[Nr],0),MATCH(hf_kommune[[#Headers],[2030]],Table11[#Headers],0))","v":37},{"$f":"INDEX(Table11[],MATCH(TEXT(hf_kommune[[#This Row],[Kommunenr]],\"0\"),Table11[Nr],0),MATCH(hf_kommune[[#Headers],[2031]],Table11[#Headers],0))","v":34},{"$f":"INDEX(Table11[],MATCH(TEXT(hf_kommune[[#This Row],[Kommunenr]],\"0\"),Table11[Nr],0),MATCH(hf_kommune[[#Headers],[2032]],Table11[#Headers],0))","v":34},{"$f":"INDEX(Table11[],MATCH(TEXT(hf_kommune[[#This Row],[Kommunenr]],\"0\"),Table11[Nr],0),MATCH(hf_kommune[[#Headers],[2033]],Table11[#Headers],0))","v":30},{"$f":"INDEX(Table11[],MATCH(TEXT(hf_kommune[[#This Row],[Kommunenr]],\"0\"),Table11[Nr],0),MATCH(hf_kommune[[#Headers],[2034]],Table11[#Headers],0))","v":32},{"$f":"INDEX(Table11[],MATCH(TEXT(hf_kommune[[#This Row],[Kommunenr]],\"0\"),Table11[Nr],0),MATCH(hf_kommune[[#Headers],[2035]],Table11[#Headers],0))","v":30},{"$f":"INDEX(Table11[],MATCH(TEXT(hf_kommune[[#This Row],[Kommunenr]],\"0\"),Table11[Nr],0),MATCH(hf_kommune[[#Headers],[2036]],Table11[#Headers],0))","v":34},{"$f":"INDEX(Table11[],MATCH(TEXT(hf_kommune[[#This Row],[Kommunenr]],\"0\"),Table11[Nr],0),MATCH(hf_kommune[[#Headers],[2037]],Table11[#Headers],0))","v":33},{"$f":"INDEX(Table11[],MATCH(TEXT(hf_kommune[[#This Row],[Kommunenr]],\"0\"),Table11[Nr],0),MATCH(hf_kommune[[#Headers],[2038]],Table11[#Headers],0))","v":27},{"$f":"INDEX(Table11[],MATCH(TEXT(hf_kommune[[#This Row],[Kommunenr]],\"0\"),Table11[Nr],0),MATCH(hf_kommune[[#Headers],[2039]],Table11[#Headers],0))","v":35},{"$f":"INDEX(Table11[],MATCH(TEXT(hf_kommune[[#This Row],[Kommunenr]],\"0\"),Table11[Nr],0),MATCH(hf_kommune[[#Headers],[2040]],Table11[#Headers],0))","v":35},3127,3117,3112,3110,3113,3116,3119,3123,3126,3130,3134,3138,3142,3146,3150,3154,3156,3159,3160]
[3414,"Nord-Odal","Helse Sør-Øst","Akershus universitetssykehus","Kongsvinger",{"$f":"INDEX(Table11[],MATCH(TEXT(hf_kommune[[#This Row],[Kommunenr]],\"0\"),Table11[Nr],0),MATCH(hf_kommune[[#Headers],[2020]],Table11[#Headers],0))","v":83},{"$f":"INDEX(Table11[],MATCH(TEXT(hf_kommune[[#This Row],[Kommunenr]],\"0\"),Table11[Nr],0),MATCH(hf_kommune[[#Headers],[2021]],Table11[#Headers],0))","v":86},{"$f":"INDEX(Table11[],MATCH(TEXT(hf_kommune[[#This Row],[Kommunenr]],\"0\"),Table11[Nr],0),MATCH(hf_kommune[[#Headers],[2022]],Table11[#Headers],0))","v":72},{"$f":"INDEX(Table11[],MATCH(TEXT(hf_kommune[[#This Row],[Kommunenr]],\"0\"),Table11[Nr],0),MATCH(hf_kommune[[#Headers],[2023]],Table11[#Headers],0))","v":85},{"$f":"INDEX(Table11[],MATCH(TEXT(hf_kommune[[#This Row],[Kommunenr]],\"0\"),Table11[Nr],0),MATCH(hf_kommune[[#Headers],[2024]],Table11[#Headers],0))","v":76},{"$f":"INDEX(Table11[],MATCH(TEXT(hf_kommune[[#This Row],[Kommunenr]],\"0\"),Table11[Nr],0),MATCH(hf_kommune[[#Headers],[2025]],Table11[#Headers],0))","v":91},{"$f":"INDEX(Table11[],MATCH(TEXT(hf_kommune[[#This Row],[Kommunenr]],\"0\"),Table11[Nr],0),MATCH(hf_kommune[[#Headers],[2026]],Table11[#Headers],0))","v":85},{"$f":"INDEX(Table11[],MATCH(TEXT(hf_kommune[[#This Row],[Kommunenr]],\"0\"),Table11[Nr],0),MATCH(hf_kommune[[#Headers],[2027]],Table11[#Headers],0))","v":93},{"$f":"INDEX(Table11[],MATCH(TEXT(hf_kommune[[#This Row],[Kommunenr]],\"0\"),Table11[Nr],0),MATCH(hf_kommune[[#Headers],[2028]],Table11[#Headers],0))","v":87},{"$f":"INDEX(Table11[],MATCH(TEXT(hf_kommune[[#This Row],[Kommunenr]],\"0\"),Table11[Nr],0),MATCH(hf_kommune[[#Headers],[2029]],Table11[#Headers],0))","v":70},{"$f":"INDEX(Table11[],MATCH(TEXT(hf_kommune[[#This Row],[Kommunenr]],\"0\"),Table11[Nr],0),MATCH(hf_kommune[[#Headers],[2030]],Table11[#Headers],0))","v":71},{"$f":"INDEX(Table11[],MATCH(TEXT(hf_kommune[[#This Row],[Kommunenr]],\"0\"),Table11[Nr],0),MATCH(hf_kommune[[#Headers],[2031]],Table11[#Headers],0))","v":61},{"$f":"INDEX(Table11[],MATCH(TEXT(hf_kommune[[#This Row],[Kommunenr]],\"0\"),Table11[Nr],0),MATCH(hf_kommune[[#Headers],[2032]],Table11[#Headers],0))","v":71},{"$f":"INDEX(Table11[],MATCH(TEXT(hf_kommune[[#This Row],[Kommunenr]],\"0\"),Table11[Nr],0),MATCH(hf_kommune[[#Headers],[2033]],Table11[#Headers],0))","v":60},{"$f":"INDEX(Table11[],MATCH(TEXT(hf_kommune[[#This Row],[Kommunenr]],\"0\"),Table11[Nr],0),MATCH(hf_kommune[[#Headers],[2034]],Table11[#Headers],0))","v":55},{"$f":"INDEX(Table11[],MATCH(TEXT(hf_kommune[[#This Row],[Kommunenr]],\"0\"),Table11[Nr],0),MATCH(hf_kommune[[#Headers],[2035]],Table11[#Headers],0))","v":64},{"$f":"INDEX(Table11[],MATCH(TEXT(hf_kommune[[#This Row],[Kommunenr]],\"0\"),Table11[Nr],0),MATCH(hf_kommune[[#Headers],[2036]],Table11[#Headers],0))","v":58},{"$f":"INDEX(Table11[],MATCH(TEXT(hf_kommune[[#This Row],[Kommunenr]],\"0\"),Table11[Nr],0),MATCH(hf_kommune[[#Headers],[2037]],Table11[#Headers],0))","v":66},{"$f":"INDEX(Table11[],MATCH(TEXT(hf_kommune[[#This Row],[Kommunenr]],\"0\"),Table11[Nr],0),MATCH(hf_kommune[[#Headers],[2038]],Table11[#Headers],0))","v":56},{"$f":"INDEX(Table11[],MATCH(TEXT(hf_kommune[[#This Row],[Kommunenr]],\"0\"),Table11[Nr],0),MATCH(hf_kommune[[#Headers],[2039]],Table11[#Headers],0))","v":61},{"$f":"INDEX(Table11[],MATCH(TEXT(hf_kommune[[#This Row],[Kommunenr]],\"0\"),Table11[Nr],0),MATCH(hf_kommune[[#Headers],[2040]],Table11[#Headers],0))","v":56},4961,4935,4911,4891,4874,4860,4848,4838,4829,4821,4814,4808,4803,4797,4794,4790,4786,4782,4778]
[3020,"Nordre Follo","Helse Sør-Øst","Akershus universitetssykehus","Ski",{"$f":"INDEX(Table11[],MATCH(TEXT(hf_kommune[[#This Row],[Kommunenr]],\"0\"),Table11[Nr],0),MATCH(hf_kommune[[#Headers],[2020]],Table11[#Headers],0))","v":802},{"$f":"INDEX(Table11[],MATCH(TEXT(hf_kommune[[#This Row],[Kommunenr]],\"0\"),Table11[Nr],0),MATCH(hf_kommune[[#Headers],[2021]],Table11[#Headers],0))","v":796},{"$f":"INDEX(Table11[],MATCH(TEXT(hf_kommune[[#This Row],[Kommunenr]],\"0\"),Table11[Nr],0),MATCH(hf_kommune[[#Headers],[2022]],Table11[#Headers],0))","v":857},{"$f":"INDEX(Table11[],MATCH(TEXT(hf_kommune[[#This Row],[Kommunenr]],\"0\"),Table11[Nr],0),MATCH(hf_kommune[[#Headers],[2023]],Table11[#Headers],0))","v":823},{"$f":"INDEX(Table11[],MATCH(TEXT(hf_kommune[[#This Row],[Kommunenr]],\"0\"),Table11[Nr],0),MATCH(hf_kommune[[#Headers],[2024]],Table11[#Headers],0))","v":933},{"$f":"INDEX(Table11[],MATCH(TEXT(hf_kommune[[#This Row],[Kommunenr]],\"0\"),Table11[Nr],0),MATCH(hf_kommune[[#Headers],[2025]],Table11[#Headers],0))","v":892},{"$f":"INDEX(Table11[],MATCH(TEXT(hf_kommune[[#This Row],[Kommunenr]],\"0\"),Table11[Nr],0),MATCH(hf_kommune[[#Headers],[2026]],Table11[#Headers],0))","v":839},{"$f":"INDEX(Table11[],MATCH(TEXT(hf_kommune[[#This Row],[Kommunenr]],\"0\"),Table11[Nr],0),MATCH(hf_kommune[[#Headers],[2027]],Table11[#Headers],0))","v":890},{"$f":"INDEX(Table11[],MATCH(TEXT(hf_kommune[[#This Row],[Kommunenr]],\"0\"),Table11[Nr],0),MATCH(hf_kommune[[#Headers],[2028]],Table11[#Headers],0))","v":919},{"$f":"INDEX(Table11[],MATCH(TEXT(hf_kommune[[#This Row],[Kommunenr]],\"0\"),Table11[Nr],0),MATCH(hf_kommune[[#Headers],[2029]],Table11[#Headers],0))","v":867},{"$f":"INDEX(Table11[],MATCH(TEXT(hf_kommune[[#This Row],[Kommunenr]],\"0\"),Table11[Nr],0),MATCH(hf_kommune[[#Headers],[2030]],Table11[#Headers],0))","v":906},{"$f":"INDEX(Table11[],MATCH(TEXT(hf_kommune[[#This Row],[Kommunenr]],\"0\"),Table11[Nr],0),MATCH(hf_kommune[[#Headers],[2031]],Table11[#Headers],0))","v":845},{"$f":"INDEX(Table11[],MATCH(TEXT(hf_kommune[[#This Row],[Kommunenr]],\"0\"),Table11[Nr],0),MATCH(hf_kommune[[#Headers],[2032]],Table11[#Headers],0))","v":834},{"$f":"INDEX(Table11[],MATCH(TEXT(hf_kommune[[#This Row],[Kommunenr]],\"0\"),Table11[Nr],0),MATCH(hf_kommune[[#Headers],[2033]],Table11[#Headers],0))","v":814},{"$f":"INDEX(Table11[],MATCH(TEXT(hf_kommune[[#This Row],[Kommunenr]],\"0\"),Table11[Nr],0),MATCH(hf_kommune[[#Headers],[2034]],Table11[#Headers],0))","v":855},{"$f":"INDEX(Table11[],MATCH(TEXT(hf_kommune[[#This Row],[Kommunenr]],\"0\"),Table11[Nr],0),MATCH(hf_kommune[[#Headers],[2035]],Table11[#Headers],0))","v":814},{"$f":"INDEX(Table11[],MATCH(TEXT(hf_kommune[[#This Row],[Kommunenr]],\"0\"),Table11[Nr],0),MATCH(hf_kommune[[#Headers],[2036]],Table11[#Headers],0))","v":815},{"$f":"INDEX(Table11[],MATCH(TEXT(hf_kommune[[#This Row],[Kommunenr]],\"0\"),Table11[Nr],0),MATCH(hf_kommune[[#Headers],[2037]],Table11[#Headers],0))","v":837},{"$f":"INDEX(Table11[],MATCH(TEXT(hf_kommune[[#This Row],[Kommunenr]],\"0\"),Table11[Nr],0),MATCH(hf_kommune[[#Headers],[2038]],Table11[#Headers],0))","v":838},{"$f":"INDEX(Table11[],MATCH(TEXT(hf_kommune[[#This Row],[Kommunenr]],\"0\"),Table11[Nr],0),MATCH(hf_kommune[[#Headers],[2039]],Table11[#Headers],0))","v":840},{"$f":"INDEX(Table11[],MATCH(TEXT(hf_kommune[[#This Row],[Kommunenr]],\"0\"),Table11[Nr],0),MATCH(hf_kommune[[#Headers],[2040]],Table11[#Headers],0))","v":876},60233,60668,61065,61427,61758,62082,62398,62708,63013,63311,63603,63892,64178,64464,64751,65037,65318,65596,65869]
[3448,"Nordre Land","Helse Sør-Øst","Sykehuset Innlandet","Gjøvik",{"$f":"INDEX(Table11[],MATCH(TEXT(hf_kommune[[#This Row],[Kommunenr]],\"0\"),Table11[Nr],0),MATCH(hf_kommune[[#Headers],[2020]],Table11[#Headers],0))","v":119},{"$f":"INDEX(Table11[],MATCH(TEXT(hf_kommune[[#This Row],[Kommunenr]],\"0\"),Table11[Nr],0),MATCH(hf_kommune[[#Headers],[2021]],Table11[#Headers],0))","v":103},{"$f":"INDEX(Table11[],MATCH(TEXT(hf_kommune[[#This Row],[Kommunenr]],\"0\"),Table11[Nr],0),MATCH(hf_kommune[[#Headers],[2022]],Table11[#Headers],0))","v":101},{"$f":"INDEX(Table11[],MATCH(TEXT(hf_kommune[[#This Row],[Kommunenr]],\"0\"),Table11[Nr],0),MATCH(hf_kommune[[#Headers],[2023]],Table11[#Headers],0))","v":113},{"$f":"INDEX(Table11[],MATCH(TEXT(hf_kommune[[#This Row],[Kommunenr]],\"0\"),Table11[Nr],0),MATCH(hf_kommune[[#Headers],[2024]],Table11[#Headers],0))","v":91},{"$f":"INDEX(Table11[],MATCH(TEXT(hf_kommune[[#This Row],[Kommunenr]],\"0\"),Table11[Nr],0),MATCH(hf_kommune[[#Headers],[2025]],Table11[#Headers],0))","v":113},{"$f":"INDEX(Table11[],MATCH(TEXT(hf_kommune[[#This Row],[Kommunenr]],\"0\"),Table11[Nr],0),MATCH(hf_kommune[[#Headers],[2026]],Table11[#Headers],0))","v":105},{"$f":"INDEX(Table11[],MATCH(TEXT(hf_kommune[[#This Row],[Kommunenr]],\"0\"),Table11[Nr],0),MATCH(hf_kommune[[#Headers],[2027]],Table11[#Headers],0))","v":110},{"$f":"INDEX(Table11[],MATCH(TEXT(hf_kommune[[#This Row],[Kommunenr]],\"0\"),Table11[Nr],0),MATCH(hf_kommune[[#Headers],[2028]],Table11[#Headers],0))","v":103},{"$f":"INDEX(Table11[],MATCH(TEXT(hf_kommune[[#This Row],[Kommunenr]],\"0\"),Table11[Nr],0),MATCH(hf_kommune[[#Headers],[2029]],Table11[#Headers],0))","v":95},{"$f":"INDEX(Table11[],MATCH(TEXT(hf_kommune[[#This Row],[Kommunenr]],\"0\"),Table11[Nr],0),MATCH(hf_kommune[[#Headers],[2030]],Table11[#Headers],0))","v":85},{"$f":"INDEX(Table11[],MATCH(TEXT(hf_kommune[[#This Row],[Kommunenr]],\"0\"),Table11[Nr],0),MATCH(hf_kommune[[#Headers],[2031]],Table11[#Headers],0))","v":93},{"$f":"INDEX(Table11[],MATCH(TEXT(hf_kommune[[#This Row],[Kommunenr]],\"0\"),Table11[Nr],0),MATCH(hf_kommune[[#Headers],[2032]],Table11[#Headers],0))","v":78},{"$f":"INDEX(Table11[],MATCH(TEXT(hf_kommune[[#This Row],[Kommunenr]],\"0\"),Table11[Nr],0),MATCH(hf_kommune[[#Headers],[2033]],Table11[#Headers],0))","v":78},{"$f":"INDEX(Table11[],MATCH(TEXT(hf_kommune[[#This Row],[Kommunenr]],\"0\"),Table11[Nr],0),MATCH(hf_kommune[[#Headers],[2034]],Table11[#Headers],0))","v":83},{"$f":"INDEX(Table11[],MATCH(TEXT(hf_kommune[[#This Row],[Kommunenr]],\"0\"),Table11[Nr],0),MATCH(hf_kommune[[#Headers],[2035]],Table11[#Headers],0))","v":80},{"$f":"INDEX(Table11[],MATCH(TEXT(hf_kommune[[#This Row],[Kommunenr]],\"0\"),Table11[Nr],0),MATCH(hf_kommune[[#Headers],[2036]],Table11[#Headers],0))","v":68},{"$f":"INDEX(Table11[],MATCH(TEXT(hf_kommune[[#This Row],[Kommunenr]],\"0\"),Table11[Nr],0),MATCH(hf_kommune[[#Headers],[2037]],Table11[#Headers],0))","v":78},{"$f":"INDEX(Table11[],MATCH(TEXT(hf_kommune[[#This Row],[Kommunenr]],\"0\"),Table11[Nr],0),MATCH(hf_kommune[[#Headers],[2038]],Table11[#Headers],0))","v":73},{"$f":"INDEX(Table11[],MATCH(TEXT(hf_kommune[[#This Row],[Kommunenr]],\"0\"),Table11[Nr],0),MATCH(hf_kommune[[#Headers],[2039]],Table11[#Headers],0))","v":82},{"$f":"INDEX(Table11[],MATCH(TEXT(hf_kommune[[#This Row],[Kommunenr]],\"0\"),Table11[Nr],0),MATCH(hf_kommune[[#Headers],[2040]],Table11[#Headers],0))","v":80},6497,6454,6423,6404,6396,6387,6378,6371,6363,6355,6347,6340,6333,6326,6320,6315,6309,6303,6297]
[5428,"Nordreisa","Helse Nord","Universitetssykehuset Nord-Norge","Tromsø",{"$f":"INDEX(Table11[],MATCH(TEXT(hf_kommune[[#This Row],[Kommunenr]],\"0\"),Table11[Nr],0),MATCH(hf_kommune[[#Headers],[2020]],Table11[#Headers],0))","v":74},{"$f":"INDEX(Table11[],MATCH(TEXT(hf_kommune[[#This Row],[Kommunenr]],\"0\"),Table11[Nr],0),MATCH(hf_kommune[[#Headers],[2021]],Table11[#Headers],0))","v":69},{"$f":"INDEX(Table11[],MATCH(TEXT(hf_kommune[[#This Row],[Kommunenr]],\"0\"),Table11[Nr],0),MATCH(hf_kommune[[#Headers],[2022]],Table11[#Headers],0))","v":59},{"$f":"INDEX(Table11[],MATCH(TEXT(hf_kommune[[#This Row],[Kommunenr]],\"0\"),Table11[Nr],0),MATCH(hf_kommune[[#Headers],[2023]],Table11[#Headers],0))","v":57},{"$f":"INDEX(Table11[],MATCH(TEXT(hf_kommune[[#This Row],[Kommunenr]],\"0\"),Table11[Nr],0),MATCH(hf_kommune[[#Headers],[2024]],Table11[#Headers],0))","v":74},{"$f":"INDEX(Table11[],MATCH(TEXT(hf_kommune[[#This Row],[Kommunenr]],\"0\"),Table11[Nr],0),MATCH(hf_kommune[[#Headers],[2025]],Table11[#Headers],0))","v":76},{"$f":"INDEX(Table11[],MATCH(TEXT(hf_kommune[[#This Row],[Kommunenr]],\"0\"),Table11[Nr],0),MATCH(hf_kommune[[#Headers],[2026]],Table11[#Headers],0))","v":72},{"$f":"INDEX(Table11[],MATCH(TEXT(hf_kommune[[#This Row],[Kommunenr]],\"0\"),Table11[Nr],0),MATCH(hf_kommune[[#Headers],[2027]],Table11[#Headers],0))","v":80},{"$f":"INDEX(Table11[],MATCH(TEXT(hf_kommune[[#This Row],[Kommunenr]],\"0\"),Table11[Nr],0),MATCH(hf_kommune[[#Headers],[2028]],Table11[#Headers],0))","v":68},{"$f":"INDEX(Table11[],MATCH(TEXT(hf_kommune[[#This Row],[Kommunenr]],\"0\"),Table11[Nr],0),MATCH(hf_kommune[[#Headers],[2029]],Table11[#Headers],0))","v":54},{"$f":"INDEX(Table11[],MATCH(TEXT(hf_kommune[[#This Row],[Kommunenr]],\"0\"),Table11[Nr],0),MATCH(hf_kommune[[#Headers],[2030]],Table11[#Headers],0))","v":68},{"$f":"INDEX(Table11[],MATCH(TEXT(hf_kommune[[#This Row],[Kommunenr]],\"0\"),Table11[Nr],0),MATCH(hf_kommune[[#Headers],[2031]],Table11[#Headers],0))","v":51},{"$f":"INDEX(Table11[],MATCH(TEXT(hf_kommune[[#This Row],[Kommunenr]],\"0\"),Table11[Nr],0),MATCH(hf_kommune[[#Headers],[2032]],Table11[#Headers],0))","v":54},{"$f":"INDEX(Table11[],MATCH(TEXT(hf_kommune[[#This Row],[Kommunenr]],\"0\"),Table11[Nr],0),MATCH(hf_kommune[[#Headers],[2033]],Table11[#Headers],0))","v":45},{"$f":"INDEX(Table11[],MATCH(TEXT(hf_kommune[[#This Row],[Kommunenr]],\"0\"),Table11[Nr],0),MATCH(hf_kommune[[#Headers],[2034]],Table11[#Headers],0))","v":58},{"$f":"INDEX(Table11[],MATCH(TEXT(hf_kommune[[#This Row],[Kommunenr]],\"0\"),Table11[Nr],0),MATCH(hf_kommune[[#Headers],[2035]],Table11[#Headers],0))","v":55},{"$f":"INDEX(Table11[],MATCH(TEXT(hf_kommune[[#This Row],[Kommunenr]],\"0\"),Table11[Nr],0),MATCH(hf_kommune[[#Headers],[2036]],Table11[#Headers],0))","v":53},{"$f":"INDEX(Table11[],MATCH(TEXT(hf_kommune[[#This Row],[Kommunenr]],\"0\"),Table11[Nr],0),MATCH(hf_kommune[[#Headers],[2037]],Table11[#Headers],0))","v":48},{"$f":"INDEX(Table11[],MATCH(TEXT(hf_kommune[[#This Row],[Kommunenr]],\"0\"),Table11[Nr],0),MATCH(hf_kommune[[#Headers],[2038]],Table11[#Headers],0))","v":49},{"$f":"INDEX(Table11[],MATCH(TEXT(hf_kommune[[#This Row],[Kommunenr]],\"0\"),Table11[Nr],0),MATCH(hf_kommune[[#Headers],[2039]],Table11[#Headers],0))","v":45},{"$f":"INDEX(Table11[],MATCH(TEXT(hf_kommune[[#This Row],[Kommunenr]],\"0\"),Table11[Nr],0),MATCH(hf_kommune[[#Headers],[2040]],Table11[#Headers],0))","v":49},4845,4843,4840,4839,4840,4841,4841,4841,4840,4840,4840,4839,4838,4838,4837,4836,4833,4831,4827]
[3052,"Nore og Uvdal","Helse Sør-Øst","Vestre Viken","Kongsberg",{"$f":"INDEX(Table11[],MATCH(TEXT(hf_kommune[[#This Row],[Kommunenr]],\"0\"),Table11[Nr],0),MATCH(hf_kommune[[#Headers],[2020]],Table11[#Headers],0))","v":41},{"$f":"INDEX(Table11[],MATCH(TEXT(hf_kommune[[#This Row],[Kommunenr]],\"0\"),Table11[Nr],0),MATCH(hf_kommune[[#Headers],[2021]],Table11[#Headers],0))","v":52},{"$f":"INDEX(Table11[],MATCH(TEXT(hf_kommune[[#This Row],[Kommunenr]],\"0\"),Table11[Nr],0),MATCH(hf_kommune[[#Headers],[2022]],Table11[#Headers],0))","v":34},{"$f":"INDEX(Table11[],MATCH(TEXT(hf_kommune[[#This Row],[Kommunenr]],\"0\"),Table11[Nr],0),MATCH(hf_kommune[[#Headers],[2023]],Table11[#Headers],0))","v":33},{"$f":"INDEX(Table11[],MATCH(TEXT(hf_kommune[[#This Row],[Kommunenr]],\"0\"),Table11[Nr],0),MATCH(hf_kommune[[#Headers],[2024]],Table11[#Headers],0))","v":44},{"$f":"INDEX(Table11[],MATCH(TEXT(hf_kommune[[#This Row],[Kommunenr]],\"0\"),Table11[Nr],0),MATCH(hf_kommune[[#Headers],[2025]],Table11[#Headers],0))","v":37},{"$f":"INDEX(Table11[],MATCH(TEXT(hf_kommune[[#This Row],[Kommunenr]],\"0\"),Table11[Nr],0),MATCH(hf_kommune[[#Headers],[2026]],Table11[#Headers],0))","v":38},{"$f":"INDEX(Table11[],MATCH(TEXT(hf_kommune[[#This Row],[Kommunenr]],\"0\"),Table11[Nr],0),MATCH(hf_kommune[[#Headers],[2027]],Table11[#Headers],0))","v":37},{"$f":"INDEX(Table11[],MATCH(TEXT(hf_kommune[[#This Row],[Kommunenr]],\"0\"),Table11[Nr],0),MATCH(hf_kommune[[#Headers],[2028]],Table11[#Headers],0))","v":34},{"$f":"INDEX(Table11[],MATCH(TEXT(hf_kommune[[#This Row],[Kommunenr]],\"0\"),Table11[Nr],0),MATCH(hf_kommune[[#Headers],[2029]],Table11[#Headers],0))","v":42},{"$f":"INDEX(Table11[],MATCH(TEXT(hf_kommune[[#This Row],[Kommunenr]],\"0\"),Table11[Nr],0),MATCH(hf_kommune[[#Headers],[2030]],Table11[#Headers],0))","v":29},{"$f":"INDEX(Table11[],MATCH(TEXT(hf_kommune[[#This Row],[Kommunenr]],\"0\"),Table11[Nr],0),MATCH(hf_kommune[[#Headers],[2031]],Table11[#Headers],0))","v":27},{"$f":"INDEX(Table11[],MATCH(TEXT(hf_kommune[[#This Row],[Kommunenr]],\"0\"),Table11[Nr],0),MATCH(hf_kommune[[#Headers],[2032]],Table11[#Headers],0))","v":23},{"$f":"INDEX(Table11[],MATCH(TEXT(hf_kommune[[#This Row],[Kommunenr]],\"0\"),Table11[Nr],0),MATCH(hf_kommune[[#Headers],[2033]],Table11[#Headers],0))","v":33},{"$f":"INDEX(Table11[],MATCH(TEXT(hf_kommune[[#This Row],[Kommunenr]],\"0\"),Table11[Nr],0),MATCH(hf_kommune[[#Headers],[2034]],Table11[#Headers],0))","v":22},{"$f":"INDEX(Table11[],MATCH(TEXT(hf_kommune[[#This Row],[Kommunenr]],\"0\"),Table11[Nr],0),MATCH(hf_kommune[[#Headers],[2035]],Table11[#Headers],0))","v":26},{"$f":"INDEX(Table11[],MATCH(TEXT(hf_kommune[[#This Row],[Kommunenr]],\"0\"),Table11[Nr],0),MATCH(hf_kommune[[#Headers],[2036]],Table11[#Headers],0))","v":27},{"$f":"INDEX(Table11[],MATCH(TEXT(hf_kommune[[#This Row],[Kommunenr]],\"0\"),Table11[Nr],0),MATCH(hf_kommune[[#Headers],[2037]],Table11[#Headers],0))","v":28},{"$f":"INDEX(Table11[],MATCH(TEXT(hf_kommune[[#This Row],[Kommunenr]],\"0\"),Table11[Nr],0),MATCH(hf_kommune[[#Headers],[2038]],Table11[#Headers],0))","v":32},{"$f":"INDEX(Table11[],MATCH(TEXT(hf_kommune[[#This Row],[Kommunenr]],\"0\"),Table11[Nr],0),MATCH(hf_kommune[[#Headers],[2039]],Table11[#Headers],0))","v":25},{"$f":"INDEX(Table11[],MATCH(TEXT(hf_kommune[[#This Row],[Kommunenr]],\"0\"),Table11[Nr],0),MATCH(hf_kommune[[#Headers],[2040]],Table11[#Headers],0))","v":26},2392,2377,2364,2354,2346,2339,2332,2325,2319,2313,2307,2301,2296,2291,2287,2283,2278,2274,2270]
[3808,"Notodden","Helse Sør-Øst","Sykehuset Telemark","Notodden",{"$f":"INDEX(Table11[],MATCH(TEXT(hf_kommune[[#This Row],[Kommunenr]],\"0\"),Table11[Nr],0),MATCH(hf_kommune[[#Headers],[2020]],Table11[#Headers],0))","v":197},{"$f":"INDEX(Table11[],MATCH(TEXT(hf_kommune[[#This Row],[Kommunenr]],\"0\"),Table11[Nr],0),MATCH(hf_kommune[[#Headers],[2021]],Table11[#Headers],0))","v":200},{"$f":"INDEX(Table11[],MATCH(TEXT(hf_kommune[[#This Row],[Kommunenr]],\"0\"),Table11[Nr],0),MATCH(hf_kommune[[#Headers],[2022]],Table11[#Headers],0))","v":166},{"$f":"INDEX(Table11[],MATCH(TEXT(hf_kommune[[#This Row],[Kommunenr]],\"0\"),Table11[Nr],0),MATCH(hf_kommune[[#Headers],[2023]],Table11[#Headers],0))","v":195},{"$f":"INDEX(Table11[],MATCH(TEXT(hf_kommune[[#This Row],[Kommunenr]],\"0\"),Table11[Nr],0),MATCH(hf_kommune[[#Headers],[2024]],Table11[#Headers],0))","v":166},{"$f":"INDEX(Table11[],MATCH(TEXT(hf_kommune[[#This Row],[Kommunenr]],\"0\"),Table11[Nr],0),MATCH(hf_kommune[[#Headers],[2025]],Table11[#Headers],0))","v":174},{"$f":"INDEX(Table11[],MATCH(TEXT(hf_kommune[[#This Row],[Kommunenr]],\"0\"),Table11[Nr],0),MATCH(hf_kommune[[#Headers],[2026]],Table11[#Headers],0))","v":172},{"$f":"INDEX(Table11[],MATCH(TEXT(hf_kommune[[#This Row],[Kommunenr]],\"0\"),Table11[Nr],0),MATCH(hf_kommune[[#Headers],[2027]],Table11[#Headers],0))","v":178},{"$f":"INDEX(Table11[],MATCH(TEXT(hf_kommune[[#This Row],[Kommunenr]],\"0\"),Table11[Nr],0),MATCH(hf_kommune[[#Headers],[2028]],Table11[#Headers],0))","v":176},{"$f":"INDEX(Table11[],MATCH(TEXT(hf_kommune[[#This Row],[Kommunenr]],\"0\"),Table11[Nr],0),MATCH(hf_kommune[[#Headers],[2029]],Table11[#Headers],0))","v":170},{"$f":"INDEX(Table11[],MATCH(TEXT(hf_kommune[[#This Row],[Kommunenr]],\"0\"),Table11[Nr],0),MATCH(hf_kommune[[#Headers],[2030]],Table11[#Headers],0))","v":171},{"$f":"INDEX(Table11[],MATCH(TEXT(hf_kommune[[#This Row],[Kommunenr]],\"0\"),Table11[Nr],0),MATCH(hf_kommune[[#Headers],[2031]],Table11[#Headers],0))","v":180},{"$f":"INDEX(Table11[],MATCH(TEXT(hf_kommune[[#This Row],[Kommunenr]],\"0\"),Table11[Nr],0),MATCH(hf_kommune[[#Headers],[2032]],Table11[#Headers],0))","v":165},{"$f":"INDEX(Table11[],MATCH(TEXT(hf_kommune[[#This Row],[Kommunenr]],\"0\"),Table11[Nr],0),MATCH(hf_kommune[[#Headers],[2033]],Table11[#Headers],0))","v":130},{"$f":"INDEX(Table11[],MATCH(TEXT(hf_kommune[[#This Row],[Kommunenr]],\"0\"),Table11[Nr],0),MATCH(hf_kommune[[#Headers],[2034]],Table11[#Headers],0))","v":165},{"$f":"INDEX(Table11[],MATCH(TEXT(hf_kommune[[#This Row],[Kommunenr]],\"0\"),Table11[Nr],0),MATCH(hf_kommune[[#Headers],[2035]],Table11[#Headers],0))","v":159},{"$f":"INDEX(Table11[],MATCH(TEXT(hf_kommune[[#This Row],[Kommunenr]],\"0\"),Table11[Nr],0),MATCH(hf_kommune[[#Headers],[2036]],Table11[#Headers],0))","v":148},{"$f":"INDEX(Table11[],MATCH(TEXT(hf_kommune[[#This Row],[Kommunenr]],\"0\"),Table11[Nr],0),MATCH(hf_kommune[[#Headers],[2037]],Table11[#Headers],0))","v":138},{"$f":"INDEX(Table11[],MATCH(TEXT(hf_kommune[[#This Row],[Kommunenr]],\"0\"),Table11[Nr],0),MATCH(hf_kommune[[#Headers],[2038]],Table11[#Headers],0))","v":158},{"$f":"INDEX(Table11[],MATCH(TEXT(hf_kommune[[#This Row],[Kommunenr]],\"0\"),Table11[Nr],0),MATCH(hf_kommune[[#Headers],[2039]],Table11[#Headers],0))","v":157},{"$f":"INDEX(Table11[],MATCH(TEXT(hf_kommune[[#This Row],[Kommunenr]],\"0\"),Table11[Nr],0),MATCH(hf_kommune[[#Headers],[2040]],Table11[#Headers],0))","v":148},12880,12838,12816,12814,12829,12844,12860,12876,12892,12909,12925,12940,12956,12971,12986,13000,13013,13025,13035]
[5060,"Nærøysund","Helse Midt-Norge","Helse Nord-Trøndelag","Namsos",{"$f":"INDEX(Table11[],MATCH(TEXT(hf_kommune[[#This Row],[Kommunenr]],\"0\"),Table11[Nr],0),MATCH(hf_kommune[[#Headers],[2020]],Table11[#Headers],0))","v":123},{"$f":"INDEX(Table11[],MATCH(TEXT(hf_kommune[[#This Row],[Kommunenr]],\"0\"),Table11[Nr],0),MATCH(hf_kommune[[#Headers],[2021]],Table11[#Headers],0))","v":135},{"$f":"INDEX(Table11[],MATCH(TEXT(hf_kommune[[#This Row],[Kommunenr]],\"0\"),Table11[Nr],0),MATCH(hf_kommune[[#Headers],[2022]],Table11[#Headers],0))","v":143},{"$f":"INDEX(Table11[],MATCH(TEXT(hf_kommune[[#This Row],[Kommunenr]],\"0\"),Table11[Nr],0),MATCH(hf_kommune[[#Headers],[2023]],Table11[#Headers],0))","v":124},{"$f":"INDEX(Table11[],MATCH(TEXT(hf_kommune[[#This Row],[Kommunenr]],\"0\"),Table11[Nr],0),MATCH(hf_kommune[[#Headers],[2024]],Table11[#Headers],0))","v":145},{"$f":"INDEX(Table11[],MATCH(TEXT(hf_kommune[[#This Row],[Kommunenr]],\"0\"),Table11[Nr],0),MATCH(hf_kommune[[#Headers],[2025]],Table11[#Headers],0))","v":137},{"$f":"INDEX(Table11[],MATCH(TEXT(hf_kommune[[#This Row],[Kommunenr]],\"0\"),Table11[Nr],0),MATCH(hf_kommune[[#Headers],[2026]],Table11[#Headers],0))","v":137},{"$f":"INDEX(Table11[],MATCH(TEXT(hf_kommune[[#This Row],[Kommunenr]],\"0\"),Table11[Nr],0),MATCH(hf_kommune[[#Headers],[2027]],Table11[#Headers],0))","v":147},{"$f":"INDEX(Table11[],MATCH(TEXT(hf_kommune[[#This Row],[Kommunenr]],\"0\"),Table11[Nr],0),MATCH(hf_kommune[[#Headers],[2028]],Table11[#Headers],0))","v":129},{"$f":"INDEX(Table11[],MATCH(TEXT(hf_kommune[[#This Row],[Kommunenr]],\"0\"),Table11[Nr],0),MATCH(hf_kommune[[#Headers],[2029]],Table11[#Headers],0))","v":132},{"$f":"INDEX(Table11[],MATCH(TEXT(hf_kommune[[#This Row],[Kommunenr]],\"0\"),Table11[Nr],0),MATCH(hf_kommune[[#Headers],[2030]],Table11[#Headers],0))","v":131},{"$f":"INDEX(Table11[],MATCH(TEXT(hf_kommune[[#This Row],[Kommunenr]],\"0\"),Table11[Nr],0),MATCH(hf_kommune[[#Headers],[2031]],Table11[#Headers],0))","v":110},{"$f":"INDEX(Table11[],MATCH(TEXT(hf_kommune[[#This Row],[Kommunenr]],\"0\"),Table11[Nr],0),MATCH(hf_kommune[[#Headers],[2032]],Table11[#Headers],0))","v":101},{"$f":"INDEX(Table11[],MATCH(TEXT(hf_kommune[[#This Row],[Kommunenr]],\"0\"),Table11[Nr],0),MATCH(hf_kommune[[#Headers],[2033]],Table11[#Headers],0))","v":105},{"$f":"INDEX(Table11[],MATCH(TEXT(hf_kommune[[#This Row],[Kommunenr]],\"0\"),Table11[Nr],0),MATCH(hf_kommune[[#Headers],[2034]],Table11[#Headers],0))","v":108},{"$f":"INDEX(Table11[],MATCH(TEXT(hf_kommune[[#This Row],[Kommunenr]],\"0\"),Table11[Nr],0),MATCH(hf_kommune[[#Headers],[2035]],Table11[#Headers],0))","v":121},{"$f":"INDEX(Table11[],MATCH(TEXT(hf_kommune[[#This Row],[Kommunenr]],\"0\"),Table11[Nr],0),MATCH(hf_kommune[[#Headers],[2036]],Table11[#Headers],0))","v":100},{"$f":"INDEX(Table11[],MATCH(TEXT(hf_kommune[[#This Row],[Kommunenr]],\"0\"),Table11[Nr],0),MATCH(hf_kommune[[#Headers],[2037]],Table11[#Headers],0))","v":116},{"$f":"INDEX(Table11[],MATCH(TEXT(hf_kommune[[#This Row],[Kommunenr]],\"0\"),Table11[Nr],0),MATCH(hf_kommune[[#Headers],[2038]],Table11[#Headers],0))","v":109},{"$f":"INDEX(Table11[],MATCH(TEXT(hf_kommune[[#This Row],[Kommunenr]],\"0\"),Table11[Nr],0),MATCH(hf_kommune[[#Headers],[2039]],Table11[#Headers],0))","v":117},{"$f":"INDEX(Table11[],MATCH(TEXT(hf_kommune[[#This Row],[Kommunenr]],\"0\"),Table11[Nr],0),MATCH(hf_kommune[[#Headers],[2040]],Table11[#Headers],0))","v":117},9508,9474,9450,9434,9428,9423,9420,9417,9415,9412,9410,9407,9403,9400,9396,9392,9387,9381,9375]
[5021,"Oppdal","Helse Midt-Norge","St. Olavs hospital","St. Olav - Orkdal",{"$f":"INDEX(Table11[],MATCH(TEXT(hf_kommune[[#This Row],[Kommunenr]],\"0\"),Table11[Nr],0),MATCH(hf_kommune[[#Headers],[2020]],Table11[#Headers],0))","v":89},{"$f":"INDEX(Table11[],MATCH(TEXT(hf_kommune[[#This Row],[Kommunenr]],\"0\"),Table11[Nr],0),MATCH(hf_kommune[[#Headers],[2021]],Table11[#Headers],0))","v":93},{"$f":"INDEX(Table11[],MATCH(TEXT(hf_kommune[[#This Row],[Kommunenr]],\"0\"),Table11[Nr],0),MATCH(hf_kommune[[#Headers],[2022]],Table11[#Headers],0))","v":96},{"$f":"INDEX(Table11[],MATCH(TEXT(hf_kommune[[#This Row],[Kommunenr]],\"0\"),Table11[Nr],0),MATCH(hf_kommune[[#Headers],[2023]],Table11[#Headers],0))","v":120},{"$f":"INDEX(Table11[],MATCH(TEXT(hf_kommune[[#This Row],[Kommunenr]],\"0\"),Table11[Nr],0),MATCH(hf_kommune[[#Headers],[2024]],Table11[#Headers],0))","v":115},{"$f":"INDEX(Table11[],MATCH(TEXT(hf_kommune[[#This Row],[Kommunenr]],\"0\"),Table11[Nr],0),MATCH(hf_kommune[[#Headers],[2025]],Table11[#Headers],0))","v":90},{"$f":"INDEX(Table11[],MATCH(TEXT(hf_kommune[[#This Row],[Kommunenr]],\"0\"),Table11[Nr],0),MATCH(hf_kommune[[#Headers],[2026]],Table11[#Headers],0))","v":99},{"$f":"INDEX(Table11[],MATCH(TEXT(hf_kommune[[#This Row],[Kommunenr]],\"0\"),Table11[Nr],0),MATCH(hf_kommune[[#Headers],[2027]],Table11[#Headers],0))","v":95},{"$f":"INDEX(Table11[],MATCH(TEXT(hf_kommune[[#This Row],[Kommunenr]],\"0\"),Table11[Nr],0),MATCH(hf_kommune[[#Headers],[2028]],Table11[#Headers],0))","v":109},{"$f":"INDEX(Table11[],MATCH(TEXT(hf_kommune[[#This Row],[Kommunenr]],\"0\"),Table11[Nr],0),MATCH(hf_kommune[[#Headers],[2029]],Table11[#Headers],0))","v":95},{"$f":"INDEX(Table11[],MATCH(TEXT(hf_kommune[[#This Row],[Kommunenr]],\"0\"),Table11[Nr],0),MATCH(hf_kommune[[#Headers],[2030]],Table11[#Headers],0))","v":94},{"$f":"INDEX(Table11[],MATCH(TEXT(hf_kommune[[#This Row],[Kommunenr]],\"0\"),Table11[Nr],0),MATCH(hf_kommune[[#Headers],[2031]],Table11[#Headers],0))","v":88},{"$f":"INDEX(Table11[],MATCH(TEXT(hf_kommune[[#This Row],[Kommunenr]],\"0\"),Table11[Nr],0),MATCH(hf_kommune[[#Headers],[2032]],Table11[#Headers],0))","v":85},{"$f":"INDEX(Table11[],MATCH(TEXT(hf_kommune[[#This Row],[Kommunenr]],\"0\"),Table11[Nr],0),MATCH(hf_kommune[[#Headers],[2033]],Table11[#Headers],0))","v":72},{"$f":"INDEX(Table11[],MATCH(TEXT(hf_kommune[[#This Row],[Kommunenr]],\"0\"),Table11[Nr],0),MATCH(hf_kommune[[#Headers],[2034]],Table11[#Headers],0))","v":91},{"$f":"INDEX(Table11[],MATCH(TEXT(hf_kommune[[#This Row],[Kommunenr]],\"0\"),Table11[Nr],0),MATCH(hf_kommune[[#Headers],[2035]],Table11[#Headers],0))","v":81},{"$f":"INDEX(Table11[],MATCH(TEXT(hf_kommune[[#This Row],[Kommunenr]],\"0\"),Table11[Nr],0),MATCH(hf_kommune[[#Headers],[2036]],Table11[#Headers],0))","v":86},{"$f":"INDEX(Table11[],MATCH(TEXT(hf_kommune[[#This Row],[Kommunenr]],\"0\"),Table11[Nr],0),MATCH(hf_kommune[[#Headers],[2037]],Table11[#Headers],0))","v":73},{"$f":"INDEX(Table11[],MATCH(TEXT(hf_kommune[[#This Row],[Kommunenr]],\"0\"),Table11[Nr],0),MATCH(hf_kommune[[#Headers],[2038]],Table11[#Headers],0))","v":88},{"$f":"INDEX(Table11[],MATCH(TEXT(hf_kommune[[#This Row],[Kommunenr]],\"0\"),Table11[Nr],0),MATCH(hf_kommune[[#Headers],[2039]],Table11[#Headers],0))","v":91},{"$f":"INDEX(Table11[],MATCH(TEXT(hf_kommune[[#This Row],[Kommunenr]],\"0\"),Table11[Nr],0),MATCH(hf_kommune[[#Headers],[2040]],Table11[#Headers],0))","v":94},6960,6954,6951,6953,6958,6963,6968,6973,6977,6980,6983,6985,6987,6988,6988,6989,6988,6987,6985]
[5059,"Orkland","Helse Midt-Norge","St. Olavs hospital","St. Olav - Orkdal",{"$f":"INDEX(Table11[],MATCH(TEXT(hf_kommune[[#This Row],[Kommunenr]],\"0\"),Table11[Nr],0),MATCH(hf_kommune[[#Headers],[2020]],Table11[#Headers],0))","v":271},{"$f":"INDEX(Table11[],MATCH(TEXT(hf_kommune[[#This Row],[Kommunenr]],\"0\"),Table11[Nr],0),MATCH(hf_kommune[[#Headers],[2021]],Table11[#Headers],0))","v":273},{"$f":"INDEX(Table11[],MATCH(TEXT(hf_kommune[[#This Row],[Kommunenr]],\"0\"),Table11[Nr],0),MATCH(hf_kommune[[#Headers],[2022]],Table11[#Headers],0))","v":271},{"$f":"INDEX(Table11[],MATCH(TEXT(hf_kommune[[#This Row],[Kommunenr]],\"0\"),Table11[Nr],0),MATCH(hf_kommune[[#Headers],[2023]],Table11[#Headers],0))","v":260},{"$f":"INDEX(Table11[],MATCH(TEXT(hf_kommune[[#This Row],[Kommunenr]],\"0\"),Table11[Nr],0),MATCH(hf_kommune[[#Headers],[2024]],Table11[#Headers],0))","v":289},{"$f":"INDEX(Table11[],MATCH(TEXT(hf_kommune[[#This Row],[Kommunenr]],\"0\"),Table11[Nr],0),MATCH(hf_kommune[[#Headers],[2025]],Table11[#Headers],0))","v":253},{"$f":"INDEX(Table11[],MATCH(TEXT(hf_kommune[[#This Row],[Kommunenr]],\"0\"),Table11[Nr],0),MATCH(hf_kommune[[#Headers],[2026]],Table11[#Headers],0))","v":261},{"$f":"INDEX(Table11[],MATCH(TEXT(hf_kommune[[#This Row],[Kommunenr]],\"0\"),Table11[Nr],0),MATCH(hf_kommune[[#Headers],[2027]],Table11[#Headers],0))","v":274},{"$f":"INDEX(Table11[],MATCH(TEXT(hf_kommune[[#This Row],[Kommunenr]],\"0\"),Table11[Nr],0),MATCH(hf_kommune[[#Headers],[2028]],Table11[#Headers],0))","v":255},{"$f":"INDEX(Table11[],MATCH(TEXT(hf_kommune[[#This Row],[Kommunenr]],\"0\"),Table11[Nr],0),MATCH(hf_kommune[[#Headers],[2029]],Table11[#Headers],0))","v":233},{"$f":"INDEX(Table11[],MATCH(TEXT(hf_kommune[[#This Row],[Kommunenr]],\"0\"),Table11[Nr],0),MATCH(hf_kommune[[#Headers],[2030]],Table11[#Headers],0))","v":260},{"$f":"INDEX(Table11[],MATCH(TEXT(hf_kommune[[#This Row],[Kommunenr]],\"0\"),Table11[Nr],0),MATCH(hf_kommune[[#Headers],[2031]],Table11[#Headers],0))","v":246},{"$f":"INDEX(Table11[],MATCH(TEXT(hf_kommune[[#This Row],[Kommunenr]],\"0\"),Table11[Nr],0),MATCH(hf_kommune[[#Headers],[2032]],Table11[#Headers],0))","v":218},{"$f":"INDEX(Table11[],MATCH(TEXT(hf_kommune[[#This Row],[Kommunenr]],\"0\"),Table11[Nr],0),MATCH(hf_kommune[[#Headers],[2033]],Table11[#Headers],0))","v":219},{"$f":"INDEX(Table11[],MATCH(TEXT(hf_kommune[[#This Row],[Kommunenr]],\"0\"),Table11[Nr],0),MATCH(hf_kommune[[#Headers],[2034]],Table11[#Headers],0))","v":215},{"$f":"INDEX(Table11[],MATCH(TEXT(hf_kommune[[#This Row],[Kommunenr]],\"0\"),Table11[Nr],0),MATCH(hf_kommune[[#Headers],[2035]],Table11[#Headers],0))","v":245},{"$f":"INDEX(Table11[],MATCH(TEXT(hf_kommune[[#This Row],[Kommunenr]],\"0\"),Table11[Nr],0),MATCH(hf_kommune[[#Headers],[2036]],Table11[#Headers],0))","v":233},{"$f":"INDEX(Table11[],MATCH(TEXT(hf_kommune[[#This Row],[Kommunenr]],\"0\"),Table11[Nr],0),MATCH(hf_kommune[[#Headers],[2037]],Table11[#Headers],0))","v":230},{"$f":"INDEX(Table11[],MATCH(TEXT(hf_kommune[[#This Row],[Kommunenr]],\"0\"),Table11[Nr],0),MATCH(hf_kommune[[#Headers],[2038]],Table11[#Headers],0))","v":264},{"$f":"INDEX(Table11[],MATCH(TEXT(hf_kommune[[#This Row],[Kommunenr]],\"0\"),Table11[Nr],0),MATCH(hf_kommune[[#Headers],[2039]],Table11[#Headers],0))","v":258},{"$f":"INDEX(Table11[],MATCH(TEXT(hf_kommune[[#This Row],[Kommunenr]],\"0\"),Table11[Nr],0),MATCH(hf_kommune[[#Headers],[2040]],Table11[#Headers],0))","v":238},18203,18215,18233,18257,18286,18315,18344,18372,18400,18429,18457,18484,18511,18539,18567,18595,18621,18644,18666]
[3430,"Os","Helse Sør-Øst","Sykehuset Innlandet","Tynset",{"$f":"INDEX(Table11[],MATCH(TEXT(hf_kommune[[#This Row],[Kommunenr]],\"0\"),Table11[Nr],0),MATCH(hf_kommune[[#Headers],[2020]],Table11[#Headers],0))","v":41},{"$f":"INDEX(Table11[],MATCH(TEXT(hf_kommune[[#This Row],[Kommunenr]],\"0\"),Table11[Nr],0),MATCH(hf_kommune[[#Headers],[2021]],Table11[#Headers],0))","v":37},{"$f":"INDEX(Table11[],MATCH(TEXT(hf_kommune[[#This Row],[Kommunenr]],\"0\"),Table11[Nr],0),MATCH(hf_kommune[[#Headers],[2022]],Table11[#Headers],0))","v":21},{"$f":"INDEX(Table11[],MATCH(TEXT(hf_kommune[[#This Row],[Kommunenr]],\"0\"),Table11[Nr],0),MATCH(hf_kommune[[#Headers],[2023]],Table11[#Headers],0))","v":25},{"$f":"INDEX(Table11[],MATCH(TEXT(hf_kommune[[#This Row],[Kommunenr]],\"0\"),Table11[Nr],0),MATCH(hf_kommune[[#Headers],[2024]],Table11[#Headers],0))","v":29},{"$f":"INDEX(Table11[],MATCH(TEXT(hf_kommune[[#This Row],[Kommunenr]],\"0\"),Table11[Nr],0),MATCH(hf_kommune[[#Headers],[2025]],Table11[#Headers],0))","v":32},{"$f":"INDEX(Table11[],MATCH(TEXT(hf_kommune[[#This Row],[Kommunenr]],\"0\"),Table11[Nr],0),MATCH(hf_kommune[[#Headers],[2026]],Table11[#Headers],0))","v":30},{"$f":"INDEX(Table11[],MATCH(TEXT(hf_kommune[[#This Row],[Kommunenr]],\"0\"),Table11[Nr],0),MATCH(hf_kommune[[#Headers],[2027]],Table11[#Headers],0))","v":29},{"$f":"INDEX(Table11[],MATCH(TEXT(hf_kommune[[#This Row],[Kommunenr]],\"0\"),Table11[Nr],0),MATCH(hf_kommune[[#Headers],[2028]],Table11[#Headers],0))","v":25},{"$f":"INDEX(Table11[],MATCH(TEXT(hf_kommune[[#This Row],[Kommunenr]],\"0\"),Table11[Nr],0),MATCH(hf_kommune[[#Headers],[2029]],Table11[#Headers],0))","v":29},{"$f":"INDEX(Table11[],MATCH(TEXT(hf_kommune[[#This Row],[Kommunenr]],\"0\"),Table11[Nr],0),MATCH(hf_kommune[[#Headers],[2030]],Table11[#Headers],0))","v":30},{"$f":"INDEX(Table11[],MATCH(TEXT(hf_kommune[[#This Row],[Kommunenr]],\"0\"),Table11[Nr],0),MATCH(hf_kommune[[#Headers],[2031]],Table11[#Headers],0))","v":28},{"$f":"INDEX(Table11[],MATCH(TEXT(hf_kommune[[#This Row],[Kommunenr]],\"0\"),Table11[Nr],0),MATCH(hf_kommune[[#Headers],[2032]],Table11[#Headers],0))","v":19},{"$f":"INDEX(Table11[],MATCH(TEXT(hf_kommune[[#This Row],[Kommunenr]],\"0\"),Table11[Nr],0),MATCH(hf_kommune[[#Headers],[2033]],Table11[#Headers],0))","v":16},{"$f":"INDEX(Table11[],MATCH(TEXT(hf_kommune[[#This Row],[Kommunenr]],\"0\"),Table11[Nr],0),MATCH(hf_kommune[[#Headers],[2034]],Table11[#Headers],0))","v":20},{"$f":"INDEX(Table11[],MATCH(TEXT(hf_kommune[[#This Row],[Kommunenr]],\"0\"),Table11[Nr],0),MATCH(hf_kommune[[#Headers],[2035]],Table11[#Headers],0))","v":18},{"$f":"INDEX(Table11[],MATCH(TEXT(hf_kommune[[#This Row],[Kommunenr]],\"0\"),Table11[Nr],0),MATCH(hf_kommune[[#Headers],[2036]],Table11[#Headers],0))","v":18},{"$f":"INDEX(Table11[],MATCH(TEXT(hf_kommune[[#This Row],[Kommunenr]],\"0\"),Table11[Nr],0),MATCH(hf_kommune[[#Headers],[2037]],Table11[#Headers],0))","v":22},{"$f":"INDEX(Table11[],MATCH(TEXT(hf_kommune[[#This Row],[Kommunenr]],\"0\"),Table11[Nr],0),MATCH(hf_kommune[[#Headers],[2038]],Table11[#Headers],0))","v":23},{"$f":"INDEX(Table11[],MATCH(TEXT(hf_kommune[[#This Row],[Kommunenr]],\"0\"),Table11[Nr],0),MATCH(hf_kommune[[#Headers],[2039]],Table11[#Headers],0))","v":17},{"$f":"INDEX(Table11[],MATCH(TEXT(hf_kommune[[#This Row],[Kommunenr]],\"0\"),Table11[Nr],0),MATCH(hf_kommune[[#Headers],[2040]],Table11[#Headers],0))","v":19},1885,1884,1883,1882,1882,1882,1883,1884,1885,1887,1888,1889,1891,1892,1893,1893,1893,1893,1892]
[5020,"Osen","Helse Midt-Norge","Helse Nord-Trøndelag","Namsos",{"$f":"INDEX(Table11[],MATCH(TEXT(hf_kommune[[#This Row],[Kommunenr]],\"0\"),Table11[Nr],0),MATCH(hf_kommune[[#Headers],[2020]],Table11[#Headers],0))","v":7},{"$f":"INDEX(Table11[],MATCH(TEXT(hf_kommune[[#This Row],[Kommunenr]],\"0\"),Table11[Nr],0),MATCH(hf_kommune[[#Headers],[2021]],Table11[#Headers],0))","v":10},{"$f":"INDEX(Table11[],MATCH(TEXT(hf_kommune[[#This Row],[Kommunenr]],\"0\"),Table11[Nr],0),MATCH(hf_kommune[[#Headers],[2022]],Table11[#Headers],0))","v":11},{"$f":"INDEX(Table11[],MATCH(TEXT(hf_kommune[[#This Row],[Kommunenr]],\"0\"),Table11[Nr],0),MATCH(hf_kommune[[#Headers],[2023]],Table11[#Headers],0))","v":15},{"$f":"INDEX(Table11[],MATCH(TEXT(hf_kommune[[#This Row],[Kommunenr]],\"0\"),Table11[Nr],0),MATCH(hf_kommune[[#Headers],[2024]],Table11[#Headers],0))","v":10},{"$f":"INDEX(Table11[],MATCH(TEXT(hf_kommune[[#This Row],[Kommunenr]],\"0\"),Table11[Nr],0),MATCH(hf_kommune[[#Headers],[2025]],Table11[#Headers],0))","v":10},{"$f":"INDEX(Table11[],MATCH(TEXT(hf_kommune[[#This Row],[Kommunenr]],\"0\"),Table11[Nr],0),MATCH(hf_kommune[[#Headers],[2026]],Table11[#Headers],0))","v":12},{"$f":"INDEX(Table11[],MATCH(TEXT(hf_kommune[[#This Row],[Kommunenr]],\"0\"),Table11[Nr],0),MATCH(hf_kommune[[#Headers],[2027]],Table11[#Headers],0))","v":11},{"$f":"INDEX(Table11[],MATCH(TEXT(hf_kommune[[#This Row],[Kommunenr]],\"0\"),Table11[Nr],0),MATCH(hf_kommune[[#Headers],[2028]],Table11[#Headers],0))","v":9},{"$f":"INDEX(Table11[],MATCH(TEXT(hf_kommune[[#This Row],[Kommunenr]],\"0\"),Table11[Nr],0),MATCH(hf_kommune[[#Headers],[2029]],Table11[#Headers],0))","v":11},{"$f":"INDEX(Table11[],MATCH(TEXT(hf_kommune[[#This Row],[Kommunenr]],\"0\"),Table11[Nr],0),MATCH(hf_kommune[[#Headers],[2030]],Table11[#Headers],0))","v":16},{"$f":"INDEX(Table11[],MATCH(TEXT(hf_kommune[[#This Row],[Kommunenr]],\"0\"),Table11[Nr],0),MATCH(hf_kommune[[#Headers],[2031]],Table11[#Headers],0))","v":12},{"$f":"INDEX(Table11[],MATCH(TEXT(hf_kommune[[#This Row],[Kommunenr]],\"0\"),Table11[Nr],0),MATCH(hf_kommune[[#Headers],[2032]],Table11[#Headers],0))","v":9},{"$f":"INDEX(Table11[],MATCH(TEXT(hf_kommune[[#This Row],[Kommunenr]],\"0\"),Table11[Nr],0),MATCH(hf_kommune[[#Headers],[2033]],Table11[#Headers],0))","v":13},{"$f":"INDEX(Table11[],MATCH(TEXT(hf_kommune[[#This Row],[Kommunenr]],\"0\"),Table11[Nr],0),MATCH(hf_kommune[[#Headers],[2034]],Table11[#Headers],0))","v":9},{"$f":"INDEX(Table11[],MATCH(TEXT(hf_kommune[[#This Row],[Kommunenr]],\"0\"),Table11[Nr],0),MATCH(hf_kommune[[#Headers],[2035]],Table11[#Headers],0))","v":10},{"$f":"INDEX(Table11[],MATCH(TEXT(hf_kommune[[#This Row],[Kommunenr]],\"0\"),Table11[Nr],0),MATCH(hf_kommune[[#Headers],[2036]],Table11[#Headers],0))","v":10},{"$f":"INDEX(Table11[],MATCH(TEXT(hf_kommune[[#This Row],[Kommunenr]],\"0\"),Table11[Nr],0),MATCH(hf_kommune[[#Headers],[2037]],Table11[#Headers],0))","v":10},{"$f":"INDEX(Table11[],MATCH(TEXT(hf_kommune[[#This Row],[Kommunenr]],\"0\"),Table11[Nr],0),MATCH(hf_kommune[[#Headers],[2038]],Table11[#Headers],0))","v":11},{"$f":"INDEX(Table11[],MATCH(TEXT(hf_kommune[[#This Row],[Kommunenr]],\"0\"),Table11[Nr],0),MATCH(hf_kommune[[#Headers],[2039]],Table11[#Headers],0))","v":8},{"$f":"INDEX(Table11[],MATCH(TEXT(hf_kommune[[#This Row],[Kommunenr]],\"0\"),Table11[Nr],0),MATCH(hf_kommune[[#Headers],[2040]],Table11[#Headers],0))","v":11},953,954,954,953,951,950,949,948,947,946,945,945,944,943,941,940,938,936,933]
[30112,"Oslo, Alna","Helse Sør-Øst","Akershus universitetssykehus","Ahus",576.35723285606628,582.42996232102485,628.64579954785222,625.01793519216267,639.2927927656367,655.9336488319517,659.64037980406931,675.72916955538801,683.06376488319518,672.5745048982667,691.34475960813859,684.40449736247172,674.23070384325536,666.58064204973618,679.35703391107756,690.55609344385823,712.95421250941968,701.99175282592307,714.61041145440834,714.84701130369251,730.46260135644309,51892,52443,52934,53394,53823,54230,54629,55013,55394,55752,56106,56428,56751,57065,57369,57656,57930,58187,58426]
[30109,"Oslo, Bjerke","Helse Sør-Øst","Oslosykehusene","Ullevål",350.34342727957801,354.03478522984176,382.12745742275814,379.92223059532785,388.59931876412963,398.7145983421251,400.96776488319523,410.74746646571214,415.20585983421256,408.82987792012062,420.23952976639038,416.02083496608896,409.83661190655619,405.18645968349665,412.95269329314243,419.76013262999248,433.37501130369259,426.71139110776193,434.38174529012815,434.52556443104748,444.01762773172572,33907,34270,34604,34890,35165,35430,35684,35920,36154,36383,36609,36833,37037,37243,37450,37641,37818,37992,38145]
[30105,"Oslo, Frogner","Helse Sør-Øst","Oslosykehusene","Diakonhjemmet",589.17789902034667,595.38571213263003,642.62958854559167,638.9210248681236,653.51341672946501,670.52443707611155,674.31362170308978,690.76029540316506,698.25804370761125,687.53545742275821,706.72324340617945,699.62859984928411,689.22849736247178,681.408265259985,694.46885908063302,705.91703391107774,728.81338357196694,717.60707159005278,730.50642351168051,730.74828636021107,746.71123436322534,59869,60095,60382,60624,60844,61050,61264,61484,61704,61925,62128,62352,62556,62747,62929,63099,63235,63341,63440]
[30101,"Oslo, Gamle Oslo","Helse Sør-Øst","Oslosykehusene","Lovisenberg",522.60736096458174,528.11376036171816,570.01960512434061,566.73006782215521,579.67368198944985,594.76264657121328,598.12369555388091,612.71207837226825,619.36266465712129,609.8516111529766,626.87139110776184,620.57836322532023,611.35335644310476,604.41672343632251,616.00161567445366,626.15627430293898,646.46559155990963,636.52546797287118,647.96733685003767,648.18187189148455,662.34118462697813,57873,58356,58823,59243,59632,60003,60358,60706,61049,61385,61704,62026,62328,62617,62900,63166,63410,63620,63815]
[30110,"Oslo, Grorud","Helse Sør-Øst","Akershus universitetssykehus","Ahus",343.33832102486809,346.95587038432552,374.48683044461188,372.32569706103993,380.82928711379049,390.7423119819141,392.95042652599847,402.53458327053505,406.90383119819143,400.65533685003766,411.83685305199697,407.70251092690279,401.6419412207988,397.0847686510927,404.695716654107,411.36704144687263,424.7096910324039,418.17930972117557,425.69629540316504,425.83723888470234,435.13950866616426,28686,28971,29206,29430,29647,29866,30076,30300,30516,30728,30934,31132,31326,31524,31710,31892,32064,32233,32377]
[30102,"Oslo, Grünerløkka","Helse Sør-Øst","Oslosykehusene","Lovisenberg",469.60646269781461,474.55442351168045,512.2103330821401,509.2544084400904,520.88532931424265,534.4440271288621,537.46421100226075,550.57309419743774,556.5492027128862,548.00272494348155,563.29642200452145,557.64160964581765,549.3521688018086,543.11902336096455,553.52901883948755,562.65382969103234,580.90345139412204,571.97141823662389,582.25289525244909,582.44567294649585,595.16900075357944,61575,61988,62403,62767,63104,63419,63717,64001,64260,64528,64772,65018,65252,65478,65676,65858,66012,66139,66243]
[30117,"Oslo, Marka","Helse Sør-Øst","Oslosykehusene","Ullevål",19.517371514694798,19.723014318010549,21.288036171816124,21.165184626978146,21.648578749058025,22.212093443858326,22.337615674453652,22.882435568952523,23.130809344385831,22.775608138658626,23.411231348907307,23.176211002260736,22.831692539562923,22.572636021100223,23.005287113790505,23.384524491333835,24.142999246420494,23.771773926149208,24.199083647324791,24.207095704596835,24.735891484551619,1671,1680,1684,1687,1686,1691,1693,1701,1705,1703,1707,1710,1705,1707,1707,1700,1701,1692,1696]
[30108,"Oslo, Nordre Aker","Helse Sør-Øst","Oslosykehusene","Ullevål",582.7014800301431,588.84105501130364,635.56561266013557,631.89781461944233,646.32980256217024,663.1538327053504,666.90136548605869,683.16725244913334,690.582583270535,679.97786284853044,698.95473097211743,691.93807385079117,681.65229238884694,673.91802260738496,686.83505048982659,698.15738357196676,720.80204973624711,709.7189208741521,722.47647927656362,722.71568349660879,738.50316201959299,52738,53120,53447,53766,54089,54398,54708,55014,55313,55614,55905,56201,56479,56754,57027,57296,57545,57784,58027]
[30114,"Oslo, Nordstrand","Helse Sør-Øst","Oslosykehusene","Ullevål",646.62858176337602,653.44171816126607,705.29234061793522,701.22215523737759,717.23744988696308,735.90721326299922,740.06588093443861,758.11626827430291,766.34512132629993,754.57697663903548,775.63576186887713,767.84932027128866,756.43510474755089,747.85232253202719,762.18645365486054,774.75093896006035,799.87990957045974,787.58087113790509,801.73803767897516,802.0034845516202,819.52297814619442,53791,54369,54897,55396,55878,56344,56808,57253,57686,58106,58531,58930,59316,59717,60104,60467,60836,61181,61516]
[30103,"Oslo, Sagene","Helse Sør-Øst","Oslosykehusene","Ullevål",364.35363978899773,368.19261492087412,397.40871137905049,395.1152976639035,404.13938206480782,414.6591710625471,417.00244159758853,427.17323285606631,431.80991710625472,425.17896006028633,437.04488319517708,432.65748304446117,426.22595327807079,421.38984174830443,429.46664657121323,436.54631499623207,450.70565184626975,443.77555388093441,451.75264506405426,451.90221552373771,461.77386586284854,46651,47124,47500,47842,48153,48432,48704,48952,49196,49429,49649,49864,50070,50273,50464,50631,50780,50901,51004]
[30116,"Oslo, Sentrum","Helse Sør-Øst","Oslosykehusene","Lovisenberg",10.353458929917105,10.462547098718915,11.292750565184626,11.227581009796532,11.48400904295403,11.782938960060285,11.849525244913337,12.138538055764883,12.270293896006027,12.08186887716654,12.419050489826676,12.294378296910324,12.111620195930669,11.974197437829691,12.203707611152975,12.40488319517709,12.807234363225319,12.610308967596081,12.836985681989448,12.841235870384324,13.121748304446118,1266,1276,1277,1283,1285,1278,1272,1260,1254,1247,1237,1231,1219,1203,1196,1181,1174,1162,1145]
[30104,"Oslo, St. Hanshaugen","Helse Sør-Øst","Oslosykehusene","Lovisenberg",359.19893896006027,362.98360211002262,391.78636322532026,389.52539562923891,398.42181160512433,408.79277166541073,411.10289073097215,421.12979050489827,425.70087716654109,419.16373172569706,430.86178146194425,426.5364521477016,420.19591258477772,415.4282200452148,423.39075810097967,430.37026676714396,444.32928409947249,437.49722984174832,445.36146495855314,445.50891936699321,455.24091032403919,42992,43419,43772,44051,44286,44528,44742,44957,45170,45379,45602,45793,46000,46203,46373,46546,46670,46793,46898]
[30111,"Oslo, Stovner","Helse Sør-Øst","Akershus universitetssykehus","Ahus",396.95602110022611,401.13850791258477,432.96886209495102,430.47023360964585,440.30179351921629,451.76289374529011,454.31584024114545,465.39671439336854,470.448289374529,463.223993971364,476.15168048229089,471.37169555388095,464.36467219291637,459.09582516955538,467.89534287867372,475.60850037678978,491.03481537302184,483.48461190655615,492.17549359457422,492.33844762622459,503.09341371514694,34477,34718,34844,34992,35143,35301,35462,35635,35799,35972,36141,36308,36478,36646,36805,36966,37121,37278,37413]
[30115,"Oslo, Søndre Nordstrand","Helse Sør-Øst","Oslosykehusene","Ullevål",455.46407837226826,460.2630293896006,496.78491635267517,493.91801055011302,505.1986616428033,518.34903391107764,521.27826375282586,533.9923677467973,539.78850339110772,531.49940617935192,546.3325275056518,540.84801205727206,532.80821100226069,526.76277920120572,536.85927354935939,545.70928711379042,563.40931424265261,554.74627279577987,564.71811906556138,564.90509118311979,577.24525094197429,40378,40703,40992,41285,41558,41846,42136,42423,42711,43004,43291,43552,43822,44083,44336,44582,44806,45026,45236]
[30106,"Oslo, Ullern","Helse Sør-Øst","Oslosykehusene","Diakonhjemmet",396.47139110776186,400.64877166541072,432.44026525998493,429.9446872645064,439.76424415975885,451.21135192162774,453.76118161266015,464.82852750565189,469.87393519216278,462.65845968349663,475.57036322532031,470.79621401657874,463.79774529012815,458.53533082140166,467.32410550113036,475.02784626978149,490.4353278070837,482.89434212509423,491.57461341371516,491.73736850037682,502.47920422004523,34638,34934,35219,35489,35736,35969,36192,36403,36624,36819,37006,37195,37369,37540,37722,37890,38048,38198,38344]
[30199,"Oslo, uoppgitt bydel","Helse Sør-Øst","Oslosykehusene","Ullevål",16.124961567445368,16.294860587792012,17.587858327053507,17.48636021100226,17.885733232856069,18.351300678221556,18.455005275056521,18.905127354935946,19.110330067822158,18.816868123587039,19.342010550113038,19.147840241145442,18.863204220045215,18.649175584024118,19.006625470987192,19.319945742275813,19.946586284853055,19.6398854559156,19.992922381311232,19.999541823662398,20.43642501883949,1146,1079,1015,970,942,907,879,845,821,795,761,724,704,677,654,628,605,586,569]
[30107,"Oslo, Vestre Aker","Helse Sør-Øst","Oslosykehusene","Diakonhjemmet",562.74353579502633,568.67282592313495,613.79703391107762,610.254860587792,624.19254257724197,640.44033760361719,644.05951469480033,659.768283345893,666.92963376036175,656.68813262999242,675.01502938960061,668.23869781461951,658.30521175584022,650.83584626978143,663.31045666917862,674.24499171062553,696.11406179351923,685.41053805576485,697.73114091936702,697.96215222305955,713.20889826676716,50316,50751,51156,51537,51896,52240,52571,52906,53220,53525,53825,54113,54398,54666,54927,55179,55421,55652,55866]
[30113,"Oslo, Østensjø","Helse Sør-Øst","Oslosykehusene","Ullevål",646.05583722682752,652.86293896006032,704.66763526752072,700.60105501130374,716.60216428033164,735.25539110776197,739.41037528259233,757.44477467972877,765.66633911077622,753.90861793519218,774.9487505651847,767.16920572720426,755.76510022607386,747.18992012057276,761.51135493594575,774.06471137905055,799.17142426526004,786.88327957799549,801.02790655614172,801.29311831198197,818.7970941974379,52316,52939,53555,54123,54650,55169,55662,56149,56611,57071,57511,57947,58393,58813,59240,59652,60060,60444,60817]
[4630,"Osterøy","Helse Vest","Helse Bergen","Haukeland",{"$f":"INDEX(Table11[],MATCH(TEXT(hf_kommune[[#This Row],[Kommunenr]],\"0\"),Table11[Nr],0),MATCH(hf_kommune[[#Headers],[2020]],Table11[#Headers],0))","v":103},{"$f":"INDEX(Table11[],MATCH(TEXT(hf_kommune[[#This Row],[Kommunenr]],\"0\"),Table11[Nr],0),MATCH(hf_kommune[[#Headers],[2021]],Table11[#Headers],0))","v":108},{"$f":"INDEX(Table11[],MATCH(TEXT(hf_kommune[[#This Row],[Kommunenr]],\"0\"),Table11[Nr],0),MATCH(hf_kommune[[#Headers],[2022]],Table11[#Headers],0))","v":103},{"$f":"INDEX(Table11[],MATCH(TEXT(hf_kommune[[#This Row],[Kommunenr]],\"0\"),Table11[Nr],0),MATCH(hf_kommune[[#Headers],[2023]],Table11[#Headers],0))","v":99},{"$f":"INDEX(Table11[],MATCH(TEXT(hf_kommune[[#This Row],[Kommunenr]],\"0\"),Table11[Nr],0),MATCH(hf_kommune[[#Headers],[2024]],Table11[#Headers],0))","v":109},{"$f":"INDEX(Table11[],MATCH(TEXT(hf_kommune[[#This Row],[Kommunenr]],\"0\"),Table11[Nr],0),MATCH(hf_kommune[[#Headers],[2025]],Table11[#Headers],0))","v":124},{"$f":"INDEX(Table11[],MATCH(TEXT(hf_kommune[[#This Row],[Kommunenr]],\"0\"),Table11[Nr],0),MATCH(hf_kommune[[#Headers],[2026]],Table11[#Headers],0))","v":106},{"$f":"INDEX(Table11[],MATCH(TEXT(hf_kommune[[#This Row],[Kommunenr]],\"0\"),Table11[Nr],0),MATCH(hf_kommune[[#Headers],[2027]],Table11[#Headers],0))","v":111},{"$f":"INDEX(Table11[],MATCH(TEXT(hf_kommune[[#This Row],[Kommunenr]],\"0\"),Table11[Nr],0),MATCH(hf_kommune[[#Headers],[2028]],Table11[#Headers],0))","v":109},{"$f":"INDEX(Table11[],MATCH(TEXT(hf_kommune[[#This Row],[Kommunenr]],\"0\"),Table11[Nr],0),MATCH(hf_kommune[[#Headers],[2029]],Table11[#Headers],0))","v":112},{"$f":"INDEX(Table11[],MATCH(TEXT(hf_kommune[[#This Row],[Kommunenr]],\"0\"),Table11[Nr],0),MATCH(hf_kommune[[#Headers],[2030]],Table11[#Headers],0))","v":122},{"$f":"INDEX(Table11[],MATCH(TEXT(hf_kommune[[#This Row],[Kommunenr]],\"0\"),Table11[Nr],0),MATCH(hf_kommune[[#Headers],[2031]],Table11[#Headers],0))","v":123},{"$f":"INDEX(Table11[],MATCH(TEXT(hf_kommune[[#This Row],[Kommunenr]],\"0\"),Table11[Nr],0),MATCH(hf_kommune[[#Headers],[2032]],Table11[#Headers],0))","v":105},{"$f":"INDEX(Table11[],MATCH(TEXT(hf_kommune[[#This Row],[Kommunenr]],\"0\"),Table11[Nr],0),MATCH(hf_kommune[[#Headers],[2033]],Table11[#Headers],0))","v":98},{"$f":"INDEX(Table11[],MATCH(TEXT(hf_kommune[[#This Row],[Kommunenr]],\"0\"),Table11[Nr],0),MATCH(hf_kommune[[#Headers],[2034]],Table11[#Headers],0))","v":88},{"$f":"INDEX(Table11[],MATCH(TEXT(hf_kommune[[#This Row],[Kommunenr]],\"0\"),Table11[Nr],0),MATCH(hf_kommune[[#Headers],[2035]],Table11[#Headers],0))","v":99},{"$f":"INDEX(Table11[],MATCH(TEXT(hf_kommune[[#This Row],[Kommunenr]],\"0\"),Table11[Nr],0),MATCH(hf_kommune[[#Headers],[2036]],Table11[#Headers],0))","v":109},{"$f":"INDEX(Table11[],MATCH(TEXT(hf_kommune[[#This Row],[Kommunenr]],\"0\"),Table11[Nr],0),MATCH(hf_kommune[[#Headers],[2037]],Table11[#Headers],0))","v":107},{"$f":"INDEX(Table11[],MATCH(TEXT(hf_kommune[[#This Row],[Kommunenr]],\"0\"),Table11[Nr],0),MATCH(hf_kommune[[#Headers],[2038]],Table11[#Headers],0))","v":101},{"$f":"INDEX(Table11[],MATCH(TEXT(hf_kommune[[#This Row],[Kommunenr]],\"0\"),Table11[Nr],0),MATCH(hf_kommune[[#Headers],[2039]],Table11[#Headers],0))","v":106},{"$f":"INDEX(Table11[],MATCH(TEXT(hf_kommune[[#This Row],[Kommunenr]],\"0\"),Table11[Nr],0),MATCH(hf_kommune[[#Headers],[2040]],Table11[#Headers],0))","v":108},8052,8050,8062,8088,8128,8168,8208,8248,8287,8325,8363,8399,8434,8469,8503,8537,8569,8600,8631]
[5047,"Overhalla","Helse Midt-Norge","Helse Nord-Trøndelag","Namsos",{"$f":"INDEX(Table11[],MATCH(TEXT(hf_kommune[[#This Row],[Kommunenr]],\"0\"),Table11[Nr],0),MATCH(hf_kommune[[#Headers],[2020]],Table11[#Headers],0))","v":49},{"$f":"INDEX(Table11[],MATCH(TEXT(hf_kommune[[#This Row],[Kommunenr]],\"0\"),Table11[Nr],0),MATCH(hf_kommune[[#Headers],[2021]],Table11[#Headers],0))","v":54},{"$f":"INDEX(Table11[],MATCH(TEXT(hf_kommune[[#This Row],[Kommunenr]],\"0\"),Table11[Nr],0),MATCH(hf_kommune[[#Headers],[2022]],Table11[#Headers],0))","v":40},{"$f":"INDEX(Table11[],MATCH(TEXT(hf_kommune[[#This Row],[Kommunenr]],\"0\"),Table11[Nr],0),MATCH(hf_kommune[[#Headers],[2023]],Table11[#Headers],0))","v":50},{"$f":"INDEX(Table11[],MATCH(TEXT(hf_kommune[[#This Row],[Kommunenr]],\"0\"),Table11[Nr],0),MATCH(hf_kommune[[#Headers],[2024]],Table11[#Headers],0))","v":46},{"$f":"INDEX(Table11[],MATCH(TEXT(hf_kommune[[#This Row],[Kommunenr]],\"0\"),Table11[Nr],0),MATCH(hf_kommune[[#Headers],[2025]],Table11[#Headers],0))","v":65},{"$f":"INDEX(Table11[],MATCH(TEXT(hf_kommune[[#This Row],[Kommunenr]],\"0\"),Table11[Nr],0),MATCH(hf_kommune[[#Headers],[2026]],Table11[#Headers],0))","v":42},{"$f":"INDEX(Table11[],MATCH(TEXT(hf_kommune[[#This Row],[Kommunenr]],\"0\"),Table11[Nr],0),MATCH(hf_kommune[[#Headers],[2027]],Table11[#Headers],0))","v":33},{"$f":"INDEX(Table11[],MATCH(TEXT(hf_kommune[[#This Row],[Kommunenr]],\"0\"),Table11[Nr],0),MATCH(hf_kommune[[#Headers],[2028]],Table11[#Headers],0))","v":53},{"$f":"INDEX(Table11[],MATCH(TEXT(hf_kommune[[#This Row],[Kommunenr]],\"0\"),Table11[Nr],0),MATCH(hf_kommune[[#Headers],[2029]],Table11[#Headers],0))","v":46},{"$f":"INDEX(Table11[],MATCH(TEXT(hf_kommune[[#This Row],[Kommunenr]],\"0\"),Table11[Nr],0),MATCH(hf_kommune[[#Headers],[2030]],Table11[#Headers],0))","v":54},{"$f":"INDEX(Table11[],MATCH(TEXT(hf_kommune[[#This Row],[Kommunenr]],\"0\"),Table11[Nr],0),MATCH(hf_kommune[[#Headers],[2031]],Table11[#Headers],0))","v":40},{"$f":"INDEX(Table11[],MATCH(TEXT(hf_kommune[[#This Row],[Kommunenr]],\"0\"),Table11[Nr],0),MATCH(hf_kommune[[#Headers],[2032]],Table11[#Headers],0))","v":44},{"$f":"INDEX(Table11[],MATCH(TEXT(hf_kommune[[#This Row],[Kommunenr]],\"0\"),Table11[Nr],0),MATCH(hf_kommune[[#Headers],[2033]],Table11[#Headers],0))","v":45},{"$f":"INDEX(Table11[],MATCH(TEXT(hf_kommune[[#This Row],[Kommunenr]],\"0\"),Table11[Nr],0),MATCH(hf_kommune[[#Headers],[2034]],Table11[#Headers],0))","v":47},{"$f":"INDEX(Table11[],MATCH(TEXT(hf_kommune[[#This Row],[Kommunenr]],\"0\"),Table11[Nr],0),MATCH(hf_kommune[[#Headers],[2035]],Table11[#Headers],0))","v":44},{"$f":"INDEX(Table11[],MATCH(TEXT(hf_kommune[[#This Row],[Kommunenr]],\"0\"),Table11[Nr],0),MATCH(hf_kommune[[#Headers],[2036]],Table11[#Headers],0))","v":41},{"$f":"INDEX(Table11[],MATCH(TEXT(hf_kommune[[#This Row],[Kommunenr]],\"0\"),Table11[Nr],0),MATCH(hf_kommune[[#Headers],[2037]],Table11[#Headers],0))","v":44},{"$f":"INDEX(Table11[],MATCH(TEXT(hf_kommune[[#This Row],[Kommunenr]],\"0\"),Table11[Nr],0),MATCH(hf_kommune[[#Headers],[2038]],Table11[#Headers],0))","v":48},{"$f":"INDEX(Table11[],MATCH(TEXT(hf_kommune[[#This Row],[Kommunenr]],\"0\"),Table11[Nr],0),MATCH(hf_kommune[[#Headers],[2039]],Table11[#Headers],0))","v":48},{"$f":"INDEX(Table11[],MATCH(TEXT(hf_kommune[[#This Row],[Kommunenr]],\"0\"),Table11[Nr],0),MATCH(hf_kommune[[#Headers],[2040]],Table11[#Headers],0))","v":49},3886,3891,3897,3904,3912,3921,3929,3937,3944,3951,3957,3962,3967,3972,3976,3980,3984,3988,3991]
[5436,"Porsanger - Porsángu - Porsanki ","Helse Nord","Finnmarkssykehuset","Hammerfest",{"$f":"INDEX(Table11[],MATCH(TEXT(hf_kommune[[#This Row],[Kommunenr]],\"0\"),Table11[Nr],0),MATCH(hf_kommune[[#Headers],[2020]],Table11[#Headers],0))","v":62},{"$f":"INDEX(Table11[],MATCH(TEXT(hf_kommune[[#This Row],[Kommunenr]],\"0\"),Table11[Nr],0),MATCH(hf_kommune[[#Headers],[2021]],Table11[#Headers],0))","v":65},{"$f":"INDEX(Table11[],MATCH(TEXT(hf_kommune[[#This Row],[Kommunenr]],\"0\"),Table11[Nr],0),MATCH(hf_kommune[[#Headers],[2022]],Table11[#Headers],0))","v":64},{"$f":"INDEX(Table11[],MATCH(TEXT(hf_kommune[[#This Row],[Kommunenr]],\"0\"),Table11[Nr],0),MATCH(hf_kommune[[#Headers],[2023]],Table11[#Headers],0))","v":65},{"$f":"INDEX(Table11[],MATCH(TEXT(hf_kommune[[#This Row],[Kommunenr]],\"0\"),Table11[Nr],0),MATCH(hf_kommune[[#Headers],[2024]],Table11[#Headers],0))","v":53},{"$f":"INDEX(Table11[],MATCH(TEXT(hf_kommune[[#This Row],[Kommunenr]],\"0\"),Table11[Nr],0),MATCH(hf_kommune[[#Headers],[2025]],Table11[#Headers],0))","v":68},{"$f":"INDEX(Table11[],MATCH(TEXT(hf_kommune[[#This Row],[Kommunenr]],\"0\"),Table11[Nr],0),MATCH(hf_kommune[[#Headers],[2026]],Table11[#Headers],0))","v":51},{"$f":"INDEX(Table11[],MATCH(TEXT(hf_kommune[[#This Row],[Kommunenr]],\"0\"),Table11[Nr],0),MATCH(hf_kommune[[#Headers],[2027]],Table11[#Headers],0))","v":55},{"$f":"INDEX(Table11[],MATCH(TEXT(hf_kommune[[#This Row],[Kommunenr]],\"0\"),Table11[Nr],0),MATCH(hf_kommune[[#Headers],[2028]],Table11[#Headers],0))","v":54},{"$f":"INDEX(Table11[],MATCH(TEXT(hf_kommune[[#This Row],[Kommunenr]],\"0\"),Table11[Nr],0),MATCH(hf_kommune[[#Headers],[2029]],Table11[#Headers],0))","v":45},{"$f":"INDEX(Table11[],MATCH(TEXT(hf_kommune[[#This Row],[Kommunenr]],\"0\"),Table11[Nr],0),MATCH(hf_kommune[[#Headers],[2030]],Table11[#Headers],0))","v":43},{"$f":"INDEX(Table11[],MATCH(TEXT(hf_kommune[[#This Row],[Kommunenr]],\"0\"),Table11[Nr],0),MATCH(hf_kommune[[#Headers],[2031]],Table11[#Headers],0))","v":44},{"$f":"INDEX(Table11[],MATCH(TEXT(hf_kommune[[#This Row],[Kommunenr]],\"0\"),Table11[Nr],0),MATCH(hf_kommune[[#Headers],[2032]],Table11[#Headers],0))","v":38},{"$f":"INDEX(Table11[],MATCH(TEXT(hf_kommune[[#This Row],[Kommunenr]],\"0\"),Table11[Nr],0),MATCH(hf_kommune[[#Headers],[2033]],Table11[#Headers],0))","v":50},{"$f":"INDEX(Table11[],MATCH(TEXT(hf_kommune[[#This Row],[Kommunenr]],\"0\"),Table11[Nr],0),MATCH(hf_kommune[[#Headers],[2034]],Table11[#Headers],0))","v":43},{"$f":"INDEX(Table11[],MATCH(TEXT(hf_kommune[[#This Row],[Kommunenr]],\"0\"),Table11[Nr],0),MATCH(hf_kommune[[#Headers],[2035]],Table11[#Headers],0))","v":45},{"$f":"INDEX(Table11[],MATCH(TEXT(hf_kommune[[#This Row],[Kommunenr]],\"0\"),Table11[Nr],0),MATCH(hf_kommune[[#Headers],[2036]],Table11[#Headers],0))","v":43},{"$f":"INDEX(Table11[],MATCH(TEXT(hf_kommune[[#This Row],[Kommunenr]],\"0\"),Table11[Nr],0),MATCH(hf_kommune[[#Headers],[2037]],Table11[#Headers],0))","v":39},{"$f":"INDEX(Table11[],MATCH(TEXT(hf_kommune[[#This Row],[Kommunenr]],\"0\"),Table11[Nr],0),MATCH(hf_kommune[[#Headers],[2038]],Table11[#Headers],0))","v":44},{"$f":"INDEX(Table11[],MATCH(TEXT(hf_kommune[[#This Row],[Kommunenr]],\"0\"),Table11[Nr],0),MATCH(hf_kommune[[#Headers],[2039]],Table11[#Headers],0))","v":44},{"$f":"INDEX(Table11[],MATCH(TEXT(hf_kommune[[#This Row],[Kommunenr]],\"0\"),Table11[Nr],0),MATCH(hf_kommune[[#Headers],[2040]],Table11[#Headers],0))","v":45},4065,4084,4096,4101,4101,4102,4103,4106,4109,4111,4113,4115,4117,4118,4118,4117,4116,4113,4109]
[3806,"Porsgrunn","Helse Sør-Øst","Sykehuset Telemark","Skien",{"$f":"INDEX(Table11[],MATCH(TEXT(hf_kommune[[#This Row],[Kommunenr]],\"0\"),Table11[Nr],0),MATCH(hf_kommune[[#Headers],[2020]],Table11[#Headers],0))","v":512},{"$f":"INDEX(Table11[],MATCH(TEXT(hf_kommune[[#This Row],[Kommunenr]],\"0\"),Table11[Nr],0),MATCH(hf_kommune[[#Headers],[2021]],Table11[#Headers],0))","v":517},{"$f":"INDEX(Table11[],MATCH(TEXT(hf_kommune[[#This Row],[Kommunenr]],\"0\"),Table11[Nr],0),MATCH(hf_kommune[[#Headers],[2022]],Table11[#Headers],0))","v":531},{"$f":"INDEX(Table11[],MATCH(TEXT(hf_kommune[[#This Row],[Kommunenr]],\"0\"),Table11[Nr],0),MATCH(hf_kommune[[#Headers],[2023]],Table11[#Headers],0))","v":529},{"$f":"INDEX(Table11[],MATCH(TEXT(hf_kommune[[#This Row],[Kommunenr]],\"0\"),Table11[Nr],0),MATCH(hf_kommune[[#Headers],[2024]],Table11[#Headers],0))","v":527},{"$f":"INDEX(Table11[],MATCH(TEXT(hf_kommune[[#This Row],[Kommunenr]],\"0\"),Table11[Nr],0),MATCH(hf_kommune[[#Headers],[2025]],Table11[#Headers],0))","v":579},{"$f":"INDEX(Table11[],MATCH(TEXT(hf_kommune[[#This Row],[Kommunenr]],\"0\"),Table11[Nr],0),MATCH(hf_kommune[[#Headers],[2026]],Table11[#Headers],0))","v":534},{"$f":"INDEX(Table11[],MATCH(TEXT(hf_kommune[[#This Row],[Kommunenr]],\"0\"),Table11[Nr],0),MATCH(hf_kommune[[#Headers],[2027]],Table11[#Headers],0))","v":539},{"$f":"INDEX(Table11[],MATCH(TEXT(hf_kommune[[#This Row],[Kommunenr]],\"0\"),Table11[Nr],0),MATCH(hf_kommune[[#Headers],[2028]],Table11[#Headers],0))","v":529},{"$f":"INDEX(Table11[],MATCH(TEXT(hf_kommune[[#This Row],[Kommunenr]],\"0\"),Table11[Nr],0),MATCH(hf_kommune[[#Headers],[2029]],Table11[#Headers],0))","v":499},{"$f":"INDEX(Table11[],MATCH(TEXT(hf_kommune[[#This Row],[Kommunenr]],\"0\"),Table11[Nr],0),MATCH(hf_kommune[[#Headers],[2030]],Table11[#Headers],0))","v":515},{"$f":"INDEX(Table11[],MATCH(TEXT(hf_kommune[[#This Row],[Kommunenr]],\"0\"),Table11[Nr],0),MATCH(hf_kommune[[#Headers],[2031]],Table11[#Headers],0))","v":485},{"$f":"INDEX(Table11[],MATCH(TEXT(hf_kommune[[#This Row],[Kommunenr]],\"0\"),Table11[Nr],0),MATCH(hf_kommune[[#Headers],[2032]],Table11[#Headers],0))","v":473},{"$f":"INDEX(Table11[],MATCH(TEXT(hf_kommune[[#This Row],[Kommunenr]],\"0\"),Table11[Nr],0),MATCH(hf_kommune[[#Headers],[2033]],Table11[#Headers],0))","v":445},{"$f":"INDEX(Table11[],MATCH(TEXT(hf_kommune[[#This Row],[Kommunenr]],\"0\"),Table11[Nr],0),MATCH(hf_kommune[[#Headers],[2034]],Table11[#Headers],0))","v":479},{"$f":"INDEX(Table11[],MATCH(TEXT(hf_kommune[[#This Row],[Kommunenr]],\"0\"),Table11[Nr],0),MATCH(hf_kommune[[#Headers],[2035]],Table11[#Headers],0))","v":465},{"$f":"INDEX(Table11[],MATCH(TEXT(hf_kommune[[#This Row],[Kommunenr]],\"0\"),Table11[Nr],0),MATCH(hf_kommune[[#Headers],[2036]],Table11[#Headers],0))","v":453},{"$f":"INDEX(Table11[],MATCH(TEXT(hf_kommune[[#This Row],[Kommunenr]],\"0\"),Table11[Nr],0),MATCH(hf_kommune[[#Headers],[2037]],Table11[#Headers],0))","v":479},{"$f":"INDEX(Table11[],MATCH(TEXT(hf_kommune[[#This Row],[Kommunenr]],\"0\"),Table11[Nr],0),MATCH(hf_kommune[[#Headers],[2038]],Table11[#Headers],0))","v":473},{"$f":"INDEX(Table11[],MATCH(TEXT(hf_kommune[[#This Row],[Kommunenr]],\"0\"),Table11[Nr],0),MATCH(hf_kommune[[#Headers],[2039]],Table11[#Headers],0))","v":461},{"$f":"INDEX(Table11[],MATCH(TEXT(hf_kommune[[#This Row],[Kommunenr]],\"0\"),Table11[Nr],0),MATCH(hf_kommune[[#Headers],[2040]],Table11[#Headers],0))","v":465},36600,36715,36828,36941,37056,37171,37289,37407,37525,37642,37758,37872,37985,38096,38207,38315,38419,38518,38613]
[5043,"Raarvihke - Røyrvik","Helse Midt-Norge","Helse Nord-Trøndelag","Namsos",{"$f":"INDEX(Table11[],MATCH(TEXT(hf_kommune[[#This Row],[Kommunenr]],\"0\"),Table11[Nr],0),MATCH(hf_kommune[[#Headers],[2020]],Table11[#Headers],0))","v":8},{"$f":"INDEX(Table11[],MATCH(TEXT(hf_kommune[[#This Row],[Kommunenr]],\"0\"),Table11[Nr],0),MATCH(hf_kommune[[#Headers],[2021]],Table11[#Headers],0))","v":4},{"$f":"INDEX(Table11[],MATCH(TEXT(hf_kommune[[#This Row],[Kommunenr]],\"0\"),Table11[Nr],0),MATCH(hf_kommune[[#Headers],[2022]],Table11[#Headers],0))","v":6},{"$f":"INDEX(Table11[],MATCH(TEXT(hf_kommune[[#This Row],[Kommunenr]],\"0\"),Table11[Nr],0),MATCH(hf_kommune[[#Headers],[2023]],Table11[#Headers],0))","v":2},{"$f":"INDEX(Table11[],MATCH(TEXT(hf_kommune[[#This Row],[Kommunenr]],\"0\"),Table11[Nr],0),MATCH(hf_kommune[[#Headers],[2024]],Table11[#Headers],0))","v":4},{"$f":"INDEX(Table11[],MATCH(TEXT(hf_kommune[[#This Row],[Kommunenr]],\"0\"),Table11[Nr],0),MATCH(hf_kommune[[#Headers],[2025]],Table11[#Headers],0))","v":7},{"$f":"INDEX(Table11[],MATCH(TEXT(hf_kommune[[#This Row],[Kommunenr]],\"0\"),Table11[Nr],0),MATCH(hf_kommune[[#Headers],[2026]],Table11[#Headers],0))","v":4},{"$f":"INDEX(Table11[],MATCH(TEXT(hf_kommune[[#This Row],[Kommunenr]],\"0\"),Table11[Nr],0),MATCH(hf_kommune[[#Headers],[2027]],Table11[#Headers],0))","v":5},{"$f":"INDEX(Table11[],MATCH(TEXT(hf_kommune[[#This Row],[Kommunenr]],\"0\"),Table11[Nr],0),MATCH(hf_kommune[[#Headers],[2028]],Table11[#Headers],0))","v":6},{"$f":"INDEX(Table11[],MATCH(TEXT(hf_kommune[[#This Row],[Kommunenr]],\"0\"),Table11[Nr],0),MATCH(hf_kommune[[#Headers],[2029]],Table11[#Headers],0))","v":5},{"$f":"INDEX(Table11[],MATCH(TEXT(hf_kommune[[#This Row],[Kommunenr]],\"0\"),Table11[Nr],0),MATCH(hf_kommune[[#Headers],[2030]],Table11[#Headers],0))","v":3},{"$f":"INDEX(Table11[],MATCH(TEXT(hf_kommune[[#This Row],[Kommunenr]],\"0\"),Table11[Nr],0),MATCH(hf_kommune[[#Headers],[2031]],Table11[#Headers],0))","v":6},{"$f":"INDEX(Table11[],MATCH(TEXT(hf_kommune[[#This Row],[Kommunenr]],\"0\"),Table11[Nr],0),MATCH(hf_kommune[[#Headers],[2032]],Table11[#Headers],0))","v":5},{"$f":"INDEX(Table11[],MATCH(TEXT(hf_kommune[[#This Row],[Kommunenr]],\"0\"),Table11[Nr],0),MATCH(hf_kommune[[#Headers],[2033]],Table11[#Headers],0))","v":4},{"$f":"INDEX(Table11[],MATCH(TEXT(hf_kommune[[#This Row],[Kommunenr]],\"0\"),Table11[Nr],0),MATCH(hf_kommune[[#Headers],[2034]],Table11[#Headers],0))","v":3},{"$f":"INDEX(Table11[],MATCH(TEXT(hf_kommune[[#This Row],[Kommunenr]],\"0\"),Table11[Nr],0),MATCH(hf_kommune[[#Headers],[2035]],Table11[#Headers],0))","v":2},{"$f":"INDEX(Table11[],MATCH(TEXT(hf_kommune[[#This Row],[Kommunenr]],\"0\"),Table11[Nr],0),MATCH(hf_kommune[[#Headers],[2036]],Table11[#Headers],0))","v":4},{"$f":"INDEX(Table11[],MATCH(TEXT(hf_kommune[[#This Row],[Kommunenr]],\"0\"),Table11[Nr],0),MATCH(hf_kommune[[#Headers],[2037]],Table11[#Headers],0))","v":3},{"$f":"INDEX(Table11[],MATCH(TEXT(hf_kommune[[#This Row],[Kommunenr]],\"0\"),Table11[Nr],0),MATCH(hf_kommune[[#Headers],[2038]],Table11[#Headers],0))","v":3},{"$f":"INDEX(Table11[],MATCH(TEXT(hf_kommune[[#This Row],[Kommunenr]],\"0\"),Table11[Nr],0),MATCH(hf_kommune[[#Headers],[2039]],Table11[#Headers],0))","v":4},{"$f":"INDEX(Table11[],MATCH(TEXT(hf_kommune[[#This Row],[Kommunenr]],\"0\"),Table11[Nr],0),MATCH(hf_kommune[[#Headers],[2040]],Table11[#Headers],0))","v":5},453,451,449,448,446,445,444,443,441,440,439,437,437,436,435,434,433,432,432]
[3016,"Rakkestad","Helse Sør-Øst","Sykehuset Østfold","Kalnes",{"$f":"INDEX(Table11[],MATCH(TEXT(hf_kommune[[#This Row],[Kommunenr]],\"0\"),Table11[Nr],0),MATCH(hf_kommune[[#Headers],[2020]],Table11[#Headers],0))","v":117},{"$f":"INDEX(Table11[],MATCH(TEXT(hf_kommune[[#This Row],[Kommunenr]],\"0\"),Table11[Nr],0),MATCH(hf_kommune[[#Headers],[2021]],Table11[#Headers],0))","v":119},{"$f":"INDEX(Table11[],MATCH(TEXT(hf_kommune[[#This Row],[Kommunenr]],\"0\"),Table11[Nr],0),MATCH(hf_kommune[[#Headers],[2022]],Table11[#Headers],0))","v":118},{"$f":"INDEX(Table11[],MATCH(TEXT(hf_kommune[[#This Row],[Kommunenr]],\"0\"),Table11[Nr],0),MATCH(hf_kommune[[#Headers],[2023]],Table11[#Headers],0))","v":117},{"$f":"INDEX(Table11[],MATCH(TEXT(hf_kommune[[#This Row],[Kommunenr]],\"0\"),Table11[Nr],0),MATCH(hf_kommune[[#Headers],[2024]],Table11[#Headers],0))","v":131},{"$f":"INDEX(Table11[],MATCH(TEXT(hf_kommune[[#This Row],[Kommunenr]],\"0\"),Table11[Nr],0),MATCH(hf_kommune[[#Headers],[2025]],Table11[#Headers],0))","v":105},{"$f":"INDEX(Table11[],MATCH(TEXT(hf_kommune[[#This Row],[Kommunenr]],\"0\"),Table11[Nr],0),MATCH(hf_kommune[[#Headers],[2026]],Table11[#Headers],0))","v":128},{"$f":"INDEX(Table11[],MATCH(TEXT(hf_kommune[[#This Row],[Kommunenr]],\"0\"),Table11[Nr],0),MATCH(hf_kommune[[#Headers],[2027]],Table11[#Headers],0))","v":121},{"$f":"INDEX(Table11[],MATCH(TEXT(hf_kommune[[#This Row],[Kommunenr]],\"0\"),Table11[Nr],0),MATCH(hf_kommune[[#Headers],[2028]],Table11[#Headers],0))","v":125},{"$f":"INDEX(Table11[],MATCH(TEXT(hf_kommune[[#This Row],[Kommunenr]],\"0\"),Table11[Nr],0),MATCH(hf_kommune[[#Headers],[2029]],Table11[#Headers],0))","v":110},{"$f":"INDEX(Table11[],MATCH(TEXT(hf_kommune[[#This Row],[Kommunenr]],\"0\"),Table11[Nr],0),MATCH(hf_kommune[[#Headers],[2030]],Table11[#Headers],0))","v":121},{"$f":"INDEX(Table11[],MATCH(TEXT(hf_kommune[[#This Row],[Kommunenr]],\"0\"),Table11[Nr],0),MATCH(hf_kommune[[#Headers],[2031]],Table11[#Headers],0))","v":120},{"$f":"INDEX(Table11[],MATCH(TEXT(hf_kommune[[#This Row],[Kommunenr]],\"0\"),Table11[Nr],0),MATCH(hf_kommune[[#Headers],[2032]],Table11[#Headers],0))","v":113},{"$f":"INDEX(Table11[],MATCH(TEXT(hf_kommune[[#This Row],[Kommunenr]],\"0\"),Table11[Nr],0),MATCH(hf_kommune[[#Headers],[2033]],Table11[#Headers],0))","v":126},{"$f":"INDEX(Table11[],MATCH(TEXT(hf_kommune[[#This Row],[Kommunenr]],\"0\"),Table11[Nr],0),MATCH(hf_kommune[[#Headers],[2034]],Table11[#Headers],0))","v":115},{"$f":"INDEX(Table11[],MATCH(TEXT(hf_kommune[[#This Row],[Kommunenr]],\"0\"),Table11[Nr],0),MATCH(hf_kommune[[#Headers],[2035]],Table11[#Headers],0))","v":110},{"$f":"INDEX(Table11[],MATCH(TEXT(hf_kommune[[#This Row],[Kommunenr]],\"0\"),Table11[Nr],0),MATCH(hf_kommune[[#Headers],[2036]],Table11[#Headers],0))","v":122},{"$f":"INDEX(Table11[],MATCH(TEXT(hf_kommune[[#This Row],[Kommunenr]],\"0\"),Table11[Nr],0),MATCH(hf_kommune[[#Headers],[2037]],Table11[#Headers],0))","v":118},{"$f":"INDEX(Table11[],MATCH(TEXT(hf_kommune[[#This Row],[Kommunenr]],\"0\"),Table11[Nr],0),MATCH(hf_kommune[[#Headers],[2038]],Table11[#Headers],0))","v":127},{"$f":"INDEX(Table11[],MATCH(TEXT(hf_kommune[[#This Row],[Kommunenr]],\"0\"),Table11[Nr],0),MATCH(hf_kommune[[#Headers],[2039]],Table11[#Headers],0))","v":124},{"$f":"INDEX(Table11[],MATCH(TEXT(hf_kommune[[#This Row],[Kommunenr]],\"0\"),Table11[Nr],0),MATCH(hf_kommune[[#Headers],[2040]],Table11[#Headers],0))","v":118},8337,8380,8427,8477,8533,8589,8646,8703,8760,8817,8873,8928,8981,9032,9082,9129,9174,9217,9257]
[1833,"Rana","Helse Nord","Helgelandssykehuset","Mo i Rana",{"$f":"INDEX(Table11[],MATCH(TEXT(hf_kommune[[#This Row],[Kommunenr]],\"0\"),Table11[Nr],0),MATCH(hf_kommune[[#Headers],[2020]],Table11[#Headers],0))","v":361},{"$f":"INDEX(Table11[],MATCH(TEXT(hf_kommune[[#This Row],[Kommunenr]],\"0\"),Table11[Nr],0),MATCH(hf_kommune[[#Headers],[2021]],Table11[#Headers],0))","v":352},{"$f":"INDEX(Table11[],MATCH(TEXT(hf_kommune[[#This Row],[Kommunenr]],\"0\"),Table11[Nr],0),MATCH(hf_kommune[[#Headers],[2022]],Table11[#Headers],0))","v":377},{"$f":"INDEX(Table11[],MATCH(TEXT(hf_kommune[[#This Row],[Kommunenr]],\"0\"),Table11[Nr],0),MATCH(hf_kommune[[#Headers],[2023]],Table11[#Headers],0))","v":403},{"$f":"INDEX(Table11[],MATCH(TEXT(hf_kommune[[#This Row],[Kommunenr]],\"0\"),Table11[Nr],0),MATCH(hf_kommune[[#Headers],[2024]],Table11[#Headers],0))","v":375},{"$f":"INDEX(Table11[],MATCH(TEXT(hf_kommune[[#This Row],[Kommunenr]],\"0\"),Table11[Nr],0),MATCH(hf_kommune[[#Headers],[2025]],Table11[#Headers],0))","v":411},{"$f":"INDEX(Table11[],MATCH(TEXT(hf_kommune[[#This Row],[Kommunenr]],\"0\"),Table11[Nr],0),MATCH(hf_kommune[[#Headers],[2026]],Table11[#Headers],0))","v":358},{"$f":"INDEX(Table11[],MATCH(TEXT(hf_kommune[[#This Row],[Kommunenr]],\"0\"),Table11[Nr],0),MATCH(hf_kommune[[#Headers],[2027]],Table11[#Headers],0))","v":364},{"$f":"INDEX(Table11[],MATCH(TEXT(hf_kommune[[#This Row],[Kommunenr]],\"0\"),Table11[Nr],0),MATCH(hf_kommune[[#Headers],[2028]],Table11[#Headers],0))","v":335},{"$f":"INDEX(Table11[],MATCH(TEXT(hf_kommune[[#This Row],[Kommunenr]],\"0\"),Table11[Nr],0),MATCH(hf_kommune[[#Headers],[2029]],Table11[#Headers],0))","v":326},{"$f":"INDEX(Table11[],MATCH(TEXT(hf_kommune[[#This Row],[Kommunenr]],\"0\"),Table11[Nr],0),MATCH(hf_kommune[[#Headers],[2030]],Table11[#Headers],0))","v":294},{"$f":"INDEX(Table11[],MATCH(TEXT(hf_kommune[[#This Row],[Kommunenr]],\"0\"),Table11[Nr],0),MATCH(hf_kommune[[#Headers],[2031]],Table11[#Headers],0))","v":285},{"$f":"INDEX(Table11[],MATCH(TEXT(hf_kommune[[#This Row],[Kommunenr]],\"0\"),Table11[Nr],0),MATCH(hf_kommune[[#Headers],[2032]],Table11[#Headers],0))","v":275},{"$f":"INDEX(Table11[],MATCH(TEXT(hf_kommune[[#This Row],[Kommunenr]],\"0\"),Table11[Nr],0),MATCH(hf_kommune[[#Headers],[2033]],Table11[#Headers],0))","v":277},{"$f":"INDEX(Table11[],MATCH(TEXT(hf_kommune[[#This Row],[Kommunenr]],\"0\"),Table11[Nr],0),MATCH(hf_kommune[[#Headers],[2034]],Table11[#Headers],0))","v":287},{"$f":"INDEX(Table11[],MATCH(TEXT(hf_kommune[[#This Row],[Kommunenr]],\"0\"),Table11[Nr],0),MATCH(hf_kommune[[#Headers],[2035]],Table11[#Headers],0))","v":267},{"$f":"INDEX(Table11[],MATCH(TEXT(hf_kommune[[#This Row],[Kommunenr]],\"0\"),Table11[Nr],0),MATCH(hf_kommune[[#Headers],[2036]],Table11[#Headers],0))","v":275},{"$f":"INDEX(Table11[],MATCH(TEXT(hf_kommune[[#This Row],[Kommunenr]],\"0\"),Table11[Nr],0),MATCH(hf_kommune[[#Headers],[2037]],Table11[#Headers],0))","v":280},{"$f":"INDEX(Table11[],MATCH(TEXT(hf_kommune[[#This Row],[Kommunenr]],\"0\"),Table11[Nr],0),MATCH(hf_kommune[[#Headers],[2038]],Table11[#Headers],0))","v":297},{"$f":"INDEX(Table11[],MATCH(TEXT(hf_kommune[[#This Row],[Kommunenr]],\"0\"),Table11[Nr],0),MATCH(hf_kommune[[#Headers],[2039]],Table11[#Headers],0))","v":292},{"$f":"INDEX(Table11[],MATCH(TEXT(hf_kommune[[#This Row],[Kommunenr]],\"0\"),Table11[Nr],0),MATCH(hf_kommune[[#Headers],[2040]],Table11[#Headers],0))","v":286},25811,25691,25606,25554,25534,25513,25493,25471,25449,25425,25402,25379,25357,25335,25314,25292,25268,25242,25214]
[1127,"Randaberg","Helse Vest","Helse Stavanger","Stavanger",{"$f":"INDEX(Table11[],MATCH(TEXT(hf_kommune[[#This Row],[Kommunenr]],\"0\"),Table11[Nr],0),MATCH(hf_kommune[[#Headers],[2020]],Table11[#Headers],0))","v":139},{"$f":"INDEX(Table11[],MATCH(TEXT(hf_kommune[[#This Row],[Kommunenr]],\"0\"),Table11[Nr],0),MATCH(hf_kommune[[#Headers],[2021]],Table11[#Headers],0))","v":160},{"$f":"INDEX(Table11[],MATCH(TEXT(hf_kommune[[#This Row],[Kommunenr]],\"0\"),Table11[Nr],0),MATCH(hf_kommune[[#Headers],[2022]],Table11[#Headers],0))","v":150},{"$f":"INDEX(Table11[],MATCH(TEXT(hf_kommune[[#This Row],[Kommunenr]],\"0\"),Table11[Nr],0),MATCH(hf_kommune[[#Headers],[2023]],Table11[#Headers],0))","v":177},{"$f":"INDEX(Table11[],MATCH(TEXT(hf_kommune[[#This Row],[Kommunenr]],\"0\"),Table11[Nr],0),MATCH(hf_kommune[[#Headers],[2024]],Table11[#Headers],0))","v":155},{"$f":"INDEX(Table11[],MATCH(TEXT(hf_kommune[[#This Row],[Kommunenr]],\"0\"),Table11[Nr],0),MATCH(hf_kommune[[#Headers],[2025]],Table11[#Headers],0))","v":189},{"$f":"INDEX(Table11[],MATCH(TEXT(hf_kommune[[#This Row],[Kommunenr]],\"0\"),Table11[Nr],0),MATCH(hf_kommune[[#Headers],[2026]],Table11[#Headers],0))","v":163},{"$f":"INDEX(Table11[],MATCH(TEXT(hf_kommune[[#This Row],[Kommunenr]],\"0\"),Table11[Nr],0),MATCH(hf_kommune[[#Headers],[2027]],Table11[#Headers],0))","v":152},{"$f":"INDEX(Table11[],MATCH(TEXT(hf_kommune[[#This Row],[Kommunenr]],\"0\"),Table11[Nr],0),MATCH(hf_kommune[[#Headers],[2028]],Table11[#Headers],0))","v":142},{"$f":"INDEX(Table11[],MATCH(TEXT(hf_kommune[[#This Row],[Kommunenr]],\"0\"),Table11[Nr],0),MATCH(hf_kommune[[#Headers],[2029]],Table11[#Headers],0))","v":134},{"$f":"INDEX(Table11[],MATCH(TEXT(hf_kommune[[#This Row],[Kommunenr]],\"0\"),Table11[Nr],0),MATCH(hf_kommune[[#Headers],[2030]],Table11[#Headers],0))","v":151},{"$f":"INDEX(Table11[],MATCH(TEXT(hf_kommune[[#This Row],[Kommunenr]],\"0\"),Table11[Nr],0),MATCH(hf_kommune[[#Headers],[2031]],Table11[#Headers],0))","v":160},{"$f":"INDEX(Table11[],MATCH(TEXT(hf_kommune[[#This Row],[Kommunenr]],\"0\"),Table11[Nr],0),MATCH(hf_kommune[[#Headers],[2032]],Table11[#Headers],0))","v":134},{"$f":"INDEX(Table11[],MATCH(TEXT(hf_kommune[[#This Row],[Kommunenr]],\"0\"),Table11[Nr],0),MATCH(hf_kommune[[#Headers],[2033]],Table11[#Headers],0))","v":144},{"$f":"INDEX(Table11[],MATCH(TEXT(hf_kommune[[#This Row],[Kommunenr]],\"0\"),Table11[Nr],0),MATCH(hf_kommune[[#Headers],[2034]],Table11[#Headers],0))","v":137},{"$f":"INDEX(Table11[],MATCH(TEXT(hf_kommune[[#This Row],[Kommunenr]],\"0\"),Table11[Nr],0),MATCH(hf_kommune[[#Headers],[2035]],Table11[#Headers],0))","v":136},{"$f":"INDEX(Table11[],MATCH(TEXT(hf_kommune[[#This Row],[Kommunenr]],\"0\"),Table11[Nr],0),MATCH(hf_kommune[[#Headers],[2036]],Table11[#Headers],0))","v":158},{"$f":"INDEX(Table11[],MATCH(TEXT(hf_kommune[[#This Row],[Kommunenr]],\"0\"),Table11[Nr],0),MATCH(hf_kommune[[#Headers],[2037]],Table11[#Headers],0))","v":145},{"$f":"INDEX(Table11[],MATCH(TEXT(hf_kommune[[#This Row],[Kommunenr]],\"0\"),Table11[Nr],0),MATCH(hf_kommune[[#Headers],[2038]],Table11[#Headers],0))","v":151},{"$f":"INDEX(Table11[],MATCH(TEXT(hf_kommune[[#This Row],[Kommunenr]],\"0\"),Table11[Nr],0),MATCH(hf_kommune[[#Headers],[2039]],Table11[#Headers],0))","v":146},{"$f":"INDEX(Table11[],MATCH(TEXT(hf_kommune[[#This Row],[Kommunenr]],\"0\"),Table11[Nr],0),MATCH(hf_kommune[[#Headers],[2040]],Table11[#Headers],0))","v":157},11492,11606,11706,11792,11867,11941,12016,12089,12160,12230,12298,12364,12429,12493,12557,12620,12683,12744,12805]
[1539,"Rauma","Helse Midt-Norge","Helse Møre og Romsdal","Molde",{"$f":"INDEX(Table11[],MATCH(TEXT(hf_kommune[[#This Row],[Kommunenr]],\"0\"),Table11[Nr],0),MATCH(hf_kommune[[#Headers],[2020]],Table11[#Headers],0))","v":108},{"$f":"INDEX(Table11[],MATCH(TEXT(hf_kommune[[#This Row],[Kommunenr]],\"0\"),Table11[Nr],0),MATCH(hf_kommune[[#Headers],[2021]],Table11[#Headers],0))","v":85},{"$f":"INDEX(Table11[],MATCH(TEXT(hf_kommune[[#This Row],[Kommunenr]],\"0\"),Table11[Nr],0),MATCH(hf_kommune[[#Headers],[2022]],Table11[#Headers],0))","v":95},{"$f":"INDEX(Table11[],MATCH(TEXT(hf_kommune[[#This Row],[Kommunenr]],\"0\"),Table11[Nr],0),MATCH(hf_kommune[[#Headers],[2023]],Table11[#Headers],0))","v":98},{"$f":"INDEX(Table11[],MATCH(TEXT(hf_kommune[[#This Row],[Kommunenr]],\"0\"),Table11[Nr],0),MATCH(hf_kommune[[#Headers],[2024]],Table11[#Headers],0))","v":110},{"$f":"INDEX(Table11[],MATCH(TEXT(hf_kommune[[#This Row],[Kommunenr]],\"0\"),Table11[Nr],0),MATCH(hf_kommune[[#Headers],[2025]],Table11[#Headers],0))","v":100},{"$f":"INDEX(Table11[],MATCH(TEXT(hf_kommune[[#This Row],[Kommunenr]],\"0\"),Table11[Nr],0),MATCH(hf_kommune[[#Headers],[2026]],Table11[#Headers],0))","v":111},{"$f":"INDEX(Table11[],MATCH(TEXT(hf_kommune[[#This Row],[Kommunenr]],\"0\"),Table11[Nr],0),MATCH(hf_kommune[[#Headers],[2027]],Table11[#Headers],0))","v":82},{"$f":"INDEX(Table11[],MATCH(TEXT(hf_kommune[[#This Row],[Kommunenr]],\"0\"),Table11[Nr],0),MATCH(hf_kommune[[#Headers],[2028]],Table11[#Headers],0))","v":100},{"$f":"INDEX(Table11[],MATCH(TEXT(hf_kommune[[#This Row],[Kommunenr]],\"0\"),Table11[Nr],0),MATCH(hf_kommune[[#Headers],[2029]],Table11[#Headers],0))","v":83},{"$f":"INDEX(Table11[],MATCH(TEXT(hf_kommune[[#This Row],[Kommunenr]],\"0\"),Table11[Nr],0),MATCH(hf_kommune[[#Headers],[2030]],Table11[#Headers],0))","v":105},{"$f":"INDEX(Table11[],MATCH(TEXT(hf_kommune[[#This Row],[Kommunenr]],\"0\"),Table11[Nr],0),MATCH(hf_kommune[[#Headers],[2031]],Table11[#Headers],0))","v":86},{"$f":"INDEX(Table11[],MATCH(TEXT(hf_kommune[[#This Row],[Kommunenr]],\"0\"),Table11[Nr],0),MATCH(hf_kommune[[#Headers],[2032]],Table11[#Headers],0))","v":84},{"$f":"INDEX(Table11[],MATCH(TEXT(hf_kommune[[#This Row],[Kommunenr]],\"0\"),Table11[Nr],0),MATCH(hf_kommune[[#Headers],[2033]],Table11[#Headers],0))","v":87},{"$f":"INDEX(Table11[],MATCH(TEXT(hf_kommune[[#This Row],[Kommunenr]],\"0\"),Table11[Nr],0),MATCH(hf_kommune[[#Headers],[2034]],Table11[#Headers],0))","v":73},{"$f":"INDEX(Table11[],MATCH(TEXT(hf_kommune[[#This Row],[Kommunenr]],\"0\"),Table11[Nr],0),MATCH(hf_kommune[[#Headers],[2035]],Table11[#Headers],0))","v":72},{"$f":"INDEX(Table11[],MATCH(TEXT(hf_kommune[[#This Row],[Kommunenr]],\"0\"),Table11[Nr],0),MATCH(hf_kommune[[#Headers],[2036]],Table11[#Headers],0))","v":88},{"$f":"INDEX(Table11[],MATCH(TEXT(hf_kommune[[#This Row],[Kommunenr]],\"0\"),Table11[Nr],0),MATCH(hf_kommune[[#Headers],[2037]],Table11[#Headers],0))","v":104},{"$f":"INDEX(Table11[],MATCH(TEXT(hf_kommune[[#This Row],[Kommunenr]],\"0\"),Table11[Nr],0),MATCH(hf_kommune[[#Headers],[2038]],Table11[#Headers],0))","v":88},{"$f":"INDEX(Table11[],MATCH(TEXT(hf_kommune[[#This Row],[Kommunenr]],\"0\"),Table11[Nr],0),MATCH(hf_kommune[[#Headers],[2039]],Table11[#Headers],0))","v":90},{"$f":"INDEX(Table11[],MATCH(TEXT(hf_kommune[[#This Row],[Kommunenr]],\"0\"),Table11[Nr],0),MATCH(hf_kommune[[#Headers],[2040]],Table11[#Headers],0))","v":88},7370,7337,7312,7293,7281,7269,7257,7244,7232,7219,7204,7189,7174,7158,7142,7126,7109,7093,7076]
[3424,"Rendalen","Helse Sør-Øst","Sykehuset Innlandet","Tynset",{"$f":"INDEX(Table11[],MATCH(TEXT(hf_kommune[[#This Row],[Kommunenr]],\"0\"),Table11[Nr],0),MATCH(hf_kommune[[#Headers],[2020]],Table11[#Headers],0))","v":27},{"$f":"INDEX(Table11[],MATCH(TEXT(hf_kommune[[#This Row],[Kommunenr]],\"0\"),Table11[Nr],0),MATCH(hf_kommune[[#Headers],[2021]],Table11[#Headers],0))","v":30},{"$f":"INDEX(Table11[],MATCH(TEXT(hf_kommune[[#This Row],[Kommunenr]],\"0\"),Table11[Nr],0),MATCH(hf_kommune[[#Headers],[2022]],Table11[#Headers],0))","v":40},{"$f":"INDEX(Table11[],MATCH(TEXT(hf_kommune[[#This Row],[Kommunenr]],\"0\"),Table11[Nr],0),MATCH(hf_kommune[[#Headers],[2023]],Table11[#Headers],0))","v":33},{"$f":"INDEX(Table11[],MATCH(TEXT(hf_kommune[[#This Row],[Kommunenr]],\"0\"),Table11[Nr],0),MATCH(hf_kommune[[#Headers],[2024]],Table11[#Headers],0))","v":19},{"$f":"INDEX(Table11[],MATCH(TEXT(hf_kommune[[#This Row],[Kommunenr]],\"0\"),Table11[Nr],0),MATCH(hf_kommune[[#Headers],[2025]],Table11[#Headers],0))","v":32},{"$f":"INDEX(Table11[],MATCH(TEXT(hf_kommune[[#This Row],[Kommunenr]],\"0\"),Table11[Nr],0),MATCH(hf_kommune[[#Headers],[2026]],Table11[#Headers],0))","v":28},{"$f":"INDEX(Table11[],MATCH(TEXT(hf_kommune[[#This Row],[Kommunenr]],\"0\"),Table11[Nr],0),MATCH(hf_kommune[[#Headers],[2027]],Table11[#Headers],0))","v":34},{"$f":"INDEX(Table11[],MATCH(TEXT(hf_kommune[[#This Row],[Kommunenr]],\"0\"),Table11[Nr],0),MATCH(hf_kommune[[#Headers],[2028]],Table11[#Headers],0))","v":26},{"$f":"INDEX(Table11[],MATCH(TEXT(hf_kommune[[#This Row],[Kommunenr]],\"0\"),Table11[Nr],0),MATCH(hf_kommune[[#Headers],[2029]],Table11[#Headers],0))","v":21},{"$f":"INDEX(Table11[],MATCH(TEXT(hf_kommune[[#This Row],[Kommunenr]],\"0\"),Table11[Nr],0),MATCH(hf_kommune[[#Headers],[2030]],Table11[#Headers],0))","v":27},{"$f":"INDEX(Table11[],MATCH(TEXT(hf_kommune[[#This Row],[Kommunenr]],\"0\"),Table11[Nr],0),MATCH(hf_kommune[[#Headers],[2031]],Table11[#Headers],0))","v":23},{"$f":"INDEX(Table11[],MATCH(TEXT(hf_kommune[[#This Row],[Kommunenr]],\"0\"),Table11[Nr],0),MATCH(hf_kommune[[#Headers],[2032]],Table11[#Headers],0))","v":22},{"$f":"INDEX(Table11[],MATCH(TEXT(hf_kommune[[#This Row],[Kommunenr]],\"0\"),Table11[Nr],0),MATCH(hf_kommune[[#Headers],[2033]],Table11[#Headers],0))","v":26},{"$f":"INDEX(Table11[],MATCH(TEXT(hf_kommune[[#This Row],[Kommunenr]],\"0\"),Table11[Nr],0),MATCH(hf_kommune[[#Headers],[2034]],Table11[#Headers],0))","v":23},{"$f":"INDEX(Table11[],MATCH(TEXT(hf_kommune[[#This Row],[Kommunenr]],\"0\"),Table11[Nr],0),MATCH(hf_kommune[[#Headers],[2035]],Table11[#Headers],0))","v":24},{"$f":"INDEX(Table11[],MATCH(TEXT(hf_kommune[[#This Row],[Kommunenr]],\"0\"),Table11[Nr],0),MATCH(hf_kommune[[#Headers],[2036]],Table11[#Headers],0))","v":25},{"$f":"INDEX(Table11[],MATCH(TEXT(hf_kommune[[#This Row],[Kommunenr]],\"0\"),Table11[Nr],0),MATCH(hf_kommune[[#Headers],[2037]],Table11[#Headers],0))","v":23},{"$f":"INDEX(Table11[],MATCH(TEXT(hf_kommune[[#This Row],[Kommunenr]],\"0\"),Table11[Nr],0),MATCH(hf_kommune[[#Headers],[2038]],Table11[#Headers],0))","v":21},{"$f":"INDEX(Table11[],MATCH(TEXT(hf_kommune[[#This Row],[Kommunenr]],\"0\"),Table11[Nr],0),MATCH(hf_kommune[[#Headers],[2039]],Table11[#Headers],0))","v":23},{"$f":"INDEX(Table11[],MATCH(TEXT(hf_kommune[[#This Row],[Kommunenr]],\"0\"),Table11[Nr],0),MATCH(hf_kommune[[#Headers],[2040]],Table11[#Headers],0))","v":20},1770,1770,1772,1775,1780,1785,1789,1794,1799,1803,1807,1811,1815,1818,1821,1825,1828,1830,1832]
[5022,"Rennebu","Helse Midt-Norge","St. Olavs hospital","St. Olav - Orkdal",{"$f":"INDEX(Table11[],MATCH(TEXT(hf_kommune[[#This Row],[Kommunenr]],\"0\"),Table11[Nr],0),MATCH(hf_kommune[[#Headers],[2020]],Table11[#Headers],0))","v":35},{"$f":"INDEX(Table11[],MATCH(TEXT(hf_kommune[[#This Row],[Kommunenr]],\"0\"),Table11[Nr],0),MATCH(hf_kommune[[#Headers],[2021]],Table11[#Headers],0))","v":36},{"$f":"INDEX(Table11[],MATCH(TEXT(hf_kommune[[#This Row],[Kommunenr]],\"0\"),Table11[Nr],0),MATCH(hf_kommune[[#Headers],[2022]],Table11[#Headers],0))","v":48},{"$f":"INDEX(Table11[],MATCH(TEXT(hf_kommune[[#This Row],[Kommunenr]],\"0\"),Table11[Nr],0),MATCH(hf_kommune[[#Headers],[2023]],Table11[#Headers],0))","v":33},{"$f":"INDEX(Table11[],MATCH(TEXT(hf_kommune[[#This Row],[Kommunenr]],\"0\"),Table11[Nr],0),MATCH(hf_kommune[[#Headers],[2024]],Table11[#Headers],0))","v":43},{"$f":"INDEX(Table11[],MATCH(TEXT(hf_kommune[[#This Row],[Kommunenr]],\"0\"),Table11[Nr],0),MATCH(hf_kommune[[#Headers],[2025]],Table11[#Headers],0))","v":42},{"$f":"INDEX(Table11[],MATCH(TEXT(hf_kommune[[#This Row],[Kommunenr]],\"0\"),Table11[Nr],0),MATCH(hf_kommune[[#Headers],[2026]],Table11[#Headers],0))","v":31},{"$f":"INDEX(Table11[],MATCH(TEXT(hf_kommune[[#This Row],[Kommunenr]],\"0\"),Table11[Nr],0),MATCH(hf_kommune[[#Headers],[2027]],Table11[#Headers],0))","v":39},{"$f":"INDEX(Table11[],MATCH(TEXT(hf_kommune[[#This Row],[Kommunenr]],\"0\"),Table11[Nr],0),MATCH(hf_kommune[[#Headers],[2028]],Table11[#Headers],0))","v":40},{"$f":"INDEX(Table11[],MATCH(TEXT(hf_kommune[[#This Row],[Kommunenr]],\"0\"),Table11[Nr],0),MATCH(hf_kommune[[#Headers],[2029]],Table11[#Headers],0))","v":38},{"$f":"INDEX(Table11[],MATCH(TEXT(hf_kommune[[#This Row],[Kommunenr]],\"0\"),Table11[Nr],0),MATCH(hf_kommune[[#Headers],[2030]],Table11[#Headers],0))","v":33},{"$f":"INDEX(Table11[],MATCH(TEXT(hf_kommune[[#This Row],[Kommunenr]],\"0\"),Table11[Nr],0),MATCH(hf_kommune[[#Headers],[2031]],Table11[#Headers],0))","v":28},{"$f":"INDEX(Table11[],MATCH(TEXT(hf_kommune[[#This Row],[Kommunenr]],\"0\"),Table11[Nr],0),MATCH(hf_kommune[[#Headers],[2032]],Table11[#Headers],0))","v":33},{"$f":"INDEX(Table11[],MATCH(TEXT(hf_kommune[[#This Row],[Kommunenr]],\"0\"),Table11[Nr],0),MATCH(hf_kommune[[#Headers],[2033]],Table11[#Headers],0))","v":27},{"$f":"INDEX(Table11[],MATCH(TEXT(hf_kommune[[#This Row],[Kommunenr]],\"0\"),Table11[Nr],0),MATCH(hf_kommune[[#Headers],[2034]],Table11[#Headers],0))","v":23},{"$f":"INDEX(Table11[],MATCH(TEXT(hf_kommune[[#This Row],[Kommunenr]],\"0\"),Table11[Nr],0),MATCH(hf_kommune[[#Headers],[2035]],Table11[#Headers],0))","v":32},{"$f":"INDEX(Table11[],MATCH(TEXT(hf_kommune[[#This Row],[Kommunenr]],\"0\"),Table11[Nr],0),MATCH(hf_kommune[[#Headers],[2036]],Table11[#Headers],0))","v":22},{"$f":"INDEX(Table11[],MATCH(TEXT(hf_kommune[[#This Row],[Kommunenr]],\"0\"),Table11[Nr],0),MATCH(hf_kommune[[#Headers],[2037]],Table11[#Headers],0))","v":24},{"$f":"INDEX(Table11[],MATCH(TEXT(hf_kommune[[#This Row],[Kommunenr]],\"0\"),Table11[Nr],0),MATCH(hf_kommune[[#Headers],[2038]],Table11[#Headers],0))","v":18},{"$f":"INDEX(Table11[],MATCH(TEXT(hf_kommune[[#This Row],[Kommunenr]],\"0\"),Table11[Nr],0),MATCH(hf_kommune[[#Headers],[2039]],Table11[#Headers],0))","v":24},{"$f":"INDEX(Table11[],MATCH(TEXT(hf_kommune[[#This Row],[Kommunenr]],\"0\"),Table11[Nr],0),MATCH(hf_kommune[[#Headers],[2040]],Table11[#Headers],0))","v":27},2465,2459,2454,2452,2452,2452,2452,2453,2454,2455,2456,2457,2457,2457,2457,2456,2454,2451,2449]
[5061,"Rindal","Helse Midt-Norge","St. Olavs hospital","St. Olav - Orkdal",{"$f":"INDEX(Table11[],MATCH(TEXT(hf_kommune[[#This Row],[Kommunenr]],\"0\"),Table11[Nr],0),MATCH(hf_kommune[[#Headers],[2020]],Table11[#Headers],0))","v":29},{"$f":"INDEX(Table11[],MATCH(TEXT(hf_kommune[[#This Row],[Kommunenr]],\"0\"),Table11[Nr],0),MATCH(hf_kommune[[#Headers],[2021]],Table11[#Headers],0))","v":29},{"$f":"INDEX(Table11[],MATCH(TEXT(hf_kommune[[#This Row],[Kommunenr]],\"0\"),Table11[Nr],0),MATCH(hf_kommune[[#Headers],[2022]],Table11[#Headers],0))","v":30},{"$f":"INDEX(Table11[],MATCH(TEXT(hf_kommune[[#This Row],[Kommunenr]],\"0\"),Table11[Nr],0),MATCH(hf_kommune[[#Headers],[2023]],Table11[#Headers],0))","v":29},{"$f":"INDEX(Table11[],MATCH(TEXT(hf_kommune[[#This Row],[Kommunenr]],\"0\"),Table11[Nr],0),MATCH(hf_kommune[[#Headers],[2024]],Table11[#Headers],0))","v":30},{"$f":"INDEX(Table11[],MATCH(TEXT(hf_kommune[[#This Row],[Kommunenr]],\"0\"),Table11[Nr],0),MATCH(hf_kommune[[#Headers],[2025]],Table11[#Headers],0))","v":31},{"$f":"INDEX(Table11[],MATCH(TEXT(hf_kommune[[#This Row],[Kommunenr]],\"0\"),Table11[Nr],0),MATCH(hf_kommune[[#Headers],[2026]],Table11[#Headers],0))","v":30},{"$f":"INDEX(Table11[],MATCH(TEXT(hf_kommune[[#This Row],[Kommunenr]],\"0\"),Table11[Nr],0),MATCH(hf_kommune[[#Headers],[2027]],Table11[#Headers],0))","v":19},{"$f":"INDEX(Table11[],MATCH(TEXT(hf_kommune[[#This Row],[Kommunenr]],\"0\"),Table11[Nr],0),MATCH(hf_kommune[[#Headers],[2028]],Table11[#Headers],0))","v":27},{"$f":"INDEX(Table11[],MATCH(TEXT(hf_kommune[[#This Row],[Kommunenr]],\"0\"),Table11[Nr],0),MATCH(hf_kommune[[#Headers],[2029]],Table11[#Headers],0))","v":25},{"$f":"INDEX(Table11[],MATCH(TEXT(hf_kommune[[#This Row],[Kommunenr]],\"0\"),Table11[Nr],0),MATCH(hf_kommune[[#Headers],[2030]],Table11[#Headers],0))","v":30},{"$f":"INDEX(Table11[],MATCH(TEXT(hf_kommune[[#This Row],[Kommunenr]],\"0\"),Table11[Nr],0),MATCH(hf_kommune[[#Headers],[2031]],Table11[#Headers],0))","v":21},{"$f":"INDEX(Table11[],MATCH(TEXT(hf_kommune[[#This Row],[Kommunenr]],\"0\"),Table11[Nr],0),MATCH(hf_kommune[[#Headers],[2032]],Table11[#Headers],0))","v":24},{"$f":"INDEX(Table11[],MATCH(TEXT(hf_kommune[[#This Row],[Kommunenr]],\"0\"),Table11[Nr],0),MATCH(hf_kommune[[#Headers],[2033]],Table11[#Headers],0))","v":19},{"$f":"INDEX(Table11[],MATCH(TEXT(hf_kommune[[#This Row],[Kommunenr]],\"0\"),Table11[Nr],0),MATCH(hf_kommune[[#Headers],[2034]],Table11[#Headers],0))","v":13},{"$f":"INDEX(Table11[],MATCH(TEXT(hf_kommune[[#This Row],[Kommunenr]],\"0\"),Table11[Nr],0),MATCH(hf_kommune[[#Headers],[2035]],Table11[#Headers],0))","v":20},{"$f":"INDEX(Table11[],MATCH(TEXT(hf_kommune[[#This Row],[Kommunenr]],\"0\"),Table11[Nr],0),MATCH(hf_kommune[[#Headers],[2036]],Table11[#Headers],0))","v":18},{"$f":"INDEX(Table11[],MATCH(TEXT(hf_kommune[[#This Row],[Kommunenr]],\"0\"),Table11[Nr],0),MATCH(hf_kommune[[#Headers],[2037]],Table11[#Headers],0))","v":18},{"$f":"INDEX(Table11[],MATCH(TEXT(hf_kommune[[#This Row],[Kommunenr]],\"0\"),Table11[Nr],0),MATCH(hf_kommune[[#Headers],[2038]],Table11[#Headers],0))","v":22},{"$f":"INDEX(Table11[],MATCH(TEXT(hf_kommune[[#This Row],[Kommunenr]],\"0\"),Table11[Nr],0),MATCH(hf_kommune[[#Headers],[2039]],Table11[#Headers],0))","v":18},{"$f":"INDEX(Table11[],MATCH(TEXT(hf_kommune[[#This Row],[Kommunenr]],\"0\"),Table11[Nr],0),MATCH(hf_kommune[[#Headers],[2040]],Table11[#Headers],0))","v":19},1960,1941,1925,1911,1900,1889,1879,1869,1860,1850,1841,1832,1823,1814,1806,1797,1789,1781,1772]
[3439,"Ringebu","Helse Sør-Øst","Sykehuset Innlandet","Lillehammer",{"$f":"INDEX(Table11[],MATCH(TEXT(hf_kommune[[#This Row],[Kommunenr]],\"0\"),Table11[Nr],0),MATCH(hf_kommune[[#Headers],[2020]],Table11[#Headers],0))","v":56},{"$f":"INDEX(Table11[],MATCH(TEXT(hf_kommune[[#This Row],[Kommunenr]],\"0\"),Table11[Nr],0),MATCH(hf_kommune[[#Headers],[2021]],Table11[#Headers],0))","v":71},{"$f":"INDEX(Table11[],MATCH(TEXT(hf_kommune[[#This Row],[Kommunenr]],\"0\"),Table11[Nr],0),MATCH(hf_kommune[[#Headers],[2022]],Table11[#Headers],0))","v":75},{"$f":"INDEX(Table11[],MATCH(TEXT(hf_kommune[[#This Row],[Kommunenr]],\"0\"),Table11[Nr],0),MATCH(hf_kommune[[#Headers],[2023]],Table11[#Headers],0))","v":69},{"$f":"INDEX(Table11[],MATCH(TEXT(hf_kommune[[#This Row],[Kommunenr]],\"0\"),Table11[Nr],0),MATCH(hf_kommune[[#Headers],[2024]],Table11[#Headers],0))","v":71},{"$f":"INDEX(Table11[],MATCH(TEXT(hf_kommune[[#This Row],[Kommunenr]],\"0\"),Table11[Nr],0),MATCH(hf_kommune[[#Headers],[2025]],Table11[#Headers],0))","v":72},{"$f":"INDEX(Table11[],MATCH(TEXT(hf_kommune[[#This Row],[Kommunenr]],\"0\"),Table11[Nr],0),MATCH(hf_kommune[[#Headers],[2026]],Table11[#Headers],0))","v":60},{"$f":"INDEX(Table11[],MATCH(TEXT(hf_kommune[[#This Row],[Kommunenr]],\"0\"),Table11[Nr],0),MATCH(hf_kommune[[#Headers],[2027]],Table11[#Headers],0))","v":68},{"$f":"INDEX(Table11[],MATCH(TEXT(hf_kommune[[#This Row],[Kommunenr]],\"0\"),Table11[Nr],0),MATCH(hf_kommune[[#Headers],[2028]],Table11[#Headers],0))","v":67},{"$f":"INDEX(Table11[],MATCH(TEXT(hf_kommune[[#This Row],[Kommunenr]],\"0\"),Table11[Nr],0),MATCH(hf_kommune[[#Headers],[2029]],Table11[#Headers],0))","v":63},{"$f":"INDEX(Table11[],MATCH(TEXT(hf_kommune[[#This Row],[Kommunenr]],\"0\"),Table11[Nr],0),MATCH(hf_kommune[[#Headers],[2030]],Table11[#Headers],0))","v":62},{"$f":"INDEX(Table11[],MATCH(TEXT(hf_kommune[[#This Row],[Kommunenr]],\"0\"),Table11[Nr],0),MATCH(hf_kommune[[#Headers],[2031]],Table11[#Headers],0))","v":51},{"$f":"INDEX(Table11[],MATCH(TEXT(hf_kommune[[#This Row],[Kommunenr]],\"0\"),Table11[Nr],0),MATCH(hf_kommune[[#Headers],[2032]],Table11[#Headers],0))","v":48},{"$f":"INDEX(Table11[],MATCH(TEXT(hf_kommune[[#This Row],[Kommunenr]],\"0\"),Table11[Nr],0),MATCH(hf_kommune[[#Headers],[2033]],Table11[#Headers],0))","v":44},{"$f":"INDEX(Table11[],MATCH(TEXT(hf_kommune[[#This Row],[Kommunenr]],\"0\"),Table11[Nr],0),MATCH(hf_kommune[[#Headers],[2034]],Table11[#Headers],0))","v":47},{"$f":"INDEX(Table11[],MATCH(TEXT(hf_kommune[[#This Row],[Kommunenr]],\"0\"),Table11[Nr],0),MATCH(hf_kommune[[#Headers],[2035]],Table11[#Headers],0))","v":45},{"$f":"INDEX(Table11[],MATCH(TEXT(hf_kommune[[#This Row],[Kommunenr]],\"0\"),Table11[Nr],0),MATCH(hf_kommune[[#Headers],[2036]],Table11[#Headers],0))","v":59},{"$f":"INDEX(Table11[],MATCH(TEXT(hf_kommune[[#This Row],[Kommunenr]],\"0\"),Table11[Nr],0),MATCH(hf_kommune[[#Headers],[2037]],Table11[#Headers],0))","v":50},{"$f":"INDEX(Table11[],MATCH(TEXT(hf_kommune[[#This Row],[Kommunenr]],\"0\"),Table11[Nr],0),MATCH(hf_kommune[[#Headers],[2038]],Table11[#Headers],0))","v":50},{"$f":"INDEX(Table11[],MATCH(TEXT(hf_kommune[[#This Row],[Kommunenr]],\"0\"),Table11[Nr],0),MATCH(hf_kommune[[#Headers],[2039]],Table11[#Headers],0))","v":59},{"$f":"INDEX(Table11[],MATCH(TEXT(hf_kommune[[#This Row],[Kommunenr]],\"0\"),Table11[Nr],0),MATCH(hf_kommune[[#Headers],[2040]],Table11[#Headers],0))","v":48},4325,4305,4289,4277,4269,4263,4257,4252,4247,4243,4239,4235,4232,4228,4224,4220,4216,4212,4207]
[3007,"Ringerike","Helse Sør-Øst","Vestre Viken","Ringerike",{"$f":"INDEX(Table11[],MATCH(TEXT(hf_kommune[[#This Row],[Kommunenr]],\"0\"),Table11[Nr],0),MATCH(hf_kommune[[#Headers],[2020]],Table11[#Headers],0))","v":427},{"$f":"INDEX(Table11[],MATCH(TEXT(hf_kommune[[#This Row],[Kommunenr]],\"0\"),Table11[Nr],0),MATCH(hf_kommune[[#Headers],[2021]],Table11[#Headers],0))","v":467},{"$f":"INDEX(Table11[],MATCH(TEXT(hf_kommune[[#This Row],[Kommunenr]],\"0\"),Table11[Nr],0),MATCH(hf_kommune[[#Headers],[2022]],Table11[#Headers],0))","v":477},{"$f":"INDEX(Table11[],MATCH(TEXT(hf_kommune[[#This Row],[Kommunenr]],\"0\"),Table11[Nr],0),MATCH(hf_kommune[[#Headers],[2023]],Table11[#Headers],0))","v":407},{"$f":"INDEX(Table11[],MATCH(TEXT(hf_kommune[[#This Row],[Kommunenr]],\"0\"),Table11[Nr],0),MATCH(hf_kommune[[#Headers],[2024]],Table11[#Headers],0))","v":470},{"$f":"INDEX(Table11[],MATCH(TEXT(hf_kommune[[#This Row],[Kommunenr]],\"0\"),Table11[Nr],0),MATCH(hf_kommune[[#Headers],[2025]],Table11[#Headers],0))","v":442},{"$f":"INDEX(Table11[],MATCH(TEXT(hf_kommune[[#This Row],[Kommunenr]],\"0\"),Table11[Nr],0),MATCH(hf_kommune[[#Headers],[2026]],Table11[#Headers],0))","v":467},{"$f":"INDEX(Table11[],MATCH(TEXT(hf_kommune[[#This Row],[Kommunenr]],\"0\"),Table11[Nr],0),MATCH(hf_kommune[[#Headers],[2027]],Table11[#Headers],0))","v":449},{"$f":"INDEX(Table11[],MATCH(TEXT(hf_kommune[[#This Row],[Kommunenr]],\"0\"),Table11[Nr],0),MATCH(hf_kommune[[#Headers],[2028]],Table11[#Headers],0))","v":452},{"$f":"INDEX(Table11[],MATCH(TEXT(hf_kommune[[#This Row],[Kommunenr]],\"0\"),Table11[Nr],0),MATCH(hf_kommune[[#Headers],[2029]],Table11[#Headers],0))","v":471},{"$f":"INDEX(Table11[],MATCH(TEXT(hf_kommune[[#This Row],[Kommunenr]],\"0\"),Table11[Nr],0),MATCH(hf_kommune[[#Headers],[2030]],Table11[#Headers],0))","v":424},{"$f":"INDEX(Table11[],MATCH(TEXT(hf_kommune[[#This Row],[Kommunenr]],\"0\"),Table11[Nr],0),MATCH(hf_kommune[[#Headers],[2031]],Table11[#Headers],0))","v":447},{"$f":"INDEX(Table11[],MATCH(TEXT(hf_kommune[[#This Row],[Kommunenr]],\"0\"),Table11[Nr],0),MATCH(hf_kommune[[#Headers],[2032]],Table11[#Headers],0))","v":418},{"$f":"INDEX(Table11[],MATCH(TEXT(hf_kommune[[#This Row],[Kommunenr]],\"0\"),Table11[Nr],0),MATCH(hf_kommune[[#Headers],[2033]],Table11[#Headers],0))","v":408},{"$f":"INDEX(Table11[],MATCH(TEXT(hf_kommune[[#This Row],[Kommunenr]],\"0\"),Table11[Nr],0),MATCH(hf_kommune[[#Headers],[2034]],Table11[#Headers],0))","v":417},{"$f":"INDEX(Table11[],MATCH(TEXT(hf_kommune[[#This Row],[Kommunenr]],\"0\"),Table11[Nr],0),MATCH(hf_kommune[[#Headers],[2035]],Table11[#Headers],0))","v":424},{"$f":"INDEX(Table11[],MATCH(TEXT(hf_kommune[[#This Row],[Kommunenr]],\"0\"),Table11[Nr],0),MATCH(hf_kommune[[#Headers],[2036]],Table11[#Headers],0))","v":448},{"$f":"INDEX(Table11[],MATCH(TEXT(hf_kommune[[#This Row],[Kommunenr]],\"0\"),Table11[Nr],0),MATCH(hf_kommune[[#Headers],[2037]],Table11[#Headers],0))","v":407},{"$f":"INDEX(Table11[],MATCH(TEXT(hf_kommune[[#This Row],[Kommunenr]],\"0\"),Table11[Nr],0),MATCH(hf_kommune[[#Headers],[2038]],Table11[#Headers],0))","v":422},{"$f":"INDEX(Table11[],MATCH(TEXT(hf_kommune[[#This Row],[Kommunenr]],\"0\"),Table11[Nr],0),MATCH(hf_kommune[[#Headers],[2039]],Table11[#Headers],0))","v":430},{"$f":"INDEX(Table11[],MATCH(TEXT(hf_kommune[[#This Row],[Kommunenr]],\"0\"),Table11[Nr],0),MATCH(hf_kommune[[#Headers],[2040]],Table11[#Headers],0))","v":423},30863,30990,31117,31246,31376,31505,31633,31759,31883,32005,32125,32242,32359,32475,32590,32703,32811,32914,33013]
[3411,"Ringsaker","Helse Sør-Øst","Sykehuset Innlandet","Hamar",{"$f":"INDEX(Table11[],MATCH(TEXT(hf_kommune[[#This Row],[Kommunenr]],\"0\"),Table11[Nr],0),MATCH(hf_kommune[[#Headers],[2020]],Table11[#Headers],0))","v":508},{"$f":"INDEX(Table11[],MATCH(TEXT(hf_kommune[[#This Row],[Kommunenr]],\"0\"),Table11[Nr],0),MATCH(hf_kommune[[#Headers],[2021]],Table11[#Headers],0))","v":492},{"$f":"INDEX(Table11[],MATCH(TEXT(hf_kommune[[#This Row],[Kommunenr]],\"0\"),Table11[Nr],0),MATCH(hf_kommune[[#Headers],[2022]],Table11[#Headers],0))","v":547},{"$f":"INDEX(Table11[],MATCH(TEXT(hf_kommune[[#This Row],[Kommunenr]],\"0\"),Table11[Nr],0),MATCH(hf_kommune[[#Headers],[2023]],Table11[#Headers],0))","v":494},{"$f":"INDEX(Table11[],MATCH(TEXT(hf_kommune[[#This Row],[Kommunenr]],\"0\"),Table11[Nr],0),MATCH(hf_kommune[[#Headers],[2024]],Table11[#Headers],0))","v":524},{"$f":"INDEX(Table11[],MATCH(TEXT(hf_kommune[[#This Row],[Kommunenr]],\"0\"),Table11[Nr],0),MATCH(hf_kommune[[#Headers],[2025]],Table11[#Headers],0))","v":516},{"$f":"INDEX(Table11[],MATCH(TEXT(hf_kommune[[#This Row],[Kommunenr]],\"0\"),Table11[Nr],0),MATCH(hf_kommune[[#Headers],[2026]],Table11[#Headers],0))","v":523},{"$f":"INDEX(Table11[],MATCH(TEXT(hf_kommune[[#This Row],[Kommunenr]],\"0\"),Table11[Nr],0),MATCH(hf_kommune[[#Headers],[2027]],Table11[#Headers],0))","v":541},{"$f":"INDEX(Table11[],MATCH(TEXT(hf_kommune[[#This Row],[Kommunenr]],\"0\"),Table11[Nr],0),MATCH(hf_kommune[[#Headers],[2028]],Table11[#Headers],0))","v":517},{"$f":"INDEX(Table11[],MATCH(TEXT(hf_kommune[[#This Row],[Kommunenr]],\"0\"),Table11[Nr],0),MATCH(hf_kommune[[#Headers],[2029]],Table11[#Headers],0))","v":523},{"$f":"INDEX(Table11[],MATCH(TEXT(hf_kommune[[#This Row],[Kommunenr]],\"0\"),Table11[Nr],0),MATCH(hf_kommune[[#Headers],[2030]],Table11[#Headers],0))","v":465},{"$f":"INDEX(Table11[],MATCH(TEXT(hf_kommune[[#This Row],[Kommunenr]],\"0\"),Table11[Nr],0),MATCH(hf_kommune[[#Headers],[2031]],Table11[#Headers],0))","v":443},{"$f":"INDEX(Table11[],MATCH(TEXT(hf_kommune[[#This Row],[Kommunenr]],\"0\"),Table11[Nr],0),MATCH(hf_kommune[[#Headers],[2032]],Table11[#Headers],0))","v":466},{"$f":"INDEX(Table11[],MATCH(TEXT(hf_kommune[[#This Row],[Kommunenr]],\"0\"),Table11[Nr],0),MATCH(hf_kommune[[#Headers],[2033]],Table11[#Headers],0))","v":439},{"$f":"INDEX(Table11[],MATCH(TEXT(hf_kommune[[#This Row],[Kommunenr]],\"0\"),Table11[Nr],0),MATCH(hf_kommune[[#Headers],[2034]],Table11[#Headers],0))","v":424},{"$f":"INDEX(Table11[],MATCH(TEXT(hf_kommune[[#This Row],[Kommunenr]],\"0\"),Table11[Nr],0),MATCH(hf_kommune[[#Headers],[2035]],Table11[#Headers],0))","v":450},{"$f":"INDEX(Table11[],MATCH(TEXT(hf_kommune[[#This Row],[Kommunenr]],\"0\"),Table11[Nr],0),MATCH(hf_kommune[[#Headers],[2036]],Table11[#Headers],0))","v":459},{"$f":"INDEX(Table11[],MATCH(TEXT(hf_kommune[[#This Row],[Kommunenr]],\"0\"),Table11[Nr],0),MATCH(hf_kommune[[#Headers],[2037]],Table11[#Headers],0))","v":421},{"$f":"INDEX(Table11[],MATCH(TEXT(hf_kommune[[#This Row],[Kommunenr]],\"0\"),Table11[Nr],0),MATCH(hf_kommune[[#Headers],[2038]],Table11[#Headers],0))","v":467},{"$f":"INDEX(Table11[],MATCH(TEXT(hf_kommune[[#This Row],[Kommunenr]],\"0\"),Table11[Nr],0),MATCH(hf_kommune[[#Headers],[2039]],Table11[#Headers],0))","v":477},{"$f":"INDEX(Table11[],MATCH(TEXT(hf_kommune[[#This Row],[Kommunenr]],\"0\"),Table11[Nr],0),MATCH(hf_kommune[[#Headers],[2040]],Table11[#Headers],0))","v":457},34982,35100,35211,35315,35412,35508,35604,35699,35794,35890,35987,36084,36184,36282,36379,36472,36560,36641,36717]
[4201,"Risør","Helse Sør-Øst","Sørlandet sykehus","Arendal",{"$f":"INDEX(Table11[],MATCH(TEXT(hf_kommune[[#This Row],[Kommunenr]],\"0\"),Table11[Nr],0),MATCH(hf_kommune[[#Headers],[2020]],Table11[#Headers],0))","v":107},{"$f":"INDEX(Table11[],MATCH(TEXT(hf_kommune[[#This Row],[Kommunenr]],\"0\"),Table11[Nr],0),MATCH(hf_kommune[[#Headers],[2021]],Table11[#Headers],0))","v":107},{"$f":"INDEX(Table11[],MATCH(TEXT(hf_kommune[[#This Row],[Kommunenr]],\"0\"),Table11[Nr],0),MATCH(hf_kommune[[#Headers],[2022]],Table11[#Headers],0))","v":100},{"$f":"INDEX(Table11[],MATCH(TEXT(hf_kommune[[#This Row],[Kommunenr]],\"0\"),Table11[Nr],0),MATCH(hf_kommune[[#Headers],[2023]],Table11[#Headers],0))","v":94},{"$f":"INDEX(Table11[],MATCH(TEXT(hf_kommune[[#This Row],[Kommunenr]],\"0\"),Table11[Nr],0),MATCH(hf_kommune[[#Headers],[2024]],Table11[#Headers],0))","v":83},{"$f":"INDEX(Table11[],MATCH(TEXT(hf_kommune[[#This Row],[Kommunenr]],\"0\"),Table11[Nr],0),MATCH(hf_kommune[[#Headers],[2025]],Table11[#Headers],0))","v":106},{"$f":"INDEX(Table11[],MATCH(TEXT(hf_kommune[[#This Row],[Kommunenr]],\"0\"),Table11[Nr],0),MATCH(hf_kommune[[#Headers],[2026]],Table11[#Headers],0))","v":97},{"$f":"INDEX(Table11[],MATCH(TEXT(hf_kommune[[#This Row],[Kommunenr]],\"0\"),Table11[Nr],0),MATCH(hf_kommune[[#Headers],[2027]],Table11[#Headers],0))","v":126},{"$f":"INDEX(Table11[],MATCH(TEXT(hf_kommune[[#This Row],[Kommunenr]],\"0\"),Table11[Nr],0),MATCH(hf_kommune[[#Headers],[2028]],Table11[#Headers],0))","v":109},{"$f":"INDEX(Table11[],MATCH(TEXT(hf_kommune[[#This Row],[Kommunenr]],\"0\"),Table11[Nr],0),MATCH(hf_kommune[[#Headers],[2029]],Table11[#Headers],0))","v":110},{"$f":"INDEX(Table11[],MATCH(TEXT(hf_kommune[[#This Row],[Kommunenr]],\"0\"),Table11[Nr],0),MATCH(hf_kommune[[#Headers],[2030]],Table11[#Headers],0))","v":104},{"$f":"INDEX(Table11[],MATCH(TEXT(hf_kommune[[#This Row],[Kommunenr]],\"0\"),Table11[Nr],0),MATCH(hf_kommune[[#Headers],[2031]],Table11[#Headers],0))","v":98},{"$f":"INDEX(Table11[],MATCH(TEXT(hf_kommune[[#This Row],[Kommunenr]],\"0\"),Table11[Nr],0),MATCH(hf_kommune[[#Headers],[2032]],Table11[#Headers],0))","v":101},{"$f":"INDEX(Table11[],MATCH(TEXT(hf_kommune[[#This Row],[Kommunenr]],\"0\"),Table11[Nr],0),MATCH(hf_kommune[[#Headers],[2033]],Table11[#Headers],0))","v":90},{"$f":"INDEX(Table11[],MATCH(TEXT(hf_kommune[[#This Row],[Kommunenr]],\"0\"),Table11[Nr],0),MATCH(hf_kommune[[#Headers],[2034]],Table11[#Headers],0))","v":80},{"$f":"INDEX(Table11[],MATCH(TEXT(hf_kommune[[#This Row],[Kommunenr]],\"0\"),Table11[Nr],0),MATCH(hf_kommune[[#Headers],[2035]],Table11[#Headers],0))","v":88},{"$f":"INDEX(Table11[],MATCH(TEXT(hf_kommune[[#This Row],[Kommunenr]],\"0\"),Table11[Nr],0),MATCH(hf_kommune[[#Headers],[2036]],Table11[#Headers],0))","v":75},{"$f":"INDEX(Table11[],MATCH(TEXT(hf_kommune[[#This Row],[Kommunenr]],\"0\"),Table11[Nr],0),MATCH(hf_kommune[[#Headers],[2037]],Table11[#Headers],0))","v":78},{"$f":"INDEX(Table11[],MATCH(TEXT(hf_kommune[[#This Row],[Kommunenr]],\"0\"),Table11[Nr],0),MATCH(hf_kommune[[#Headers],[2038]],Table11[#Headers],0))","v":84},{"$f":"INDEX(Table11[],MATCH(TEXT(hf_kommune[[#This Row],[Kommunenr]],\"0\"),Table11[Nr],0),MATCH(hf_kommune[[#Headers],[2039]],Table11[#Headers],0))","v":87},{"$f":"INDEX(Table11[],MATCH(TEXT(hf_kommune[[#This Row],[Kommunenr]],\"0\"),Table11[Nr],0),MATCH(hf_kommune[[#Headers],[2040]],Table11[#Headers],0))","v":86},6758,6741,6727,6717,6712,6708,6707,6707,6707,6709,6711,6714,6717,6720,6723,6726,6729,6731,6732]
[3051,"Rollag","Helse Sør-Øst","Vestre Viken","Kongsberg",{"$f":"INDEX(Table11[],MATCH(TEXT(hf_kommune[[#This Row],[Kommunenr]],\"0\"),Table11[Nr],0),MATCH(hf_kommune[[#Headers],[2020]],Table11[#Headers],0))","v":17},{"$f":"INDEX(Table11[],MATCH(TEXT(hf_kommune[[#This Row],[Kommunenr]],\"0\"),Table11[Nr],0),MATCH(hf_kommune[[#Headers],[2021]],Table11[#Headers],0))","v":20},{"$f":"INDEX(Table11[],MATCH(TEXT(hf_kommune[[#This Row],[Kommunenr]],\"0\"),Table11[Nr],0),MATCH(hf_kommune[[#Headers],[2022]],Table11[#Headers],0))","v":15},{"$f":"INDEX(Table11[],MATCH(TEXT(hf_kommune[[#This Row],[Kommunenr]],\"0\"),Table11[Nr],0),MATCH(hf_kommune[[#Headers],[2023]],Table11[#Headers],0))","v":15},{"$f":"INDEX(Table11[],MATCH(TEXT(hf_kommune[[#This Row],[Kommunenr]],\"0\"),Table11[Nr],0),MATCH(hf_kommune[[#Headers],[2024]],Table11[#Headers],0))","v":21},{"$f":"INDEX(Table11[],MATCH(TEXT(hf_kommune[[#This Row],[Kommunenr]],\"0\"),Table11[Nr],0),MATCH(hf_kommune[[#Headers],[2025]],Table11[#Headers],0))","v":21},{"$f":"INDEX(Table11[],MATCH(TEXT(hf_kommune[[#This Row],[Kommunenr]],\"0\"),Table11[Nr],0),MATCH(hf_kommune[[#Headers],[2026]],Table11[#Headers],0))","v":22},{"$f":"INDEX(Table11[],MATCH(TEXT(hf_kommune[[#This Row],[Kommunenr]],\"0\"),Table11[Nr],0),MATCH(hf_kommune[[#Headers],[2027]],Table11[#Headers],0))","v":19},{"$f":"INDEX(Table11[],MATCH(TEXT(hf_kommune[[#This Row],[Kommunenr]],\"0\"),Table11[Nr],0),MATCH(hf_kommune[[#Headers],[2028]],Table11[#Headers],0))","v":16},{"$f":"INDEX(Table11[],MATCH(TEXT(hf_kommune[[#This Row],[Kommunenr]],\"0\"),Table11[Nr],0),MATCH(hf_kommune[[#Headers],[2029]],Table11[#Headers],0))","v":25},{"$f":"INDEX(Table11[],MATCH(TEXT(hf_kommune[[#This Row],[Kommunenr]],\"0\"),Table11[Nr],0),MATCH(hf_kommune[[#Headers],[2030]],Table11[#Headers],0))","v":18},{"$f":"INDEX(Table11[],MATCH(TEXT(hf_kommune[[#This Row],[Kommunenr]],\"0\"),Table11[Nr],0),MATCH(hf_kommune[[#Headers],[2031]],Table11[#Headers],0))","v":19},{"$f":"INDEX(Table11[],MATCH(TEXT(hf_kommune[[#This Row],[Kommunenr]],\"0\"),Table11[Nr],0),MATCH(hf_kommune[[#Headers],[2032]],Table11[#Headers],0))","v":10},{"$f":"INDEX(Table11[],MATCH(TEXT(hf_kommune[[#This Row],[Kommunenr]],\"0\"),Table11[Nr],0),MATCH(hf_kommune[[#Headers],[2033]],Table11[#Headers],0))","v":15},{"$f":"INDEX(Table11[],MATCH(TEXT(hf_kommune[[#This Row],[Kommunenr]],\"0\"),Table11[Nr],0),MATCH(hf_kommune[[#Headers],[2034]],Table11[#Headers],0))","v":15},{"$f":"INDEX(Table11[],MATCH(TEXT(hf_kommune[[#This Row],[Kommunenr]],\"0\"),Table11[Nr],0),MATCH(hf_kommune[[#Headers],[2035]],Table11[#Headers],0))","v":13},{"$f":"INDEX(Table11[],MATCH(TEXT(hf_kommune[[#This Row],[Kommunenr]],\"0\"),Table11[Nr],0),MATCH(hf_kommune[[#Headers],[2036]],Table11[#Headers],0))","v":16},{"$f":"INDEX(Table11[],MATCH(TEXT(hf_kommune[[#This Row],[Kommunenr]],\"0\"),Table11[Nr],0),MATCH(hf_kommune[[#Headers],[2037]],Table11[#Headers],0))","v":14},{"$f":"INDEX(Table11[],MATCH(TEXT(hf_kommune[[#This Row],[Kommunenr]],\"0\"),Table11[Nr],0),MATCH(hf_kommune[[#Headers],[2038]],Table11[#Headers],0))","v":20},{"$f":"INDEX(Table11[],MATCH(TEXT(hf_kommune[[#This Row],[Kommunenr]],\"0\"),Table11[Nr],0),MATCH(hf_kommune[[#Headers],[2039]],Table11[#Headers],0))","v":18},{"$f":"INDEX(Table11[],MATCH(TEXT(hf_kommune[[#This Row],[Kommunenr]],\"0\"),Table11[Nr],0),MATCH(hf_kommune[[#Headers],[2040]],Table11[#Headers],0))","v":17},1389,1389,1390,1391,1394,1396,1399,1403,1407,1411,1415,1419,1422,1425,1427,1429,1430,1431,1432]
[3027,"Rælingen","Helse Sør-Øst","Akershus universitetssykehus","Ahus",{"$f":"INDEX(Table11[],MATCH(TEXT(hf_kommune[[#This Row],[Kommunenr]],\"0\"),Table11[Nr],0),MATCH(hf_kommune[[#Headers],[2020]],Table11[#Headers],0))","v":229},{"$f":"INDEX(Table11[],MATCH(TEXT(hf_kommune[[#This Row],[Kommunenr]],\"0\"),Table11[Nr],0),MATCH(hf_kommune[[#Headers],[2021]],Table11[#Headers],0))","v":252},{"$f":"INDEX(Table11[],MATCH(TEXT(hf_kommune[[#This Row],[Kommunenr]],\"0\"),Table11[Nr],0),MATCH(hf_kommune[[#Headers],[2022]],Table11[#Headers],0))","v":258},{"$f":"INDEX(Table11[],MATCH(TEXT(hf_kommune[[#This Row],[Kommunenr]],\"0\"),Table11[Nr],0),MATCH(hf_kommune[[#Headers],[2023]],Table11[#Headers],0))","v":248},{"$f":"INDEX(Table11[],MATCH(TEXT(hf_kommune[[#This Row],[Kommunenr]],\"0\"),Table11[Nr],0),MATCH(hf_kommune[[#Headers],[2024]],Table11[#Headers],0))","v":269},{"$f":"INDEX(Table11[],MATCH(TEXT(hf_kommune[[#This Row],[Kommunenr]],\"0\"),Table11[Nr],0),MATCH(hf_kommune[[#Headers],[2025]],Table11[#Headers],0))","v":300},{"$f":"INDEX(Table11[],MATCH(TEXT(hf_kommune[[#This Row],[Kommunenr]],\"0\"),Table11[Nr],0),MATCH(hf_kommune[[#Headers],[2026]],Table11[#Headers],0))","v":260},{"$f":"INDEX(Table11[],MATCH(TEXT(hf_kommune[[#This Row],[Kommunenr]],\"0\"),Table11[Nr],0),MATCH(hf_kommune[[#Headers],[2027]],Table11[#Headers],0))","v":255},{"$f":"INDEX(Table11[],MATCH(TEXT(hf_kommune[[#This Row],[Kommunenr]],\"0\"),Table11[Nr],0),MATCH(hf_kommune[[#Headers],[2028]],Table11[#Headers],0))","v":271},{"$f":"INDEX(Table11[],MATCH(TEXT(hf_kommune[[#This Row],[Kommunenr]],\"0\"),Table11[Nr],0),MATCH(hf_kommune[[#Headers],[2029]],Table11[#Headers],0))","v":274},{"$f":"INDEX(Table11[],MATCH(TEXT(hf_kommune[[#This Row],[Kommunenr]],\"0\"),Table11[Nr],0),MATCH(hf_kommune[[#Headers],[2030]],Table11[#Headers],0))","v":289},{"$f":"INDEX(Table11[],MATCH(TEXT(hf_kommune[[#This Row],[Kommunenr]],\"0\"),Table11[Nr],0),MATCH(hf_kommune[[#Headers],[2031]],Table11[#Headers],0))","v":302},{"$f":"INDEX(Table11[],MATCH(TEXT(hf_kommune[[#This Row],[Kommunenr]],\"0\"),Table11[Nr],0),MATCH(hf_kommune[[#Headers],[2032]],Table11[#Headers],0))","v":263},{"$f":"INDEX(Table11[],MATCH(TEXT(hf_kommune[[#This Row],[Kommunenr]],\"0\"),Table11[Nr],0),MATCH(hf_kommune[[#Headers],[2033]],Table11[#Headers],0))","v":254},{"$f":"INDEX(Table11[],MATCH(TEXT(hf_kommune[[#This Row],[Kommunenr]],\"0\"),Table11[Nr],0),MATCH(hf_kommune[[#Headers],[2034]],Table11[#Headers],0))","v":279},{"$f":"INDEX(Table11[],MATCH(TEXT(hf_kommune[[#This Row],[Kommunenr]],\"0\"),Table11[Nr],0),MATCH(hf_kommune[[#Headers],[2035]],Table11[#Headers],0))","v":269},{"$f":"INDEX(Table11[],MATCH(TEXT(hf_kommune[[#This Row],[Kommunenr]],\"0\"),Table11[Nr],0),MATCH(hf_kommune[[#Headers],[2036]],Table11[#Headers],0))","v":292},{"$f":"INDEX(Table11[],MATCH(TEXT(hf_kommune[[#This Row],[Kommunenr]],\"0\"),Table11[Nr],0),MATCH(hf_kommune[[#Headers],[2037]],Table11[#Headers],0))","v":297},{"$f":"INDEX(Table11[],MATCH(TEXT(hf_kommune[[#This Row],[Kommunenr]],\"0\"),Table11[Nr],0),MATCH(hf_kommune[[#Headers],[2038]],Table11[#Headers],0))","v":306},{"$f":"INDEX(Table11[],MATCH(TEXT(hf_kommune[[#This Row],[Kommunenr]],\"0\"),Table11[Nr],0),MATCH(hf_kommune[[#Headers],[2039]],Table11[#Headers],0))","v":294},{"$f":"INDEX(Table11[],MATCH(TEXT(hf_kommune[[#This Row],[Kommunenr]],\"0\"),Table11[Nr],0),MATCH(hf_kommune[[#Headers],[2040]],Table11[#Headers],0))","v":302},19388,19748,20052,20304,20509,20705,20892,21071,21243,21408,21566,21718,21865,22009,22150,22287,22420,22548,22672]
[1836,"Rødøy","Helse Nord","Helgelandssykehuset","Mo i Rana",{"$f":"INDEX(Table11[],MATCH(TEXT(hf_kommune[[#This Row],[Kommunenr]],\"0\"),Table11[Nr],0),MATCH(hf_kommune[[#Headers],[2020]],Table11[#Headers],0))","v":15},{"$f":"INDEX(Table11[],MATCH(TEXT(hf_kommune[[#This Row],[Kommunenr]],\"0\"),Table11[Nr],0),MATCH(hf_kommune[[#Headers],[2021]],Table11[#Headers],0))","v":12},{"$f":"INDEX(Table11[],MATCH(TEXT(hf_kommune[[#This Row],[Kommunenr]],\"0\"),Table11[Nr],0),MATCH(hf_kommune[[#Headers],[2022]],Table11[#Headers],0))","v":15},{"$f":"INDEX(Table11[],MATCH(TEXT(hf_kommune[[#This Row],[Kommunenr]],\"0\"),Table11[Nr],0),MATCH(hf_kommune[[#Headers],[2023]],Table11[#Headers],0))","v":16},{"$f":"INDEX(Table11[],MATCH(TEXT(hf_kommune[[#This Row],[Kommunenr]],\"0\"),Table11[Nr],0),MATCH(hf_kommune[[#Headers],[2024]],Table11[#Headers],0))","v":11},{"$f":"INDEX(Table11[],MATCH(TEXT(hf_kommune[[#This Row],[Kommunenr]],\"0\"),Table11[Nr],0),MATCH(hf_kommune[[#Headers],[2025]],Table11[#Headers],0))","v":19},{"$f":"INDEX(Table11[],MATCH(TEXT(hf_kommune[[#This Row],[Kommunenr]],\"0\"),Table11[Nr],0),MATCH(hf_kommune[[#Headers],[2026]],Table11[#Headers],0))","v":25},{"$f":"INDEX(Table11[],MATCH(TEXT(hf_kommune[[#This Row],[Kommunenr]],\"0\"),Table11[Nr],0),MATCH(hf_kommune[[#Headers],[2027]],Table11[#Headers],0))","v":22},{"$f":"INDEX(Table11[],MATCH(TEXT(hf_kommune[[#This Row],[Kommunenr]],\"0\"),Table11[Nr],0),MATCH(hf_kommune[[#Headers],[2028]],Table11[#Headers],0))","v":17},{"$f":"INDEX(Table11[],MATCH(TEXT(hf_kommune[[#This Row],[Kommunenr]],\"0\"),Table11[Nr],0),MATCH(hf_kommune[[#Headers],[2029]],Table11[#Headers],0))","v":17},{"$f":"INDEX(Table11[],MATCH(TEXT(hf_kommune[[#This Row],[Kommunenr]],\"0\"),Table11[Nr],0),MATCH(hf_kommune[[#Headers],[2030]],Table11[#Headers],0))","v":12},{"$f":"INDEX(Table11[],MATCH(TEXT(hf_kommune[[#This Row],[Kommunenr]],\"0\"),Table11[Nr],0),MATCH(hf_kommune[[#Headers],[2031]],Table11[#Headers],0))","v":10},{"$f":"INDEX(Table11[],MATCH(TEXT(hf_kommune[[#This Row],[Kommunenr]],\"0\"),Table11[Nr],0),MATCH(hf_kommune[[#Headers],[2032]],Table11[#Headers],0))","v":14},{"$f":"INDEX(Table11[],MATCH(TEXT(hf_kommune[[#This Row],[Kommunenr]],\"0\"),Table11[Nr],0),MATCH(hf_kommune[[#Headers],[2033]],Table11[#Headers],0))","v":8},{"$f":"INDEX(Table11[],MATCH(TEXT(hf_kommune[[#This Row],[Kommunenr]],\"0\"),Table11[Nr],0),MATCH(hf_kommune[[#Headers],[2034]],Table11[#Headers],0))","v":10},{"$f":"INDEX(Table11[],MATCH(TEXT(hf_kommune[[#This Row],[Kommunenr]],\"0\"),Table11[Nr],0),MATCH(hf_kommune[[#Headers],[2035]],Table11[#Headers],0))","v":10},{"$f":"INDEX(Table11[],MATCH(TEXT(hf_kommune[[#This Row],[Kommunenr]],\"0\"),Table11[Nr],0),MATCH(hf_kommune[[#Headers],[2036]],Table11[#Headers],0))","v":13},{"$f":"INDEX(Table11[],MATCH(TEXT(hf_kommune[[#This Row],[Kommunenr]],\"0\"),Table11[Nr],0),MATCH(hf_kommune[[#Headers],[2037]],Table11[#Headers],0))","v":8},{"$f":"INDEX(Table11[],MATCH(TEXT(hf_kommune[[#This Row],[Kommunenr]],\"0\"),Table11[Nr],0),MATCH(hf_kommune[[#Headers],[2038]],Table11[#Headers],0))","v":13},{"$f":"INDEX(Table11[],MATCH(TEXT(hf_kommune[[#This Row],[Kommunenr]],\"0\"),Table11[Nr],0),MATCH(hf_kommune[[#Headers],[2039]],Table11[#Headers],0))","v":12},{"$f":"INDEX(Table11[],MATCH(TEXT(hf_kommune[[#This Row],[Kommunenr]],\"0\"),Table11[Nr],0),MATCH(hf_kommune[[#Headers],[2040]],Table11[#Headers],0))","v":13},1181,1169,1161,1156,1155,1154,1153,1153,1153,1153,1153,1152,1151,1150,1148,1147,1146,1144,1143]
[5025,"Røros","Helse Midt-Norge","St. Olavs hospital","St. Olav - Øya",{"$f":"INDEX(Table11[],MATCH(TEXT(hf_kommune[[#This Row],[Kommunenr]],\"0\"),Table11[Nr],0),MATCH(hf_kommune[[#Headers],[2020]],Table11[#Headers],0))","v":64},{"$f":"INDEX(Table11[],MATCH(TEXT(hf_kommune[[#This Row],[Kommunenr]],\"0\"),Table11[Nr],0),MATCH(hf_kommune[[#Headers],[2021]],Table11[#Headers],0))","v":84},{"$f":"INDEX(Table11[],MATCH(TEXT(hf_kommune[[#This Row],[Kommunenr]],\"0\"),Table11[Nr],0),MATCH(hf_kommune[[#Headers],[2022]],Table11[#Headers],0))","v":83},{"$f":"INDEX(Table11[],MATCH(TEXT(hf_kommune[[#This Row],[Kommunenr]],\"0\"),Table11[Nr],0),MATCH(hf_kommune[[#Headers],[2023]],Table11[#Headers],0))","v":72},{"$f":"INDEX(Table11[],MATCH(TEXT(hf_kommune[[#This Row],[Kommunenr]],\"0\"),Table11[Nr],0),MATCH(hf_kommune[[#Headers],[2024]],Table11[#Headers],0))","v":86},{"$f":"INDEX(Table11[],MATCH(TEXT(hf_kommune[[#This Row],[Kommunenr]],\"0\"),Table11[Nr],0),MATCH(hf_kommune[[#Headers],[2025]],Table11[#Headers],0))","v":88},{"$f":"INDEX(Table11[],MATCH(TEXT(hf_kommune[[#This Row],[Kommunenr]],\"0\"),Table11[Nr],0),MATCH(hf_kommune[[#Headers],[2026]],Table11[#Headers],0))","v":65},{"$f":"INDEX(Table11[],MATCH(TEXT(hf_kommune[[#This Row],[Kommunenr]],\"0\"),Table11[Nr],0),MATCH(hf_kommune[[#Headers],[2027]],Table11[#Headers],0))","v":91},{"$f":"INDEX(Table11[],MATCH(TEXT(hf_kommune[[#This Row],[Kommunenr]],\"0\"),Table11[Nr],0),MATCH(hf_kommune[[#Headers],[2028]],Table11[#Headers],0))","v":74},{"$f":"INDEX(Table11[],MATCH(TEXT(hf_kommune[[#This Row],[Kommunenr]],\"0\"),Table11[Nr],0),MATCH(hf_kommune[[#Headers],[2029]],Table11[#Headers],0))","v":74},{"$f":"INDEX(Table11[],MATCH(TEXT(hf_kommune[[#This Row],[Kommunenr]],\"0\"),Table11[Nr],0),MATCH(hf_kommune[[#Headers],[2030]],Table11[#Headers],0))","v":89},{"$f":"INDEX(Table11[],MATCH(TEXT(hf_kommune[[#This Row],[Kommunenr]],\"0\"),Table11[Nr],0),MATCH(hf_kommune[[#Headers],[2031]],Table11[#Headers],0))","v":68},{"$f":"INDEX(Table11[],MATCH(TEXT(hf_kommune[[#This Row],[Kommunenr]],\"0\"),Table11[Nr],0),MATCH(hf_kommune[[#Headers],[2032]],Table11[#Headers],0))","v":76},{"$f":"INDEX(Table11[],MATCH(TEXT(hf_kommune[[#This Row],[Kommunenr]],\"0\"),Table11[Nr],0),MATCH(hf_kommune[[#Headers],[2033]],Table11[#Headers],0))","v":62},{"$f":"INDEX(Table11[],MATCH(TEXT(hf_kommune[[#This Row],[Kommunenr]],\"0\"),Table11[Nr],0),MATCH(hf_kommune[[#Headers],[2034]],Table11[#Headers],0))","v":68},{"$f":"INDEX(Table11[],MATCH(TEXT(hf_kommune[[#This Row],[Kommunenr]],\"0\"),Table11[Nr],0),MATCH(hf_kommune[[#Headers],[2035]],Table11[#Headers],0))","v":71},{"$f":"INDEX(Table11[],MATCH(TEXT(hf_kommune[[#This Row],[Kommunenr]],\"0\"),Table11[Nr],0),MATCH(hf_kommune[[#Headers],[2036]],Table11[#Headers],0))","v":73},{"$f":"INDEX(Table11[],MATCH(TEXT(hf_kommune[[#This Row],[Kommunenr]],\"0\"),Table11[Nr],0),MATCH(hf_kommune[[#Headers],[2037]],Table11[#Headers],0))","v":70},{"$f":"INDEX(Table11[],MATCH(TEXT(hf_kommune[[#This Row],[Kommunenr]],\"0\"),Table11[Nr],0),MATCH(hf_kommune[[#Headers],[2038]],Table11[#Headers],0))","v":75},{"$f":"INDEX(Table11[],MATCH(TEXT(hf_kommune[[#This Row],[Kommunenr]],\"0\"),Table11[Nr],0),MATCH(hf_kommune[[#Headers],[2039]],Table11[#Headers],0))","v":70},{"$f":"INDEX(Table11[],MATCH(TEXT(hf_kommune[[#This Row],[Kommunenr]],\"0\"),Table11[Nr],0),MATCH(hf_kommune[[#Headers],[2040]],Table11[#Headers],0))","v":71},5603,5617,5631,5645,5659,5672,5686,5700,5714,5727,5740,5753,5765,5776,5787,5796,5805,5812,5819]
[1856,"Røst","Helse Nord","Nordlandssykehuset","Bodø",{"$f":"INDEX(Table11[],MATCH(TEXT(hf_kommune[[#This Row],[Kommunenr]],\"0\"),Table11[Nr],0),MATCH(hf_kommune[[#Headers],[2020]],Table11[#Headers],0))","v":9},{"$f":"INDEX(Table11[],MATCH(TEXT(hf_kommune[[#This Row],[Kommunenr]],\"0\"),Table11[Nr],0),MATCH(hf_kommune[[#Headers],[2021]],Table11[#Headers],0))","v":13},{"$f":"INDEX(Table11[],MATCH(TEXT(hf_kommune[[#This Row],[Kommunenr]],\"0\"),Table11[Nr],0),MATCH(hf_kommune[[#Headers],[2022]],Table11[#Headers],0))","v":8},{"$f":"INDEX(Table11[],MATCH(TEXT(hf_kommune[[#This Row],[Kommunenr]],\"0\"),Table11[Nr],0),MATCH(hf_kommune[[#Headers],[2023]],Table11[#Headers],0))","v":6},{"$f":"INDEX(Table11[],MATCH(TEXT(hf_kommune[[#This Row],[Kommunenr]],\"0\"),Table11[Nr],0),MATCH(hf_kommune[[#Headers],[2024]],Table11[#Headers],0))","v":8},{"$f":"INDEX(Table11[],MATCH(TEXT(hf_kommune[[#This Row],[Kommunenr]],\"0\"),Table11[Nr],0),MATCH(hf_kommune[[#Headers],[2025]],Table11[#Headers],0))","v":7},{"$f":"INDEX(Table11[],MATCH(TEXT(hf_kommune[[#This Row],[Kommunenr]],\"0\"),Table11[Nr],0),MATCH(hf_kommune[[#Headers],[2026]],Table11[#Headers],0))","v":5},{"$f":"INDEX(Table11[],MATCH(TEXT(hf_kommune[[#This Row],[Kommunenr]],\"0\"),Table11[Nr],0),MATCH(hf_kommune[[#Headers],[2027]],Table11[#Headers],0))","v":10},{"$f":"INDEX(Table11[],MATCH(TEXT(hf_kommune[[#This Row],[Kommunenr]],\"0\"),Table11[Nr],0),MATCH(hf_kommune[[#Headers],[2028]],Table11[#Headers],0))","v":10},{"$f":"INDEX(Table11[],MATCH(TEXT(hf_kommune[[#This Row],[Kommunenr]],\"0\"),Table11[Nr],0),MATCH(hf_kommune[[#Headers],[2029]],Table11[#Headers],0))","v":8},{"$f":"INDEX(Table11[],MATCH(TEXT(hf_kommune[[#This Row],[Kommunenr]],\"0\"),Table11[Nr],0),MATCH(hf_kommune[[#Headers],[2030]],Table11[#Headers],0))","v":9},{"$f":"INDEX(Table11[],MATCH(TEXT(hf_kommune[[#This Row],[Kommunenr]],\"0\"),Table11[Nr],0),MATCH(hf_kommune[[#Headers],[2031]],Table11[#Headers],0))","v":3},{"$f":"INDEX(Table11[],MATCH(TEXT(hf_kommune[[#This Row],[Kommunenr]],\"0\"),Table11[Nr],0),MATCH(hf_kommune[[#Headers],[2032]],Table11[#Headers],0))","v":4},{"$f":"INDEX(Table11[],MATCH(TEXT(hf_kommune[[#This Row],[Kommunenr]],\"0\"),Table11[Nr],0),MATCH(hf_kommune[[#Headers],[2033]],Table11[#Headers],0))","v":4},{"$f":"INDEX(Table11[],MATCH(TEXT(hf_kommune[[#This Row],[Kommunenr]],\"0\"),Table11[Nr],0),MATCH(hf_kommune[[#Headers],[2034]],Table11[#Headers],0))","v":5},{"$f":"INDEX(Table11[],MATCH(TEXT(hf_kommune[[#This Row],[Kommunenr]],\"0\"),Table11[Nr],0),MATCH(hf_kommune[[#Headers],[2035]],Table11[#Headers],0))","v":5},{"$f":"INDEX(Table11[],MATCH(TEXT(hf_kommune[[#This Row],[Kommunenr]],\"0\"),Table11[Nr],0),MATCH(hf_kommune[[#Headers],[2036]],Table11[#Headers],0))","v":5},{"$f":"INDEX(Table11[],MATCH(TEXT(hf_kommune[[#This Row],[Kommunenr]],\"0\"),Table11[Nr],0),MATCH(hf_kommune[[#Headers],[2037]],Table11[#Headers],0))","v":5},{"$f":"INDEX(Table11[],MATCH(TEXT(hf_kommune[[#This Row],[Kommunenr]],\"0\"),Table11[Nr],0),MATCH(hf_kommune[[#Headers],[2038]],Table11[#Headers],0))","v":6},{"$f":"INDEX(Table11[],MATCH(TEXT(hf_kommune[[#This Row],[Kommunenr]],\"0\"),Table11[Nr],0),MATCH(hf_kommune[[#Headers],[2039]],Table11[#Headers],0))","v":4},{"$f":"INDEX(Table11[],MATCH(TEXT(hf_kommune[[#This Row],[Kommunenr]],\"0\"),Table11[Nr],0),MATCH(hf_kommune[[#Headers],[2040]],Table11[#Headers],0))","v":2},490,486,482,479,476,473,470,468,466,465,463,462,461,460,459,458,458,457,456]
[3017,"Råde","Helse Sør-Øst","Sykehuset Østfold","Kalnes",{"$f":"INDEX(Table11[],MATCH(TEXT(hf_kommune[[#This Row],[Kommunenr]],\"0\"),Table11[Nr],0),MATCH(hf_kommune[[#Headers],[2020]],Table11[#Headers],0))","v":106},{"$f":"INDEX(Table11[],MATCH(TEXT(hf_kommune[[#This Row],[Kommunenr]],\"0\"),Table11[Nr],0),MATCH(hf_kommune[[#Headers],[2021]],Table11[#Headers],0))","v":111},{"$f":"INDEX(Table11[],MATCH(TEXT(hf_kommune[[#This Row],[Kommunenr]],\"0\"),Table11[Nr],0),MATCH(hf_kommune[[#Headers],[2022]],Table11[#Headers],0))","v":107},{"$f":"INDEX(Table11[],MATCH(TEXT(hf_kommune[[#This Row],[Kommunenr]],\"0\"),Table11[Nr],0),MATCH(hf_kommune[[#Headers],[2023]],Table11[#Headers],0))","v":93},{"$f":"INDEX(Table11[],MATCH(TEXT(hf_kommune[[#This Row],[Kommunenr]],\"0\"),Table11[Nr],0),MATCH(hf_kommune[[#Headers],[2024]],Table11[#Headers],0))","v":116},{"$f":"INDEX(Table11[],MATCH(TEXT(hf_kommune[[#This Row],[Kommunenr]],\"0\"),Table11[Nr],0),MATCH(hf_kommune[[#Headers],[2025]],Table11[#Headers],0))","v":115},{"$f":"INDEX(Table11[],MATCH(TEXT(hf_kommune[[#This Row],[Kommunenr]],\"0\"),Table11[Nr],0),MATCH(hf_kommune[[#Headers],[2026]],Table11[#Headers],0))","v":126},{"$f":"INDEX(Table11[],MATCH(TEXT(hf_kommune[[#This Row],[Kommunenr]],\"0\"),Table11[Nr],0),MATCH(hf_kommune[[#Headers],[2027]],Table11[#Headers],0))","v":131},{"$f":"INDEX(Table11[],MATCH(TEXT(hf_kommune[[#This Row],[Kommunenr]],\"0\"),Table11[Nr],0),MATCH(hf_kommune[[#Headers],[2028]],Table11[#Headers],0))","v":123},{"$f":"INDEX(Table11[],MATCH(TEXT(hf_kommune[[#This Row],[Kommunenr]],\"0\"),Table11[Nr],0),MATCH(hf_kommune[[#Headers],[2029]],Table11[#Headers],0))","v":120},{"$f":"INDEX(Table11[],MATCH(TEXT(hf_kommune[[#This Row],[Kommunenr]],\"0\"),Table11[Nr],0),MATCH(hf_kommune[[#Headers],[2030]],Table11[#Headers],0))","v":129},{"$f":"INDEX(Table11[],MATCH(TEXT(hf_kommune[[#This Row],[Kommunenr]],\"0\"),Table11[Nr],0),MATCH(hf_kommune[[#Headers],[2031]],Table11[#Headers],0))","v":119},{"$f":"INDEX(Table11[],MATCH(TEXT(hf_kommune[[#This Row],[Kommunenr]],\"0\"),Table11[Nr],0),MATCH(hf_kommune[[#Headers],[2032]],Table11[#Headers],0))","v":121},{"$f":"INDEX(Table11[],MATCH(TEXT(hf_kommune[[#This Row],[Kommunenr]],\"0\"),Table11[Nr],0),MATCH(hf_kommune[[#Headers],[2033]],Table11[#Headers],0))","v":101},{"$f":"INDEX(Table11[],MATCH(TEXT(hf_kommune[[#This Row],[Kommunenr]],\"0\"),Table11[Nr],0),MATCH(hf_kommune[[#Headers],[2034]],Table11[#Headers],0))","v":112},{"$f":"INDEX(Table11[],MATCH(TEXT(hf_kommune[[#This Row],[Kommunenr]],\"0\"),Table11[Nr],0),MATCH(hf_kommune[[#Headers],[2035]],Table11[#Headers],0))","v":115},{"$f":"INDEX(Table11[],MATCH(TEXT(hf_kommune[[#This Row],[Kommunenr]],\"0\"),Table11[Nr],0),MATCH(hf_kommune[[#Headers],[2036]],Table11[#Headers],0))","v":110},{"$f":"INDEX(Table11[],MATCH(TEXT(hf_kommune[[#This Row],[Kommunenr]],\"0\"),Table11[Nr],0),MATCH(hf_kommune[[#Headers],[2037]],Table11[#Headers],0))","v":106},{"$f":"INDEX(Table11[],MATCH(TEXT(hf_kommune[[#This Row],[Kommunenr]],\"0\"),Table11[Nr],0),MATCH(hf_kommune[[#Headers],[2038]],Table11[#Headers],0))","v":108},{"$f":"INDEX(Table11[],MATCH(TEXT(hf_kommune[[#This Row],[Kommunenr]],\"0\"),Table11[Nr],0),MATCH(hf_kommune[[#Headers],[2039]],Table11[#Headers],0))","v":112},{"$f":"INDEX(Table11[],MATCH(TEXT(hf_kommune[[#This Row],[Kommunenr]],\"0\"),Table11[Nr],0),MATCH(hf_kommune[[#Headers],[2040]],Table11[#Headers],0))","v":106},7650,7717,7782,7845,7911,7977,8043,8108,8172,8235,8297,8358,8419,8477,8535,8592,8647,8700,8751]
[5417,"Salangen","Helse Nord","Universitetssykehuset Nord-Norge","Narvik",{"$f":"INDEX(Table11[],MATCH(TEXT(hf_kommune[[#This Row],[Kommunenr]],\"0\"),Table11[Nr],0),MATCH(hf_kommune[[#Headers],[2020]],Table11[#Headers],0))","v":25},{"$f":"INDEX(Table11[],MATCH(TEXT(hf_kommune[[#This Row],[Kommunenr]],\"0\"),Table11[Nr],0),MATCH(hf_kommune[[#Headers],[2021]],Table11[#Headers],0))","v":32},{"$f":"INDEX(Table11[],MATCH(TEXT(hf_kommune[[#This Row],[Kommunenr]],\"0\"),Table11[Nr],0),MATCH(hf_kommune[[#Headers],[2022]],Table11[#Headers],0))","v":33},{"$f":"INDEX(Table11[],MATCH(TEXT(hf_kommune[[#This Row],[Kommunenr]],\"0\"),Table11[Nr],0),MATCH(hf_kommune[[#Headers],[2023]],Table11[#Headers],0))","v":37},{"$f":"INDEX(Table11[],MATCH(TEXT(hf_kommune[[#This Row],[Kommunenr]],\"0\"),Table11[Nr],0),MATCH(hf_kommune[[#Headers],[2024]],Table11[#Headers],0))","v":27},{"$f":"INDEX(Table11[],MATCH(TEXT(hf_kommune[[#This Row],[Kommunenr]],\"0\"),Table11[Nr],0),MATCH(hf_kommune[[#Headers],[2025]],Table11[#Headers],0))","v":44},{"$f":"INDEX(Table11[],MATCH(TEXT(hf_kommune[[#This Row],[Kommunenr]],\"0\"),Table11[Nr],0),MATCH(hf_kommune[[#Headers],[2026]],Table11[#Headers],0))","v":32},{"$f":"INDEX(Table11[],MATCH(TEXT(hf_kommune[[#This Row],[Kommunenr]],\"0\"),Table11[Nr],0),MATCH(hf_kommune[[#Headers],[2027]],Table11[#Headers],0))","v":32},{"$f":"INDEX(Table11[],MATCH(TEXT(hf_kommune[[#This Row],[Kommunenr]],\"0\"),Table11[Nr],0),MATCH(hf_kommune[[#Headers],[2028]],Table11[#Headers],0))","v":33},{"$f":"INDEX(Table11[],MATCH(TEXT(hf_kommune[[#This Row],[Kommunenr]],\"0\"),Table11[Nr],0),MATCH(hf_kommune[[#Headers],[2029]],Table11[#Headers],0))","v":30},{"$f":"INDEX(Table11[],MATCH(TEXT(hf_kommune[[#This Row],[Kommunenr]],\"0\"),Table11[Nr],0),MATCH(hf_kommune[[#Headers],[2030]],Table11[#Headers],0))","v":39},{"$f":"INDEX(Table11[],MATCH(TEXT(hf_kommune[[#This Row],[Kommunenr]],\"0\"),Table11[Nr],0),MATCH(hf_kommune[[#Headers],[2031]],Table11[#Headers],0))","v":23},{"$f":"INDEX(Table11[],MATCH(TEXT(hf_kommune[[#This Row],[Kommunenr]],\"0\"),Table11[Nr],0),MATCH(hf_kommune[[#Headers],[2032]],Table11[#Headers],0))","v":23},{"$f":"INDEX(Table11[],MATCH(TEXT(hf_kommune[[#This Row],[Kommunenr]],\"0\"),Table11[Nr],0),MATCH(hf_kommune[[#Headers],[2033]],Table11[#Headers],0))","v":22},{"$f":"INDEX(Table11[],MATCH(TEXT(hf_kommune[[#This Row],[Kommunenr]],\"0\"),Table11[Nr],0),MATCH(hf_kommune[[#Headers],[2034]],Table11[#Headers],0))","v":17},{"$f":"INDEX(Table11[],MATCH(TEXT(hf_kommune[[#This Row],[Kommunenr]],\"0\"),Table11[Nr],0),MATCH(hf_kommune[[#Headers],[2035]],Table11[#Headers],0))","v":20},{"$f":"INDEX(Table11[],MATCH(TEXT(hf_kommune[[#This Row],[Kommunenr]],\"0\"),Table11[Nr],0),MATCH(hf_kommune[[#Headers],[2036]],Table11[#Headers],0))","v":22},{"$f":"INDEX(Table11[],MATCH(TEXT(hf_kommune[[#This Row],[Kommunenr]],\"0\"),Table11[Nr],0),MATCH(hf_kommune[[#Headers],[2037]],Table11[#Headers],0))","v":26},{"$f":"INDEX(Table11[],MATCH(TEXT(hf_kommune[[#This Row],[Kommunenr]],\"0\"),Table11[Nr],0),MATCH(hf_kommune[[#Headers],[2038]],Table11[#Headers],0))","v":21},{"$f":"INDEX(Table11[],MATCH(TEXT(hf_kommune[[#This Row],[Kommunenr]],\"0\"),Table11[Nr],0),MATCH(hf_kommune[[#Headers],[2039]],Table11[#Headers],0))","v":23},{"$f":"INDEX(Table11[],MATCH(TEXT(hf_kommune[[#This Row],[Kommunenr]],\"0\"),Table11[Nr],0),MATCH(hf_kommune[[#Headers],[2040]],Table11[#Headers],0))","v":18},2149,2159,2168,2175,2181,2187,2192,2196,2199,2202,2204,2205,2206,2206,2205,2205,2204,2202,2201]
[1840,"Saltdal","Helse Nord","Nordlandssykehuset","Bodø",{"$f":"INDEX(Table11[],MATCH(TEXT(hf_kommune[[#This Row],[Kommunenr]],\"0\"),Table11[Nr],0),MATCH(hf_kommune[[#Headers],[2020]],Table11[#Headers],0))","v":73},{"$f":"INDEX(Table11[],MATCH(TEXT(hf_kommune[[#This Row],[Kommunenr]],\"0\"),Table11[Nr],0),MATCH(hf_kommune[[#Headers],[2021]],Table11[#Headers],0))","v":73},{"$f":"INDEX(Table11[],MATCH(TEXT(hf_kommune[[#This Row],[Kommunenr]],\"0\"),Table11[Nr],0),MATCH(hf_kommune[[#Headers],[2022]],Table11[#Headers],0))","v":71},{"$f":"INDEX(Table11[],MATCH(TEXT(hf_kommune[[#This Row],[Kommunenr]],\"0\"),Table11[Nr],0),MATCH(hf_kommune[[#Headers],[2023]],Table11[#Headers],0))","v":66},{"$f":"INDEX(Table11[],MATCH(TEXT(hf_kommune[[#This Row],[Kommunenr]],\"0\"),Table11[Nr],0),MATCH(hf_kommune[[#Headers],[2024]],Table11[#Headers],0))","v":66},{"$f":"INDEX(Table11[],MATCH(TEXT(hf_kommune[[#This Row],[Kommunenr]],\"0\"),Table11[Nr],0),MATCH(hf_kommune[[#Headers],[2025]],Table11[#Headers],0))","v":67},{"$f":"INDEX(Table11[],MATCH(TEXT(hf_kommune[[#This Row],[Kommunenr]],\"0\"),Table11[Nr],0),MATCH(hf_kommune[[#Headers],[2026]],Table11[#Headers],0))","v":68},{"$f":"INDEX(Table11[],MATCH(TEXT(hf_kommune[[#This Row],[Kommunenr]],\"0\"),Table11[Nr],0),MATCH(hf_kommune[[#Headers],[2027]],Table11[#Headers],0))","v":53},{"$f":"INDEX(Table11[],MATCH(TEXT(hf_kommune[[#This Row],[Kommunenr]],\"0\"),Table11[Nr],0),MATCH(hf_kommune[[#Headers],[2028]],Table11[#Headers],0))","v":56},{"$f":"INDEX(Table11[],MATCH(TEXT(hf_kommune[[#This Row],[Kommunenr]],\"0\"),Table11[Nr],0),MATCH(hf_kommune[[#Headers],[2029]],Table11[#Headers],0))","v":60},{"$f":"INDEX(Table11[],MATCH(TEXT(hf_kommune[[#This Row],[Kommunenr]],\"0\"),Table11[Nr],0),MATCH(hf_kommune[[#Headers],[2030]],Table11[#Headers],0))","v":56},{"$f":"INDEX(Table11[],MATCH(TEXT(hf_kommune[[#This Row],[Kommunenr]],\"0\"),Table11[Nr],0),MATCH(hf_kommune[[#Headers],[2031]],Table11[#Headers],0))","v":53},{"$f":"INDEX(Table11[],MATCH(TEXT(hf_kommune[[#This Row],[Kommunenr]],\"0\"),Table11[Nr],0),MATCH(hf_kommune[[#Headers],[2032]],Table11[#Headers],0))","v":55},{"$f":"INDEX(Table11[],MATCH(TEXT(hf_kommune[[#This Row],[Kommunenr]],\"0\"),Table11[Nr],0),MATCH(hf_kommune[[#Headers],[2033]],Table11[#Headers],0))","v":43},{"$f":"INDEX(Table11[],MATCH(TEXT(hf_kommune[[#This Row],[Kommunenr]],\"0\"),Table11[Nr],0),MATCH(hf_kommune[[#Headers],[2034]],Table11[#Headers],0))","v":55},{"$f":"INDEX(Table11[],MATCH(TEXT(hf_kommune[[#This Row],[Kommunenr]],\"0\"),Table11[Nr],0),MATCH(hf_kommune[[#Headers],[2035]],Table11[#Headers],0))","v":45},{"$f":"INDEX(Table11[],MATCH(TEXT(hf_kommune[[#This Row],[Kommunenr]],\"0\"),Table11[Nr],0),MATCH(hf_kommune[[#Headers],[2036]],Table11[#Headers],0))","v":49},{"$f":"INDEX(Table11[],MATCH(TEXT(hf_kommune[[#This Row],[Kommunenr]],\"0\"),Table11[Nr],0),MATCH(hf_kommune[[#Headers],[2037]],Table11[#Headers],0))","v":54},{"$f":"INDEX(Table11[],MATCH(TEXT(hf_kommune[[#This Row],[Kommunenr]],\"0\"),Table11[Nr],0),MATCH(hf_kommune[[#Headers],[2038]],Table11[#Headers],0))","v":52},{"$f":"INDEX(Table11[],MATCH(TEXT(hf_kommune[[#This Row],[Kommunenr]],\"0\"),Table11[Nr],0),MATCH(hf_kommune[[#Headers],[2039]],Table11[#Headers],0))","v":54},{"$f":"INDEX(Table11[],MATCH(TEXT(hf_kommune[[#This Row],[Kommunenr]],\"0\"),Table11[Nr],0),MATCH(hf_kommune[[#Headers],[2040]],Table11[#Headers],0))","v":54},4610,4590,4575,4565,4558,4551,4543,4535,4526,4516,4507,4497,4486,4476,4465,4453,4442,4430,4417]
[4623,"Samnanger","Helse Vest","Helse Bergen","Haukeland",{"$f":"INDEX(Table11[],MATCH(TEXT(hf_kommune[[#This Row],[Kommunenr]],\"0\"),Table11[Nr],0),MATCH(hf_kommune[[#Headers],[2020]],Table11[#Headers],0))","v":42},{"$f":"INDEX(Table11[],MATCH(TEXT(hf_kommune[[#This Row],[Kommunenr]],\"0\"),Table11[Nr],0),MATCH(hf_kommune[[#Headers],[2021]],Table11[#Headers],0))","v":32},{"$f":"INDEX(Table11[],MATCH(TEXT(hf_kommune[[#This Row],[Kommunenr]],\"0\"),Table11[Nr],0),MATCH(hf_kommune[[#Headers],[2022]],Table11[#Headers],0))","v":31},{"$f":"INDEX(Table11[],MATCH(TEXT(hf_kommune[[#This Row],[Kommunenr]],\"0\"),Table11[Nr],0),MATCH(hf_kommune[[#Headers],[2023]],Table11[#Headers],0))","v":32},{"$f":"INDEX(Table11[],MATCH(TEXT(hf_kommune[[#This Row],[Kommunenr]],\"0\"),Table11[Nr],0),MATCH(hf_kommune[[#Headers],[2024]],Table11[#Headers],0))","v":39},{"$f":"INDEX(Table11[],MATCH(TEXT(hf_kommune[[#This Row],[Kommunenr]],\"0\"),Table11[Nr],0),MATCH(hf_kommune[[#Headers],[2025]],Table11[#Headers],0))","v":28},{"$f":"INDEX(Table11[],MATCH(TEXT(hf_kommune[[#This Row],[Kommunenr]],\"0\"),Table11[Nr],0),MATCH(hf_kommune[[#Headers],[2026]],Table11[#Headers],0))","v":20},{"$f":"INDEX(Table11[],MATCH(TEXT(hf_kommune[[#This Row],[Kommunenr]],\"0\"),Table11[Nr],0),MATCH(hf_kommune[[#Headers],[2027]],Table11[#Headers],0))","v":30},{"$f":"INDEX(Table11[],MATCH(TEXT(hf_kommune[[#This Row],[Kommunenr]],\"0\"),Table11[Nr],0),MATCH(hf_kommune[[#Headers],[2028]],Table11[#Headers],0))","v":37},{"$f":"INDEX(Table11[],MATCH(TEXT(hf_kommune[[#This Row],[Kommunenr]],\"0\"),Table11[Nr],0),MATCH(hf_kommune[[#Headers],[2029]],Table11[#Headers],0))","v":31},{"$f":"INDEX(Table11[],MATCH(TEXT(hf_kommune[[#This Row],[Kommunenr]],\"0\"),Table11[Nr],0),MATCH(hf_kommune[[#Headers],[2030]],Table11[#Headers],0))","v":28},{"$f":"INDEX(Table11[],MATCH(TEXT(hf_kommune[[#This Row],[Kommunenr]],\"0\"),Table11[Nr],0),MATCH(hf_kommune[[#Headers],[2031]],Table11[#Headers],0))","v":29},{"$f":"INDEX(Table11[],MATCH(TEXT(hf_kommune[[#This Row],[Kommunenr]],\"0\"),Table11[Nr],0),MATCH(hf_kommune[[#Headers],[2032]],Table11[#Headers],0))","v":35},{"$f":"INDEX(Table11[],MATCH(TEXT(hf_kommune[[#This Row],[Kommunenr]],\"0\"),Table11[Nr],0),MATCH(hf_kommune[[#Headers],[2033]],Table11[#Headers],0))","v":40},{"$f":"INDEX(Table11[],MATCH(TEXT(hf_kommune[[#This Row],[Kommunenr]],\"0\"),Table11[Nr],0),MATCH(hf_kommune[[#Headers],[2034]],Table11[#Headers],0))","v":25},{"$f":"INDEX(Table11[],MATCH(TEXT(hf_kommune[[#This Row],[Kommunenr]],\"0\"),Table11[Nr],0),MATCH(hf_kommune[[#Headers],[2035]],Table11[#Headers],0))","v":40},{"$f":"INDEX(Table11[],MATCH(TEXT(hf_kommune[[#This Row],[Kommunenr]],\"0\"),Table11[Nr],0),MATCH(hf_kommune[[#Headers],[2036]],Table11[#Headers],0))","v":37},{"$f":"INDEX(Table11[],MATCH(TEXT(hf_kommune[[#This Row],[Kommunenr]],\"0\"),Table11[Nr],0),MATCH(hf_kommune[[#Headers],[2037]],Table11[#Headers],0))","v":29},{"$f":"INDEX(Table11[],MATCH(TEXT(hf_kommune[[#This Row],[Kommunenr]],\"0\"),Table11[Nr],0),MATCH(hf_kommune[[#Headers],[2038]],Table11[#Headers],0))","v":34},{"$f":"INDEX(Table11[],MATCH(TEXT(hf_kommune[[#This Row],[Kommunenr]],\"0\"),Table11[Nr],0),MATCH(hf_kommune[[#Headers],[2039]],Table11[#Headers],0))","v":34},{"$f":"INDEX(Table11[],MATCH(TEXT(hf_kommune[[#This Row],[Kommunenr]],\"0\"),Table11[Nr],0),MATCH(hf_kommune[[#Headers],[2040]],Table11[#Headers],0))","v":26},2513,2523,2531,2537,2541,2545,2550,2555,2561,2566,2572,2578,2584,2589,2594,2600,2604,2608,2612]
[1514,"Sande (Møre og Romsdal)","Helse Midt-Norge","Helse Møre og Romsdal","Volda",{"$f":"INDEX(Table11[],MATCH(TEXT(hf_kommune[[#This Row],[Kommunenr]],\"0\"),Table11[Nr],0),MATCH(hf_kommune[[#Headers],[2020]],Table11[#Headers],0))","v":34},{"$f":"INDEX(Table11[],MATCH(TEXT(hf_kommune[[#This Row],[Kommunenr]],\"0\"),Table11[Nr],0),MATCH(hf_kommune[[#Headers],[2021]],Table11[#Headers],0))","v":41},{"$f":"INDEX(Table11[],MATCH(TEXT(hf_kommune[[#This Row],[Kommunenr]],\"0\"),Table11[Nr],0),MATCH(hf_kommune[[#Headers],[2022]],Table11[#Headers],0))","v":30},{"$f":"INDEX(Table11[],MATCH(TEXT(hf_kommune[[#This Row],[Kommunenr]],\"0\"),Table11[Nr],0),MATCH(hf_kommune[[#Headers],[2023]],Table11[#Headers],0))","v":40},{"$f":"INDEX(Table11[],MATCH(TEXT(hf_kommune[[#This Row],[Kommunenr]],\"0\"),Table11[Nr],0),MATCH(hf_kommune[[#Headers],[2024]],Table11[#Headers],0))","v":45},{"$f":"INDEX(Table11[],MATCH(TEXT(hf_kommune[[#This Row],[Kommunenr]],\"0\"),Table11[Nr],0),MATCH(hf_kommune[[#Headers],[2025]],Table11[#Headers],0))","v":45},{"$f":"INDEX(Table11[],MATCH(TEXT(hf_kommune[[#This Row],[Kommunenr]],\"0\"),Table11[Nr],0),MATCH(hf_kommune[[#Headers],[2026]],Table11[#Headers],0))","v":48},{"$f":"INDEX(Table11[],MATCH(TEXT(hf_kommune[[#This Row],[Kommunenr]],\"0\"),Table11[Nr],0),MATCH(hf_kommune[[#Headers],[2027]],Table11[#Headers],0))","v":41},{"$f":"INDEX(Table11[],MATCH(TEXT(hf_kommune[[#This Row],[Kommunenr]],\"0\"),Table11[Nr],0),MATCH(hf_kommune[[#Headers],[2028]],Table11[#Headers],0))","v":47},{"$f":"INDEX(Table11[],MATCH(TEXT(hf_kommune[[#This Row],[Kommunenr]],\"0\"),Table11[Nr],0),MATCH(hf_kommune[[#Headers],[2029]],Table11[#Headers],0))","v":41},{"$f":"INDEX(Table11[],MATCH(TEXT(hf_kommune[[#This Row],[Kommunenr]],\"0\"),Table11[Nr],0),MATCH(hf_kommune[[#Headers],[2030]],Table11[#Headers],0))","v":42},{"$f":"INDEX(Table11[],MATCH(TEXT(hf_kommune[[#This Row],[Kommunenr]],\"0\"),Table11[Nr],0),MATCH(hf_kommune[[#Headers],[2031]],Table11[#Headers],0))","v":25},{"$f":"INDEX(Table11[],MATCH(TEXT(hf_kommune[[#This Row],[Kommunenr]],\"0\"),Table11[Nr],0),MATCH(hf_kommune[[#Headers],[2032]],Table11[#Headers],0))","v":30},{"$f":"INDEX(Table11[],MATCH(TEXT(hf_kommune[[#This Row],[Kommunenr]],\"0\"),Table11[Nr],0),MATCH(hf_kommune[[#Headers],[2033]],Table11[#Headers],0))","v":36},{"$f":"INDEX(Table11[],MATCH(TEXT(hf_kommune[[#This Row],[Kommunenr]],\"0\"),Table11[Nr],0),MATCH(hf_kommune[[#Headers],[2034]],Table11[#Headers],0))","v":27},{"$f":"INDEX(Table11[],MATCH(TEXT(hf_kommune[[#This Row],[Kommunenr]],\"0\"),Table11[Nr],0),MATCH(hf_kommune[[#Headers],[2035]],Table11[#Headers],0))","v":33},{"$f":"INDEX(Table11[],MATCH(TEXT(hf_kommune[[#This Row],[Kommunenr]],\"0\"),Table11[Nr],0),MATCH(hf_kommune[[#Headers],[2036]],Table11[#Headers],0))","v":37},{"$f":"INDEX(Table11[],MATCH(TEXT(hf_kommune[[#This Row],[Kommunenr]],\"0\"),Table11[Nr],0),MATCH(hf_kommune[[#Headers],[2037]],Table11[#Headers],0))","v":31},{"$f":"INDEX(Table11[],MATCH(TEXT(hf_kommune[[#This Row],[Kommunenr]],\"0\"),Table11[Nr],0),MATCH(hf_kommune[[#Headers],[2038]],Table11[#Headers],0))","v":35},{"$f":"INDEX(Table11[],MATCH(TEXT(hf_kommune[[#This Row],[Kommunenr]],\"0\"),Table11[Nr],0),MATCH(hf_kommune[[#Headers],[2039]],Table11[#Headers],0))","v":32},{"$f":"INDEX(Table11[],MATCH(TEXT(hf_kommune[[#This Row],[Kommunenr]],\"0\"),Table11[Nr],0),MATCH(hf_kommune[[#Headers],[2040]],Table11[#Headers],0))","v":33},2433,2427,2425,2426,2432,2438,2444,2450,2456,2463,2469,2475,2482,2488,2494,2500,2505,2510,2514]
[3804,"Sandefjord","Helse Sør-Øst","Sykehuset i Vestfold","Tønsberg",{"$f":"INDEX(Table11[],MATCH(TEXT(hf_kommune[[#This Row],[Kommunenr]],\"0\"),Table11[Nr],0),MATCH(hf_kommune[[#Headers],[2020]],Table11[#Headers],0))","v":857},{"$f":"INDEX(Table11[],MATCH(TEXT(hf_kommune[[#This Row],[Kommunenr]],\"0\"),Table11[Nr],0),MATCH(hf_kommune[[#Headers],[2021]],Table11[#Headers],0))","v":945},{"$f":"INDEX(Table11[],MATCH(TEXT(hf_kommune[[#This Row],[Kommunenr]],\"0\"),Table11[Nr],0),MATCH(hf_kommune[[#Headers],[2022]],Table11[#Headers],0))","v":901},{"$f":"INDEX(Table11[],MATCH(TEXT(hf_kommune[[#This Row],[Kommunenr]],\"0\"),Table11[Nr],0),MATCH(hf_kommune[[#Headers],[2023]],Table11[#Headers],0))","v":970},{"$f":"INDEX(Table11[],MATCH(TEXT(hf_kommune[[#This Row],[Kommunenr]],\"0\"),Table11[Nr],0),MATCH(hf_kommune[[#Headers],[2024]],Table11[#Headers],0))","v":975},{"$f":"INDEX(Table11[],MATCH(TEXT(hf_kommune[[#This Row],[Kommunenr]],\"0\"),Table11[Nr],0),MATCH(hf_kommune[[#Headers],[2025]],Table11[#Headers],0))","v":1009},{"$f":"INDEX(Table11[],MATCH(TEXT(hf_kommune[[#This Row],[Kommunenr]],\"0\"),Table11[Nr],0),MATCH(hf_kommune[[#Headers],[2026]],Table11[#Headers],0))","v":927},{"$f":"INDEX(Table11[],MATCH(TEXT(hf_kommune[[#This Row],[Kommunenr]],\"0\"),Table11[Nr],0),MATCH(hf_kommune[[#Headers],[2027]],Table11[#Headers],0))","v":945},{"$f":"INDEX(Table11[],MATCH(TEXT(hf_kommune[[#This Row],[Kommunenr]],\"0\"),Table11[Nr],0),MATCH(hf_kommune[[#Headers],[2028]],Table11[#Headers],0))","v":991},{"$f":"INDEX(Table11[],MATCH(TEXT(hf_kommune[[#This Row],[Kommunenr]],\"0\"),Table11[Nr],0),MATCH(hf_kommune[[#Headers],[2029]],Table11[#Headers],0))","v":907},{"$f":"INDEX(Table11[],MATCH(TEXT(hf_kommune[[#This Row],[Kommunenr]],\"0\"),Table11[Nr],0),MATCH(hf_kommune[[#Headers],[2030]],Table11[#Headers],0))","v":909},{"$f":"INDEX(Table11[],MATCH(TEXT(hf_kommune[[#This Row],[Kommunenr]],\"0\"),Table11[Nr],0),MATCH(hf_kommune[[#Headers],[2031]],Table11[#Headers],0))","v":909},{"$f":"INDEX(Table11[],MATCH(TEXT(hf_kommune[[#This Row],[Kommunenr]],\"0\"),Table11[Nr],0),MATCH(hf_kommune[[#Headers],[2032]],Table11[#Headers],0))","v":903},{"$f":"INDEX(Table11[],MATCH(TEXT(hf_kommune[[#This Row],[Kommunenr]],\"0\"),Table11[Nr],0),MATCH(hf_kommune[[#Headers],[2033]],Table11[#Headers],0))","v":862},{"$f":"INDEX(Table11[],MATCH(TEXT(hf_kommune[[#This Row],[Kommunenr]],\"0\"),Table11[Nr],0),MATCH(hf_kommune[[#Headers],[2034]],Table11[#Headers],0))","v":882},{"$f":"INDEX(Table11[],MATCH(TEXT(hf_kommune[[#This Row],[Kommunenr]],\"0\"),Table11[Nr],0),MATCH(hf_kommune[[#Headers],[2035]],Table11[#Headers],0))","v":854},{"$f":"INDEX(Table11[],MATCH(TEXT(hf_kommune[[#This Row],[Kommunenr]],\"0\"),Table11[Nr],0),MATCH(hf_kommune[[#Headers],[2036]],Table11[#Headers],0))","v":857},{"$f":"INDEX(Table11[],MATCH(TEXT(hf_kommune[[#This Row],[Kommunenr]],\"0\"),Table11[Nr],0),MATCH(hf_kommune[[#Headers],[2037]],Table11[#Headers],0))","v":886},{"$f":"INDEX(Table11[],MATCH(TEXT(hf_kommune[[#This Row],[Kommunenr]],\"0\"),Table11[Nr],0),MATCH(hf_kommune[[#Headers],[2038]],Table11[#Headers],0))","v":898},{"$f":"INDEX(Table11[],MATCH(TEXT(hf_kommune[[#This Row],[Kommunenr]],\"0\"),Table11[Nr],0),MATCH(hf_kommune[[#Headers],[2039]],Table11[#Headers],0))","v":912},{"$f":"INDEX(Table11[],MATCH(TEXT(hf_kommune[[#This Row],[Kommunenr]],\"0\"),Table11[Nr],0),MATCH(hf_kommune[[#Headers],[2040]],Table11[#Headers],0))","v":946},64634,65043,65420,65770,66099,66427,66752,67075,67392,67704,68009,68308,68601,68890,69175,69454,69723,69982,70232]
[1108,"Sandnes","Helse Vest","Helse Stavanger","Stavanger",{"$f":"INDEX(Table11[],MATCH(TEXT(hf_kommune[[#This Row],[Kommunenr]],\"0\"),Table11[Nr],0),MATCH(hf_kommune[[#Headers],[2020]],Table11[#Headers],0))","v":965},{"$f":"INDEX(Table11[],MATCH(TEXT(hf_kommune[[#This Row],[Kommunenr]],\"0\"),Table11[Nr],0),MATCH(hf_kommune[[#Headers],[2021]],Table11[#Headers],0))","v":937},{"$f":"INDEX(Table11[],MATCH(TEXT(hf_kommune[[#This Row],[Kommunenr]],\"0\"),Table11[Nr],0),MATCH(hf_kommune[[#Headers],[2022]],Table11[#Headers],0))","v":976},{"$f":"INDEX(Table11[],MATCH(TEXT(hf_kommune[[#This Row],[Kommunenr]],\"0\"),Table11[Nr],0),MATCH(hf_kommune[[#Headers],[2023]],Table11[#Headers],0))","v":1087},{"$f":"INDEX(Table11[],MATCH(TEXT(hf_kommune[[#This Row],[Kommunenr]],\"0\"),Table11[Nr],0),MATCH(hf_kommune[[#Headers],[2024]],Table11[#Headers],0))","v":1063},{"$f":"INDEX(Table11[],MATCH(TEXT(hf_kommune[[#This Row],[Kommunenr]],\"0\"),Table11[Nr],0),MATCH(hf_kommune[[#Headers],[2025]],Table11[#Headers],0))","v":1029},{"$f":"INDEX(Table11[],MATCH(TEXT(hf_kommune[[#This Row],[Kommunenr]],\"0\"),Table11[Nr],0),MATCH(hf_kommune[[#Headers],[2026]],Table11[#Headers],0))","v":1044},{"$f":"INDEX(Table11[],MATCH(TEXT(hf_kommune[[#This Row],[Kommunenr]],\"0\"),Table11[Nr],0),MATCH(hf_kommune[[#Headers],[2027]],Table11[#Headers],0))","v":1067},{"$f":"INDEX(Table11[],MATCH(TEXT(hf_kommune[[#This Row],[Kommunenr]],\"0\"),Table11[Nr],0),MATCH(hf_kommune[[#Headers],[2028]],Table11[#Headers],0))","v":1094},{"$f":"INDEX(Table11[],MATCH(TEXT(hf_kommune[[#This Row],[Kommunenr]],\"0\"),Table11[Nr],0),MATCH(hf_kommune[[#Headers],[2029]],Table11[#Headers],0))","v":1098},{"$f":"INDEX(Table11[],MATCH(TEXT(hf_kommune[[#This Row],[Kommunenr]],\"0\"),Table11[Nr],0),MATCH(hf_kommune[[#Headers],[2030]],Table11[#Headers],0))","v":1082},{"$f":"INDEX(Table11[],MATCH(TEXT(hf_kommune[[#This Row],[Kommunenr]],\"0\"),Table11[Nr],0),MATCH(hf_kommune[[#Headers],[2031]],Table11[#Headers],0))","v":1110},{"$f":"INDEX(Table11[],MATCH(TEXT(hf_kommune[[#This Row],[Kommunenr]],\"0\"),Table11[Nr],0),MATCH(hf_kommune[[#Headers],[2032]],Table11[#Headers],0))","v":1080},{"$f":"INDEX(Table11[],MATCH(TEXT(hf_kommune[[#This Row],[Kommunenr]],\"0\"),Table11[Nr],0),MATCH(hf_kommune[[#Headers],[2033]],Table11[#Headers],0))","v":1100},{"$f":"INDEX(Table11[],MATCH(TEXT(hf_kommune[[#This Row],[Kommunenr]],\"0\"),Table11[Nr],0),MATCH(hf_kommune[[#Headers],[2034]],Table11[#Headers],0))","v":1166},{"$f":"INDEX(Table11[],MATCH(TEXT(hf_kommune[[#This Row],[Kommunenr]],\"0\"),Table11[Nr],0),MATCH(hf_kommune[[#Headers],[2035]],Table11[#Headers],0))","v":1136},{"$f":"INDEX(Table11[],MATCH(TEXT(hf_kommune[[#This Row],[Kommunenr]],\"0\"),Table11[Nr],0),MATCH(hf_kommune[[#Headers],[2036]],Table11[#Headers],0))","v":1219},{"$f":"INDEX(Table11[],MATCH(TEXT(hf_kommune[[#This Row],[Kommunenr]],\"0\"),Table11[Nr],0),MATCH(hf_kommune[[#Headers],[2037]],Table11[#Headers],0))","v":1177},{"$f":"INDEX(Table11[],MATCH(TEXT(hf_kommune[[#This Row],[Kommunenr]],\"0\"),Table11[Nr],0),MATCH(hf_kommune[[#Headers],[2038]],Table11[#Headers],0))","v":1209},{"$f":"INDEX(Table11[],MATCH(TEXT(hf_kommune[[#This Row],[Kommunenr]],\"0\"),Table11[Nr],0),MATCH(hf_kommune[[#Headers],[2039]],Table11[#Headers],0))","v":1235},{"$f":"INDEX(Table11[],MATCH(TEXT(hf_kommune[[#This Row],[Kommunenr]],\"0\"),Table11[Nr],0),MATCH(hf_kommune[[#Headers],[2040]],Table11[#Headers],0))","v":1247},81283,82146,82971,83769,84545,85301,86039,86762,87468,88158,88833,89492,90140,90779,91408,92023,92618,93194,93750]
[3003,"Sarpsborg","Helse Sør-Øst","Sykehuset Østfold","Kalnes",{"$f":"INDEX(Table11[],MATCH(TEXT(hf_kommune[[#This Row],[Kommunenr]],\"0\"),Table11[Nr],0),MATCH(hf_kommune[[#Headers],[2020]],Table11[#Headers],0))","v":772},{"$f":"INDEX(Table11[],MATCH(TEXT(hf_kommune[[#This Row],[Kommunenr]],\"0\"),Table11[Nr],0),MATCH(hf_kommune[[#Headers],[2021]],Table11[#Headers],0))","v":778},{"$f":"INDEX(Table11[],MATCH(TEXT(hf_kommune[[#This Row],[Kommunenr]],\"0\"),Table11[Nr],0),MATCH(hf_kommune[[#Headers],[2022]],Table11[#Headers],0))","v":772},{"$f":"INDEX(Table11[],MATCH(TEXT(hf_kommune[[#This Row],[Kommunenr]],\"0\"),Table11[Nr],0),MATCH(hf_kommune[[#Headers],[2023]],Table11[#Headers],0))","v":798},{"$f":"INDEX(Table11[],MATCH(TEXT(hf_kommune[[#This Row],[Kommunenr]],\"0\"),Table11[Nr],0),MATCH(hf_kommune[[#Headers],[2024]],Table11[#Headers],0))","v":815},{"$f":"INDEX(Table11[],MATCH(TEXT(hf_kommune[[#This Row],[Kommunenr]],\"0\"),Table11[Nr],0),MATCH(hf_kommune[[#Headers],[2025]],Table11[#Headers],0))","v":869},{"$f":"INDEX(Table11[],MATCH(TEXT(hf_kommune[[#This Row],[Kommunenr]],\"0\"),Table11[Nr],0),MATCH(hf_kommune[[#Headers],[2026]],Table11[#Headers],0))","v":843},{"$f":"INDEX(Table11[],MATCH(TEXT(hf_kommune[[#This Row],[Kommunenr]],\"0\"),Table11[Nr],0),MATCH(hf_kommune[[#Headers],[2027]],Table11[#Headers],0))","v":829},{"$f":"INDEX(Table11[],MATCH(TEXT(hf_kommune[[#This Row],[Kommunenr]],\"0\"),Table11[Nr],0),MATCH(hf_kommune[[#Headers],[2028]],Table11[#Headers],0))","v":908},{"$f":"INDEX(Table11[],MATCH(TEXT(hf_kommune[[#This Row],[Kommunenr]],\"0\"),Table11[Nr],0),MATCH(hf_kommune[[#Headers],[2029]],Table11[#Headers],0))","v":832},{"$f":"INDEX(Table11[],MATCH(TEXT(hf_kommune[[#This Row],[Kommunenr]],\"0\"),Table11[Nr],0),MATCH(hf_kommune[[#Headers],[2030]],Table11[#Headers],0))","v":805},{"$f":"INDEX(Table11[],MATCH(TEXT(hf_kommune[[#This Row],[Kommunenr]],\"0\"),Table11[Nr],0),MATCH(hf_kommune[[#Headers],[2031]],Table11[#Headers],0))","v":795},{"$f":"INDEX(Table11[],MATCH(TEXT(hf_kommune[[#This Row],[Kommunenr]],\"0\"),Table11[Nr],0),MATCH(hf_kommune[[#Headers],[2032]],Table11[#Headers],0))","v":802},{"$f":"INDEX(Table11[],MATCH(TEXT(hf_kommune[[#This Row],[Kommunenr]],\"0\"),Table11[Nr],0),MATCH(hf_kommune[[#Headers],[2033]],Table11[#Headers],0))","v":760},{"$f":"INDEX(Table11[],MATCH(TEXT(hf_kommune[[#This Row],[Kommunenr]],\"0\"),Table11[Nr],0),MATCH(hf_kommune[[#Headers],[2034]],Table11[#Headers],0))","v":787},{"$f":"INDEX(Table11[],MATCH(TEXT(hf_kommune[[#This Row],[Kommunenr]],\"0\"),Table11[Nr],0),MATCH(hf_kommune[[#Headers],[2035]],Table11[#Headers],0))","v":749},{"$f":"INDEX(Table11[],MATCH(TEXT(hf_kommune[[#This Row],[Kommunenr]],\"0\"),Table11[Nr],0),MATCH(hf_kommune[[#Headers],[2036]],Table11[#Headers],0))","v":800},{"$f":"INDEX(Table11[],MATCH(TEXT(hf_kommune[[#This Row],[Kommunenr]],\"0\"),Table11[Nr],0),MATCH(hf_kommune[[#Headers],[2037]],Table11[#Headers],0))","v":774},{"$f":"INDEX(Table11[],MATCH(TEXT(hf_kommune[[#This Row],[Kommunenr]],\"0\"),Table11[Nr],0),MATCH(hf_kommune[[#Headers],[2038]],Table11[#Headers],0))","v":796},{"$f":"INDEX(Table11[],MATCH(TEXT(hf_kommune[[#This Row],[Kommunenr]],\"0\"),Table11[Nr],0),MATCH(hf_kommune[[#Headers],[2039]],Table11[#Headers],0))","v":809},{"$f":"INDEX(Table11[],MATCH(TEXT(hf_kommune[[#This Row],[Kommunenr]],\"0\"),Table11[Nr],0),MATCH(hf_kommune[[#Headers],[2040]],Table11[#Headers],0))","v":774},57353,57640,57906,58152,58380,58605,58827,59046,59261,59472,59678,59880,60080,60279,60477,60671,60859,61039,61214]
[1135,"Sauda","Helse Vest","Helse Fonna","Haugesund",{"$f":"INDEX(Table11[],MATCH(TEXT(hf_kommune[[#This Row],[Kommunenr]],\"0\"),Table11[Nr],0),MATCH(hf_kommune[[#Headers],[2020]],Table11[#Headers],0))","v":65},{"$f":"INDEX(Table11[],MATCH(TEXT(hf_kommune[[#This Row],[Kommunenr]],\"0\"),Table11[Nr],0),MATCH(hf_kommune[[#Headers],[2021]],Table11[#Headers],0))","v":74},{"$f":"INDEX(Table11[],MATCH(TEXT(hf_kommune[[#This Row],[Kommunenr]],\"0\"),Table11[Nr],0),MATCH(hf_kommune[[#Headers],[2022]],Table11[#Headers],0))","v":49},{"$f":"INDEX(Table11[],MATCH(TEXT(hf_kommune[[#This Row],[Kommunenr]],\"0\"),Table11[Nr],0),MATCH(hf_kommune[[#Headers],[2023]],Table11[#Headers],0))","v":58},{"$f":"INDEX(Table11[],MATCH(TEXT(hf_kommune[[#This Row],[Kommunenr]],\"0\"),Table11[Nr],0),MATCH(hf_kommune[[#Headers],[2024]],Table11[#Headers],0))","v":57},{"$f":"INDEX(Table11[],MATCH(TEXT(hf_kommune[[#This Row],[Kommunenr]],\"0\"),Table11[Nr],0),MATCH(hf_kommune[[#Headers],[2025]],Table11[#Headers],0))","v":62},{"$f":"INDEX(Table11[],MATCH(TEXT(hf_kommune[[#This Row],[Kommunenr]],\"0\"),Table11[Nr],0),MATCH(hf_kommune[[#Headers],[2026]],Table11[#Headers],0))","v":58},{"$f":"INDEX(Table11[],MATCH(TEXT(hf_kommune[[#This Row],[Kommunenr]],\"0\"),Table11[Nr],0),MATCH(hf_kommune[[#Headers],[2027]],Table11[#Headers],0))","v":52},{"$f":"INDEX(Table11[],MATCH(TEXT(hf_kommune[[#This Row],[Kommunenr]],\"0\"),Table11[Nr],0),MATCH(hf_kommune[[#Headers],[2028]],Table11[#Headers],0))","v":54},{"$f":"INDEX(Table11[],MATCH(TEXT(hf_kommune[[#This Row],[Kommunenr]],\"0\"),Table11[Nr],0),MATCH(hf_kommune[[#Headers],[2029]],Table11[#Headers],0))","v":48},{"$f":"INDEX(Table11[],MATCH(TEXT(hf_kommune[[#This Row],[Kommunenr]],\"0\"),Table11[Nr],0),MATCH(hf_kommune[[#Headers],[2030]],Table11[#Headers],0))","v":58},{"$f":"INDEX(Table11[],MATCH(TEXT(hf_kommune[[#This Row],[Kommunenr]],\"0\"),Table11[Nr],0),MATCH(hf_kommune[[#Headers],[2031]],Table11[#Headers],0))","v":60},{"$f":"INDEX(Table11[],MATCH(TEXT(hf_kommune[[#This Row],[Kommunenr]],\"0\"),Table11[Nr],0),MATCH(hf_kommune[[#Headers],[2032]],Table11[#Headers],0))","v":60},{"$f":"INDEX(Table11[],MATCH(TEXT(hf_kommune[[#This Row],[Kommunenr]],\"0\"),Table11[Nr],0),MATCH(hf_kommune[[#Headers],[2033]],Table11[#Headers],0))","v":64},{"$f":"INDEX(Table11[],MATCH(TEXT(hf_kommune[[#This Row],[Kommunenr]],\"0\"),Table11[Nr],0),MATCH(hf_kommune[[#Headers],[2034]],Table11[#Headers],0))","v":43},{"$f":"INDEX(Table11[],MATCH(TEXT(hf_kommune[[#This Row],[Kommunenr]],\"0\"),Table11[Nr],0),MATCH(hf_kommune[[#Headers],[2035]],Table11[#Headers],0))","v":57},{"$f":"INDEX(Table11[],MATCH(TEXT(hf_kommune[[#This Row],[Kommunenr]],\"0\"),Table11[Nr],0),MATCH(hf_kommune[[#Headers],[2036]],Table11[#Headers],0))","v":49},{"$f":"INDEX(Table11[],MATCH(TEXT(hf_kommune[[#This Row],[Kommunenr]],\"0\"),Table11[Nr],0),MATCH(hf_kommune[[#Headers],[2037]],Table11[#Headers],0))","v":49},{"$f":"INDEX(Table11[],MATCH(TEXT(hf_kommune[[#This Row],[Kommunenr]],\"0\"),Table11[Nr],0),MATCH(hf_kommune[[#Headers],[2038]],Table11[#Headers],0))","v":55},{"$f":"INDEX(Table11[],MATCH(TEXT(hf_kommune[[#This Row],[Kommunenr]],\"0\"),Table11[Nr],0),MATCH(hf_kommune[[#Headers],[2039]],Table11[#Headers],0))","v":54},{"$f":"INDEX(Table11[],MATCH(TEXT(hf_kommune[[#This Row],[Kommunenr]],\"0\"),Table11[Nr],0),MATCH(hf_kommune[[#Headers],[2040]],Table11[#Headers],0))","v":49},4511,4482,4459,4441,4427,4414,4402,4391,4380,4369,4360,4350,4342,4334,4327,4320,4314,4307,4300]
[3437,"Sel","Helse Sør-Øst","Sykehuset Innlandet","Lillehammer",{"$f":"INDEX(Table11[],MATCH(TEXT(hf_kommune[[#This Row],[Kommunenr]],\"0\"),Table11[Nr],0),MATCH(hf_kommune[[#Headers],[2020]],Table11[#Headers],0))","v":92},{"$f":"INDEX(Table11[],MATCH(TEXT(hf_kommune[[#This Row],[Kommunenr]],\"0\"),Table11[Nr],0),MATCH(hf_kommune[[#Headers],[2021]],Table11[#Headers],0))","v":65},{"$f":"INDEX(Table11[],MATCH(TEXT(hf_kommune[[#This Row],[Kommunenr]],\"0\"),Table11[Nr],0),MATCH(hf_kommune[[#Headers],[2022]],Table11[#Headers],0))","v":80},{"$f":"INDEX(Table11[],MATCH(TEXT(hf_kommune[[#This Row],[Kommunenr]],\"0\"),Table11[Nr],0),MATCH(hf_kommune[[#Headers],[2023]],Table11[#Headers],0))","v":75},{"$f":"INDEX(Table11[],MATCH(TEXT(hf_kommune[[#This Row],[Kommunenr]],\"0\"),Table11[Nr],0),MATCH(hf_kommune[[#Headers],[2024]],Table11[#Headers],0))","v":82},{"$f":"INDEX(Table11[],MATCH(TEXT(hf_kommune[[#This Row],[Kommunenr]],\"0\"),Table11[Nr],0),MATCH(hf_kommune[[#Headers],[2025]],Table11[#Headers],0))","v":97},{"$f":"INDEX(Table11[],MATCH(TEXT(hf_kommune[[#This Row],[Kommunenr]],\"0\"),Table11[Nr],0),MATCH(hf_kommune[[#Headers],[2026]],Table11[#Headers],0))","v":68},{"$f":"INDEX(Table11[],MATCH(TEXT(hf_kommune[[#This Row],[Kommunenr]],\"0\"),Table11[Nr],0),MATCH(hf_kommune[[#Headers],[2027]],Table11[#Headers],0))","v":90},{"$f":"INDEX(Table11[],MATCH(TEXT(hf_kommune[[#This Row],[Kommunenr]],\"0\"),Table11[Nr],0),MATCH(hf_kommune[[#Headers],[2028]],Table11[#Headers],0))","v":91},{"$f":"INDEX(Table11[],MATCH(TEXT(hf_kommune[[#This Row],[Kommunenr]],\"0\"),Table11[Nr],0),MATCH(hf_kommune[[#Headers],[2029]],Table11[#Headers],0))","v":77},{"$f":"INDEX(Table11[],MATCH(TEXT(hf_kommune[[#This Row],[Kommunenr]],\"0\"),Table11[Nr],0),MATCH(hf_kommune[[#Headers],[2030]],Table11[#Headers],0))","v":72},{"$f":"INDEX(Table11[],MATCH(TEXT(hf_kommune[[#This Row],[Kommunenr]],\"0\"),Table11[Nr],0),MATCH(hf_kommune[[#Headers],[2031]],Table11[#Headers],0))","v":86},{"$f":"INDEX(Table11[],MATCH(TEXT(hf_kommune[[#This Row],[Kommunenr]],\"0\"),Table11[Nr],0),MATCH(hf_kommune[[#Headers],[2032]],Table11[#Headers],0))","v":58},{"$f":"INDEX(Table11[],MATCH(TEXT(hf_kommune[[#This Row],[Kommunenr]],\"0\"),Table11[Nr],0),MATCH(hf_kommune[[#Headers],[2033]],Table11[#Headers],0))","v":60},{"$f":"INDEX(Table11[],MATCH(TEXT(hf_kommune[[#This Row],[Kommunenr]],\"0\"),Table11[Nr],0),MATCH(hf_kommune[[#Headers],[2034]],Table11[#Headers],0))","v":50},{"$f":"INDEX(Table11[],MATCH(TEXT(hf_kommune[[#This Row],[Kommunenr]],\"0\"),Table11[Nr],0),MATCH(hf_kommune[[#Headers],[2035]],Table11[#Headers],0))","v":47},{"$f":"INDEX(Table11[],MATCH(TEXT(hf_kommune[[#This Row],[Kommunenr]],\"0\"),Table11[Nr],0),MATCH(hf_kommune[[#Headers],[2036]],Table11[#Headers],0))","v":63},{"$f":"INDEX(Table11[],MATCH(TEXT(hf_kommune[[#This Row],[Kommunenr]],\"0\"),Table11[Nr],0),MATCH(hf_kommune[[#Headers],[2037]],Table11[#Headers],0))","v":66},{"$f":"INDEX(Table11[],MATCH(TEXT(hf_kommune[[#This Row],[Kommunenr]],\"0\"),Table11[Nr],0),MATCH(hf_kommune[[#Headers],[2038]],Table11[#Headers],0))","v":55},{"$f":"INDEX(Table11[],MATCH(TEXT(hf_kommune[[#This Row],[Kommunenr]],\"0\"),Table11[Nr],0),MATCH(hf_kommune[[#Headers],[2039]],Table11[#Headers],0))","v":58},{"$f":"INDEX(Table11[],MATCH(TEXT(hf_kommune[[#This Row],[Kommunenr]],\"0\"),Table11[Nr],0),MATCH(hf_kommune[[#Headers],[2040]],Table11[#Headers],0))","v":54},5628,5587,5554,5528,5509,5491,5475,5459,5445,5430,5417,5403,5389,5374,5361,5346,5332,5316,5301]
[5032,"Selbu","Helse Midt-Norge","St. Olavs hospital","St. Olav - Øya",{"$f":"INDEX(Table11[],MATCH(TEXT(hf_kommune[[#This Row],[Kommunenr]],\"0\"),Table11[Nr],0),MATCH(hf_kommune[[#Headers],[2020]],Table11[#Headers],0))","v":69},{"$f":"INDEX(Table11[],MATCH(TEXT(hf_kommune[[#This Row],[Kommunenr]],\"0\"),Table11[Nr],0),MATCH(hf_kommune[[#Headers],[2021]],Table11[#Headers],0))","v":64},{"$f":"INDEX(Table11[],MATCH(TEXT(hf_kommune[[#This Row],[Kommunenr]],\"0\"),Table11[Nr],0),MATCH(hf_kommune[[#Headers],[2022]],Table11[#Headers],0))","v":43},{"$f":"INDEX(Table11[],MATCH(TEXT(hf_kommune[[#This Row],[Kommunenr]],\"0\"),Table11[Nr],0),MATCH(hf_kommune[[#Headers],[2023]],Table11[#Headers],0))","v":60},{"$f":"INDEX(Table11[],MATCH(TEXT(hf_kommune[[#This Row],[Kommunenr]],\"0\"),Table11[Nr],0),MATCH(hf_kommune[[#Headers],[2024]],Table11[#Headers],0))","v":53},{"$f":"INDEX(Table11[],MATCH(TEXT(hf_kommune[[#This Row],[Kommunenr]],\"0\"),Table11[Nr],0),MATCH(hf_kommune[[#Headers],[2025]],Table11[#Headers],0))","v":60},{"$f":"INDEX(Table11[],MATCH(TEXT(hf_kommune[[#This Row],[Kommunenr]],\"0\"),Table11[Nr],0),MATCH(hf_kommune[[#Headers],[2026]],Table11[#Headers],0))","v":57},{"$f":"INDEX(Table11[],MATCH(TEXT(hf_kommune[[#This Row],[Kommunenr]],\"0\"),Table11[Nr],0),MATCH(hf_kommune[[#Headers],[2027]],Table11[#Headers],0))","v":66},{"$f":"INDEX(Table11[],MATCH(TEXT(hf_kommune[[#This Row],[Kommunenr]],\"0\"),Table11[Nr],0),MATCH(hf_kommune[[#Headers],[2028]],Table11[#Headers],0))","v":56},{"$f":"INDEX(Table11[],MATCH(TEXT(hf_kommune[[#This Row],[Kommunenr]],\"0\"),Table11[Nr],0),MATCH(hf_kommune[[#Headers],[2029]],Table11[#Headers],0))","v":61},{"$f":"INDEX(Table11[],MATCH(TEXT(hf_kommune[[#This Row],[Kommunenr]],\"0\"),Table11[Nr],0),MATCH(hf_kommune[[#Headers],[2030]],Table11[#Headers],0))","v":61},{"$f":"INDEX(Table11[],MATCH(TEXT(hf_kommune[[#This Row],[Kommunenr]],\"0\"),Table11[Nr],0),MATCH(hf_kommune[[#Headers],[2031]],Table11[#Headers],0))","v":57},{"$f":"INDEX(Table11[],MATCH(TEXT(hf_kommune[[#This Row],[Kommunenr]],\"0\"),Table11[Nr],0),MATCH(hf_kommune[[#Headers],[2032]],Table11[#Headers],0))","v":49},{"$f":"INDEX(Table11[],MATCH(TEXT(hf_kommune[[#This Row],[Kommunenr]],\"0\"),Table11[Nr],0),MATCH(hf_kommune[[#Headers],[2033]],Table11[#Headers],0))","v":45},{"$f":"INDEX(Table11[],MATCH(TEXT(hf_kommune[[#This Row],[Kommunenr]],\"0\"),Table11[Nr],0),MATCH(hf_kommune[[#Headers],[2034]],Table11[#Headers],0))","v":54},{"$f":"INDEX(Table11[],MATCH(TEXT(hf_kommune[[#This Row],[Kommunenr]],\"0\"),Table11[Nr],0),MATCH(hf_kommune[[#Headers],[2035]],Table11[#Headers],0))","v":53},{"$f":"INDEX(Table11[],MATCH(TEXT(hf_kommune[[#This Row],[Kommunenr]],\"0\"),Table11[Nr],0),MATCH(hf_kommune[[#Headers],[2036]],Table11[#Headers],0))","v":60},{"$f":"INDEX(Table11[],MATCH(TEXT(hf_kommune[[#This Row],[Kommunenr]],\"0\"),Table11[Nr],0),MATCH(hf_kommune[[#Headers],[2037]],Table11[#Headers],0))","v":49},{"$f":"INDEX(Table11[],MATCH(TEXT(hf_kommune[[#This Row],[Kommunenr]],\"0\"),Table11[Nr],0),MATCH(hf_kommune[[#Headers],[2038]],Table11[#Headers],0))","v":55},{"$f":"INDEX(Table11[],MATCH(TEXT(hf_kommune[[#This Row],[Kommunenr]],\"0\"),Table11[Nr],0),MATCH(hf_kommune[[#Headers],[2039]],Table11[#Headers],0))","v":49},{"$f":"INDEX(Table11[],MATCH(TEXT(hf_kommune[[#This Row],[Kommunenr]],\"0\"),Table11[Nr],0),MATCH(hf_kommune[[#Headers],[2040]],Table11[#Headers],0))","v":51},4048,4045,4046,4050,4058,4065,4074,4083,4092,4102,4112,4122,4133,4143,4153,4162,4171,4179,4186]
[3820,"Seljord","Helse Sør-Øst","Sykehuset Telemark","Notodden",{"$f":"INDEX(Table11[],MATCH(TEXT(hf_kommune[[#This Row],[Kommunenr]],\"0\"),Table11[Nr],0),MATCH(hf_kommune[[#Headers],[2020]],Table11[#Headers],0))","v":39},{"$f":"INDEX(Table11[],MATCH(TEXT(hf_kommune[[#This Row],[Kommunenr]],\"0\"),Table11[Nr],0),MATCH(hf_kommune[[#Headers],[2021]],Table11[#Headers],0))","v":33},{"$f":"INDEX(Table11[],MATCH(TEXT(hf_kommune[[#This Row],[Kommunenr]],\"0\"),Table11[Nr],0),MATCH(hf_kommune[[#Headers],[2022]],Table11[#Headers],0))","v":51},{"$f":"INDEX(Table11[],MATCH(TEXT(hf_kommune[[#This Row],[Kommunenr]],\"0\"),Table11[Nr],0),MATCH(hf_kommune[[#Headers],[2023]],Table11[#Headers],0))","v":40},{"$f":"INDEX(Table11[],MATCH(TEXT(hf_kommune[[#This Row],[Kommunenr]],\"0\"),Table11[Nr],0),MATCH(hf_kommune[[#Headers],[2024]],Table11[#Headers],0))","v":39},{"$f":"INDEX(Table11[],MATCH(TEXT(hf_kommune[[#This Row],[Kommunenr]],\"0\"),Table11[Nr],0),MATCH(hf_kommune[[#Headers],[2025]],Table11[#Headers],0))","v":37},{"$f":"INDEX(Table11[],MATCH(TEXT(hf_kommune[[#This Row],[Kommunenr]],\"0\"),Table11[Nr],0),MATCH(hf_kommune[[#Headers],[2026]],Table11[#Headers],0))","v":42},{"$f":"INDEX(Table11[],MATCH(TEXT(hf_kommune[[#This Row],[Kommunenr]],\"0\"),Table11[Nr],0),MATCH(hf_kommune[[#Headers],[2027]],Table11[#Headers],0))","v":39},{"$f":"INDEX(Table11[],MATCH(TEXT(hf_kommune[[#This Row],[Kommunenr]],\"0\"),Table11[Nr],0),MATCH(hf_kommune[[#Headers],[2028]],Table11[#Headers],0))","v":41},{"$f":"INDEX(Table11[],MATCH(TEXT(hf_kommune[[#This Row],[Kommunenr]],\"0\"),Table11[Nr],0),MATCH(hf_kommune[[#Headers],[2029]],Table11[#Headers],0))","v":45},{"$f":"INDEX(Table11[],MATCH(TEXT(hf_kommune[[#This Row],[Kommunenr]],\"0\"),Table11[Nr],0),MATCH(hf_kommune[[#Headers],[2030]],Table11[#Headers],0))","v":41},{"$f":"INDEX(Table11[],MATCH(TEXT(hf_kommune[[#This Row],[Kommunenr]],\"0\"),Table11[Nr],0),MATCH(hf_kommune[[#Headers],[2031]],Table11[#Headers],0))","v":40},{"$f":"INDEX(Table11[],MATCH(TEXT(hf_kommune[[#This Row],[Kommunenr]],\"0\"),Table11[Nr],0),MATCH(hf_kommune[[#Headers],[2032]],Table11[#Headers],0))","v":42},{"$f":"INDEX(Table11[],MATCH(TEXT(hf_kommune[[#This Row],[Kommunenr]],\"0\"),Table11[Nr],0),MATCH(hf_kommune[[#Headers],[2033]],Table11[#Headers],0))","v":33},{"$f":"INDEX(Table11[],MATCH(TEXT(hf_kommune[[#This Row],[Kommunenr]],\"0\"),Table11[Nr],0),MATCH(hf_kommune[[#Headers],[2034]],Table11[#Headers],0))","v":38},{"$f":"INDEX(Table11[],MATCH(TEXT(hf_kommune[[#This Row],[Kommunenr]],\"0\"),Table11[Nr],0),MATCH(hf_kommune[[#Headers],[2035]],Table11[#Headers],0))","v":33},{"$f":"INDEX(Table11[],MATCH(TEXT(hf_kommune[[#This Row],[Kommunenr]],\"0\"),Table11[Nr],0),MATCH(hf_kommune[[#Headers],[2036]],Table11[#Headers],0))","v":34},{"$f":"INDEX(Table11[],MATCH(TEXT(hf_kommune[[#This Row],[Kommunenr]],\"0\"),Table11[Nr],0),MATCH(hf_kommune[[#Headers],[2037]],Table11[#Headers],0))","v":38},{"$f":"INDEX(Table11[],MATCH(TEXT(hf_kommune[[#This Row],[Kommunenr]],\"0\"),Table11[Nr],0),MATCH(hf_kommune[[#Headers],[2038]],Table11[#Headers],0))","v":37},{"$f":"INDEX(Table11[],MATCH(TEXT(hf_kommune[[#This Row],[Kommunenr]],\"0\"),Table11[Nr],0),MATCH(hf_kommune[[#Headers],[2039]],Table11[#Headers],0))","v":30},{"$f":"INDEX(Table11[],MATCH(TEXT(hf_kommune[[#This Row],[Kommunenr]],\"0\"),Table11[Nr],0),MATCH(hf_kommune[[#Headers],[2040]],Table11[#Headers],0))","v":37},2867,2861,2858,2858,2860,2861,2862,2863,2864,2864,2865,2865,2866,2867,2867,2867,2867,2867,2867]
[5421,"Senja","Helse Nord","Universitetssykehuset Nord-Norge","Harstad",{"$f":"INDEX(Table11[],MATCH(TEXT(hf_kommune[[#This Row],[Kommunenr]],\"0\"),Table11[Nr],0),MATCH(hf_kommune[[#Headers],[2020]],Table11[#Headers],0))","v":222},{"$f":"INDEX(Table11[],MATCH(TEXT(hf_kommune[[#This Row],[Kommunenr]],\"0\"),Table11[Nr],0),MATCH(hf_kommune[[#Headers],[2021]],Table11[#Headers],0))","v":216},{"$f":"INDEX(Table11[],MATCH(TEXT(hf_kommune[[#This Row],[Kommunenr]],\"0\"),Table11[Nr],0),MATCH(hf_kommune[[#Headers],[2022]],Table11[#Headers],0))","v":207},{"$f":"INDEX(Table11[],MATCH(TEXT(hf_kommune[[#This Row],[Kommunenr]],\"0\"),Table11[Nr],0),MATCH(hf_kommune[[#Headers],[2023]],Table11[#Headers],0))","v":212},{"$f":"INDEX(Table11[],MATCH(TEXT(hf_kommune[[#This Row],[Kommunenr]],\"0\"),Table11[Nr],0),MATCH(hf_kommune[[#Headers],[2024]],Table11[#Headers],0))","v":208},{"$f":"INDEX(Table11[],MATCH(TEXT(hf_kommune[[#This Row],[Kommunenr]],\"0\"),Table11[Nr],0),MATCH(hf_kommune[[#Headers],[2025]],Table11[#Headers],0))","v":206},{"$f":"INDEX(Table11[],MATCH(TEXT(hf_kommune[[#This Row],[Kommunenr]],\"0\"),Table11[Nr],0),MATCH(hf_kommune[[#Headers],[2026]],Table11[#Headers],0))","v":192},{"$f":"INDEX(Table11[],MATCH(TEXT(hf_kommune[[#This Row],[Kommunenr]],\"0\"),Table11[Nr],0),MATCH(hf_kommune[[#Headers],[2027]],Table11[#Headers],0))","v":197},{"$f":"INDEX(Table11[],MATCH(TEXT(hf_kommune[[#This Row],[Kommunenr]],\"0\"),Table11[Nr],0),MATCH(hf_kommune[[#Headers],[2028]],Table11[#Headers],0))","v":218},{"$f":"INDEX(Table11[],MATCH(TEXT(hf_kommune[[#This Row],[Kommunenr]],\"0\"),Table11[Nr],0),MATCH(hf_kommune[[#Headers],[2029]],Table11[#Headers],0))","v":196},{"$f":"INDEX(Table11[],MATCH(TEXT(hf_kommune[[#This Row],[Kommunenr]],\"0\"),Table11[Nr],0),MATCH(hf_kommune[[#Headers],[2030]],Table11[#Headers],0))","v":192},{"$f":"INDEX(Table11[],MATCH(TEXT(hf_kommune[[#This Row],[Kommunenr]],\"0\"),Table11[Nr],0),MATCH(hf_kommune[[#Headers],[2031]],Table11[#Headers],0))","v":181},{"$f":"INDEX(Table11[],MATCH(TEXT(hf_kommune[[#This Row],[Kommunenr]],\"0\"),Table11[Nr],0),MATCH(hf_kommune[[#Headers],[2032]],Table11[#Headers],0))","v":180},{"$f":"INDEX(Table11[],MATCH(TEXT(hf_kommune[[#This Row],[Kommunenr]],\"0\"),Table11[Nr],0),MATCH(hf_kommune[[#Headers],[2033]],Table11[#Headers],0))","v":172},{"$f":"INDEX(Table11[],MATCH(TEXT(hf_kommune[[#This Row],[Kommunenr]],\"0\"),Table11[Nr],0),MATCH(hf_kommune[[#Headers],[2034]],Table11[#Headers],0))","v":170},{"$f":"INDEX(Table11[],MATCH(TEXT(hf_kommune[[#This Row],[Kommunenr]],\"0\"),Table11[Nr],0),MATCH(hf_kommune[[#Headers],[2035]],Table11[#Headers],0))","v":156},{"$f":"INDEX(Table11[],MATCH(TEXT(hf_kommune[[#This Row],[Kommunenr]],\"0\"),Table11[Nr],0),MATCH(hf_kommune[[#Headers],[2036]],Table11[#Headers],0))","v":155},{"$f":"INDEX(Table11[],MATCH(TEXT(hf_kommune[[#This Row],[Kommunenr]],\"0\"),Table11[Nr],0),MATCH(hf_kommune[[#Headers],[2037]],Table11[#Headers],0))","v":177},{"$f":"INDEX(Table11[],MATCH(TEXT(hf_kommune[[#This Row],[Kommunenr]],\"0\"),Table11[Nr],0),MATCH(hf_kommune[[#Headers],[2038]],Table11[#Headers],0))","v":168},{"$f":"INDEX(Table11[],MATCH(TEXT(hf_kommune[[#This Row],[Kommunenr]],\"0\"),Table11[Nr],0),MATCH(hf_kommune[[#Headers],[2039]],Table11[#Headers],0))","v":188},{"$f":"INDEX(Table11[],MATCH(TEXT(hf_kommune[[#This Row],[Kommunenr]],\"0\"),Table11[Nr],0),MATCH(hf_kommune[[#Headers],[2040]],Table11[#Headers],0))","v":170},14634,14566,14516,14483,14467,14452,14438,14425,14413,14402,14392,14383,14375,14369,14363,14358,14353,14346,14339]
[3045,"Sigdal","Helse Sør-Øst","Vestre Viken","Kongsberg",{"$f":"INDEX(Table11[],MATCH(TEXT(hf_kommune[[#This Row],[Kommunenr]],\"0\"),Table11[Nr],0),MATCH(hf_kommune[[#Headers],[2020]],Table11[#Headers],0))","v":51},{"$f":"INDEX(Table11[],MATCH(TEXT(hf_kommune[[#This Row],[Kommunenr]],\"0\"),Table11[Nr],0),MATCH(hf_kommune[[#Headers],[2021]],Table11[#Headers],0))","v":57},{"$f":"INDEX(Table11[],MATCH(TEXT(hf_kommune[[#This Row],[Kommunenr]],\"0\"),Table11[Nr],0),MATCH(hf_kommune[[#Headers],[2022]],Table11[#Headers],0))","v":45},{"$f":"INDEX(Table11[],MATCH(TEXT(hf_kommune[[#This Row],[Kommunenr]],\"0\"),Table11[Nr],0),MATCH(hf_kommune[[#Headers],[2023]],Table11[#Headers],0))","v":54},{"$f":"INDEX(Table11[],MATCH(TEXT(hf_kommune[[#This Row],[Kommunenr]],\"0\"),Table11[Nr],0),MATCH(hf_kommune[[#Headers],[2024]],Table11[#Headers],0))","v":65},{"$f":"INDEX(Table11[],MATCH(TEXT(hf_kommune[[#This Row],[Kommunenr]],\"0\"),Table11[Nr],0),MATCH(hf_kommune[[#Headers],[2025]],Table11[#Headers],0))","v":60},{"$f":"INDEX(Table11[],MATCH(TEXT(hf_kommune[[#This Row],[Kommunenr]],\"0\"),Table11[Nr],0),MATCH(hf_kommune[[#Headers],[2026]],Table11[#Headers],0))","v":51},{"$f":"INDEX(Table11[],MATCH(TEXT(hf_kommune[[#This Row],[Kommunenr]],\"0\"),Table11[Nr],0),MATCH(hf_kommune[[#Headers],[2027]],Table11[#Headers],0))","v":54},{"$f":"INDEX(Table11[],MATCH(TEXT(hf_kommune[[#This Row],[Kommunenr]],\"0\"),Table11[Nr],0),MATCH(hf_kommune[[#Headers],[2028]],Table11[#Headers],0))","v":48},{"$f":"INDEX(Table11[],MATCH(TEXT(hf_kommune[[#This Row],[Kommunenr]],\"0\"),Table11[Nr],0),MATCH(hf_kommune[[#Headers],[2029]],Table11[#Headers],0))","v":55},{"$f":"INDEX(Table11[],MATCH(TEXT(hf_kommune[[#This Row],[Kommunenr]],\"0\"),Table11[Nr],0),MATCH(hf_kommune[[#Headers],[2030]],Table11[#Headers],0))","v":64},{"$f":"INDEX(Table11[],MATCH(TEXT(hf_kommune[[#This Row],[Kommunenr]],\"0\"),Table11[Nr],0),MATCH(hf_kommune[[#Headers],[2031]],Table11[#Headers],0))","v":39},{"$f":"INDEX(Table11[],MATCH(TEXT(hf_kommune[[#This Row],[Kommunenr]],\"0\"),Table11[Nr],0),MATCH(hf_kommune[[#Headers],[2032]],Table11[#Headers],0))","v":39},{"$f":"INDEX(Table11[],MATCH(TEXT(hf_kommune[[#This Row],[Kommunenr]],\"0\"),Table11[Nr],0),MATCH(hf_kommune[[#Headers],[2033]],Table11[#Headers],0))","v":45},{"$f":"INDEX(Table11[],MATCH(TEXT(hf_kommune[[#This Row],[Kommunenr]],\"0\"),Table11[Nr],0),MATCH(hf_kommune[[#Headers],[2034]],Table11[#Headers],0))","v":48},{"$f":"INDEX(Table11[],MATCH(TEXT(hf_kommune[[#This Row],[Kommunenr]],\"0\"),Table11[Nr],0),MATCH(hf_kommune[[#Headers],[2035]],Table11[#Headers],0))","v":38},{"$f":"INDEX(Table11[],MATCH(TEXT(hf_kommune[[#This Row],[Kommunenr]],\"0\"),Table11[Nr],0),MATCH(hf_kommune[[#Headers],[2036]],Table11[#Headers],0))","v":54},{"$f":"INDEX(Table11[],MATCH(TEXT(hf_kommune[[#This Row],[Kommunenr]],\"0\"),Table11[Nr],0),MATCH(hf_kommune[[#Headers],[2037]],Table11[#Headers],0))","v":47},{"$f":"INDEX(Table11[],MATCH(TEXT(hf_kommune[[#This Row],[Kommunenr]],\"0\"),Table11[Nr],0),MATCH(hf_kommune[[#Headers],[2038]],Table11[#Headers],0))","v":39},{"$f":"INDEX(Table11[],MATCH(TEXT(hf_kommune[[#This Row],[Kommunenr]],\"0\"),Table11[Nr],0),MATCH(hf_kommune[[#Headers],[2039]],Table11[#Headers],0))","v":44},{"$f":"INDEX(Table11[],MATCH(TEXT(hf_kommune[[#This Row],[Kommunenr]],\"0\"),Table11[Nr],0),MATCH(hf_kommune[[#Headers],[2040]],Table11[#Headers],0))","v":44},3401,3378,3361,3349,3344,3339,3335,3332,3329,3328,3327,3327,3328,3329,3331,3333,3334,3336,3337]
[3812,"Siljan","Helse Sør-Øst","Sykehuset Telemark","Skien",{"$f":"INDEX(Table11[],MATCH(TEXT(hf_kommune[[#This Row],[Kommunenr]],\"0\"),Table11[Nr],0),MATCH(hf_kommune[[#Headers],[2020]],Table11[#Headers],0))","v":43},{"$f":"INDEX(Table11[],MATCH(TEXT(hf_kommune[[#This Row],[Kommunenr]],\"0\"),Table11[Nr],0),MATCH(hf_kommune[[#Headers],[2021]],Table11[#Headers],0))","v":28},{"$f":"INDEX(Table11[],MATCH(TEXT(hf_kommune[[#This Row],[Kommunenr]],\"0\"),Table11[Nr],0),MATCH(hf_kommune[[#Headers],[2022]],Table11[#Headers],0))","v":29},{"$f":"INDEX(Table11[],MATCH(TEXT(hf_kommune[[#This Row],[Kommunenr]],\"0\"),Table11[Nr],0),MATCH(hf_kommune[[#Headers],[2023]],Table11[#Headers],0))","v":35},{"$f":"INDEX(Table11[],MATCH(TEXT(hf_kommune[[#This Row],[Kommunenr]],\"0\"),Table11[Nr],0),MATCH(hf_kommune[[#Headers],[2024]],Table11[#Headers],0))","v":27},{"$f":"INDEX(Table11[],MATCH(TEXT(hf_kommune[[#This Row],[Kommunenr]],\"0\"),Table11[Nr],0),MATCH(hf_kommune[[#Headers],[2025]],Table11[#Headers],0))","v":38},{"$f":"INDEX(Table11[],MATCH(TEXT(hf_kommune[[#This Row],[Kommunenr]],\"0\"),Table11[Nr],0),MATCH(hf_kommune[[#Headers],[2026]],Table11[#Headers],0))","v":34},{"$f":"INDEX(Table11[],MATCH(TEXT(hf_kommune[[#This Row],[Kommunenr]],\"0\"),Table11[Nr],0),MATCH(hf_kommune[[#Headers],[2027]],Table11[#Headers],0))","v":30},{"$f":"INDEX(Table11[],MATCH(TEXT(hf_kommune[[#This Row],[Kommunenr]],\"0\"),Table11[Nr],0),MATCH(hf_kommune[[#Headers],[2028]],Table11[#Headers],0))","v":34},{"$f":"INDEX(Table11[],MATCH(TEXT(hf_kommune[[#This Row],[Kommunenr]],\"0\"),Table11[Nr],0),MATCH(hf_kommune[[#Headers],[2029]],Table11[#Headers],0))","v":32},{"$f":"INDEX(Table11[],MATCH(TEXT(hf_kommune[[#This Row],[Kommunenr]],\"0\"),Table11[Nr],0),MATCH(hf_kommune[[#Headers],[2030]],Table11[#Headers],0))","v":36},{"$f":"INDEX(Table11[],MATCH(TEXT(hf_kommune[[#This Row],[Kommunenr]],\"0\"),Table11[Nr],0),MATCH(hf_kommune[[#Headers],[2031]],Table11[#Headers],0))","v":28},{"$f":"INDEX(Table11[],MATCH(TEXT(hf_kommune[[#This Row],[Kommunenr]],\"0\"),Table11[Nr],0),MATCH(hf_kommune[[#Headers],[2032]],Table11[#Headers],0))","v":33},{"$f":"INDEX(Table11[],MATCH(TEXT(hf_kommune[[#This Row],[Kommunenr]],\"0\"),Table11[Nr],0),MATCH(hf_kommune[[#Headers],[2033]],Table11[#Headers],0))","v":38},{"$f":"INDEX(Table11[],MATCH(TEXT(hf_kommune[[#This Row],[Kommunenr]],\"0\"),Table11[Nr],0),MATCH(hf_kommune[[#Headers],[2034]],Table11[#Headers],0))","v":27},{"$f":"INDEX(Table11[],MATCH(TEXT(hf_kommune[[#This Row],[Kommunenr]],\"0\"),Table11[Nr],0),MATCH(hf_kommune[[#Headers],[2035]],Table11[#Headers],0))","v":29},{"$f":"INDEX(Table11[],MATCH(TEXT(hf_kommune[[#This Row],[Kommunenr]],\"0\"),Table11[Nr],0),MATCH(hf_kommune[[#Headers],[2036]],Table11[#Headers],0))","v":30},{"$f":"INDEX(Table11[],MATCH(TEXT(hf_kommune[[#This Row],[Kommunenr]],\"0\"),Table11[Nr],0),MATCH(hf_kommune[[#Headers],[2037]],Table11[#Headers],0))","v":34},{"$f":"INDEX(Table11[],MATCH(TEXT(hf_kommune[[#This Row],[Kommunenr]],\"0\"),Table11[Nr],0),MATCH(hf_kommune[[#Headers],[2038]],Table11[#Headers],0))","v":30},{"$f":"INDEX(Table11[],MATCH(TEXT(hf_kommune[[#This Row],[Kommunenr]],\"0\"),Table11[Nr],0),MATCH(hf_kommune[[#Headers],[2039]],Table11[#Headers],0))","v":30},{"$f":"INDEX(Table11[],MATCH(TEXT(hf_kommune[[#This Row],[Kommunenr]],\"0\"),Table11[Nr],0),MATCH(hf_kommune[[#Headers],[2040]],Table11[#Headers],0))","v":30},2391,2413,2434,2453,2472,2489,2506,2523,2540,2557,2574,2591,2607,2624,2640,2655,2669,2683,2696]
[4228,"Sirdal","Helse Sør-Øst","Sørlandet sykehus","Flekkefjord",{"$f":"INDEX(Table11[],MATCH(TEXT(hf_kommune[[#This Row],[Kommunenr]],\"0\"),Table11[Nr],0),MATCH(hf_kommune[[#Headers],[2020]],Table11[#Headers],0))","v":23},{"$f":"INDEX(Table11[],MATCH(TEXT(hf_kommune[[#This Row],[Kommunenr]],\"0\"),Table11[Nr],0),MATCH(hf_kommune[[#Headers],[2021]],Table11[#Headers],0))","v":24},{"$f":"INDEX(Table11[],MATCH(TEXT(hf_kommune[[#This Row],[Kommunenr]],\"0\"),Table11[Nr],0),MATCH(hf_kommune[[#Headers],[2022]],Table11[#Headers],0))","v":26},{"$f":"INDEX(Table11[],MATCH(TEXT(hf_kommune[[#This Row],[Kommunenr]],\"0\"),Table11[Nr],0),MATCH(hf_kommune[[#Headers],[2023]],Table11[#Headers],0))","v":27},{"$f":"INDEX(Table11[],MATCH(TEXT(hf_kommune[[#This Row],[Kommunenr]],\"0\"),Table11[Nr],0),MATCH(hf_kommune[[#Headers],[2024]],Table11[#Headers],0))","v":27},{"$f":"INDEX(Table11[],MATCH(TEXT(hf_kommune[[#This Row],[Kommunenr]],\"0\"),Table11[Nr],0),MATCH(hf_kommune[[#Headers],[2025]],Table11[#Headers],0))","v":21},{"$f":"INDEX(Table11[],MATCH(TEXT(hf_kommune[[#This Row],[Kommunenr]],\"0\"),Table11[Nr],0),MATCH(hf_kommune[[#Headers],[2026]],Table11[#Headers],0))","v":30},{"$f":"INDEX(Table11[],MATCH(TEXT(hf_kommune[[#This Row],[Kommunenr]],\"0\"),Table11[Nr],0),MATCH(hf_kommune[[#Headers],[2027]],Table11[#Headers],0))","v":35},{"$f":"INDEX(Table11[],MATCH(TEXT(hf_kommune[[#This Row],[Kommunenr]],\"0\"),Table11[Nr],0),MATCH(hf_kommune[[#Headers],[2028]],Table11[#Headers],0))","v":24},{"$f":"INDEX(Table11[],MATCH(TEXT(hf_kommune[[#This Row],[Kommunenr]],\"0\"),Table11[Nr],0),MATCH(hf_kommune[[#Headers],[2029]],Table11[#Headers],0))","v":22},{"$f":"INDEX(Table11[],MATCH(TEXT(hf_kommune[[#This Row],[Kommunenr]],\"0\"),Table11[Nr],0),MATCH(hf_kommune[[#Headers],[2030]],Table11[#Headers],0))","v":25},{"$f":"INDEX(Table11[],MATCH(TEXT(hf_kommune[[#This Row],[Kommunenr]],\"0\"),Table11[Nr],0),MATCH(hf_kommune[[#Headers],[2031]],Table11[#Headers],0))","v":21},{"$f":"INDEX(Table11[],MATCH(TEXT(hf_kommune[[#This Row],[Kommunenr]],\"0\"),Table11[Nr],0),MATCH(hf_kommune[[#Headers],[2032]],Table11[#Headers],0))","v":23},{"$f":"INDEX(Table11[],MATCH(TEXT(hf_kommune[[#This Row],[Kommunenr]],\"0\"),Table11[Nr],0),MATCH(hf_kommune[[#Headers],[2033]],Table11[#Headers],0))","v":23},{"$f":"INDEX(Table11[],MATCH(TEXT(hf_kommune[[#This Row],[Kommunenr]],\"0\"),Table11[Nr],0),MATCH(hf_kommune[[#Headers],[2034]],Table11[#Headers],0))","v":24},{"$f":"INDEX(Table11[],MATCH(TEXT(hf_kommune[[#This Row],[Kommunenr]],\"0\"),Table11[Nr],0),MATCH(hf_kommune[[#Headers],[2035]],Table11[#Headers],0))","v":28},{"$f":"INDEX(Table11[],MATCH(TEXT(hf_kommune[[#This Row],[Kommunenr]],\"0\"),Table11[Nr],0),MATCH(hf_kommune[[#Headers],[2036]],Table11[#Headers],0))","v":26},{"$f":"INDEX(Table11[],MATCH(TEXT(hf_kommune[[#This Row],[Kommunenr]],\"0\"),Table11[Nr],0),MATCH(hf_kommune[[#Headers],[2037]],Table11[#Headers],0))","v":18},{"$f":"INDEX(Table11[],MATCH(TEXT(hf_kommune[[#This Row],[Kommunenr]],\"0\"),Table11[Nr],0),MATCH(hf_kommune[[#Headers],[2038]],Table11[#Headers],0))","v":18},{"$f":"INDEX(Table11[],MATCH(TEXT(hf_kommune[[#This Row],[Kommunenr]],\"0\"),Table11[Nr],0),MATCH(hf_kommune[[#Headers],[2039]],Table11[#Headers],0))","v":24},{"$f":"INDEX(Table11[],MATCH(TEXT(hf_kommune[[#This Row],[Kommunenr]],\"0\"),Table11[Nr],0),MATCH(hf_kommune[[#Headers],[2040]],Table11[#Headers],0))","v":23},1776,1762,1753,1750,1750,1752,1753,1754,1756,1757,1759,1760,1761,1763,1765,1767,1769,1772,1774]
[5029,"Skaun","Helse Midt-Norge","St. Olavs hospital","St. Olav - Orkdal",{"$f":"INDEX(Table11[],MATCH(TEXT(hf_kommune[[#This Row],[Kommunenr]],\"0\"),Table11[Nr],0),MATCH(hf_kommune[[#Headers],[2020]],Table11[#Headers],0))","v":109},{"$f":"INDEX(Table11[],MATCH(TEXT(hf_kommune[[#This Row],[Kommunenr]],\"0\"),Table11[Nr],0),MATCH(hf_kommune[[#Headers],[2021]],Table11[#Headers],0))","v":109},{"$f":"INDEX(Table11[],MATCH(TEXT(hf_kommune[[#This Row],[Kommunenr]],\"0\"),Table11[Nr],0),MATCH(hf_kommune[[#Headers],[2022]],Table11[#Headers],0))","v":110},{"$f":"INDEX(Table11[],MATCH(TEXT(hf_kommune[[#This Row],[Kommunenr]],\"0\"),Table11[Nr],0),MATCH(hf_kommune[[#Headers],[2023]],Table11[#Headers],0))","v":106},{"$f":"INDEX(Table11[],MATCH(TEXT(hf_kommune[[#This Row],[Kommunenr]],\"0\"),Table11[Nr],0),MATCH(hf_kommune[[#Headers],[2024]],Table11[#Headers],0))","v":123},{"$f":"INDEX(Table11[],MATCH(TEXT(hf_kommune[[#This Row],[Kommunenr]],\"0\"),Table11[Nr],0),MATCH(hf_kommune[[#Headers],[2025]],Table11[#Headers],0))","v":119},{"$f":"INDEX(Table11[],MATCH(TEXT(hf_kommune[[#This Row],[Kommunenr]],\"0\"),Table11[Nr],0),MATCH(hf_kommune[[#Headers],[2026]],Table11[#Headers],0))","v":125},{"$f":"INDEX(Table11[],MATCH(TEXT(hf_kommune[[#This Row],[Kommunenr]],\"0\"),Table11[Nr],0),MATCH(hf_kommune[[#Headers],[2027]],Table11[#Headers],0))","v":121},{"$f":"INDEX(Table11[],MATCH(TEXT(hf_kommune[[#This Row],[Kommunenr]],\"0\"),Table11[Nr],0),MATCH(hf_kommune[[#Headers],[2028]],Table11[#Headers],0))","v":123},{"$f":"INDEX(Table11[],MATCH(TEXT(hf_kommune[[#This Row],[Kommunenr]],\"0\"),Table11[Nr],0),MATCH(hf_kommune[[#Headers],[2029]],Table11[#Headers],0))","v":121},{"$f":"INDEX(Table11[],MATCH(TEXT(hf_kommune[[#This Row],[Kommunenr]],\"0\"),Table11[Nr],0),MATCH(hf_kommune[[#Headers],[2030]],Table11[#Headers],0))","v":111},{"$f":"INDEX(Table11[],MATCH(TEXT(hf_kommune[[#This Row],[Kommunenr]],\"0\"),Table11[Nr],0),MATCH(hf_kommune[[#Headers],[2031]],Table11[#Headers],0))","v":124},{"$f":"INDEX(Table11[],MATCH(TEXT(hf_kommune[[#This Row],[Kommunenr]],\"0\"),Table11[Nr],0),MATCH(hf_kommune[[#Headers],[2032]],Table11[#Headers],0))","v":119},{"$f":"INDEX(Table11[],MATCH(TEXT(hf_kommune[[#This Row],[Kommunenr]],\"0\"),Table11[Nr],0),MATCH(hf_kommune[[#Headers],[2033]],Table11[#Headers],0))","v":115},{"$f":"INDEX(Table11[],MATCH(TEXT(hf_kommune[[#This Row],[Kommunenr]],\"0\"),Table11[Nr],0),MATCH(hf_kommune[[#Headers],[2034]],Table11[#Headers],0))","v":122},{"$f":"INDEX(Table11[],MATCH(TEXT(hf_kommune[[#This Row],[Kommunenr]],\"0\"),Table11[Nr],0),MATCH(hf_kommune[[#Headers],[2035]],Table11[#Headers],0))","v":111},{"$f":"INDEX(Table11[],MATCH(TEXT(hf_kommune[[#This Row],[Kommunenr]],\"0\"),Table11[Nr],0),MATCH(hf_kommune[[#Headers],[2036]],Table11[#Headers],0))","v":124},{"$f":"INDEX(Table11[],MATCH(TEXT(hf_kommune[[#This Row],[Kommunenr]],\"0\"),Table11[Nr],0),MATCH(hf_kommune[[#Headers],[2037]],Table11[#Headers],0))","v":124},{"$f":"INDEX(Table11[],MATCH(TEXT(hf_kommune[[#This Row],[Kommunenr]],\"0\"),Table11[Nr],0),MATCH(hf_kommune[[#Headers],[2038]],Table11[#Headers],0))","v":123},{"$f":"INDEX(Table11[],MATCH(TEXT(hf_kommune[[#This Row],[Kommunenr]],\"0\"),Table11[Nr],0),MATCH(hf_kommune[[#Headers],[2039]],Table11[#Headers],0))","v":135},{"$f":"INDEX(Table11[],MATCH(TEXT(hf_kommune[[#This Row],[Kommunenr]],\"0\"),Table11[Nr],0),MATCH(hf_kommune[[#Headers],[2040]],Table11[#Headers],0))","v":126},8492,8589,8692,8801,8915,9023,9127,9227,9323,9416,9506,9593,9678,9762,9845,9927,10008,10088,10165]
[3807,"Skien","Helse Sør-Øst","Sykehuset Telemark","Skien",{"$f":"INDEX(Table11[],MATCH(TEXT(hf_kommune[[#This Row],[Kommunenr]],\"0\"),Table11[Nr],0),MATCH(hf_kommune[[#Headers],[2020]],Table11[#Headers],0))","v":735},{"$f":"INDEX(Table11[],MATCH(TEXT(hf_kommune[[#This Row],[Kommunenr]],\"0\"),Table11[Nr],0),MATCH(hf_kommune[[#Headers],[2021]],Table11[#Headers],0))","v":798},{"$f":"INDEX(Table11[],MATCH(TEXT(hf_kommune[[#This Row],[Kommunenr]],\"0\"),Table11[Nr],0),MATCH(hf_kommune[[#Headers],[2022]],Table11[#Headers],0))","v":814},{"$f":"INDEX(Table11[],MATCH(TEXT(hf_kommune[[#This Row],[Kommunenr]],\"0\"),Table11[Nr],0),MATCH(hf_kommune[[#Headers],[2023]],Table11[#Headers],0))","v":806},{"$f":"INDEX(Table11[],MATCH(TEXT(hf_kommune[[#This Row],[Kommunenr]],\"0\"),Table11[Nr],0),MATCH(hf_kommune[[#Headers],[2024]],Table11[#Headers],0))","v":794},{"$f":"INDEX(Table11[],MATCH(TEXT(hf_kommune[[#This Row],[Kommunenr]],\"0\"),Table11[Nr],0),MATCH(hf_kommune[[#Headers],[2025]],Table11[#Headers],0))","v":798},{"$f":"INDEX(Table11[],MATCH(TEXT(hf_kommune[[#This Row],[Kommunenr]],\"0\"),Table11[Nr],0),MATCH(hf_kommune[[#Headers],[2026]],Table11[#Headers],0))","v":826},{"$f":"INDEX(Table11[],MATCH(TEXT(hf_kommune[[#This Row],[Kommunenr]],\"0\"),Table11[Nr],0),MATCH(hf_kommune[[#Headers],[2027]],Table11[#Headers],0))","v":799},{"$f":"INDEX(Table11[],MATCH(TEXT(hf_kommune[[#This Row],[Kommunenr]],\"0\"),Table11[Nr],0),MATCH(hf_kommune[[#Headers],[2028]],Table11[#Headers],0))","v":816},{"$f":"INDEX(Table11[],MATCH(TEXT(hf_kommune[[#This Row],[Kommunenr]],\"0\"),Table11[Nr],0),MATCH(hf_kommune[[#Headers],[2029]],Table11[#Headers],0))","v":795},{"$f":"INDEX(Table11[],MATCH(TEXT(hf_kommune[[#This Row],[Kommunenr]],\"0\"),Table11[Nr],0),MATCH(hf_kommune[[#Headers],[2030]],Table11[#Headers],0))","v":787},{"$f":"INDEX(Table11[],MATCH(TEXT(hf_kommune[[#This Row],[Kommunenr]],\"0\"),Table11[Nr],0),MATCH(hf_kommune[[#Headers],[2031]],Table11[#Headers],0))","v":723},{"$f":"INDEX(Table11[],MATCH(TEXT(hf_kommune[[#This Row],[Kommunenr]],\"0\"),Table11[Nr],0),MATCH(hf_kommune[[#Headers],[2032]],Table11[#Headers],0))","v":721},{"$f":"INDEX(Table11[],MATCH(TEXT(hf_kommune[[#This Row],[Kommunenr]],\"0\"),Table11[Nr],0),MATCH(hf_kommune[[#Headers],[2033]],Table11[#Headers],0))","v":698},{"$f":"INDEX(Table11[],MATCH(TEXT(hf_kommune[[#This Row],[Kommunenr]],\"0\"),Table11[Nr],0),MATCH(hf_kommune[[#Headers],[2034]],Table11[#Headers],0))","v":689},{"$f":"INDEX(Table11[],MATCH(TEXT(hf_kommune[[#This Row],[Kommunenr]],\"0\"),Table11[Nr],0),MATCH(hf_kommune[[#Headers],[2035]],Table11[#Headers],0))","v":682},{"$f":"INDEX(Table11[],MATCH(TEXT(hf_kommune[[#This Row],[Kommunenr]],\"0\"),Table11[Nr],0),MATCH(hf_kommune[[#Headers],[2036]],Table11[#Headers],0))","v":698},{"$f":"INDEX(Table11[],MATCH(TEXT(hf_kommune[[#This Row],[Kommunenr]],\"0\"),Table11[Nr],0),MATCH(hf_kommune[[#Headers],[2037]],Table11[#Headers],0))","v":727},{"$f":"INDEX(Table11[],MATCH(TEXT(hf_kommune[[#This Row],[Kommunenr]],\"0\"),Table11[Nr],0),MATCH(hf_kommune[[#Headers],[2038]],Table11[#Headers],0))","v":724},{"$f":"INDEX(Table11[],MATCH(TEXT(hf_kommune[[#This Row],[Kommunenr]],\"0\"),Table11[Nr],0),MATCH(hf_kommune[[#Headers],[2039]],Table11[#Headers],0))","v":691},{"$f":"INDEX(Table11[],MATCH(TEXT(hf_kommune[[#This Row],[Kommunenr]],\"0\"),Table11[Nr],0),MATCH(hf_kommune[[#Headers],[2040]],Table11[#Headers],0))","v":718},55018,55126,55262,55424,55614,55798,55978,56153,56321,56482,56637,56786,56931,57073,57214,57350,57479,57601,57718]
[3015,"Skiptvet","Helse Sør-Øst","Sykehuset Østfold","Kalnes",{"$f":"INDEX(Table11[],MATCH(TEXT(hf_kommune[[#This Row],[Kommunenr]],\"0\"),Table11[Nr],0),MATCH(hf_kommune[[#Headers],[2020]],Table11[#Headers],0))","v":73},{"$f":"INDEX(Table11[],MATCH(TEXT(hf_kommune[[#This Row],[Kommunenr]],\"0\"),Table11[Nr],0),MATCH(hf_kommune[[#Headers],[2021]],Table11[#Headers],0))","v":54},{"$f":"INDEX(Table11[],MATCH(TEXT(hf_kommune[[#This Row],[Kommunenr]],\"0\"),Table11[Nr],0),MATCH(hf_kommune[[#Headers],[2022]],Table11[#Headers],0))","v":61},{"$f":"INDEX(Table11[],MATCH(TEXT(hf_kommune[[#This Row],[Kommunenr]],\"0\"),Table11[Nr],0),MATCH(hf_kommune[[#Headers],[2023]],Table11[#Headers],0))","v":50},{"$f":"INDEX(Table11[],MATCH(TEXT(hf_kommune[[#This Row],[Kommunenr]],\"0\"),Table11[Nr],0),MATCH(hf_kommune[[#Headers],[2024]],Table11[#Headers],0))","v":48},{"$f":"INDEX(Table11[],MATCH(TEXT(hf_kommune[[#This Row],[Kommunenr]],\"0\"),Table11[Nr],0),MATCH(hf_kommune[[#Headers],[2025]],Table11[#Headers],0))","v":54},{"$f":"INDEX(Table11[],MATCH(TEXT(hf_kommune[[#This Row],[Kommunenr]],\"0\"),Table11[Nr],0),MATCH(hf_kommune[[#Headers],[2026]],Table11[#Headers],0))","v":55},{"$f":"INDEX(Table11[],MATCH(TEXT(hf_kommune[[#This Row],[Kommunenr]],\"0\"),Table11[Nr],0),MATCH(hf_kommune[[#Headers],[2027]],Table11[#Headers],0))","v":52},{"$f":"INDEX(Table11[],MATCH(TEXT(hf_kommune[[#This Row],[Kommunenr]],\"0\"),Table11[Nr],0),MATCH(hf_kommune[[#Headers],[2028]],Table11[#Headers],0))","v":61},{"$f":"INDEX(Table11[],MATCH(TEXT(hf_kommune[[#This Row],[Kommunenr]],\"0\"),Table11[Nr],0),MATCH(hf_kommune[[#Headers],[2029]],Table11[#Headers],0))","v":56},{"$f":"INDEX(Table11[],MATCH(TEXT(hf_kommune[[#This Row],[Kommunenr]],\"0\"),Table11[Nr],0),MATCH(hf_kommune[[#Headers],[2030]],Table11[#Headers],0))","v":59},{"$f":"INDEX(Table11[],MATCH(TEXT(hf_kommune[[#This Row],[Kommunenr]],\"0\"),Table11[Nr],0),MATCH(hf_kommune[[#Headers],[2031]],Table11[#Headers],0))","v":57},{"$f":"INDEX(Table11[],MATCH(TEXT(hf_kommune[[#This Row],[Kommunenr]],\"0\"),Table11[Nr],0),MATCH(hf_kommune[[#Headers],[2032]],Table11[#Headers],0))","v":56},{"$f":"INDEX(Table11[],MATCH(TEXT(hf_kommune[[#This Row],[Kommunenr]],\"0\"),Table11[Nr],0),MATCH(hf_kommune[[#Headers],[2033]],Table11[#Headers],0))","v":55},{"$f":"INDEX(Table11[],MATCH(TEXT(hf_kommune[[#This Row],[Kommunenr]],\"0\"),Table11[Nr],0),MATCH(hf_kommune[[#Headers],[2034]],Table11[#Headers],0))","v":55},{"$f":"INDEX(Table11[],MATCH(TEXT(hf_kommune[[#This Row],[Kommunenr]],\"0\"),Table11[Nr],0),MATCH(hf_kommune[[#Headers],[2035]],Table11[#Headers],0))","v":57},{"$f":"INDEX(Table11[],MATCH(TEXT(hf_kommune[[#This Row],[Kommunenr]],\"0\"),Table11[Nr],0),MATCH(hf_kommune[[#Headers],[2036]],Table11[#Headers],0))","v":57},{"$f":"INDEX(Table11[],MATCH(TEXT(hf_kommune[[#This Row],[Kommunenr]],\"0\"),Table11[Nr],0),MATCH(hf_kommune[[#Headers],[2037]],Table11[#Headers],0))","v":57},{"$f":"INDEX(Table11[],MATCH(TEXT(hf_kommune[[#This Row],[Kommunenr]],\"0\"),Table11[Nr],0),MATCH(hf_kommune[[#Headers],[2038]],Table11[#Headers],0))","v":62},{"$f":"INDEX(Table11[],MATCH(TEXT(hf_kommune[[#This Row],[Kommunenr]],\"0\"),Table11[Nr],0),MATCH(hf_kommune[[#Headers],[2039]],Table11[#Headers],0))","v":61},{"$f":"INDEX(Table11[],MATCH(TEXT(hf_kommune[[#This Row],[Kommunenr]],\"0\"),Table11[Nr],0),MATCH(hf_kommune[[#Headers],[2040]],Table11[#Headers],0))","v":59},3862,3895,3930,3969,4012,4054,4096,4138,4179,4220,4259,4298,4337,4374,4411,4448,4482,4516,4548]
[5427,"Skjervøy","Helse Nord","Universitetssykehuset Nord-Norge","Tromsø",{"$f":"INDEX(Table11[],MATCH(TEXT(hf_kommune[[#This Row],[Kommunenr]],\"0\"),Table11[Nr],0),MATCH(hf_kommune[[#Headers],[2020]],Table11[#Headers],0))","v":28},{"$f":"INDEX(Table11[],MATCH(TEXT(hf_kommune[[#This Row],[Kommunenr]],\"0\"),Table11[Nr],0),MATCH(hf_kommune[[#Headers],[2021]],Table11[#Headers],0))","v":37},{"$f":"INDEX(Table11[],MATCH(TEXT(hf_kommune[[#This Row],[Kommunenr]],\"0\"),Table11[Nr],0),MATCH(hf_kommune[[#Headers],[2022]],Table11[#Headers],0))","v":37},{"$f":"INDEX(Table11[],MATCH(TEXT(hf_kommune[[#This Row],[Kommunenr]],\"0\"),Table11[Nr],0),MATCH(hf_kommune[[#Headers],[2023]],Table11[#Headers],0))","v":42},{"$f":"INDEX(Table11[],MATCH(TEXT(hf_kommune[[#This Row],[Kommunenr]],\"0\"),Table11[Nr],0),MATCH(hf_kommune[[#Headers],[2024]],Table11[#Headers],0))","v":38},{"$f":"INDEX(Table11[],MATCH(TEXT(hf_kommune[[#This Row],[Kommunenr]],\"0\"),Table11[Nr],0),MATCH(hf_kommune[[#Headers],[2025]],Table11[#Headers],0))","v":36},{"$f":"INDEX(Table11[],MATCH(TEXT(hf_kommune[[#This Row],[Kommunenr]],\"0\"),Table11[Nr],0),MATCH(hf_kommune[[#Headers],[2026]],Table11[#Headers],0))","v":49},{"$f":"INDEX(Table11[],MATCH(TEXT(hf_kommune[[#This Row],[Kommunenr]],\"0\"),Table11[Nr],0),MATCH(hf_kommune[[#Headers],[2027]],Table11[#Headers],0))","v":50},{"$f":"INDEX(Table11[],MATCH(TEXT(hf_kommune[[#This Row],[Kommunenr]],\"0\"),Table11[Nr],0),MATCH(hf_kommune[[#Headers],[2028]],Table11[#Headers],0))","v":29},{"$f":"INDEX(Table11[],MATCH(TEXT(hf_kommune[[#This Row],[Kommunenr]],\"0\"),Table11[Nr],0),MATCH(hf_kommune[[#Headers],[2029]],Table11[#Headers],0))","v":34},{"$f":"INDEX(Table11[],MATCH(TEXT(hf_kommune[[#This Row],[Kommunenr]],\"0\"),Table11[Nr],0),MATCH(hf_kommune[[#Headers],[2030]],Table11[#Headers],0))","v":36},{"$f":"INDEX(Table11[],MATCH(TEXT(hf_kommune[[#This Row],[Kommunenr]],\"0\"),Table11[Nr],0),MATCH(hf_kommune[[#Headers],[2031]],Table11[#Headers],0))","v":33},{"$f":"INDEX(Table11[],MATCH(TEXT(hf_kommune[[#This Row],[Kommunenr]],\"0\"),Table11[Nr],0),MATCH(hf_kommune[[#Headers],[2032]],Table11[#Headers],0))","v":28},{"$f":"INDEX(Table11[],MATCH(TEXT(hf_kommune[[#This Row],[Kommunenr]],\"0\"),Table11[Nr],0),MATCH(hf_kommune[[#Headers],[2033]],Table11[#Headers],0))","v":28},{"$f":"INDEX(Table11[],MATCH(TEXT(hf_kommune[[#This Row],[Kommunenr]],\"0\"),Table11[Nr],0),MATCH(hf_kommune[[#Headers],[2034]],Table11[#Headers],0))","v":31},{"$f":"INDEX(Table11[],MATCH(TEXT(hf_kommune[[#This Row],[Kommunenr]],\"0\"),Table11[Nr],0),MATCH(hf_kommune[[#Headers],[2035]],Table11[#Headers],0))","v":35},{"$f":"INDEX(Table11[],MATCH(TEXT(hf_kommune[[#This Row],[Kommunenr]],\"0\"),Table11[Nr],0),MATCH(hf_kommune[[#Headers],[2036]],Table11[#Headers],0))","v":36},{"$f":"INDEX(Table11[],MATCH(TEXT(hf_kommune[[#This Row],[Kommunenr]],\"0\"),Table11[Nr],0),MATCH(hf_kommune[[#Headers],[2037]],Table11[#Headers],0))","v":29},{"$f":"INDEX(Table11[],MATCH(TEXT(hf_kommune[[#This Row],[Kommunenr]],\"0\"),Table11[Nr],0),MATCH(hf_kommune[[#Headers],[2038]],Table11[#Headers],0))","v":33},{"$f":"INDEX(Table11[],MATCH(TEXT(hf_kommune[[#This Row],[Kommunenr]],\"0\"),Table11[Nr],0),MATCH(hf_kommune[[#Headers],[2039]],Table11[#Headers],0))","v":27},{"$f":"INDEX(Table11[],MATCH(TEXT(hf_kommune[[#This Row],[Kommunenr]],\"0\"),Table11[Nr],0),MATCH(hf_kommune[[#Headers],[2040]],Table11[#Headers],0))","v":31},2882,2870,2858,2848,2838,2829,2821,2813,2806,2798,2791,2783,2776,2768,2761,2754,2747,2740,2734]
[3433,"Skjåk","Helse Sør-Øst","Sykehuset Innlandet","Lillehammer",{"$f":"INDEX(Table11[],MATCH(TEXT(hf_kommune[[#This Row],[Kommunenr]],\"0\"),Table11[Nr],0),MATCH(hf_kommune[[#Headers],[2020]],Table11[#Headers],0))","v":35},{"$f":"INDEX(Table11[],MATCH(TEXT(hf_kommune[[#This Row],[Kommunenr]],\"0\"),Table11[Nr],0),MATCH(hf_kommune[[#Headers],[2021]],Table11[#Headers],0))","v":34},{"$f":"INDEX(Table11[],MATCH(TEXT(hf_kommune[[#This Row],[Kommunenr]],\"0\"),Table11[Nr],0),MATCH(hf_kommune[[#Headers],[2022]],Table11[#Headers],0))","v":26},{"$f":"INDEX(Table11[],MATCH(TEXT(hf_kommune[[#This Row],[Kommunenr]],\"0\"),Table11[Nr],0),MATCH(hf_kommune[[#Headers],[2023]],Table11[#Headers],0))","v":31},{"$f":"INDEX(Table11[],MATCH(TEXT(hf_kommune[[#This Row],[Kommunenr]],\"0\"),Table11[Nr],0),MATCH(hf_kommune[[#Headers],[2024]],Table11[#Headers],0))","v":27},{"$f":"INDEX(Table11[],MATCH(TEXT(hf_kommune[[#This Row],[Kommunenr]],\"0\"),Table11[Nr],0),MATCH(hf_kommune[[#Headers],[2025]],Table11[#Headers],0))","v":40},{"$f":"INDEX(Table11[],MATCH(TEXT(hf_kommune[[#This Row],[Kommunenr]],\"0\"),Table11[Nr],0),MATCH(hf_kommune[[#Headers],[2026]],Table11[#Headers],0))","v":35},{"$f":"INDEX(Table11[],MATCH(TEXT(hf_kommune[[#This Row],[Kommunenr]],\"0\"),Table11[Nr],0),MATCH(hf_kommune[[#Headers],[2027]],Table11[#Headers],0))","v":27},{"$f":"INDEX(Table11[],MATCH(TEXT(hf_kommune[[#This Row],[Kommunenr]],\"0\"),Table11[Nr],0),MATCH(hf_kommune[[#Headers],[2028]],Table11[#Headers],0))","v":29},{"$f":"INDEX(Table11[],MATCH(TEXT(hf_kommune[[#This Row],[Kommunenr]],\"0\"),Table11[Nr],0),MATCH(hf_kommune[[#Headers],[2029]],Table11[#Headers],0))","v":19},{"$f":"INDEX(Table11[],MATCH(TEXT(hf_kommune[[#This Row],[Kommunenr]],\"0\"),Table11[Nr],0),MATCH(hf_kommune[[#Headers],[2030]],Table11[#Headers],0))","v":36},{"$f":"INDEX(Table11[],MATCH(TEXT(hf_kommune[[#This Row],[Kommunenr]],\"0\"),Table11[Nr],0),MATCH(hf_kommune[[#Headers],[2031]],Table11[#Headers],0))","v":26},{"$f":"INDEX(Table11[],MATCH(TEXT(hf_kommune[[#This Row],[Kommunenr]],\"0\"),Table11[Nr],0),MATCH(hf_kommune[[#Headers],[2032]],Table11[#Headers],0))","v":22},{"$f":"INDEX(Table11[],MATCH(TEXT(hf_kommune[[#This Row],[Kommunenr]],\"0\"),Table11[Nr],0),MATCH(hf_kommune[[#Headers],[2033]],Table11[#Headers],0))","v":27},{"$f":"INDEX(Table11[],MATCH(TEXT(hf_kommune[[#This Row],[Kommunenr]],\"0\"),Table11[Nr],0),MATCH(hf_kommune[[#Headers],[2034]],Table11[#Headers],0))","v":32},{"$f":"INDEX(Table11[],MATCH(TEXT(hf_kommune[[#This Row],[Kommunenr]],\"0\"),Table11[Nr],0),MATCH(hf_kommune[[#Headers],[2035]],Table11[#Headers],0))","v":22},{"$f":"INDEX(Table11[],MATCH(TEXT(hf_kommune[[#This Row],[Kommunenr]],\"0\"),Table11[Nr],0),MATCH(hf_kommune[[#Headers],[2036]],Table11[#Headers],0))","v":26},{"$f":"INDEX(Table11[],MATCH(TEXT(hf_kommune[[#This Row],[Kommunenr]],\"0\"),Table11[Nr],0),MATCH(hf_kommune[[#Headers],[2037]],Table11[#Headers],0))","v":26},{"$f":"INDEX(Table11[],MATCH(TEXT(hf_kommune[[#This Row],[Kommunenr]],\"0\"),Table11[Nr],0),MATCH(hf_kommune[[#Headers],[2038]],Table11[#Headers],0))","v":25},{"$f":"INDEX(Table11[],MATCH(TEXT(hf_kommune[[#This Row],[Kommunenr]],\"0\"),Table11[Nr],0),MATCH(hf_kommune[[#Headers],[2039]],Table11[#Headers],0))","v":22},{"$f":"INDEX(Table11[],MATCH(TEXT(hf_kommune[[#This Row],[Kommunenr]],\"0\"),Table11[Nr],0),MATCH(hf_kommune[[#Headers],[2040]],Table11[#Headers],0))","v":19},2166,2150,2135,2121,2107,2094,2082,2071,2060,2049,2039,2029,2019,2009,1999,1989,1979,1968,1958]
[1573,"Smøla","Helse Midt-Norge","Helse Møre og Romsdal","Kristiansund",{"$f":"INDEX(Table11[],MATCH(TEXT(hf_kommune[[#This Row],[Kommunenr]],\"0\"),Table11[Nr],0),MATCH(hf_kommune[[#Headers],[2020]],Table11[#Headers],0))","v":31},{"$f":"INDEX(Table11[],MATCH(TEXT(hf_kommune[[#This Row],[Kommunenr]],\"0\"),Table11[Nr],0),MATCH(hf_kommune[[#Headers],[2021]],Table11[#Headers],0))","v":29},{"$f":"INDEX(Table11[],MATCH(TEXT(hf_kommune[[#This Row],[Kommunenr]],\"0\"),Table11[Nr],0),MATCH(hf_kommune[[#Headers],[2022]],Table11[#Headers],0))","v":37},{"$f":"INDEX(Table11[],MATCH(TEXT(hf_kommune[[#This Row],[Kommunenr]],\"0\"),Table11[Nr],0),MATCH(hf_kommune[[#Headers],[2023]],Table11[#Headers],0))","v":33},{"$f":"INDEX(Table11[],MATCH(TEXT(hf_kommune[[#This Row],[Kommunenr]],\"0\"),Table11[Nr],0),MATCH(hf_kommune[[#Headers],[2024]],Table11[#Headers],0))","v":34},{"$f":"INDEX(Table11[],MATCH(TEXT(hf_kommune[[#This Row],[Kommunenr]],\"0\"),Table11[Nr],0),MATCH(hf_kommune[[#Headers],[2025]],Table11[#Headers],0))","v":29},{"$f":"INDEX(Table11[],MATCH(TEXT(hf_kommune[[#This Row],[Kommunenr]],\"0\"),Table11[Nr],0),MATCH(hf_kommune[[#Headers],[2026]],Table11[#Headers],0))","v":22},{"$f":"INDEX(Table11[],MATCH(TEXT(hf_kommune[[#This Row],[Kommunenr]],\"0\"),Table11[Nr],0),MATCH(hf_kommune[[#Headers],[2027]],Table11[#Headers],0))","v":30},{"$f":"INDEX(Table11[],MATCH(TEXT(hf_kommune[[#This Row],[Kommunenr]],\"0\"),Table11[Nr],0),MATCH(hf_kommune[[#Headers],[2028]],Table11[#Headers],0))","v":35},{"$f":"INDEX(Table11[],MATCH(TEXT(hf_kommune[[#This Row],[Kommunenr]],\"0\"),Table11[Nr],0),MATCH(hf_kommune[[#Headers],[2029]],Table11[#Headers],0))","v":31},{"$f":"INDEX(Table11[],MATCH(TEXT(hf_kommune[[#This Row],[Kommunenr]],\"0\"),Table11[Nr],0),MATCH(hf_kommune[[#Headers],[2030]],Table11[#Headers],0))","v":26},{"$f":"INDEX(Table11[],MATCH(TEXT(hf_kommune[[#This Row],[Kommunenr]],\"0\"),Table11[Nr],0),MATCH(hf_kommune[[#Headers],[2031]],Table11[#Headers],0))","v":29},{"$f":"INDEX(Table11[],MATCH(TEXT(hf_kommune[[#This Row],[Kommunenr]],\"0\"),Table11[Nr],0),MATCH(hf_kommune[[#Headers],[2032]],Table11[#Headers],0))","v":25},{"$f":"INDEX(Table11[],MATCH(TEXT(hf_kommune[[#This Row],[Kommunenr]],\"0\"),Table11[Nr],0),MATCH(hf_kommune[[#Headers],[2033]],Table11[#Headers],0))","v":25},{"$f":"INDEX(Table11[],MATCH(TEXT(hf_kommune[[#This Row],[Kommunenr]],\"0\"),Table11[Nr],0),MATCH(hf_kommune[[#Headers],[2034]],Table11[#Headers],0))","v":30},{"$f":"INDEX(Table11[],MATCH(TEXT(hf_kommune[[#This Row],[Kommunenr]],\"0\"),Table11[Nr],0),MATCH(hf_kommune[[#Headers],[2035]],Table11[#Headers],0))","v":22},{"$f":"INDEX(Table11[],MATCH(TEXT(hf_kommune[[#This Row],[Kommunenr]],\"0\"),Table11[Nr],0),MATCH(hf_kommune[[#Headers],[2036]],Table11[#Headers],0))","v":24},{"$f":"INDEX(Table11[],MATCH(TEXT(hf_kommune[[#This Row],[Kommunenr]],\"0\"),Table11[Nr],0),MATCH(hf_kommune[[#Headers],[2037]],Table11[#Headers],0))","v":32},{"$f":"INDEX(Table11[],MATCH(TEXT(hf_kommune[[#This Row],[Kommunenr]],\"0\"),Table11[Nr],0),MATCH(hf_kommune[[#Headers],[2038]],Table11[#Headers],0))","v":25},{"$f":"INDEX(Table11[],MATCH(TEXT(hf_kommune[[#This Row],[Kommunenr]],\"0\"),Table11[Nr],0),MATCH(hf_kommune[[#Headers],[2039]],Table11[#Headers],0))","v":27},{"$f":"INDEX(Table11[],MATCH(TEXT(hf_kommune[[#This Row],[Kommunenr]],\"0\"),Table11[Nr],0),MATCH(hf_kommune[[#Headers],[2040]],Table11[#Headers],0))","v":28},2123,2115,2108,2101,2096,2092,2088,2084,2081,2078,2076,2073,2071,2069,2067,2064,2062,2059,2056]
[5041,"Snåase - Snåsa","Helse Midt-Norge","Helse Nord-Trøndelag","Levanger",{"$f":"INDEX(Table11[],MATCH(TEXT(hf_kommune[[#This Row],[Kommunenr]],\"0\"),Table11[Nr],0),MATCH(hf_kommune[[#Headers],[2020]],Table11[#Headers],0))","v":34},{"$f":"INDEX(Table11[],MATCH(TEXT(hf_kommune[[#This Row],[Kommunenr]],\"0\"),Table11[Nr],0),MATCH(hf_kommune[[#Headers],[2021]],Table11[#Headers],0))","v":23},{"$f":"INDEX(Table11[],MATCH(TEXT(hf_kommune[[#This Row],[Kommunenr]],\"0\"),Table11[Nr],0),MATCH(hf_kommune[[#Headers],[2022]],Table11[#Headers],0))","v":33},{"$f":"INDEX(Table11[],MATCH(TEXT(hf_kommune[[#This Row],[Kommunenr]],\"0\"),Table11[Nr],0),MATCH(hf_kommune[[#Headers],[2023]],Table11[#Headers],0))","v":31},{"$f":"INDEX(Table11[],MATCH(TEXT(hf_kommune[[#This Row],[Kommunenr]],\"0\"),Table11[Nr],0),MATCH(hf_kommune[[#Headers],[2024]],Table11[#Headers],0))","v":29},{"$f":"INDEX(Table11[],MATCH(TEXT(hf_kommune[[#This Row],[Kommunenr]],\"0\"),Table11[Nr],0),MATCH(hf_kommune[[#Headers],[2025]],Table11[#Headers],0))","v":31},{"$f":"INDEX(Table11[],MATCH(TEXT(hf_kommune[[#This Row],[Kommunenr]],\"0\"),Table11[Nr],0),MATCH(hf_kommune[[#Headers],[2026]],Table11[#Headers],0))","v":17},{"$f":"INDEX(Table11[],MATCH(TEXT(hf_kommune[[#This Row],[Kommunenr]],\"0\"),Table11[Nr],0),MATCH(hf_kommune[[#Headers],[2027]],Table11[#Headers],0))","v":20},{"$f":"INDEX(Table11[],MATCH(TEXT(hf_kommune[[#This Row],[Kommunenr]],\"0\"),Table11[Nr],0),MATCH(hf_kommune[[#Headers],[2028]],Table11[#Headers],0))","v":21},{"$f":"INDEX(Table11[],MATCH(TEXT(hf_kommune[[#This Row],[Kommunenr]],\"0\"),Table11[Nr],0),MATCH(hf_kommune[[#Headers],[2029]],Table11[#Headers],0))","v":26},{"$f":"INDEX(Table11[],MATCH(TEXT(hf_kommune[[#This Row],[Kommunenr]],\"0\"),Table11[Nr],0),MATCH(hf_kommune[[#Headers],[2030]],Table11[#Headers],0))","v":17},{"$f":"INDEX(Table11[],MATCH(TEXT(hf_kommune[[#This Row],[Kommunenr]],\"0\"),Table11[Nr],0),MATCH(hf_kommune[[#Headers],[2031]],Table11[#Headers],0))","v":21},{"$f":"INDEX(Table11[],MATCH(TEXT(hf_kommune[[#This Row],[Kommunenr]],\"0\"),Table11[Nr],0),MATCH(hf_kommune[[#Headers],[2032]],Table11[#Headers],0))","v":14},{"$f":"INDEX(Table11[],MATCH(TEXT(hf_kommune[[#This Row],[Kommunenr]],\"0\"),Table11[Nr],0),MATCH(hf_kommune[[#Headers],[2033]],Table11[#Headers],0))","v":18},{"$f":"INDEX(Table11[],MATCH(TEXT(hf_kommune[[#This Row],[Kommunenr]],\"0\"),Table11[Nr],0),MATCH(hf_kommune[[#Headers],[2034]],Table11[#Headers],0))","v":13},{"$f":"INDEX(Table11[],MATCH(TEXT(hf_kommune[[#This Row],[Kommunenr]],\"0\"),Table11[Nr],0),MATCH(hf_kommune[[#Headers],[2035]],Table11[#Headers],0))","v":25},{"$f":"INDEX(Table11[],MATCH(TEXT(hf_kommune[[#This Row],[Kommunenr]],\"0\"),Table11[Nr],0),MATCH(hf_kommune[[#Headers],[2036]],Table11[#Headers],0))","v":17},{"$f":"INDEX(Table11[],MATCH(TEXT(hf_kommune[[#This Row],[Kommunenr]],\"0\"),Table11[Nr],0),MATCH(hf_kommune[[#Headers],[2037]],Table11[#Headers],0))","v":18},{"$f":"INDEX(Table11[],MATCH(TEXT(hf_kommune[[#This Row],[Kommunenr]],\"0\"),Table11[Nr],0),MATCH(hf_kommune[[#Headers],[2038]],Table11[#Headers],0))","v":19},{"$f":"INDEX(Table11[],MATCH(TEXT(hf_kommune[[#This Row],[Kommunenr]],\"0\"),Table11[Nr],0),MATCH(hf_kommune[[#Headers],[2039]],Table11[#Headers],0))","v":27},{"$f":"INDEX(Table11[],MATCH(TEXT(hf_kommune[[#This Row],[Kommunenr]],\"0\"),Table11[Nr],0),MATCH(hf_kommune[[#Headers],[2040]],Table11[#Headers],0))","v":19},2000,1976,1958,1944,1935,1927,1918,1910,1902,1894,1887,1879,1872,1864,1857,1850,1843,1836,1829]
[4640,"Sogndal","Helse Vest","Helse Førde","Lærdal",{"$f":"INDEX(Table11[],MATCH(TEXT(hf_kommune[[#This Row],[Kommunenr]],\"0\"),Table11[Nr],0),MATCH(hf_kommune[[#Headers],[2020]],Table11[#Headers],0))","v":140},{"$f":"INDEX(Table11[],MATCH(TEXT(hf_kommune[[#This Row],[Kommunenr]],\"0\"),Table11[Nr],0),MATCH(hf_kommune[[#Headers],[2021]],Table11[#Headers],0))","v":125},{"$f":"INDEX(Table11[],MATCH(TEXT(hf_kommune[[#This Row],[Kommunenr]],\"0\"),Table11[Nr],0),MATCH(hf_kommune[[#Headers],[2022]],Table11[#Headers],0))","v":142},{"$f":"INDEX(Table11[],MATCH(TEXT(hf_kommune[[#This Row],[Kommunenr]],\"0\"),Table11[Nr],0),MATCH(hf_kommune[[#Headers],[2023]],Table11[#Headers],0))","v":149},{"$f":"INDEX(Table11[],MATCH(TEXT(hf_kommune[[#This Row],[Kommunenr]],\"0\"),Table11[Nr],0),MATCH(hf_kommune[[#Headers],[2024]],Table11[#Headers],0))","v":163},{"$f":"INDEX(Table11[],MATCH(TEXT(hf_kommune[[#This Row],[Kommunenr]],\"0\"),Table11[Nr],0),MATCH(hf_kommune[[#Headers],[2025]],Table11[#Headers],0))","v":136},{"$f":"INDEX(Table11[],MATCH(TEXT(hf_kommune[[#This Row],[Kommunenr]],\"0\"),Table11[Nr],0),MATCH(hf_kommune[[#Headers],[2026]],Table11[#Headers],0))","v":137},{"$f":"INDEX(Table11[],MATCH(TEXT(hf_kommune[[#This Row],[Kommunenr]],\"0\"),Table11[Nr],0),MATCH(hf_kommune[[#Headers],[2027]],Table11[#Headers],0))","v":160},{"$f":"INDEX(Table11[],MATCH(TEXT(hf_kommune[[#This Row],[Kommunenr]],\"0\"),Table11[Nr],0),MATCH(hf_kommune[[#Headers],[2028]],Table11[#Headers],0))","v":163},{"$f":"INDEX(Table11[],MATCH(TEXT(hf_kommune[[#This Row],[Kommunenr]],\"0\"),Table11[Nr],0),MATCH(hf_kommune[[#Headers],[2029]],Table11[#Headers],0))","v":124},{"$f":"INDEX(Table11[],MATCH(TEXT(hf_kommune[[#This Row],[Kommunenr]],\"0\"),Table11[Nr],0),MATCH(hf_kommune[[#Headers],[2030]],Table11[#Headers],0))","v":134},{"$f":"INDEX(Table11[],MATCH(TEXT(hf_kommune[[#This Row],[Kommunenr]],\"0\"),Table11[Nr],0),MATCH(hf_kommune[[#Headers],[2031]],Table11[#Headers],0))","v":145},{"$f":"INDEX(Table11[],MATCH(TEXT(hf_kommune[[#This Row],[Kommunenr]],\"0\"),Table11[Nr],0),MATCH(hf_kommune[[#Headers],[2032]],Table11[#Headers],0))","v":134},{"$f":"INDEX(Table11[],MATCH(TEXT(hf_kommune[[#This Row],[Kommunenr]],\"0\"),Table11[Nr],0),MATCH(hf_kommune[[#Headers],[2033]],Table11[#Headers],0))","v":121},{"$f":"INDEX(Table11[],MATCH(TEXT(hf_kommune[[#This Row],[Kommunenr]],\"0\"),Table11[Nr],0),MATCH(hf_kommune[[#Headers],[2034]],Table11[#Headers],0))","v":120},{"$f":"INDEX(Table11[],MATCH(TEXT(hf_kommune[[#This Row],[Kommunenr]],\"0\"),Table11[Nr],0),MATCH(hf_kommune[[#Headers],[2035]],Table11[#Headers],0))","v":122},{"$f":"INDEX(Table11[],MATCH(TEXT(hf_kommune[[#This Row],[Kommunenr]],\"0\"),Table11[Nr],0),MATCH(hf_kommune[[#Headers],[2036]],Table11[#Headers],0))","v":156},{"$f":"INDEX(Table11[],MATCH(TEXT(hf_kommune[[#This Row],[Kommunenr]],\"0\"),Table11[Nr],0),MATCH(hf_kommune[[#Headers],[2037]],Table11[#Headers],0))","v":131},{"$f":"INDEX(Table11[],MATCH(TEXT(hf_kommune[[#This Row],[Kommunenr]],\"0\"),Table11[Nr],0),MATCH(hf_kommune[[#Headers],[2038]],Table11[#Headers],0))","v":144},{"$f":"INDEX(Table11[],MATCH(TEXT(hf_kommune[[#This Row],[Kommunenr]],\"0\"),Table11[Nr],0),MATCH(hf_kommune[[#Headers],[2039]],Table11[#Headers],0))","v":134},{"$f":"INDEX(Table11[],MATCH(TEXT(hf_kommune[[#This Row],[Kommunenr]],\"0\"),Table11[Nr],0),MATCH(hf_kommune[[#Headers],[2040]],Table11[#Headers],0))","v":154},12048,12148,12241,12329,12413,12496,12580,12663,12745,12825,12903,12977,13049,13117,13181,13240,13293,13342,13386]
[1111,"Sokndal","Helse Vest","Sørlandet sykehus","Flekkefjord",{"$f":"INDEX(Table11[],MATCH(TEXT(hf_kommune[[#This Row],[Kommunenr]],\"0\"),Table11[Nr],0),MATCH(hf_kommune[[#Headers],[2020]],Table11[#Headers],0))","v":49},{"$f":"INDEX(Table11[],MATCH(TEXT(hf_kommune[[#This Row],[Kommunenr]],\"0\"),Table11[Nr],0),MATCH(hf_kommune[[#Headers],[2021]],Table11[#Headers],0))","v":50},{"$f":"INDEX(Table11[],MATCH(TEXT(hf_kommune[[#This Row],[Kommunenr]],\"0\"),Table11[Nr],0),MATCH(hf_kommune[[#Headers],[2022]],Table11[#Headers],0))","v":50},{"$f":"INDEX(Table11[],MATCH(TEXT(hf_kommune[[#This Row],[Kommunenr]],\"0\"),Table11[Nr],0),MATCH(hf_kommune[[#Headers],[2023]],Table11[#Headers],0))","v":43},{"$f":"INDEX(Table11[],MATCH(TEXT(hf_kommune[[#This Row],[Kommunenr]],\"0\"),Table11[Nr],0),MATCH(hf_kommune[[#Headers],[2024]],Table11[#Headers],0))","v":30},{"$f":"INDEX(Table11[],MATCH(TEXT(hf_kommune[[#This Row],[Kommunenr]],\"0\"),Table11[Nr],0),MATCH(hf_kommune[[#Headers],[2025]],Table11[#Headers],0))","v":48},{"$f":"INDEX(Table11[],MATCH(TEXT(hf_kommune[[#This Row],[Kommunenr]],\"0\"),Table11[Nr],0),MATCH(hf_kommune[[#Headers],[2026]],Table11[#Headers],0))","v":37},{"$f":"INDEX(Table11[],MATCH(TEXT(hf_kommune[[#This Row],[Kommunenr]],\"0\"),Table11[Nr],0),MATCH(hf_kommune[[#Headers],[2027]],Table11[#Headers],0))","v":43},{"$f":"INDEX(Table11[],MATCH(TEXT(hf_kommune[[#This Row],[Kommunenr]],\"0\"),Table11[Nr],0),MATCH(hf_kommune[[#Headers],[2028]],Table11[#Headers],0))","v":39},{"$f":"INDEX(Table11[],MATCH(TEXT(hf_kommune[[#This Row],[Kommunenr]],\"0\"),Table11[Nr],0),MATCH(hf_kommune[[#Headers],[2029]],Table11[#Headers],0))","v":41},{"$f":"INDEX(Table11[],MATCH(TEXT(hf_kommune[[#This Row],[Kommunenr]],\"0\"),Table11[Nr],0),MATCH(hf_kommune[[#Headers],[2030]],Table11[#Headers],0))","v":43},{"$f":"INDEX(Table11[],MATCH(TEXT(hf_kommune[[#This Row],[Kommunenr]],\"0\"),Table11[Nr],0),MATCH(hf_kommune[[#Headers],[2031]],Table11[#Headers],0))","v":39},{"$f":"INDEX(Table11[],MATCH(TEXT(hf_kommune[[#This Row],[Kommunenr]],\"0\"),Table11[Nr],0),MATCH(hf_kommune[[#Headers],[2032]],Table11[#Headers],0))","v":47},{"$f":"INDEX(Table11[],MATCH(TEXT(hf_kommune[[#This Row],[Kommunenr]],\"0\"),Table11[Nr],0),MATCH(hf_kommune[[#Headers],[2033]],Table11[#Headers],0))","v":37},{"$f":"INDEX(Table11[],MATCH(TEXT(hf_kommune[[#This Row],[Kommunenr]],\"0\"),Table11[Nr],0),MATCH(hf_kommune[[#Headers],[2034]],Table11[#Headers],0))","v":44},{"$f":"INDEX(Table11[],MATCH(TEXT(hf_kommune[[#This Row],[Kommunenr]],\"0\"),Table11[Nr],0),MATCH(hf_kommune[[#Headers],[2035]],Table11[#Headers],0))","v":37},{"$f":"INDEX(Table11[],MATCH(TEXT(hf_kommune[[#This Row],[Kommunenr]],\"0\"),Table11[Nr],0),MATCH(hf_kommune[[#Headers],[2036]],Table11[#Headers],0))","v":37},{"$f":"INDEX(Table11[],MATCH(TEXT(hf_kommune[[#This Row],[Kommunenr]],\"0\"),Table11[Nr],0),MATCH(hf_kommune[[#Headers],[2037]],Table11[#Headers],0))","v":37},{"$f":"INDEX(Table11[],MATCH(TEXT(hf_kommune[[#This Row],[Kommunenr]],\"0\"),Table11[Nr],0),MATCH(hf_kommune[[#Headers],[2038]],Table11[#Headers],0))","v":36},{"$f":"INDEX(Table11[],MATCH(TEXT(hf_kommune[[#This Row],[Kommunenr]],\"0\"),Table11[Nr],0),MATCH(hf_kommune[[#Headers],[2039]],Table11[#Headers],0))","v":37},{"$f":"INDEX(Table11[],MATCH(TEXT(hf_kommune[[#This Row],[Kommunenr]],\"0\"),Table11[Nr],0),MATCH(hf_kommune[[#Headers],[2040]],Table11[#Headers],0))","v":36},3217,3193,3173,3157,3144,3131,3118,3105,3092,3078,3065,3052,3040,3029,3018,3008,2998,2989,2979]
[1124,"Sola","Helse Vest","Helse Stavanger","Stavanger",{"$f":"INDEX(Table11[],MATCH(TEXT(hf_kommune[[#This Row],[Kommunenr]],\"0\"),Table11[Nr],0),MATCH(hf_kommune[[#Headers],[2020]],Table11[#Headers],0))","v":332},{"$f":"INDEX(Table11[],MATCH(TEXT(hf_kommune[[#This Row],[Kommunenr]],\"0\"),Table11[Nr],0),MATCH(hf_kommune[[#Headers],[2021]],Table11[#Headers],0))","v":324},{"$f":"INDEX(Table11[],MATCH(TEXT(hf_kommune[[#This Row],[Kommunenr]],\"0\"),Table11[Nr],0),MATCH(hf_kommune[[#Headers],[2022]],Table11[#Headers],0))","v":350},{"$f":"INDEX(Table11[],MATCH(TEXT(hf_kommune[[#This Row],[Kommunenr]],\"0\"),Table11[Nr],0),MATCH(hf_kommune[[#Headers],[2023]],Table11[#Headers],0))","v":335},{"$f":"INDEX(Table11[],MATCH(TEXT(hf_kommune[[#This Row],[Kommunenr]],\"0\"),Table11[Nr],0),MATCH(hf_kommune[[#Headers],[2024]],Table11[#Headers],0))","v":385},{"$f":"INDEX(Table11[],MATCH(TEXT(hf_kommune[[#This Row],[Kommunenr]],\"0\"),Table11[Nr],0),MATCH(hf_kommune[[#Headers],[2025]],Table11[#Headers],0))","v":379},{"$f":"INDEX(Table11[],MATCH(TEXT(hf_kommune[[#This Row],[Kommunenr]],\"0\"),Table11[Nr],0),MATCH(hf_kommune[[#Headers],[2026]],Table11[#Headers],0))","v":364},{"$f":"INDEX(Table11[],MATCH(TEXT(hf_kommune[[#This Row],[Kommunenr]],\"0\"),Table11[Nr],0),MATCH(hf_kommune[[#Headers],[2027]],Table11[#Headers],0))","v":365},{"$f":"INDEX(Table11[],MATCH(TEXT(hf_kommune[[#This Row],[Kommunenr]],\"0\"),Table11[Nr],0),MATCH(hf_kommune[[#Headers],[2028]],Table11[#Headers],0))","v":361},{"$f":"INDEX(Table11[],MATCH(TEXT(hf_kommune[[#This Row],[Kommunenr]],\"0\"),Table11[Nr],0),MATCH(hf_kommune[[#Headers],[2029]],Table11[#Headers],0))","v":350},{"$f":"INDEX(Table11[],MATCH(TEXT(hf_kommune[[#This Row],[Kommunenr]],\"0\"),Table11[Nr],0),MATCH(hf_kommune[[#Headers],[2030]],Table11[#Headers],0))","v":353},{"$f":"INDEX(Table11[],MATCH(TEXT(hf_kommune[[#This Row],[Kommunenr]],\"0\"),Table11[Nr],0),MATCH(hf_kommune[[#Headers],[2031]],Table11[#Headers],0))","v":370},{"$f":"INDEX(Table11[],MATCH(TEXT(hf_kommune[[#This Row],[Kommunenr]],\"0\"),Table11[Nr],0),MATCH(hf_kommune[[#Headers],[2032]],Table11[#Headers],0))","v":348},{"$f":"INDEX(Table11[],MATCH(TEXT(hf_kommune[[#This Row],[Kommunenr]],\"0\"),Table11[Nr],0),MATCH(hf_kommune[[#Headers],[2033]],Table11[#Headers],0))","v":354},{"$f":"INDEX(Table11[],MATCH(TEXT(hf_kommune[[#This Row],[Kommunenr]],\"0\"),Table11[Nr],0),MATCH(hf_kommune[[#Headers],[2034]],Table11[#Headers],0))","v":376},{"$f":"INDEX(Table11[],MATCH(TEXT(hf_kommune[[#This Row],[Kommunenr]],\"0\"),Table11[Nr],0),MATCH(hf_kommune[[#Headers],[2035]],Table11[#Headers],0))","v":387},{"$f":"INDEX(Table11[],MATCH(TEXT(hf_kommune[[#This Row],[Kommunenr]],\"0\"),Table11[Nr],0),MATCH(hf_kommune[[#Headers],[2036]],Table11[#Headers],0))","v":387},{"$f":"INDEX(Table11[],MATCH(TEXT(hf_kommune[[#This Row],[Kommunenr]],\"0\"),Table11[Nr],0),MATCH(hf_kommune[[#Headers],[2037]],Table11[#Headers],0))","v":403},{"$f":"INDEX(Table11[],MATCH(TEXT(hf_kommune[[#This Row],[Kommunenr]],\"0\"),Table11[Nr],0),MATCH(hf_kommune[[#Headers],[2038]],Table11[#Headers],0))","v":402},{"$f":"INDEX(Table11[],MATCH(TEXT(hf_kommune[[#This Row],[Kommunenr]],\"0\"),Table11[Nr],0),MATCH(hf_kommune[[#Headers],[2039]],Table11[#Headers],0))","v":405},{"$f":"INDEX(Table11[],MATCH(TEXT(hf_kommune[[#This Row],[Kommunenr]],\"0\"),Table11[Nr],0),MATCH(hf_kommune[[#Headers],[2040]],Table11[#Headers],0))","v":420},28060,28445,28775,29055,29290,29517,29736,29952,30163,30370,30572,30771,30967,31161,31353,31539,31719,31893,32060]
[4636,"Solund","Helse Vest","Helse Førde","Førde",{"$f":"INDEX(Table11[],MATCH(TEXT(hf_kommune[[#This Row],[Kommunenr]],\"0\"),Table11[Nr],0),MATCH(hf_kommune[[#Headers],[2020]],Table11[#Headers],0))","v":9},{"$f":"INDEX(Table11[],MATCH(TEXT(hf_kommune[[#This Row],[Kommunenr]],\"0\"),Table11[Nr],0),MATCH(hf_kommune[[#Headers],[2021]],Table11[#Headers],0))","v":11},{"$f":"INDEX(Table11[],MATCH(TEXT(hf_kommune[[#This Row],[Kommunenr]],\"0\"),Table11[Nr],0),MATCH(hf_kommune[[#Headers],[2022]],Table11[#Headers],0))","v":10},{"$f":"INDEX(Table11[],MATCH(TEXT(hf_kommune[[#This Row],[Kommunenr]],\"0\"),Table11[Nr],0),MATCH(hf_kommune[[#Headers],[2023]],Table11[#Headers],0))","v":8},{"$f":"INDEX(Table11[],MATCH(TEXT(hf_kommune[[#This Row],[Kommunenr]],\"0\"),Table11[Nr],0),MATCH(hf_kommune[[#Headers],[2024]],Table11[#Headers],0))","v":8},{"$f":"INDEX(Table11[],MATCH(TEXT(hf_kommune[[#This Row],[Kommunenr]],\"0\"),Table11[Nr],0),MATCH(hf_kommune[[#Headers],[2025]],Table11[#Headers],0))","v":13},{"$f":"INDEX(Table11[],MATCH(TEXT(hf_kommune[[#This Row],[Kommunenr]],\"0\"),Table11[Nr],0),MATCH(hf_kommune[[#Headers],[2026]],Table11[#Headers],0))","v":11},{"$f":"INDEX(Table11[],MATCH(TEXT(hf_kommune[[#This Row],[Kommunenr]],\"0\"),Table11[Nr],0),MATCH(hf_kommune[[#Headers],[2027]],Table11[#Headers],0))","v":12},{"$f":"INDEX(Table11[],MATCH(TEXT(hf_kommune[[#This Row],[Kommunenr]],\"0\"),Table11[Nr],0),MATCH(hf_kommune[[#Headers],[2028]],Table11[#Headers],0))","v":10},{"$f":"INDEX(Table11[],MATCH(TEXT(hf_kommune[[#This Row],[Kommunenr]],\"0\"),Table11[Nr],0),MATCH(hf_kommune[[#Headers],[2029]],Table11[#Headers],0))","v":7},{"$f":"INDEX(Table11[],MATCH(TEXT(hf_kommune[[#This Row],[Kommunenr]],\"0\"),Table11[Nr],0),MATCH(hf_kommune[[#Headers],[2030]],Table11[#Headers],0))","v":12},{"$f":"INDEX(Table11[],MATCH(TEXT(hf_kommune[[#This Row],[Kommunenr]],\"0\"),Table11[Nr],0),MATCH(hf_kommune[[#Headers],[2031]],Table11[#Headers],0))","v":10},{"$f":"INDEX(Table11[],MATCH(TEXT(hf_kommune[[#This Row],[Kommunenr]],\"0\"),Table11[Nr],0),MATCH(hf_kommune[[#Headers],[2032]],Table11[#Headers],0))","v":10},{"$f":"INDEX(Table11[],MATCH(TEXT(hf_kommune[[#This Row],[Kommunenr]],\"0\"),Table11[Nr],0),MATCH(hf_kommune[[#Headers],[2033]],Table11[#Headers],0))","v":11},{"$f":"INDEX(Table11[],MATCH(TEXT(hf_kommune[[#This Row],[Kommunenr]],\"0\"),Table11[Nr],0),MATCH(hf_kommune[[#Headers],[2034]],Table11[#Headers],0))","v":9},{"$f":"INDEX(Table11[],MATCH(TEXT(hf_kommune[[#This Row],[Kommunenr]],\"0\"),Table11[Nr],0),MATCH(hf_kommune[[#Headers],[2035]],Table11[#Headers],0))","v":10},{"$f":"INDEX(Table11[],MATCH(TEXT(hf_kommune[[#This Row],[Kommunenr]],\"0\"),Table11[Nr],0),MATCH(hf_kommune[[#Headers],[2036]],Table11[#Headers],0))","v":14},{"$f":"INDEX(Table11[],MATCH(TEXT(hf_kommune[[#This Row],[Kommunenr]],\"0\"),Table11[Nr],0),MATCH(hf_kommune[[#Headers],[2037]],Table11[#Headers],0))","v":13},{"$f":"INDEX(Table11[],MATCH(TEXT(hf_kommune[[#This Row],[Kommunenr]],\"0\"),Table11[Nr],0),MATCH(hf_kommune[[#Headers],[2038]],Table11[#Headers],0))","v":12},{"$f":"INDEX(Table11[],MATCH(TEXT(hf_kommune[[#This Row],[Kommunenr]],\"0\"),Table11[Nr],0),MATCH(hf_kommune[[#Headers],[2039]],Table11[#Headers],0))","v":10},{"$f":"INDEX(Table11[],MATCH(TEXT(hf_kommune[[#This Row],[Kommunenr]],\"0\"),Table11[Nr],0),MATCH(hf_kommune[[#Headers],[2040]],Table11[#Headers],0))","v":7},800,801,801,802,803,804,805,807,808,809,810,811,812,813,813,814,814,814,813]
[1870,"Sortland - Suortá","Helse Nord","Nordlandssykehuset","Stokmarknes",{"$f":"INDEX(Table11[],MATCH(TEXT(hf_kommune[[#This Row],[Kommunenr]],\"0\"),Table11[Nr],0),MATCH(hf_kommune[[#Headers],[2020]],Table11[#Headers],0))","v":133},{"$f":"INDEX(Table11[],MATCH(TEXT(hf_kommune[[#This Row],[Kommunenr]],\"0\"),Table11[Nr],0),MATCH(hf_kommune[[#Headers],[2021]],Table11[#Headers],0))","v":142},{"$f":"INDEX(Table11[],MATCH(TEXT(hf_kommune[[#This Row],[Kommunenr]],\"0\"),Table11[Nr],0),MATCH(hf_kommune[[#Headers],[2022]],Table11[#Headers],0))","v":155},{"$f":"INDEX(Table11[],MATCH(TEXT(hf_kommune[[#This Row],[Kommunenr]],\"0\"),Table11[Nr],0),MATCH(hf_kommune[[#Headers],[2023]],Table11[#Headers],0))","v":138},{"$f":"INDEX(Table11[],MATCH(TEXT(hf_kommune[[#This Row],[Kommunenr]],\"0\"),Table11[Nr],0),MATCH(hf_kommune[[#Headers],[2024]],Table11[#Headers],0))","v":142},{"$f":"INDEX(Table11[],MATCH(TEXT(hf_kommune[[#This Row],[Kommunenr]],\"0\"),Table11[Nr],0),MATCH(hf_kommune[[#Headers],[2025]],Table11[#Headers],0))","v":144},{"$f":"INDEX(Table11[],MATCH(TEXT(hf_kommune[[#This Row],[Kommunenr]],\"0\"),Table11[Nr],0),MATCH(hf_kommune[[#Headers],[2026]],Table11[#Headers],0))","v":123},{"$f":"INDEX(Table11[],MATCH(TEXT(hf_kommune[[#This Row],[Kommunenr]],\"0\"),Table11[Nr],0),MATCH(hf_kommune[[#Headers],[2027]],Table11[#Headers],0))","v":148},{"$f":"INDEX(Table11[],MATCH(TEXT(hf_kommune[[#This Row],[Kommunenr]],\"0\"),Table11[Nr],0),MATCH(hf_kommune[[#Headers],[2028]],Table11[#Headers],0))","v":145},{"$f":"INDEX(Table11[],MATCH(TEXT(hf_kommune[[#This Row],[Kommunenr]],\"0\"),Table11[Nr],0),MATCH(hf_kommune[[#Headers],[2029]],Table11[#Headers],0))","v":127},{"$f":"INDEX(Table11[],MATCH(TEXT(hf_kommune[[#This Row],[Kommunenr]],\"0\"),Table11[Nr],0),MATCH(hf_kommune[[#Headers],[2030]],Table11[#Headers],0))","v":121},{"$f":"INDEX(Table11[],MATCH(TEXT(hf_kommune[[#This Row],[Kommunenr]],\"0\"),Table11[Nr],0),MATCH(hf_kommune[[#Headers],[2031]],Table11[#Headers],0))","v":123},{"$f":"INDEX(Table11[],MATCH(TEXT(hf_kommune[[#This Row],[Kommunenr]],\"0\"),Table11[Nr],0),MATCH(hf_kommune[[#Headers],[2032]],Table11[#Headers],0))","v":118},{"$f":"INDEX(Table11[],MATCH(TEXT(hf_kommune[[#This Row],[Kommunenr]],\"0\"),Table11[Nr],0),MATCH(hf_kommune[[#Headers],[2033]],Table11[#Headers],0))","v":123},{"$f":"INDEX(Table11[],MATCH(TEXT(hf_kommune[[#This Row],[Kommunenr]],\"0\"),Table11[Nr],0),MATCH(hf_kommune[[#Headers],[2034]],Table11[#Headers],0))","v":114},{"$f":"INDEX(Table11[],MATCH(TEXT(hf_kommune[[#This Row],[Kommunenr]],\"0\"),Table11[Nr],0),MATCH(hf_kommune[[#Headers],[2035]],Table11[#Headers],0))","v":115},{"$f":"INDEX(Table11[],MATCH(TEXT(hf_kommune[[#This Row],[Kommunenr]],\"0\"),Table11[Nr],0),MATCH(hf_kommune[[#Headers],[2036]],Table11[#Headers],0))","v":117},{"$f":"INDEX(Table11[],MATCH(TEXT(hf_kommune[[#This Row],[Kommunenr]],\"0\"),Table11[Nr],0),MATCH(hf_kommune[[#Headers],[2037]],Table11[#Headers],0))","v":138},{"$f":"INDEX(Table11[],MATCH(TEXT(hf_kommune[[#This Row],[Kommunenr]],\"0\"),Table11[Nr],0),MATCH(hf_kommune[[#Headers],[2038]],Table11[#Headers],0))","v":131},{"$f":"INDEX(Table11[],MATCH(TEXT(hf_kommune[[#This Row],[Kommunenr]],\"0\"),Table11[Nr],0),MATCH(hf_kommune[[#Headers],[2039]],Table11[#Headers],0))","v":111},{"$f":"INDEX(Table11[],MATCH(TEXT(hf_kommune[[#This Row],[Kommunenr]],\"0\"),Table11[Nr],0),MATCH(hf_kommune[[#Headers],[2040]],Table11[#Headers],0))","v":125},10549,10551,10558,10570,10584,10599,10613,10628,10641,10654,10665,10674,10683,10691,10697,10702,10704,10705,10704]
[4649,"Stad","Helse Vest","Helse Førde","Nordfjordeid",{"$f":"INDEX(Table11[],MATCH(TEXT(hf_kommune[[#This Row],[Kommunenr]],\"0\"),Table11[Nr],0),MATCH(hf_kommune[[#Headers],[2020]],Table11[#Headers],0))","v":128},{"$f":"INDEX(Table11[],MATCH(TEXT(hf_kommune[[#This Row],[Kommunenr]],\"0\"),Table11[Nr],0),MATCH(hf_kommune[[#Headers],[2021]],Table11[#Headers],0))","v":124},{"$f":"INDEX(Table11[],MATCH(TEXT(hf_kommune[[#This Row],[Kommunenr]],\"0\"),Table11[Nr],0),MATCH(hf_kommune[[#Headers],[2022]],Table11[#Headers],0))","v":138},{"$f":"INDEX(Table11[],MATCH(TEXT(hf_kommune[[#This Row],[Kommunenr]],\"0\"),Table11[Nr],0),MATCH(hf_kommune[[#Headers],[2023]],Table11[#Headers],0))","v":108},{"$f":"INDEX(Table11[],MATCH(TEXT(hf_kommune[[#This Row],[Kommunenr]],\"0\"),Table11[Nr],0),MATCH(hf_kommune[[#Headers],[2024]],Table11[#Headers],0))","v":125},{"$f":"INDEX(Table11[],MATCH(TEXT(hf_kommune[[#This Row],[Kommunenr]],\"0\"),Table11[Nr],0),MATCH(hf_kommune[[#Headers],[2025]],Table11[#Headers],0))","v":151},{"$f":"INDEX(Table11[],MATCH(TEXT(hf_kommune[[#This Row],[Kommunenr]],\"0\"),Table11[Nr],0),MATCH(hf_kommune[[#Headers],[2026]],Table11[#Headers],0))","v":117},{"$f":"INDEX(Table11[],MATCH(TEXT(hf_kommune[[#This Row],[Kommunenr]],\"0\"),Table11[Nr],0),MATCH(hf_kommune[[#Headers],[2027]],Table11[#Headers],0))","v":133},{"$f":"INDEX(Table11[],MATCH(TEXT(hf_kommune[[#This Row],[Kommunenr]],\"0\"),Table11[Nr],0),MATCH(hf_kommune[[#Headers],[2028]],Table11[#Headers],0))","v":110},{"$f":"INDEX(Table11[],MATCH(TEXT(hf_kommune[[#This Row],[Kommunenr]],\"0\"),Table11[Nr],0),MATCH(hf_kommune[[#Headers],[2029]],Table11[#Headers],0))","v":112},{"$f":"INDEX(Table11[],MATCH(TEXT(hf_kommune[[#This Row],[Kommunenr]],\"0\"),Table11[Nr],0),MATCH(hf_kommune[[#Headers],[2030]],Table11[#Headers],0))","v":111},{"$f":"INDEX(Table11[],MATCH(TEXT(hf_kommune[[#This Row],[Kommunenr]],\"0\"),Table11[Nr],0),MATCH(hf_kommune[[#Headers],[2031]],Table11[#Headers],0))","v":105},{"$f":"INDEX(Table11[],MATCH(TEXT(hf_kommune[[#This Row],[Kommunenr]],\"0\"),Table11[Nr],0),MATCH(hf_kommune[[#Headers],[2032]],Table11[#Headers],0))","v":96},{"$f":"INDEX(Table11[],MATCH(TEXT(hf_kommune[[#This Row],[Kommunenr]],\"0\"),Table11[Nr],0),MATCH(hf_kommune[[#Headers],[2033]],Table11[#Headers],0))","v":117},{"$f":"INDEX(Table11[],MATCH(TEXT(hf_kommune[[#This Row],[Kommunenr]],\"0\"),Table11[Nr],0),MATCH(hf_kommune[[#Headers],[2034]],Table11[#Headers],0))","v":114},{"$f":"INDEX(Table11[],MATCH(TEXT(hf_kommune[[#This Row],[Kommunenr]],\"0\"),Table11[Nr],0),MATCH(hf_kommune[[#Headers],[2035]],Table11[#Headers],0))","v":117},{"$f":"INDEX(Table11[],MATCH(TEXT(hf_kommune[[#This Row],[Kommunenr]],\"0\"),Table11[Nr],0),MATCH(hf_kommune[[#Headers],[2036]],Table11[#Headers],0))","v":106},{"$f":"INDEX(Table11[],MATCH(TEXT(hf_kommune[[#This Row],[Kommunenr]],\"0\"),Table11[Nr],0),MATCH(hf_kommune[[#Headers],[2037]],Table11[#Headers],0))","v":118},{"$f":"INDEX(Table11[],MATCH(TEXT(hf_kommune[[#This Row],[Kommunenr]],\"0\"),Table11[Nr],0),MATCH(hf_kommune[[#Headers],[2038]],Table11[#Headers],0))","v":103},{"$f":"INDEX(Table11[],MATCH(TEXT(hf_kommune[[#This Row],[Kommunenr]],\"0\"),Table11[Nr],0),MATCH(hf_kommune[[#Headers],[2039]],Table11[#Headers],0))","v":112},{"$f":"INDEX(Table11[],MATCH(TEXT(hf_kommune[[#This Row],[Kommunenr]],\"0\"),Table11[Nr],0),MATCH(hf_kommune[[#Headers],[2040]],Table11[#Headers],0))","v":106},9396,9378,9363,9352,9344,9339,9335,9332,9329,9326,9323,9318,9313,9309,9304,9299,9292,9286,9278]
[3413,"Stange","Helse Sør-Øst","Sykehuset Innlandet","Hamar",{"$f":"INDEX(Table11[],MATCH(TEXT(hf_kommune[[#This Row],[Kommunenr]],\"0\"),Table11[Nr],0),MATCH(hf_kommune[[#Headers],[2020]],Table11[#Headers],0))","v":274},{"$f":"INDEX(Table11[],MATCH(TEXT(hf_kommune[[#This Row],[Kommunenr]],\"0\"),Table11[Nr],0),MATCH(hf_kommune[[#Headers],[2021]],Table11[#Headers],0))","v":312},{"$f":"INDEX(Table11[],MATCH(TEXT(hf_kommune[[#This Row],[Kommunenr]],\"0\"),Table11[Nr],0),MATCH(hf_kommune[[#Headers],[2022]],Table11[#Headers],0))","v":302},{"$f":"INDEX(Table11[],MATCH(TEXT(hf_kommune[[#This Row],[Kommunenr]],\"0\"),Table11[Nr],0),MATCH(hf_kommune[[#Headers],[2023]],Table11[#Headers],0))","v":316},{"$f":"INDEX(Table11[],MATCH(TEXT(hf_kommune[[#This Row],[Kommunenr]],\"0\"),Table11[Nr],0),MATCH(hf_kommune[[#Headers],[2024]],Table11[#Headers],0))","v":282},{"$f":"INDEX(Table11[],MATCH(TEXT(hf_kommune[[#This Row],[Kommunenr]],\"0\"),Table11[Nr],0),MATCH(hf_kommune[[#Headers],[2025]],Table11[#Headers],0))","v":305},{"$f":"INDEX(Table11[],MATCH(TEXT(hf_kommune[[#This Row],[Kommunenr]],\"0\"),Table11[Nr],0),MATCH(hf_kommune[[#Headers],[2026]],Table11[#Headers],0))","v":337},{"$f":"INDEX(Table11[],MATCH(TEXT(hf_kommune[[#This Row],[Kommunenr]],\"0\"),Table11[Nr],0),MATCH(hf_kommune[[#Headers],[2027]],Table11[#Headers],0))","v":305},{"$f":"INDEX(Table11[],MATCH(TEXT(hf_kommune[[#This Row],[Kommunenr]],\"0\"),Table11[Nr],0),MATCH(hf_kommune[[#Headers],[2028]],Table11[#Headers],0))","v":299},{"$f":"INDEX(Table11[],MATCH(TEXT(hf_kommune[[#This Row],[Kommunenr]],\"0\"),Table11[Nr],0),MATCH(hf_kommune[[#Headers],[2029]],Table11[#Headers],0))","v":302},{"$f":"INDEX(Table11[],MATCH(TEXT(hf_kommune[[#This Row],[Kommunenr]],\"0\"),Table11[Nr],0),MATCH(hf_kommune[[#Headers],[2030]],Table11[#Headers],0))","v":288},{"$f":"INDEX(Table11[],MATCH(TEXT(hf_kommune[[#This Row],[Kommunenr]],\"0\"),Table11[Nr],0),MATCH(hf_kommune[[#Headers],[2031]],Table11[#Headers],0))","v":285},{"$f":"INDEX(Table11[],MATCH(TEXT(hf_kommune[[#This Row],[Kommunenr]],\"0\"),Table11[Nr],0),MATCH(hf_kommune[[#Headers],[2032]],Table11[#Headers],0))","v":265},{"$f":"INDEX(Table11[],MATCH(TEXT(hf_kommune[[#This Row],[Kommunenr]],\"0\"),Table11[Nr],0),MATCH(hf_kommune[[#Headers],[2033]],Table11[#Headers],0))","v":251},{"$f":"INDEX(Table11[],MATCH(TEXT(hf_kommune[[#This Row],[Kommunenr]],\"0\"),Table11[Nr],0),MATCH(hf_kommune[[#Headers],[2034]],Table11[#Headers],0))","v":293},{"$f":"INDEX(Table11[],MATCH(TEXT(hf_kommune[[#This Row],[Kommunenr]],\"0\"),Table11[Nr],0),MATCH(hf_kommune[[#Headers],[2035]],Table11[#Headers],0))","v":296},{"$f":"INDEX(Table11[],MATCH(TEXT(hf_kommune[[#This Row],[Kommunenr]],\"0\"),Table11[Nr],0),MATCH(hf_kommune[[#Headers],[2036]],Table11[#Headers],0))","v":271},{"$f":"INDEX(Table11[],MATCH(TEXT(hf_kommune[[#This Row],[Kommunenr]],\"0\"),Table11[Nr],0),MATCH(hf_kommune[[#Headers],[2037]],Table11[#Headers],0))","v":273},{"$f":"INDEX(Table11[],MATCH(TEXT(hf_kommune[[#This Row],[Kommunenr]],\"0\"),Table11[Nr],0),MATCH(hf_kommune[[#Headers],[2038]],Table11[#Headers],0))","v":277},{"$f":"INDEX(Table11[],MATCH(TEXT(hf_kommune[[#This Row],[Kommunenr]],\"0\"),Table11[Nr],0),MATCH(hf_kommune[[#Headers],[2039]],Table11[#Headers],0))","v":273},{"$f":"INDEX(Table11[],MATCH(TEXT(hf_kommune[[#This Row],[Kommunenr]],\"0\"),Table11[Nr],0),MATCH(hf_kommune[[#Headers],[2040]],Table11[#Headers],0))","v":307},21389,21542,21684,21818,21945,22074,22204,22333,22458,22579,22694,22805,22910,23012,23111,23206,23296,23382,23464]
[1103,"Stavanger","Helse Vest","Helse Stavanger","Stavanger",{"$f":"INDEX(Table11[],MATCH(TEXT(hf_kommune[[#This Row],[Kommunenr]],\"0\"),Table11[Nr],0),MATCH(hf_kommune[[#Headers],[2020]],Table11[#Headers],0))","v":1771},{"$f":"INDEX(Table11[],MATCH(TEXT(hf_kommune[[#This Row],[Kommunenr]],\"0\"),Table11[Nr],0),MATCH(hf_kommune[[#Headers],[2021]],Table11[#Headers],0))","v":1775},{"$f":"INDEX(Table11[],MATCH(TEXT(hf_kommune[[#This Row],[Kommunenr]],\"0\"),Table11[Nr],0),MATCH(hf_kommune[[#Headers],[2022]],Table11[#Headers],0))","v":1857},{"$f":"INDEX(Table11[],MATCH(TEXT(hf_kommune[[#This Row],[Kommunenr]],\"0\"),Table11[Nr],0),MATCH(hf_kommune[[#Headers],[2023]],Table11[#Headers],0))","v":1916},{"$f":"INDEX(Table11[],MATCH(TEXT(hf_kommune[[#This Row],[Kommunenr]],\"0\"),Table11[Nr],0),MATCH(hf_kommune[[#Headers],[2024]],Table11[#Headers],0))","v":1847},{"$f":"INDEX(Table11[],MATCH(TEXT(hf_kommune[[#This Row],[Kommunenr]],\"0\"),Table11[Nr],0),MATCH(hf_kommune[[#Headers],[2025]],Table11[#Headers],0))","v":1970},{"$f":"INDEX(Table11[],MATCH(TEXT(hf_kommune[[#This Row],[Kommunenr]],\"0\"),Table11[Nr],0),MATCH(hf_kommune[[#Headers],[2026]],Table11[#Headers],0))","v":1896},{"$f":"INDEX(Table11[],MATCH(TEXT(hf_kommune[[#This Row],[Kommunenr]],\"0\"),Table11[Nr],0),MATCH(hf_kommune[[#Headers],[2027]],Table11[#Headers],0))","v":1847},{"$f":"INDEX(Table11[],MATCH(TEXT(hf_kommune[[#This Row],[Kommunenr]],\"0\"),Table11[Nr],0),MATCH(hf_kommune[[#Headers],[2028]],Table11[#Headers],0))","v":1935},{"$f":"INDEX(Table11[],MATCH(TEXT(hf_kommune[[#This Row],[Kommunenr]],\"0\"),Table11[Nr],0),MATCH(hf_kommune[[#Headers],[2029]],Table11[#Headers],0))","v":1967},{"$f":"INDEX(Table11[],MATCH(TEXT(hf_kommune[[#This Row],[Kommunenr]],\"0\"),Table11[Nr],0),MATCH(hf_kommune[[#Headers],[2030]],Table11[#Headers],0))","v":1921},{"$f":"INDEX(Table11[],MATCH(TEXT(hf_kommune[[#This Row],[Kommunenr]],\"0\"),Table11[Nr],0),MATCH(hf_kommune[[#Headers],[2031]],Table11[#Headers],0))","v":1868},{"$f":"INDEX(Table11[],MATCH(TEXT(hf_kommune[[#This Row],[Kommunenr]],\"0\"),Table11[Nr],0),MATCH(hf_kommune[[#Headers],[2032]],Table11[#Headers],0))","v":1894},{"$f":"INDEX(Table11[],MATCH(TEXT(hf_kommune[[#This Row],[Kommunenr]],\"0\"),Table11[Nr],0),MATCH(hf_kommune[[#Headers],[2033]],Table11[#Headers],0))","v":1871},{"$f":"INDEX(Table11[],MATCH(TEXT(hf_kommune[[#This Row],[Kommunenr]],\"0\"),Table11[Nr],0),MATCH(hf_kommune[[#Headers],[2034]],Table11[#Headers],0))","v":1903},{"$f":"INDEX(Table11[],MATCH(TEXT(hf_kommune[[#This Row],[Kommunenr]],\"0\"),Table11[Nr],0),MATCH(hf_kommune[[#Headers],[2035]],Table11[#Headers],0))","v":1945},{"$f":"INDEX(Table11[],MATCH(TEXT(hf_kommune[[#This Row],[Kommunenr]],\"0\"),Table11[Nr],0),MATCH(hf_kommune[[#Headers],[2036]],Table11[#Headers],0))","v":1953},{"$f":"INDEX(Table11[],MATCH(TEXT(hf_kommune[[#This Row],[Kommunenr]],\"0\"),Table11[Nr],0),MATCH(hf_kommune[[#Headers],[2037]],Table11[#Headers],0))","v":1932},{"$f":"INDEX(Table11[],MATCH(TEXT(hf_kommune[[#This Row],[Kommunenr]],\"0\"),Table11[Nr],0),MATCH(hf_kommune[[#Headers],[2038]],Table11[#Headers],0))","v":1966},{"$f":"INDEX(Table11[],MATCH(TEXT(hf_kommune[[#This Row],[Kommunenr]],\"0\"),Table11[Nr],0),MATCH(hf_kommune[[#Headers],[2039]],Table11[#Headers],0))","v":1928},{"$f":"INDEX(Table11[],MATCH(TEXT(hf_kommune[[#This Row],[Kommunenr]],\"0\"),Table11[Nr],0),MATCH(hf_kommune[[#Headers],[2040]],Table11[#Headers],0))","v":1961},145219,145960,146588,147139,147630,148116,148604,149098,149593,150088,150574,151054,151530,152002,152467,152915,153336,153730,154101]
[1848,"Steigen","Helse Nord","Nordlandssykehuset","Bodø",{"$f":"INDEX(Table11[],MATCH(TEXT(hf_kommune[[#This Row],[Kommunenr]],\"0\"),Table11[Nr],0),MATCH(hf_kommune[[#Headers],[2020]],Table11[#Headers],0))","v":41},{"$f":"INDEX(Table11[],MATCH(TEXT(hf_kommune[[#This Row],[Kommunenr]],\"0\"),Table11[Nr],0),MATCH(hf_kommune[[#Headers],[2021]],Table11[#Headers],0))","v":42},{"$f":"INDEX(Table11[],MATCH(TEXT(hf_kommune[[#This Row],[Kommunenr]],\"0\"),Table11[Nr],0),MATCH(hf_kommune[[#Headers],[2022]],Table11[#Headers],0))","v":19},{"$f":"INDEX(Table11[],MATCH(TEXT(hf_kommune[[#This Row],[Kommunenr]],\"0\"),Table11[Nr],0),MATCH(hf_kommune[[#Headers],[2023]],Table11[#Headers],0))","v":34},{"$f":"INDEX(Table11[],MATCH(TEXT(hf_kommune[[#This Row],[Kommunenr]],\"0\"),Table11[Nr],0),MATCH(hf_kommune[[#Headers],[2024]],Table11[#Headers],0))","v":43},{"$f":"INDEX(Table11[],MATCH(TEXT(hf_kommune[[#This Row],[Kommunenr]],\"0\"),Table11[Nr],0),MATCH(hf_kommune[[#Headers],[2025]],Table11[#Headers],0))","v":35},{"$f":"INDEX(Table11[],MATCH(TEXT(hf_kommune[[#This Row],[Kommunenr]],\"0\"),Table11[Nr],0),MATCH(hf_kommune[[#Headers],[2026]],Table11[#Headers],0))","v":40},{"$f":"INDEX(Table11[],MATCH(TEXT(hf_kommune[[#This Row],[Kommunenr]],\"0\"),Table11[Nr],0),MATCH(hf_kommune[[#Headers],[2027]],Table11[#Headers],0))","v":36},{"$f":"INDEX(Table11[],MATCH(TEXT(hf_kommune[[#This Row],[Kommunenr]],\"0\"),Table11[Nr],0),MATCH(hf_kommune[[#Headers],[2028]],Table11[#Headers],0))","v":42},{"$f":"INDEX(Table11[],MATCH(TEXT(hf_kommune[[#This Row],[Kommunenr]],\"0\"),Table11[Nr],0),MATCH(hf_kommune[[#Headers],[2029]],Table11[#Headers],0))","v":38},{"$f":"INDEX(Table11[],MATCH(TEXT(hf_kommune[[#This Row],[Kommunenr]],\"0\"),Table11[Nr],0),MATCH(hf_kommune[[#Headers],[2030]],Table11[#Headers],0))","v":32},{"$f":"INDEX(Table11[],MATCH(TEXT(hf_kommune[[#This Row],[Kommunenr]],\"0\"),Table11[Nr],0),MATCH(hf_kommune[[#Headers],[2031]],Table11[#Headers],0))","v":33},{"$f":"INDEX(Table11[],MATCH(TEXT(hf_kommune[[#This Row],[Kommunenr]],\"0\"),Table11[Nr],0),MATCH(hf_kommune[[#Headers],[2032]],Table11[#Headers],0))","v":24},{"$f":"INDEX(Table11[],MATCH(TEXT(hf_kommune[[#This Row],[Kommunenr]],\"0\"),Table11[Nr],0),MATCH(hf_kommune[[#Headers],[2033]],Table11[#Headers],0))","v":33},{"$f":"INDEX(Table11[],MATCH(TEXT(hf_kommune[[#This Row],[Kommunenr]],\"0\"),Table11[Nr],0),MATCH(hf_kommune[[#Headers],[2034]],Table11[#Headers],0))","v":28},{"$f":"INDEX(Table11[],MATCH(TEXT(hf_kommune[[#This Row],[Kommunenr]],\"0\"),Table11[Nr],0),MATCH(hf_kommune[[#Headers],[2035]],Table11[#Headers],0))","v":24},{"$f":"INDEX(Table11[],MATCH(TEXT(hf_kommune[[#This Row],[Kommunenr]],\"0\"),Table11[Nr],0),MATCH(hf_kommune[[#Headers],[2036]],Table11[#Headers],0))","v":38},{"$f":"INDEX(Table11[],MATCH(TEXT(hf_kommune[[#This Row],[Kommunenr]],\"0\"),Table11[Nr],0),MATCH(hf_kommune[[#Headers],[2037]],Table11[#Headers],0))","v":32},{"$f":"INDEX(Table11[],MATCH(TEXT(hf_kommune[[#This Row],[Kommunenr]],\"0\"),Table11[Nr],0),MATCH(hf_kommune[[#Headers],[2038]],Table11[#Headers],0))","v":31},{"$f":"INDEX(Table11[],MATCH(TEXT(hf_kommune[[#This Row],[Kommunenr]],\"0\"),Table11[Nr],0),MATCH(hf_kommune[[#Headers],[2039]],Table11[#Headers],0))","v":34},{"$f":"INDEX(Table11[],MATCH(TEXT(hf_kommune[[#This Row],[Kommunenr]],\"0\"),Table11[Nr],0),MATCH(hf_kommune[[#Headers],[2040]],Table11[#Headers],0))","v":31},2653,2674,2689,2700,2707,2712,2717,2722,2726,2729,2732,2734,2735,2735,2734,2733,2731,2729,2726]
[5006,"Steinkjer","Helse Midt-Norge","Helse Nord-Trøndelag","Levanger",{"$f":"INDEX(Table11[],MATCH(TEXT(hf_kommune[[#This Row],[Kommunenr]],\"0\"),Table11[Nr],0),MATCH(hf_kommune[[#Headers],[2020]],Table11[#Headers],0))","v":335},{"$f":"INDEX(Table11[],MATCH(TEXT(hf_kommune[[#This Row],[Kommunenr]],\"0\"),Table11[Nr],0),MATCH(hf_kommune[[#Headers],[2021]],Table11[#Headers],0))","v":349},{"$f":"INDEX(Table11[],MATCH(TEXT(hf_kommune[[#This Row],[Kommunenr]],\"0\"),Table11[Nr],0),MATCH(hf_kommune[[#Headers],[2022]],Table11[#Headers],0))","v":352},{"$f":"INDEX(Table11[],MATCH(TEXT(hf_kommune[[#This Row],[Kommunenr]],\"0\"),Table11[Nr],0),MATCH(hf_kommune[[#Headers],[2023]],Table11[#Headers],0))","v":313},{"$f":"INDEX(Table11[],MATCH(TEXT(hf_kommune[[#This Row],[Kommunenr]],\"0\"),Table11[Nr],0),MATCH(hf_kommune[[#Headers],[2024]],Table11[#Headers],0))","v":339},{"$f":"INDEX(Table11[],MATCH(TEXT(hf_kommune[[#This Row],[Kommunenr]],\"0\"),Table11[Nr],0),MATCH(hf_kommune[[#Headers],[2025]],Table11[#Headers],0))","v":346},{"$f":"INDEX(Table11[],MATCH(TEXT(hf_kommune[[#This Row],[Kommunenr]],\"0\"),Table11[Nr],0),MATCH(hf_kommune[[#Headers],[2026]],Table11[#Headers],0))","v":308},{"$f":"INDEX(Table11[],MATCH(TEXT(hf_kommune[[#This Row],[Kommunenr]],\"0\"),Table11[Nr],0),MATCH(hf_kommune[[#Headers],[2027]],Table11[#Headers],0))","v":339},{"$f":"INDEX(Table11[],MATCH(TEXT(hf_kommune[[#This Row],[Kommunenr]],\"0\"),Table11[Nr],0),MATCH(hf_kommune[[#Headers],[2028]],Table11[#Headers],0))","v":325},{"$f":"INDEX(Table11[],MATCH(TEXT(hf_kommune[[#This Row],[Kommunenr]],\"0\"),Table11[Nr],0),MATCH(hf_kommune[[#Headers],[2029]],Table11[#Headers],0))","v":265},{"$f":"INDEX(Table11[],MATCH(TEXT(hf_kommune[[#This Row],[Kommunenr]],\"0\"),Table11[Nr],0),MATCH(hf_kommune[[#Headers],[2030]],Table11[#Headers],0))","v":293},{"$f":"INDEX(Table11[],MATCH(TEXT(hf_kommune[[#This Row],[Kommunenr]],\"0\"),Table11[Nr],0),MATCH(hf_kommune[[#Headers],[2031]],Table11[#Headers],0))","v":238},{"$f":"INDEX(Table11[],MATCH(TEXT(hf_kommune[[#This Row],[Kommunenr]],\"0\"),Table11[Nr],0),MATCH(hf_kommune[[#Headers],[2032]],Table11[#Headers],0))","v":266},{"$f":"INDEX(Table11[],MATCH(TEXT(hf_kommune[[#This Row],[Kommunenr]],\"0\"),Table11[Nr],0),MATCH(hf_kommune[[#Headers],[2033]],Table11[#Headers],0))","v":272},{"$f":"INDEX(Table11[],MATCH(TEXT(hf_kommune[[#This Row],[Kommunenr]],\"0\"),Table11[Nr],0),MATCH(hf_kommune[[#Headers],[2034]],Table11[#Headers],0))","v":256},{"$f":"INDEX(Table11[],MATCH(TEXT(hf_kommune[[#This Row],[Kommunenr]],\"0\"),Table11[Nr],0),MATCH(hf_kommune[[#Headers],[2035]],Table11[#Headers],0))","v":275},{"$f":"INDEX(Table11[],MATCH(TEXT(hf_kommune[[#This Row],[Kommunenr]],\"0\"),Table11[Nr],0),MATCH(hf_kommune[[#Headers],[2036]],Table11[#Headers],0))","v":274},{"$f":"INDEX(Table11[],MATCH(TEXT(hf_kommune[[#This Row],[Kommunenr]],\"0\"),Table11[Nr],0),MATCH(hf_kommune[[#Headers],[2037]],Table11[#Headers],0))","v":246},{"$f":"INDEX(Table11[],MATCH(TEXT(hf_kommune[[#This Row],[Kommunenr]],\"0\"),Table11[Nr],0),MATCH(hf_kommune[[#Headers],[2038]],Table11[#Headers],0))","v":270},{"$f":"INDEX(Table11[],MATCH(TEXT(hf_kommune[[#This Row],[Kommunenr]],\"0\"),Table11[Nr],0),MATCH(hf_kommune[[#Headers],[2039]],Table11[#Headers],0))","v":258},{"$f":"INDEX(Table11[],MATCH(TEXT(hf_kommune[[#This Row],[Kommunenr]],\"0\"),Table11[Nr],0),MATCH(hf_kommune[[#Headers],[2040]],Table11[#Headers],0))","v":261},24127,24072,24039,24028,24038,24044,24047,24048,24046,24042,24036,24028,24021,24013,24006,23998,23987,23974,23959]
[5035,"Stjørdal","Helse Midt-Norge","Helse Nord-Trøndelag","Levanger",{"$f":"INDEX(Table11[],MATCH(TEXT(hf_kommune[[#This Row],[Kommunenr]],\"0\"),Table11[Nr],0),MATCH(hf_kommune[[#Headers],[2020]],Table11[#Headers],0))","v":322},{"$f":"INDEX(Table11[],MATCH(TEXT(hf_kommune[[#This Row],[Kommunenr]],\"0\"),Table11[Nr],0),MATCH(hf_kommune[[#Headers],[2021]],Table11[#Headers],0))","v":358},{"$f":"INDEX(Table11[],MATCH(TEXT(hf_kommune[[#This Row],[Kommunenr]],\"0\"),Table11[Nr],0),MATCH(hf_kommune[[#Headers],[2022]],Table11[#Headers],0))","v":327},{"$f":"INDEX(Table11[],MATCH(TEXT(hf_kommune[[#This Row],[Kommunenr]],\"0\"),Table11[Nr],0),MATCH(hf_kommune[[#Headers],[2023]],Table11[#Headers],0))","v":348},{"$f":"INDEX(Table11[],MATCH(TEXT(hf_kommune[[#This Row],[Kommunenr]],\"0\"),Table11[Nr],0),MATCH(hf_kommune[[#Headers],[2024]],Table11[#Headers],0))","v":352},{"$f":"INDEX(Table11[],MATCH(TEXT(hf_kommune[[#This Row],[Kommunenr]],\"0\"),Table11[Nr],0),MATCH(hf_kommune[[#Headers],[2025]],Table11[#Headers],0))","v":350},{"$f":"INDEX(Table11[],MATCH(TEXT(hf_kommune[[#This Row],[Kommunenr]],\"0\"),Table11[Nr],0),MATCH(hf_kommune[[#Headers],[2026]],Table11[#Headers],0))","v":369},{"$f":"INDEX(Table11[],MATCH(TEXT(hf_kommune[[#This Row],[Kommunenr]],\"0\"),Table11[Nr],0),MATCH(hf_kommune[[#Headers],[2027]],Table11[#Headers],0))","v":378},{"$f":"INDEX(Table11[],MATCH(TEXT(hf_kommune[[#This Row],[Kommunenr]],\"0\"),Table11[Nr],0),MATCH(hf_kommune[[#Headers],[2028]],Table11[#Headers],0))","v":370},{"$f":"INDEX(Table11[],MATCH(TEXT(hf_kommune[[#This Row],[Kommunenr]],\"0\"),Table11[Nr],0),MATCH(hf_kommune[[#Headers],[2029]],Table11[#Headers],0))","v":364},{"$f":"INDEX(Table11[],MATCH(TEXT(hf_kommune[[#This Row],[Kommunenr]],\"0\"),Table11[Nr],0),MATCH(hf_kommune[[#Headers],[2030]],Table11[#Headers],0))","v":324},{"$f":"INDEX(Table11[],MATCH(TEXT(hf_kommune[[#This Row],[Kommunenr]],\"0\"),Table11[Nr],0),MATCH(hf_kommune[[#Headers],[2031]],Table11[#Headers],0))","v":335},{"$f":"INDEX(Table11[],MATCH(TEXT(hf_kommune[[#This Row],[Kommunenr]],\"0\"),Table11[Nr],0),MATCH(hf_kommune[[#Headers],[2032]],Table11[#Headers],0))","v":292},{"$f":"INDEX(Table11[],MATCH(TEXT(hf_kommune[[#This Row],[Kommunenr]],\"0\"),Table11[Nr],0),MATCH(hf_kommune[[#Headers],[2033]],Table11[#Headers],0))","v":319},{"$f":"INDEX(Table11[],MATCH(TEXT(hf_kommune[[#This Row],[Kommunenr]],\"0\"),Table11[Nr],0),MATCH(hf_kommune[[#Headers],[2034]],Table11[#Headers],0))","v":302},{"$f":"INDEX(Table11[],MATCH(TEXT(hf_kommune[[#This Row],[Kommunenr]],\"0\"),Table11[Nr],0),MATCH(hf_kommune[[#Headers],[2035]],Table11[#Headers],0))","v":315},{"$f":"INDEX(Table11[],MATCH(TEXT(hf_kommune[[#This Row],[Kommunenr]],\"0\"),Table11[Nr],0),MATCH(hf_kommune[[#Headers],[2036]],Table11[#Headers],0))","v":300},{"$f":"INDEX(Table11[],MATCH(TEXT(hf_kommune[[#This Row],[Kommunenr]],\"0\"),Table11[Nr],0),MATCH(hf_kommune[[#Headers],[2037]],Table11[#Headers],0))","v":305},{"$f":"INDEX(Table11[],MATCH(TEXT(hf_kommune[[#This Row],[Kommunenr]],\"0\"),Table11[Nr],0),MATCH(hf_kommune[[#Headers],[2038]],Table11[#Headers],0))","v":338},{"$f":"INDEX(Table11[],MATCH(TEXT(hf_kommune[[#This Row],[Kommunenr]],\"0\"),Table11[Nr],0),MATCH(hf_kommune[[#Headers],[2039]],Table11[#Headers],0))","v":303},{"$f":"INDEX(Table11[],MATCH(TEXT(hf_kommune[[#This Row],[Kommunenr]],\"0\"),Table11[Nr],0),MATCH(hf_kommune[[#Headers],[2040]],Table11[#Headers],0))","v":312},24221,24295,24386,24497,24627,24757,24886,25013,25140,25265,25388,25510,25631,25751,25871,25989,26104,26216,26324]
[4614,"Stord","Helse Vest","Helse Fonna","Stord",{"$f":"INDEX(Table11[],MATCH(TEXT(hf_kommune[[#This Row],[Kommunenr]],\"0\"),Table11[Nr],0),MATCH(hf_kommune[[#Headers],[2020]],Table11[#Headers],0))","v":247},{"$f":"INDEX(Table11[],MATCH(TEXT(hf_kommune[[#This Row],[Kommunenr]],\"0\"),Table11[Nr],0),MATCH(hf_kommune[[#Headers],[2021]],Table11[#Headers],0))","v":244},{"$f":"INDEX(Table11[],MATCH(TEXT(hf_kommune[[#This Row],[Kommunenr]],\"0\"),Table11[Nr],0),MATCH(hf_kommune[[#Headers],[2022]],Table11[#Headers],0))","v":291},{"$f":"INDEX(Table11[],MATCH(TEXT(hf_kommune[[#This Row],[Kommunenr]],\"0\"),Table11[Nr],0),MATCH(hf_kommune[[#Headers],[2023]],Table11[#Headers],0))","v":234},{"$f":"INDEX(Table11[],MATCH(TEXT(hf_kommune[[#This Row],[Kommunenr]],\"0\"),Table11[Nr],0),MATCH(hf_kommune[[#Headers],[2024]],Table11[#Headers],0))","v":262},{"$f":"INDEX(Table11[],MATCH(TEXT(hf_kommune[[#This Row],[Kommunenr]],\"0\"),Table11[Nr],0),MATCH(hf_kommune[[#Headers],[2025]],Table11[#Headers],0))","v":257},{"$f":"INDEX(Table11[],MATCH(TEXT(hf_kommune[[#This Row],[Kommunenr]],\"0\"),Table11[Nr],0),MATCH(hf_kommune[[#Headers],[2026]],Table11[#Headers],0))","v":268},{"$f":"INDEX(Table11[],MATCH(TEXT(hf_kommune[[#This Row],[Kommunenr]],\"0\"),Table11[Nr],0),MATCH(hf_kommune[[#Headers],[2027]],Table11[#Headers],0))","v":236},{"$f":"INDEX(Table11[],MATCH(TEXT(hf_kommune[[#This Row],[Kommunenr]],\"0\"),Table11[Nr],0),MATCH(hf_kommune[[#Headers],[2028]],Table11[#Headers],0))","v":266},{"$f":"INDEX(Table11[],MATCH(TEXT(hf_kommune[[#This Row],[Kommunenr]],\"0\"),Table11[Nr],0),MATCH(hf_kommune[[#Headers],[2029]],Table11[#Headers],0))","v":250},{"$f":"INDEX(Table11[],MATCH(TEXT(hf_kommune[[#This Row],[Kommunenr]],\"0\"),Table11[Nr],0),MATCH(hf_kommune[[#Headers],[2030]],Table11[#Headers],0))","v":250},{"$f":"INDEX(Table11[],MATCH(TEXT(hf_kommune[[#This Row],[Kommunenr]],\"0\"),Table11[Nr],0),MATCH(hf_kommune[[#Headers],[2031]],Table11[#Headers],0))","v":238},{"$f":"INDEX(Table11[],MATCH(TEXT(hf_kommune[[#This Row],[Kommunenr]],\"0\"),Table11[Nr],0),MATCH(hf_kommune[[#Headers],[2032]],Table11[#Headers],0))","v":238},{"$f":"INDEX(Table11[],MATCH(TEXT(hf_kommune[[#This Row],[Kommunenr]],\"0\"),Table11[Nr],0),MATCH(hf_kommune[[#Headers],[2033]],Table11[#Headers],0))","v":232},{"$f":"INDEX(Table11[],MATCH(TEXT(hf_kommune[[#This Row],[Kommunenr]],\"0\"),Table11[Nr],0),MATCH(hf_kommune[[#Headers],[2034]],Table11[#Headers],0))","v":214},{"$f":"INDEX(Table11[],MATCH(TEXT(hf_kommune[[#This Row],[Kommunenr]],\"0\"),Table11[Nr],0),MATCH(hf_kommune[[#Headers],[2035]],Table11[#Headers],0))","v":239},{"$f":"INDEX(Table11[],MATCH(TEXT(hf_kommune[[#This Row],[Kommunenr]],\"0\"),Table11[Nr],0),MATCH(hf_kommune[[#Headers],[2036]],Table11[#Headers],0))","v":240},{"$f":"INDEX(Table11[],MATCH(TEXT(hf_kommune[[#This Row],[Kommunenr]],\"0\"),Table11[Nr],0),MATCH(hf_kommune[[#Headers],[2037]],Table11[#Headers],0))","v":217},{"$f":"INDEX(Table11[],MATCH(TEXT(hf_kommune[[#This Row],[Kommunenr]],\"0\"),Table11[Nr],0),MATCH(hf_kommune[[#Headers],[2038]],Table11[#Headers],0))","v":248},{"$f":"INDEX(Table11[],MATCH(TEXT(hf_kommune[[#This Row],[Kommunenr]],\"0\"),Table11[Nr],0),MATCH(hf_kommune[[#Headers],[2039]],Table11[#Headers],0))","v":239},{"$f":"INDEX(Table11[],MATCH(TEXT(hf_kommune[[#This Row],[Kommunenr]],\"0\"),Table11[Nr],0),MATCH(hf_kommune[[#Headers],[2040]],Table11[#Headers],0))","v":243},18733,18752,18779,18815,18861,18906,18949,18990,19030,19070,19108,19145,19181,19217,19253,19288,19320,19349,19375]
[3423,"Stor-Elvdal","Helse Sør-Øst","Sykehuset Innlandet","Tynset",{"$f":"INDEX(Table11[],MATCH(TEXT(hf_kommune[[#This Row],[Kommunenr]],\"0\"),Table11[Nr],0),MATCH(hf_kommune[[#Headers],[2020]],Table11[#Headers],0))","v":41},{"$f":"INDEX(Table11[],MATCH(TEXT(hf_kommune[[#This Row],[Kommunenr]],\"0\"),Table11[Nr],0),MATCH(hf_kommune[[#Headers],[2021]],Table11[#Headers],0))","v":28},{"$f":"INDEX(Table11[],MATCH(TEXT(hf_kommune[[#This Row],[Kommunenr]],\"0\"),Table11[Nr],0),MATCH(hf_kommune[[#Headers],[2022]],Table11[#Headers],0))","v":34},{"$f":"INDEX(Table11[],MATCH(TEXT(hf_kommune[[#This Row],[Kommunenr]],\"0\"),Table11[Nr],0),MATCH(hf_kommune[[#Headers],[2023]],Table11[#Headers],0))","v":42},{"$f":"INDEX(Table11[],MATCH(TEXT(hf_kommune[[#This Row],[Kommunenr]],\"0\"),Table11[Nr],0),MATCH(hf_kommune[[#Headers],[2024]],Table11[#Headers],0))","v":37},{"$f":"INDEX(Table11[],MATCH(TEXT(hf_kommune[[#This Row],[Kommunenr]],\"0\"),Table11[Nr],0),MATCH(hf_kommune[[#Headers],[2025]],Table11[#Headers],0))","v":32},{"$f":"INDEX(Table11[],MATCH(TEXT(hf_kommune[[#This Row],[Kommunenr]],\"0\"),Table11[Nr],0),MATCH(hf_kommune[[#Headers],[2026]],Table11[#Headers],0))","v":34},{"$f":"INDEX(Table11[],MATCH(TEXT(hf_kommune[[#This Row],[Kommunenr]],\"0\"),Table11[Nr],0),MATCH(hf_kommune[[#Headers],[2027]],Table11[#Headers],0))","v":29},{"$f":"INDEX(Table11[],MATCH(TEXT(hf_kommune[[#This Row],[Kommunenr]],\"0\"),Table11[Nr],0),MATCH(hf_kommune[[#Headers],[2028]],Table11[#Headers],0))","v":34},{"$f":"INDEX(Table11[],MATCH(TEXT(hf_kommune[[#This Row],[Kommunenr]],\"0\"),Table11[Nr],0),MATCH(hf_kommune[[#Headers],[2029]],Table11[#Headers],0))","v":29},{"$f":"INDEX(Table11[],MATCH(TEXT(hf_kommune[[#This Row],[Kommunenr]],\"0\"),Table11[Nr],0),MATCH(hf_kommune[[#Headers],[2030]],Table11[#Headers],0))","v":29},{"$f":"INDEX(Table11[],MATCH(TEXT(hf_kommune[[#This Row],[Kommunenr]],\"0\"),Table11[Nr],0),MATCH(hf_kommune[[#Headers],[2031]],Table11[#Headers],0))","v":36},{"$f":"INDEX(Table11[],MATCH(TEXT(hf_kommune[[#This Row],[Kommunenr]],\"0\"),Table11[Nr],0),MATCH(hf_kommune[[#Headers],[2032]],Table11[#Headers],0))","v":28},{"$f":"INDEX(Table11[],MATCH(TEXT(hf_kommune[[#This Row],[Kommunenr]],\"0\"),Table11[Nr],0),MATCH(hf_kommune[[#Headers],[2033]],Table11[#Headers],0))","v":27},{"$f":"INDEX(Table11[],MATCH(TEXT(hf_kommune[[#This Row],[Kommunenr]],\"0\"),Table11[Nr],0),MATCH(hf_kommune[[#Headers],[2034]],Table11[#Headers],0))","v":33},{"$f":"INDEX(Table11[],MATCH(TEXT(hf_kommune[[#This Row],[Kommunenr]],\"0\"),Table11[Nr],0),MATCH(hf_kommune[[#Headers],[2035]],Table11[#Headers],0))","v":26},{"$f":"INDEX(Table11[],MATCH(TEXT(hf_kommune[[#This Row],[Kommunenr]],\"0\"),Table11[Nr],0),MATCH(hf_kommune[[#Headers],[2036]],Table11[#Headers],0))","v":29},{"$f":"INDEX(Table11[],MATCH(TEXT(hf_kommune[[#This Row],[Kommunenr]],\"0\"),Table11[Nr],0),MATCH(hf_kommune[[#Headers],[2037]],Table11[#Headers],0))","v":31},{"$f":"INDEX(Table11[],MATCH(TEXT(hf_kommune[[#This Row],[Kommunenr]],\"0\"),Table11[Nr],0),MATCH(hf_kommune[[#Headers],[2038]],Table11[#Headers],0))","v":31},{"$f":"INDEX(Table11[],MATCH(TEXT(hf_kommune[[#This Row],[Kommunenr]],\"0\"),Table11[Nr],0),MATCH(hf_kommune[[#Headers],[2039]],Table11[#Headers],0))","v":32},{"$f":"INDEX(Table11[],MATCH(TEXT(hf_kommune[[#This Row],[Kommunenr]],\"0\"),Table11[Nr],0),MATCH(hf_kommune[[#Headers],[2040]],Table11[#Headers],0))","v":30},2430,2448,2467,2486,2507,2526,2544,2561,2577,2592,2605,2619,2632,2644,2657,2668,2679,2690,2699]
[5425,"Storfjord - Omasvuotna - Omasvuono","Helse Nord","Universitetssykehuset Nord-Norge","Tromsø",{"$f":"INDEX(Table11[],MATCH(TEXT(hf_kommune[[#This Row],[Kommunenr]],\"0\"),Table11[Nr],0),MATCH(hf_kommune[[#Headers],[2020]],Table11[#Headers],0))","v":26},{"$f":"INDEX(Table11[],MATCH(TEXT(hf_kommune[[#This Row],[Kommunenr]],\"0\"),Table11[Nr],0),MATCH(hf_kommune[[#Headers],[2021]],Table11[#Headers],0))","v":36},{"$f":"INDEX(Table11[],MATCH(TEXT(hf_kommune[[#This Row],[Kommunenr]],\"0\"),Table11[Nr],0),MATCH(hf_kommune[[#Headers],[2022]],Table11[#Headers],0))","v":21},{"$f":"INDEX(Table11[],MATCH(TEXT(hf_kommune[[#This Row],[Kommunenr]],\"0\"),Table11[Nr],0),MATCH(hf_kommune[[#Headers],[2023]],Table11[#Headers],0))","v":14},{"$f":"INDEX(Table11[],MATCH(TEXT(hf_kommune[[#This Row],[Kommunenr]],\"0\"),Table11[Nr],0),MATCH(hf_kommune[[#Headers],[2024]],Table11[#Headers],0))","v":29},{"$f":"INDEX(Table11[],MATCH(TEXT(hf_kommune[[#This Row],[Kommunenr]],\"0\"),Table11[Nr],0),MATCH(hf_kommune[[#Headers],[2025]],Table11[#Headers],0))","v":22},{"$f":"INDEX(Table11[],MATCH(TEXT(hf_kommune[[#This Row],[Kommunenr]],\"0\"),Table11[Nr],0),MATCH(hf_kommune[[#Headers],[2026]],Table11[#Headers],0))","v":33},{"$f":"INDEX(Table11[],MATCH(TEXT(hf_kommune[[#This Row],[Kommunenr]],\"0\"),Table11[Nr],0),MATCH(hf_kommune[[#Headers],[2027]],Table11[#Headers],0))","v":27},{"$f":"INDEX(Table11[],MATCH(TEXT(hf_kommune[[#This Row],[Kommunenr]],\"0\"),Table11[Nr],0),MATCH(hf_kommune[[#Headers],[2028]],Table11[#Headers],0))","v":30},{"$f":"INDEX(Table11[],MATCH(TEXT(hf_kommune[[#This Row],[Kommunenr]],\"0\"),Table11[Nr],0),MATCH(hf_kommune[[#Headers],[2029]],Table11[#Headers],0))","v":26},{"$f":"INDEX(Table11[],MATCH(TEXT(hf_kommune[[#This Row],[Kommunenr]],\"0\"),Table11[Nr],0),MATCH(hf_kommune[[#Headers],[2030]],Table11[#Headers],0))","v":26},{"$f":"INDEX(Table11[],MATCH(TEXT(hf_kommune[[#This Row],[Kommunenr]],\"0\"),Table11[Nr],0),MATCH(hf_kommune[[#Headers],[2031]],Table11[#Headers],0))","v":20},{"$f":"INDEX(Table11[],MATCH(TEXT(hf_kommune[[#This Row],[Kommunenr]],\"0\"),Table11[Nr],0),MATCH(hf_kommune[[#Headers],[2032]],Table11[#Headers],0))","v":28},{"$f":"INDEX(Table11[],MATCH(TEXT(hf_kommune[[#This Row],[Kommunenr]],\"0\"),Table11[Nr],0),MATCH(hf_kommune[[#Headers],[2033]],Table11[#Headers],0))","v":27},{"$f":"INDEX(Table11[],MATCH(TEXT(hf_kommune[[#This Row],[Kommunenr]],\"0\"),Table11[Nr],0),MATCH(hf_kommune[[#Headers],[2034]],Table11[#Headers],0))","v":25},{"$f":"INDEX(Table11[],MATCH(TEXT(hf_kommune[[#This Row],[Kommunenr]],\"0\"),Table11[Nr],0),MATCH(hf_kommune[[#Headers],[2035]],Table11[#Headers],0))","v":17},{"$f":"INDEX(Table11[],MATCH(TEXT(hf_kommune[[#This Row],[Kommunenr]],\"0\"),Table11[Nr],0),MATCH(hf_kommune[[#Headers],[2036]],Table11[#Headers],0))","v":22},{"$f":"INDEX(Table11[],MATCH(TEXT(hf_kommune[[#This Row],[Kommunenr]],\"0\"),Table11[Nr],0),MATCH(hf_kommune[[#Headers],[2037]],Table11[#Headers],0))","v":23},{"$f":"INDEX(Table11[],MATCH(TEXT(hf_kommune[[#This Row],[Kommunenr]],\"0\"),Table11[Nr],0),MATCH(hf_kommune[[#Headers],[2038]],Table11[#Headers],0))","v":19},{"$f":"INDEX(Table11[],MATCH(TEXT(hf_kommune[[#This Row],[Kommunenr]],\"0\"),Table11[Nr],0),MATCH(hf_kommune[[#Headers],[2039]],Table11[#Headers],0))","v":22},{"$f":"INDEX(Table11[],MATCH(TEXT(hf_kommune[[#This Row],[Kommunenr]],\"0\"),Table11[Nr],0),MATCH(hf_kommune[[#Headers],[2040]],Table11[#Headers],0))","v":24},1837,1844,1851,1858,1865,1873,1880,1887,1893,1899,1905,1911,1917,1922,1926,1930,1933,1935,1937]
[1130,"Strand","Helse Vest","Helse Stavanger","Stavanger",{"$f":"INDEX(Table11[],MATCH(TEXT(hf_kommune[[#This Row],[Kommunenr]],\"0\"),Table11[Nr],0),MATCH(hf_kommune[[#Headers],[2020]],Table11[#Headers],0))","v":144},{"$f":"INDEX(Table11[],MATCH(TEXT(hf_kommune[[#This Row],[Kommunenr]],\"0\"),Table11[Nr],0),MATCH(hf_kommune[[#Headers],[2021]],Table11[#Headers],0))","v":152},{"$f":"INDEX(Table11[],MATCH(TEXT(hf_kommune[[#This Row],[Kommunenr]],\"0\"),Table11[Nr],0),MATCH(hf_kommune[[#Headers],[2022]],Table11[#Headers],0))","v":157},{"$f":"INDEX(Table11[],MATCH(TEXT(hf_kommune[[#This Row],[Kommunenr]],\"0\"),Table11[Nr],0),MATCH(hf_kommune[[#Headers],[2023]],Table11[#Headers],0))","v":158},{"$f":"INDEX(Table11[],MATCH(TEXT(hf_kommune[[#This Row],[Kommunenr]],\"0\"),Table11[Nr],0),MATCH(hf_kommune[[#Headers],[2024]],Table11[#Headers],0))","v":170},{"$f":"INDEX(Table11[],MATCH(TEXT(hf_kommune[[#This Row],[Kommunenr]],\"0\"),Table11[Nr],0),MATCH(hf_kommune[[#Headers],[2025]],Table11[#Headers],0))","v":171},{"$f":"INDEX(Table11[],MATCH(TEXT(hf_kommune[[#This Row],[Kommunenr]],\"0\"),Table11[Nr],0),MATCH(hf_kommune[[#Headers],[2026]],Table11[#Headers],0))","v":180},{"$f":"INDEX(Table11[],MATCH(TEXT(hf_kommune[[#This Row],[Kommunenr]],\"0\"),Table11[Nr],0),MATCH(hf_kommune[[#Headers],[2027]],Table11[#Headers],0))","v":190},{"$f":"INDEX(Table11[],MATCH(TEXT(hf_kommune[[#This Row],[Kommunenr]],\"0\"),Table11[Nr],0),MATCH(hf_kommune[[#Headers],[2028]],Table11[#Headers],0))","v":187},{"$f":"INDEX(Table11[],MATCH(TEXT(hf_kommune[[#This Row],[Kommunenr]],\"0\"),Table11[Nr],0),MATCH(hf_kommune[[#Headers],[2029]],Table11[#Headers],0))","v":171},{"$f":"INDEX(Table11[],MATCH(TEXT(hf_kommune[[#This Row],[Kommunenr]],\"0\"),Table11[Nr],0),MATCH(hf_kommune[[#Headers],[2030]],Table11[#Headers],0))","v":190},{"$f":"INDEX(Table11[],MATCH(TEXT(hf_kommune[[#This Row],[Kommunenr]],\"0\"),Table11[Nr],0),MATCH(hf_kommune[[#Headers],[2031]],Table11[#Headers],0))","v":173},{"$f":"INDEX(Table11[],MATCH(TEXT(hf_kommune[[#This Row],[Kommunenr]],\"0\"),Table11[Nr],0),MATCH(hf_kommune[[#Headers],[2032]],Table11[#Headers],0))","v":169},{"$f":"INDEX(Table11[],MATCH(TEXT(hf_kommune[[#This Row],[Kommunenr]],\"0\"),Table11[Nr],0),MATCH(hf_kommune[[#Headers],[2033]],Table11[#Headers],0))","v":164},{"$f":"INDEX(Table11[],MATCH(TEXT(hf_kommune[[#This Row],[Kommunenr]],\"0\"),Table11[Nr],0),MATCH(hf_kommune[[#Headers],[2034]],Table11[#Headers],0))","v":165},{"$f":"INDEX(Table11[],MATCH(TEXT(hf_kommune[[#This Row],[Kommunenr]],\"0\"),Table11[Nr],0),MATCH(hf_kommune[[#Headers],[2035]],Table11[#Headers],0))","v":163},{"$f":"INDEX(Table11[],MATCH(TEXT(hf_kommune[[#This Row],[Kommunenr]],\"0\"),Table11[Nr],0),MATCH(hf_kommune[[#Headers],[2036]],Table11[#Headers],0))","v":173},{"$f":"INDEX(Table11[],MATCH(TEXT(hf_kommune[[#This Row],[Kommunenr]],\"0\"),Table11[Nr],0),MATCH(hf_kommune[[#Headers],[2037]],Table11[#Headers],0))","v":174},{"$f":"INDEX(Table11[],MATCH(TEXT(hf_kommune[[#This Row],[Kommunenr]],\"0\"),Table11[Nr],0),MATCH(hf_kommune[[#Headers],[2038]],Table11[#Headers],0))","v":186},{"$f":"INDEX(Table11[],MATCH(TEXT(hf_kommune[[#This Row],[Kommunenr]],\"0\"),Table11[Nr],0),MATCH(hf_kommune[[#Headers],[2039]],Table11[#Headers],0))","v":172},{"$f":"INDEX(Table11[],MATCH(TEXT(hf_kommune[[#This Row],[Kommunenr]],\"0\"),Table11[Nr],0),MATCH(hf_kommune[[#Headers],[2040]],Table11[#Headers],0))","v":167},12942,12952,12978,13017,13070,13121,13170,13217,13262,13306,13348,13390,13430,13471,13512,13553,13593,13633,13671]
[1525,"Stranda","Helse Midt-Norge","Helse Møre og Romsdal","Ålesund",{"$f":"INDEX(Table11[],MATCH(TEXT(hf_kommune[[#This Row],[Kommunenr]],\"0\"),Table11[Nr],0),MATCH(hf_kommune[[#Headers],[2020]],Table11[#Headers],0))","v":57},{"$f":"INDEX(Table11[],MATCH(TEXT(hf_kommune[[#This Row],[Kommunenr]],\"0\"),Table11[Nr],0),MATCH(hf_kommune[[#Headers],[2021]],Table11[#Headers],0))","v":71},{"$f":"INDEX(Table11[],MATCH(TEXT(hf_kommune[[#This Row],[Kommunenr]],\"0\"),Table11[Nr],0),MATCH(hf_kommune[[#Headers],[2022]],Table11[#Headers],0))","v":52},{"$f":"INDEX(Table11[],MATCH(TEXT(hf_kommune[[#This Row],[Kommunenr]],\"0\"),Table11[Nr],0),MATCH(hf_kommune[[#Headers],[2023]],Table11[#Headers],0))","v":75},{"$f":"INDEX(Table11[],MATCH(TEXT(hf_kommune[[#This Row],[Kommunenr]],\"0\"),Table11[Nr],0),MATCH(hf_kommune[[#Headers],[2024]],Table11[#Headers],0))","v":59},{"$f":"INDEX(Table11[],MATCH(TEXT(hf_kommune[[#This Row],[Kommunenr]],\"0\"),Table11[Nr],0),MATCH(hf_kommune[[#Headers],[2025]],Table11[#Headers],0))","v":74},{"$f":"INDEX(Table11[],MATCH(TEXT(hf_kommune[[#This Row],[Kommunenr]],\"0\"),Table11[Nr],0),MATCH(hf_kommune[[#Headers],[2026]],Table11[#Headers],0))","v":71},{"$f":"INDEX(Table11[],MATCH(TEXT(hf_kommune[[#This Row],[Kommunenr]],\"0\"),Table11[Nr],0),MATCH(hf_kommune[[#Headers],[2027]],Table11[#Headers],0))","v":60},{"$f":"INDEX(Table11[],MATCH(TEXT(hf_kommune[[#This Row],[Kommunenr]],\"0\"),Table11[Nr],0),MATCH(hf_kommune[[#Headers],[2028]],Table11[#Headers],0))","v":65},{"$f":"INDEX(Table11[],MATCH(TEXT(hf_kommune[[#This Row],[Kommunenr]],\"0\"),Table11[Nr],0),MATCH(hf_kommune[[#Headers],[2029]],Table11[#Headers],0))","v":60},{"$f":"INDEX(Table11[],MATCH(TEXT(hf_kommune[[#This Row],[Kommunenr]],\"0\"),Table11[Nr],0),MATCH(hf_kommune[[#Headers],[2030]],Table11[#Headers],0))","v":51},{"$f":"INDEX(Table11[],MATCH(TEXT(hf_kommune[[#This Row],[Kommunenr]],\"0\"),Table11[Nr],0),MATCH(hf_kommune[[#Headers],[2031]],Table11[#Headers],0))","v":51},{"$f":"INDEX(Table11[],MATCH(TEXT(hf_kommune[[#This Row],[Kommunenr]],\"0\"),Table11[Nr],0),MATCH(hf_kommune[[#Headers],[2032]],Table11[#Headers],0))","v":62},{"$f":"INDEX(Table11[],MATCH(TEXT(hf_kommune[[#This Row],[Kommunenr]],\"0\"),Table11[Nr],0),MATCH(hf_kommune[[#Headers],[2033]],Table11[#Headers],0))","v":37},{"$f":"INDEX(Table11[],MATCH(TEXT(hf_kommune[[#This Row],[Kommunenr]],\"0\"),Table11[Nr],0),MATCH(hf_kommune[[#Headers],[2034]],Table11[#Headers],0))","v":60},{"$f":"INDEX(Table11[],MATCH(TEXT(hf_kommune[[#This Row],[Kommunenr]],\"0\"),Table11[Nr],0),MATCH(hf_kommune[[#Headers],[2035]],Table11[#Headers],0))","v":58},{"$f":"INDEX(Table11[],MATCH(TEXT(hf_kommune[[#This Row],[Kommunenr]],\"0\"),Table11[Nr],0),MATCH(hf_kommune[[#Headers],[2036]],Table11[#Headers],0))","v":52},{"$f":"INDEX(Table11[],MATCH(TEXT(hf_kommune[[#This Row],[Kommunenr]],\"0\"),Table11[Nr],0),MATCH(hf_kommune[[#Headers],[2037]],Table11[#Headers],0))","v":51},{"$f":"INDEX(Table11[],MATCH(TEXT(hf_kommune[[#This Row],[Kommunenr]],\"0\"),Table11[Nr],0),MATCH(hf_kommune[[#Headers],[2038]],Table11[#Headers],0))","v":67},{"$f":"INDEX(Table11[],MATCH(TEXT(hf_kommune[[#This Row],[Kommunenr]],\"0\"),Table11[Nr],0),MATCH(hf_kommune[[#Headers],[2039]],Table11[#Headers],0))","v":54},{"$f":"INDEX(Table11[],MATCH(TEXT(hf_kommune[[#This Row],[Kommunenr]],\"0\"),Table11[Nr],0),MATCH(hf_kommune[[#Headers],[2040]],Table11[#Headers],0))","v":57},4462,4447,4435,4428,4424,4422,4420,4420,4420,4421,4422,4424,4426,4429,4432,4434,4436,4437,4436]
[4651,"Stryn","Helse Vest","Helse Førde","Nordfjordeid",{"$f":"INDEX(Table11[],MATCH(TEXT(hf_kommune[[#This Row],[Kommunenr]],\"0\"),Table11[Nr],0),MATCH(hf_kommune[[#Headers],[2020]],Table11[#Headers],0))","v":88},{"$f":"INDEX(Table11[],MATCH(TEXT(hf_kommune[[#This Row],[Kommunenr]],\"0\"),Table11[Nr],0),MATCH(hf_kommune[[#Headers],[2021]],Table11[#Headers],0))","v":92},{"$f":"INDEX(Table11[],MATCH(TEXT(hf_kommune[[#This Row],[Kommunenr]],\"0\"),Table11[Nr],0),MATCH(hf_kommune[[#Headers],[2022]],Table11[#Headers],0))","v":111},{"$f":"INDEX(Table11[],MATCH(TEXT(hf_kommune[[#This Row],[Kommunenr]],\"0\"),Table11[Nr],0),MATCH(hf_kommune[[#Headers],[2023]],Table11[#Headers],0))","v":112},{"$f":"INDEX(Table11[],MATCH(TEXT(hf_kommune[[#This Row],[Kommunenr]],\"0\"),Table11[Nr],0),MATCH(hf_kommune[[#Headers],[2024]],Table11[#Headers],0))","v":100},{"$f":"INDEX(Table11[],MATCH(TEXT(hf_kommune[[#This Row],[Kommunenr]],\"0\"),Table11[Nr],0),MATCH(hf_kommune[[#Headers],[2025]],Table11[#Headers],0))","v":90},{"$f":"INDEX(Table11[],MATCH(TEXT(hf_kommune[[#This Row],[Kommunenr]],\"0\"),Table11[Nr],0),MATCH(hf_kommune[[#Headers],[2026]],Table11[#Headers],0))","v":86},{"$f":"INDEX(Table11[],MATCH(TEXT(hf_kommune[[#This Row],[Kommunenr]],\"0\"),Table11[Nr],0),MATCH(hf_kommune[[#Headers],[2027]],Table11[#Headers],0))","v":99},{"$f":"INDEX(Table11[],MATCH(TEXT(hf_kommune[[#This Row],[Kommunenr]],\"0\"),Table11[Nr],0),MATCH(hf_kommune[[#Headers],[2028]],Table11[#Headers],0))","v":104},{"$f":"INDEX(Table11[],MATCH(TEXT(hf_kommune[[#This Row],[Kommunenr]],\"0\"),Table11[Nr],0),MATCH(hf_kommune[[#Headers],[2029]],Table11[#Headers],0))","v":86},{"$f":"INDEX(Table11[],MATCH(TEXT(hf_kommune[[#This Row],[Kommunenr]],\"0\"),Table11[Nr],0),MATCH(hf_kommune[[#Headers],[2030]],Table11[#Headers],0))","v":94},{"$f":"INDEX(Table11[],MATCH(TEXT(hf_kommune[[#This Row],[Kommunenr]],\"0\"),Table11[Nr],0),MATCH(hf_kommune[[#Headers],[2031]],Table11[#Headers],0))","v":99},{"$f":"INDEX(Table11[],MATCH(TEXT(hf_kommune[[#This Row],[Kommunenr]],\"0\"),Table11[Nr],0),MATCH(hf_kommune[[#Headers],[2032]],Table11[#Headers],0))","v":85},{"$f":"INDEX(Table11[],MATCH(TEXT(hf_kommune[[#This Row],[Kommunenr]],\"0\"),Table11[Nr],0),MATCH(hf_kommune[[#Headers],[2033]],Table11[#Headers],0))","v":79},{"$f":"INDEX(Table11[],MATCH(TEXT(hf_kommune[[#This Row],[Kommunenr]],\"0\"),Table11[Nr],0),MATCH(hf_kommune[[#Headers],[2034]],Table11[#Headers],0))","v":110},{"$f":"INDEX(Table11[],MATCH(TEXT(hf_kommune[[#This Row],[Kommunenr]],\"0\"),Table11[Nr],0),MATCH(hf_kommune[[#Headers],[2035]],Table11[#Headers],0))","v":91},{"$f":"INDEX(Table11[],MATCH(TEXT(hf_kommune[[#This Row],[Kommunenr]],\"0\"),Table11[Nr],0),MATCH(hf_kommune[[#Headers],[2036]],Table11[#Headers],0))","v":81},{"$f":"INDEX(Table11[],MATCH(TEXT(hf_kommune[[#This Row],[Kommunenr]],\"0\"),Table11[Nr],0),MATCH(hf_kommune[[#Headers],[2037]],Table11[#Headers],0))","v":82},{"$f":"INDEX(Table11[],MATCH(TEXT(hf_kommune[[#This Row],[Kommunenr]],\"0\"),Table11[Nr],0),MATCH(hf_kommune[[#Headers],[2038]],Table11[#Headers],0))","v":93},{"$f":"INDEX(Table11[],MATCH(TEXT(hf_kommune[[#This Row],[Kommunenr]],\"0\"),Table11[Nr],0),MATCH(hf_kommune[[#Headers],[2039]],Table11[#Headers],0))","v":95},{"$f":"INDEX(Table11[],MATCH(TEXT(hf_kommune[[#This Row],[Kommunenr]],\"0\"),Table11[Nr],0),MATCH(hf_kommune[[#Headers],[2040]],Table11[#Headers],0))","v":98},7034,7009,6990,6976,6968,6960,6953,6945,6938,6930,6923,6916,6909,6902,6896,6889,6883,6877,6871]
[1531,"Sula","Helse Midt-Norge","Helse Møre og Romsdal","Ålesund",{"$f":"INDEX(Table11[],MATCH(TEXT(hf_kommune[[#This Row],[Kommunenr]],\"0\"),Table11[Nr],0),MATCH(hf_kommune[[#Headers],[2020]],Table11[#Headers],0))","v":100},{"$f":"INDEX(Table11[],MATCH(TEXT(hf_kommune[[#This Row],[Kommunenr]],\"0\"),Table11[Nr],0),MATCH(hf_kommune[[#Headers],[2021]],Table11[#Headers],0))","v":110},{"$f":"INDEX(Table11[],MATCH(TEXT(hf_kommune[[#This Row],[Kommunenr]],\"0\"),Table11[Nr],0),MATCH(hf_kommune[[#Headers],[2022]],Table11[#Headers],0))","v":85},{"$f":"INDEX(Table11[],MATCH(TEXT(hf_kommune[[#This Row],[Kommunenr]],\"0\"),Table11[Nr],0),MATCH(hf_kommune[[#Headers],[2023]],Table11[#Headers],0))","v":115},{"$f":"INDEX(Table11[],MATCH(TEXT(hf_kommune[[#This Row],[Kommunenr]],\"0\"),Table11[Nr],0),MATCH(hf_kommune[[#Headers],[2024]],Table11[#Headers],0))","v":119},{"$f":"INDEX(Table11[],MATCH(TEXT(hf_kommune[[#This Row],[Kommunenr]],\"0\"),Table11[Nr],0),MATCH(hf_kommune[[#Headers],[2025]],Table11[#Headers],0))","v":134},{"$f":"INDEX(Table11[],MATCH(TEXT(hf_kommune[[#This Row],[Kommunenr]],\"0\"),Table11[Nr],0),MATCH(hf_kommune[[#Headers],[2026]],Table11[#Headers],0))","v":123},{"$f":"INDEX(Table11[],MATCH(TEXT(hf_kommune[[#This Row],[Kommunenr]],\"0\"),Table11[Nr],0),MATCH(hf_kommune[[#Headers],[2027]],Table11[#Headers],0))","v":138},{"$f":"INDEX(Table11[],MATCH(TEXT(hf_kommune[[#This Row],[Kommunenr]],\"0\"),Table11[Nr],0),MATCH(hf_kommune[[#Headers],[2028]],Table11[#Headers],0))","v":148},{"$f":"INDEX(Table11[],MATCH(TEXT(hf_kommune[[#This Row],[Kommunenr]],\"0\"),Table11[Nr],0),MATCH(hf_kommune[[#Headers],[2029]],Table11[#Headers],0))","v":132},{"$f":"INDEX(Table11[],MATCH(TEXT(hf_kommune[[#This Row],[Kommunenr]],\"0\"),Table11[Nr],0),MATCH(hf_kommune[[#Headers],[2030]],Table11[#Headers],0))","v":130},{"$f":"INDEX(Table11[],MATCH(TEXT(hf_kommune[[#This Row],[Kommunenr]],\"0\"),Table11[Nr],0),MATCH(hf_kommune[[#Headers],[2031]],Table11[#Headers],0))","v":122},{"$f":"INDEX(Table11[],MATCH(TEXT(hf_kommune[[#This Row],[Kommunenr]],\"0\"),Table11[Nr],0),MATCH(hf_kommune[[#Headers],[2032]],Table11[#Headers],0))","v":116},{"$f":"INDEX(Table11[],MATCH(TEXT(hf_kommune[[#This Row],[Kommunenr]],\"0\"),Table11[Nr],0),MATCH(hf_kommune[[#Headers],[2033]],Table11[#Headers],0))","v":116},{"$f":"INDEX(Table11[],MATCH(TEXT(hf_kommune[[#This Row],[Kommunenr]],\"0\"),Table11[Nr],0),MATCH(hf_kommune[[#Headers],[2034]],Table11[#Headers],0))","v":123},{"$f":"INDEX(Table11[],MATCH(TEXT(hf_kommune[[#This Row],[Kommunenr]],\"0\"),Table11[Nr],0),MATCH(hf_kommune[[#Headers],[2035]],Table11[#Headers],0))","v":145},{"$f":"INDEX(Table11[],MATCH(TEXT(hf_kommune[[#This Row],[Kommunenr]],\"0\"),Table11[Nr],0),MATCH(hf_kommune[[#Headers],[2036]],Table11[#Headers],0))","v":138},{"$f":"INDEX(Table11[],MATCH(TEXT(hf_kommune[[#This Row],[Kommunenr]],\"0\"),Table11[Nr],0),MATCH(hf_kommune[[#Headers],[2037]],Table11[#Headers],0))","v":146},{"$f":"INDEX(Table11[],MATCH(TEXT(hf_kommune[[#This Row],[Kommunenr]],\"0\"),Table11[Nr],0),MATCH(hf_kommune[[#Headers],[2038]],Table11[#Headers],0))","v":140},{"$f":"INDEX(Table11[],MATCH(TEXT(hf_kommune[[#This Row],[Kommunenr]],\"0\"),Table11[Nr],0),MATCH(hf_kommune[[#Headers],[2039]],Table11[#Headers],0))","v":144},{"$f":"INDEX(Table11[],MATCH(TEXT(hf_kommune[[#This Row],[Kommunenr]],\"0\"),Table11[Nr],0),MATCH(hf_kommune[[#Headers],[2040]],Table11[#Headers],0))","v":138},9417,9471,9527,9585,9646,9707,9766,9824,9880,9935,9989,10042,10094,10146,10198,10249,10299,10348,10395]
[1134,"Suldal","Helse Vest","Helse Fonna","Haugesund",{"$f":"INDEX(Table11[],MATCH(TEXT(hf_kommune[[#This Row],[Kommunenr]],\"0\"),Table11[Nr],0),MATCH(hf_kommune[[#Headers],[2020]],Table11[#Headers],0))","v":51},{"$f":"INDEX(Table11[],MATCH(TEXT(hf_kommune[[#This Row],[Kommunenr]],\"0\"),Table11[Nr],0),MATCH(hf_kommune[[#Headers],[2021]],Table11[#Headers],0))","v":56},{"$f":"INDEX(Table11[],MATCH(TEXT(hf_kommune[[#This Row],[Kommunenr]],\"0\"),Table11[Nr],0),MATCH(hf_kommune[[#Headers],[2022]],Table11[#Headers],0))","v":61},{"$f":"INDEX(Table11[],MATCH(TEXT(hf_kommune[[#This Row],[Kommunenr]],\"0\"),Table11[Nr],0),MATCH(hf_kommune[[#Headers],[2023]],Table11[#Headers],0))","v":42},{"$f":"INDEX(Table11[],MATCH(TEXT(hf_kommune[[#This Row],[Kommunenr]],\"0\"),Table11[Nr],0),MATCH(hf_kommune[[#Headers],[2024]],Table11[#Headers],0))","v":45},{"$f":"INDEX(Table11[],MATCH(TEXT(hf_kommune[[#This Row],[Kommunenr]],\"0\"),Table11[Nr],0),MATCH(hf_kommune[[#Headers],[2025]],Table11[#Headers],0))","v":51},{"$f":"INDEX(Table11[],MATCH(TEXT(hf_kommune[[#This Row],[Kommunenr]],\"0\"),Table11[Nr],0),MATCH(hf_kommune[[#Headers],[2026]],Table11[#Headers],0))","v":41},{"$f":"INDEX(Table11[],MATCH(TEXT(hf_kommune[[#This Row],[Kommunenr]],\"0\"),Table11[Nr],0),MATCH(hf_kommune[[#Headers],[2027]],Table11[#Headers],0))","v":56},{"$f":"INDEX(Table11[],MATCH(TEXT(hf_kommune[[#This Row],[Kommunenr]],\"0\"),Table11[Nr],0),MATCH(hf_kommune[[#Headers],[2028]],Table11[#Headers],0))","v":41},{"$f":"INDEX(Table11[],MATCH(TEXT(hf_kommune[[#This Row],[Kommunenr]],\"0\"),Table11[Nr],0),MATCH(hf_kommune[[#Headers],[2029]],Table11[#Headers],0))","v":50},{"$f":"INDEX(Table11[],MATCH(TEXT(hf_kommune[[#This Row],[Kommunenr]],\"0\"),Table11[Nr],0),MATCH(hf_kommune[[#Headers],[2030]],Table11[#Headers],0))","v":50},{"$f":"INDEX(Table11[],MATCH(TEXT(hf_kommune[[#This Row],[Kommunenr]],\"0\"),Table11[Nr],0),MATCH(hf_kommune[[#Headers],[2031]],Table11[#Headers],0))","v":55},{"$f":"INDEX(Table11[],MATCH(TEXT(hf_kommune[[#This Row],[Kommunenr]],\"0\"),Table11[Nr],0),MATCH(hf_kommune[[#Headers],[2032]],Table11[#Headers],0))","v":43},{"$f":"INDEX(Table11[],MATCH(TEXT(hf_kommune[[#This Row],[Kommunenr]],\"0\"),Table11[Nr],0),MATCH(hf_kommune[[#Headers],[2033]],Table11[#Headers],0))","v":42},{"$f":"INDEX(Table11[],MATCH(TEXT(hf_kommune[[#This Row],[Kommunenr]],\"0\"),Table11[Nr],0),MATCH(hf_kommune[[#Headers],[2034]],Table11[#Headers],0))","v":45},{"$f":"INDEX(Table11[],MATCH(TEXT(hf_kommune[[#This Row],[Kommunenr]],\"0\"),Table11[Nr],0),MATCH(hf_kommune[[#Headers],[2035]],Table11[#Headers],0))","v":45},{"$f":"INDEX(Table11[],MATCH(TEXT(hf_kommune[[#This Row],[Kommunenr]],\"0\"),Table11[Nr],0),MATCH(hf_kommune[[#Headers],[2036]],Table11[#Headers],0))","v":56},{"$f":"INDEX(Table11[],MATCH(TEXT(hf_kommune[[#This Row],[Kommunenr]],\"0\"),Table11[Nr],0),MATCH(hf_kommune[[#Headers],[2037]],Table11[#Headers],0))","v":48},{"$f":"INDEX(Table11[],MATCH(TEXT(hf_kommune[[#This Row],[Kommunenr]],\"0\"),Table11[Nr],0),MATCH(hf_kommune[[#Headers],[2038]],Table11[#Headers],0))","v":40},{"$f":"INDEX(Table11[],MATCH(TEXT(hf_kommune[[#This Row],[Kommunenr]],\"0\"),Table11[Nr],0),MATCH(hf_kommune[[#Headers],[2039]],Table11[#Headers],0))","v":39},{"$f":"INDEX(Table11[],MATCH(TEXT(hf_kommune[[#This Row],[Kommunenr]],\"0\"),Table11[Nr],0),MATCH(hf_kommune[[#Headers],[2040]],Table11[#Headers],0))","v":38},3766,3754,3745,3738,3734,3730,3726,3723,3719,3716,3713,3710,3707,3704,3701,3699,3696,3694,3691]
[1563,"Sunndal","Helse Midt-Norge","Helse Møre og Romsdal","Molde",{"$f":"INDEX(Table11[],MATCH(TEXT(hf_kommune[[#This Row],[Kommunenr]],\"0\"),Table11[Nr],0),MATCH(hf_kommune[[#Headers],[2020]],Table11[#Headers],0))","v":93},{"$f":"INDEX(Table11[],MATCH(TEXT(hf_kommune[[#This Row],[Kommunenr]],\"0\"),Table11[Nr],0),MATCH(hf_kommune[[#Headers],[2021]],Table11[#Headers],0))","v":95},{"$f":"INDEX(Table11[],MATCH(TEXT(hf_kommune[[#This Row],[Kommunenr]],\"0\"),Table11[Nr],0),MATCH(hf_kommune[[#Headers],[2022]],Table11[#Headers],0))","v":115},{"$f":"INDEX(Table11[],MATCH(TEXT(hf_kommune[[#This Row],[Kommunenr]],\"0\"),Table11[Nr],0),MATCH(hf_kommune[[#Headers],[2023]],Table11[#Headers],0))","v":110},{"$f":"INDEX(Table11[],MATCH(TEXT(hf_kommune[[#This Row],[Kommunenr]],\"0\"),Table11[Nr],0),MATCH(hf_kommune[[#Headers],[2024]],Table11[#Headers],0))","v":111},{"$f":"INDEX(Table11[],MATCH(TEXT(hf_kommune[[#This Row],[Kommunenr]],\"0\"),Table11[Nr],0),MATCH(hf_kommune[[#Headers],[2025]],Table11[#Headers],0))","v":113},{"$f":"INDEX(Table11[],MATCH(TEXT(hf_kommune[[#This Row],[Kommunenr]],\"0\"),Table11[Nr],0),MATCH(hf_kommune[[#Headers],[2026]],Table11[#Headers],0))","v":98},{"$f":"INDEX(Table11[],MATCH(TEXT(hf_kommune[[#This Row],[Kommunenr]],\"0\"),Table11[Nr],0),MATCH(hf_kommune[[#Headers],[2027]],Table11[#Headers],0))","v":100},{"$f":"INDEX(Table11[],MATCH(TEXT(hf_kommune[[#This Row],[Kommunenr]],\"0\"),Table11[Nr],0),MATCH(hf_kommune[[#Headers],[2028]],Table11[#Headers],0))","v":96},{"$f":"INDEX(Table11[],MATCH(TEXT(hf_kommune[[#This Row],[Kommunenr]],\"0\"),Table11[Nr],0),MATCH(hf_kommune[[#Headers],[2029]],Table11[#Headers],0))","v":74},{"$f":"INDEX(Table11[],MATCH(TEXT(hf_kommune[[#This Row],[Kommunenr]],\"0\"),Table11[Nr],0),MATCH(hf_kommune[[#Headers],[2030]],Table11[#Headers],0))","v":75},{"$f":"INDEX(Table11[],MATCH(TEXT(hf_kommune[[#This Row],[Kommunenr]],\"0\"),Table11[Nr],0),MATCH(hf_kommune[[#Headers],[2031]],Table11[#Headers],0))","v":63},{"$f":"INDEX(Table11[],MATCH(TEXT(hf_kommune[[#This Row],[Kommunenr]],\"0\"),Table11[Nr],0),MATCH(hf_kommune[[#Headers],[2032]],Table11[#Headers],0))","v":75},{"$f":"INDEX(Table11[],MATCH(TEXT(hf_kommune[[#This Row],[Kommunenr]],\"0\"),Table11[Nr],0),MATCH(hf_kommune[[#Headers],[2033]],Table11[#Headers],0))","v":64},{"$f":"INDEX(Table11[],MATCH(TEXT(hf_kommune[[#This Row],[Kommunenr]],\"0\"),Table11[Nr],0),MATCH(hf_kommune[[#Headers],[2034]],Table11[#Headers],0))","v":63},{"$f":"INDEX(Table11[],MATCH(TEXT(hf_kommune[[#This Row],[Kommunenr]],\"0\"),Table11[Nr],0),MATCH(hf_kommune[[#Headers],[2035]],Table11[#Headers],0))","v":75},{"$f":"INDEX(Table11[],MATCH(TEXT(hf_kommune[[#This Row],[Kommunenr]],\"0\"),Table11[Nr],0),MATCH(hf_kommune[[#Headers],[2036]],Table11[#Headers],0))","v":70},{"$f":"INDEX(Table11[],MATCH(TEXT(hf_kommune[[#This Row],[Kommunenr]],\"0\"),Table11[Nr],0),MATCH(hf_kommune[[#Headers],[2037]],Table11[#Headers],0))","v":62},{"$f":"INDEX(Table11[],MATCH(TEXT(hf_kommune[[#This Row],[Kommunenr]],\"0\"),Table11[Nr],0),MATCH(hf_kommune[[#Headers],[2038]],Table11[#Headers],0))","v":70},{"$f":"INDEX(Table11[],MATCH(TEXT(hf_kommune[[#This Row],[Kommunenr]],\"0\"),Table11[Nr],0),MATCH(hf_kommune[[#Headers],[2039]],Table11[#Headers],0))","v":76},{"$f":"INDEX(Table11[],MATCH(TEXT(hf_kommune[[#This Row],[Kommunenr]],\"0\"),Table11[Nr],0),MATCH(hf_kommune[[#Headers],[2040]],Table11[#Headers],0))","v":66},6863,6802,6751,6711,6682,6655,6630,6607,6585,6564,6543,6522,6500,6478,6455,6432,6408,6383,6358]
[4647,"Sunnfjord","Helse Vest","Helse Førde","Førde",{"$f":"INDEX(Table11[],MATCH(TEXT(hf_kommune[[#This Row],[Kommunenr]],\"0\"),Table11[Nr],0),MATCH(hf_kommune[[#Headers],[2020]],Table11[#Headers],0))","v":269},{"$f":"INDEX(Table11[],MATCH(TEXT(hf_kommune[[#This Row],[Kommunenr]],\"0\"),Table11[Nr],0),MATCH(hf_kommune[[#Headers],[2021]],Table11[#Headers],0))","v":265},{"$f":"INDEX(Table11[],MATCH(TEXT(hf_kommune[[#This Row],[Kommunenr]],\"0\"),Table11[Nr],0),MATCH(hf_kommune[[#Headers],[2022]],Table11[#Headers],0))","v":266},{"$f":"INDEX(Table11[],MATCH(TEXT(hf_kommune[[#This Row],[Kommunenr]],\"0\"),Table11[Nr],0),MATCH(hf_kommune[[#Headers],[2023]],Table11[#Headers],0))","v":267},{"$f":"INDEX(Table11[],MATCH(TEXT(hf_kommune[[#This Row],[Kommunenr]],\"0\"),Table11[Nr],0),MATCH(hf_kommune[[#Headers],[2024]],Table11[#Headers],0))","v":277},{"$f":"INDEX(Table11[],MATCH(TEXT(hf_kommune[[#This Row],[Kommunenr]],\"0\"),Table11[Nr],0),MATCH(hf_kommune[[#Headers],[2025]],Table11[#Headers],0))","v":292},{"$f":"INDEX(Table11[],MATCH(TEXT(hf_kommune[[#This Row],[Kommunenr]],\"0\"),Table11[Nr],0),MATCH(hf_kommune[[#Headers],[2026]],Table11[#Headers],0))","v":281},{"$f":"INDEX(Table11[],MATCH(TEXT(hf_kommune[[#This Row],[Kommunenr]],\"0\"),Table11[Nr],0),MATCH(hf_kommune[[#Headers],[2027]],Table11[#Headers],0))","v":297},{"$f":"INDEX(Table11[],MATCH(TEXT(hf_kommune[[#This Row],[Kommunenr]],\"0\"),Table11[Nr],0),MATCH(hf_kommune[[#Headers],[2028]],Table11[#Headers],0))","v":309},{"$f":"INDEX(Table11[],MATCH(TEXT(hf_kommune[[#This Row],[Kommunenr]],\"0\"),Table11[Nr],0),MATCH(hf_kommune[[#Headers],[2029]],Table11[#Headers],0))","v":281},{"$f":"INDEX(Table11[],MATCH(TEXT(hf_kommune[[#This Row],[Kommunenr]],\"0\"),Table11[Nr],0),MATCH(hf_kommune[[#Headers],[2030]],Table11[#Headers],0))","v":280},{"$f":"INDEX(Table11[],MATCH(TEXT(hf_kommune[[#This Row],[Kommunenr]],\"0\"),Table11[Nr],0),MATCH(hf_kommune[[#Headers],[2031]],Table11[#Headers],0))","v":237},{"$f":"INDEX(Table11[],MATCH(TEXT(hf_kommune[[#This Row],[Kommunenr]],\"0\"),Table11[Nr],0),MATCH(hf_kommune[[#Headers],[2032]],Table11[#Headers],0))","v":240},{"$f":"INDEX(Table11[],MATCH(TEXT(hf_kommune[[#This Row],[Kommunenr]],\"0\"),Table11[Nr],0),MATCH(hf_kommune[[#Headers],[2033]],Table11[#Headers],0))","v":249},{"$f":"INDEX(Table11[],MATCH(TEXT(hf_kommune[[#This Row],[Kommunenr]],\"0\"),Table11[Nr],0),MATCH(hf_kommune[[#Headers],[2034]],Table11[#Headers],0))","v":270},{"$f":"INDEX(Table11[],MATCH(TEXT(hf_kommune[[#This Row],[Kommunenr]],\"0\"),Table11[Nr],0),MATCH(hf_kommune[[#Headers],[2035]],Table11[#Headers],0))","v":246},{"$f":"INDEX(Table11[],MATCH(TEXT(hf_kommune[[#This Row],[Kommunenr]],\"0\"),Table11[Nr],0),MATCH(hf_kommune[[#Headers],[2036]],Table11[#Headers],0))","v":254},{"$f":"INDEX(Table11[],MATCH(TEXT(hf_kommune[[#This Row],[Kommunenr]],\"0\"),Table11[Nr],0),MATCH(hf_kommune[[#Headers],[2037]],Table11[#Headers],0))","v":273},{"$f":"INDEX(Table11[],MATCH(TEXT(hf_kommune[[#This Row],[Kommunenr]],\"0\"),Table11[Nr],0),MATCH(hf_kommune[[#Headers],[2038]],Table11[#Headers],0))","v":250},{"$f":"INDEX(Table11[],MATCH(TEXT(hf_kommune[[#This Row],[Kommunenr]],\"0\"),Table11[Nr],0),MATCH(hf_kommune[[#Headers],[2039]],Table11[#Headers],0))","v":272},{"$f":"INDEX(Table11[],MATCH(TEXT(hf_kommune[[#This Row],[Kommunenr]],\"0\"),Table11[Nr],0),MATCH(hf_kommune[[#Headers],[2040]],Table11[#Headers],0))","v":265},21960,21958,21970,21996,22037,22076,22112,22147,22179,22210,22240,22268,22296,22324,22353,22381,22406,22427,22446]
[1566,"Surnadal","Helse Midt-Norge","Helse Møre og Romsdal","Kristiansund",{"$f":"INDEX(Table11[],MATCH(TEXT(hf_kommune[[#This Row],[Kommunenr]],\"0\"),Table11[Nr],0),MATCH(hf_kommune[[#Headers],[2020]],Table11[#Headers],0))","v":68},{"$f":"INDEX(Table11[],MATCH(TEXT(hf_kommune[[#This Row],[Kommunenr]],\"0\"),Table11[Nr],0),MATCH(hf_kommune[[#Headers],[2021]],Table11[#Headers],0))","v":75},{"$f":"INDEX(Table11[],MATCH(TEXT(hf_kommune[[#This Row],[Kommunenr]],\"0\"),Table11[Nr],0),MATCH(hf_kommune[[#Headers],[2022]],Table11[#Headers],0))","v":83},{"$f":"INDEX(Table11[],MATCH(TEXT(hf_kommune[[#This Row],[Kommunenr]],\"0\"),Table11[Nr],0),MATCH(hf_kommune[[#Headers],[2023]],Table11[#Headers],0))","v":101},{"$f":"INDEX(Table11[],MATCH(TEXT(hf_kommune[[#This Row],[Kommunenr]],\"0\"),Table11[Nr],0),MATCH(hf_kommune[[#Headers],[2024]],Table11[#Headers],0))","v":92},{"$f":"INDEX(Table11[],MATCH(TEXT(hf_kommune[[#This Row],[Kommunenr]],\"0\"),Table11[Nr],0),MATCH(hf_kommune[[#Headers],[2025]],Table11[#Headers],0))","v":100},{"$f":"INDEX(Table11[],MATCH(TEXT(hf_kommune[[#This Row],[Kommunenr]],\"0\"),Table11[Nr],0),MATCH(hf_kommune[[#Headers],[2026]],Table11[#Headers],0))","v":92},{"$f":"INDEX(Table11[],MATCH(TEXT(hf_kommune[[#This Row],[Kommunenr]],\"0\"),Table11[Nr],0),MATCH(hf_kommune[[#Headers],[2027]],Table11[#Headers],0))","v":96},{"$f":"INDEX(Table11[],MATCH(TEXT(hf_kommune[[#This Row],[Kommunenr]],\"0\"),Table11[Nr],0),MATCH(hf_kommune[[#Headers],[2028]],Table11[#Headers],0))","v":61},{"$f":"INDEX(Table11[],MATCH(TEXT(hf_kommune[[#This Row],[Kommunenr]],\"0\"),Table11[Nr],0),MATCH(hf_kommune[[#Headers],[2029]],Table11[#Headers],0))","v":82},{"$f":"INDEX(Table11[],MATCH(TEXT(hf_kommune[[#This Row],[Kommunenr]],\"0\"),Table11[Nr],0),MATCH(hf_kommune[[#Headers],[2030]],Table11[#Headers],0))","v":54},{"$f":"INDEX(Table11[],MATCH(TEXT(hf_kommune[[#This Row],[Kommunenr]],\"0\"),Table11[Nr],0),MATCH(hf_kommune[[#Headers],[2031]],Table11[#Headers],0))","v":75},{"$f":"INDEX(Table11[],MATCH(TEXT(hf_kommune[[#This Row],[Kommunenr]],\"0\"),Table11[Nr],0),MATCH(hf_kommune[[#Headers],[2032]],Table11[#Headers],0))","v":52},{"$f":"INDEX(Table11[],MATCH(TEXT(hf_kommune[[#This Row],[Kommunenr]],\"0\"),Table11[Nr],0),MATCH(hf_kommune[[#Headers],[2033]],Table11[#Headers],0))","v":57},{"$f":"INDEX(Table11[],MATCH(TEXT(hf_kommune[[#This Row],[Kommunenr]],\"0\"),Table11[Nr],0),MATCH(hf_kommune[[#Headers],[2034]],Table11[#Headers],0))","v":59},{"$f":"INDEX(Table11[],MATCH(TEXT(hf_kommune[[#This Row],[Kommunenr]],\"0\"),Table11[Nr],0),MATCH(hf_kommune[[#Headers],[2035]],Table11[#Headers],0))","v":52},{"$f":"INDEX(Table11[],MATCH(TEXT(hf_kommune[[#This Row],[Kommunenr]],\"0\"),Table11[Nr],0),MATCH(hf_kommune[[#Headers],[2036]],Table11[#Headers],0))","v":61},{"$f":"INDEX(Table11[],MATCH(TEXT(hf_kommune[[#This Row],[Kommunenr]],\"0\"),Table11[Nr],0),MATCH(hf_kommune[[#Headers],[2037]],Table11[#Headers],0))","v":65},{"$f":"INDEX(Table11[],MATCH(TEXT(hf_kommune[[#This Row],[Kommunenr]],\"0\"),Table11[Nr],0),MATCH(hf_kommune[[#Headers],[2038]],Table11[#Headers],0))","v":62},{"$f":"INDEX(Table11[],MATCH(TEXT(hf_kommune[[#This Row],[Kommunenr]],\"0\"),Table11[Nr],0),MATCH(hf_kommune[[#Headers],[2039]],Table11[#Headers],0))","v":66},{"$f":"INDEX(Table11[],MATCH(TEXT(hf_kommune[[#This Row],[Kommunenr]],\"0\"),Table11[Nr],0),MATCH(hf_kommune[[#Headers],[2040]],Table11[#Headers],0))","v":58},5845,5816,5790,5766,5743,5723,5703,5685,5667,5649,5630,5611,5592,5572,5552,5531,5510,5489,5468]
[4612,"Sveio","Helse Vest","Helse Fonna","Haugesund",{"$f":"INDEX(Table11[],MATCH(TEXT(hf_kommune[[#This Row],[Kommunenr]],\"0\"),Table11[Nr],0),MATCH(hf_kommune[[#Headers],[2020]],Table11[#Headers],0))","v":57},{"$f":"INDEX(Table11[],MATCH(TEXT(hf_kommune[[#This Row],[Kommunenr]],\"0\"),Table11[Nr],0),MATCH(hf_kommune[[#Headers],[2021]],Table11[#Headers],0))","v":57},{"$f":"INDEX(Table11[],MATCH(TEXT(hf_kommune[[#This Row],[Kommunenr]],\"0\"),Table11[Nr],0),MATCH(hf_kommune[[#Headers],[2022]],Table11[#Headers],0))","v":70},{"$f":"INDEX(Table11[],MATCH(TEXT(hf_kommune[[#This Row],[Kommunenr]],\"0\"),Table11[Nr],0),MATCH(hf_kommune[[#Headers],[2023]],Table11[#Headers],0))","v":62},{"$f":"INDEX(Table11[],MATCH(TEXT(hf_kommune[[#This Row],[Kommunenr]],\"0\"),Table11[Nr],0),MATCH(hf_kommune[[#Headers],[2024]],Table11[#Headers],0))","v":76},{"$f":"INDEX(Table11[],MATCH(TEXT(hf_kommune[[#This Row],[Kommunenr]],\"0\"),Table11[Nr],0),MATCH(hf_kommune[[#Headers],[2025]],Table11[#Headers],0))","v":78},{"$f":"INDEX(Table11[],MATCH(TEXT(hf_kommune[[#This Row],[Kommunenr]],\"0\"),Table11[Nr],0),MATCH(hf_kommune[[#Headers],[2026]],Table11[#Headers],0))","v":73},{"$f":"INDEX(Table11[],MATCH(TEXT(hf_kommune[[#This Row],[Kommunenr]],\"0\"),Table11[Nr],0),MATCH(hf_kommune[[#Headers],[2027]],Table11[#Headers],0))","v":75},{"$f":"INDEX(Table11[],MATCH(TEXT(hf_kommune[[#This Row],[Kommunenr]],\"0\"),Table11[Nr],0),MATCH(hf_kommune[[#Headers],[2028]],Table11[#Headers],0))","v":86},{"$f":"INDEX(Table11[],MATCH(TEXT(hf_kommune[[#This Row],[Kommunenr]],\"0\"),Table11[Nr],0),MATCH(hf_kommune[[#Headers],[2029]],Table11[#Headers],0))","v":77},{"$f":"INDEX(Table11[],MATCH(TEXT(hf_kommune[[#This Row],[Kommunenr]],\"0\"),Table11[Nr],0),MATCH(hf_kommune[[#Headers],[2030]],Table11[#Headers],0))","v":83},{"$f":"INDEX(Table11[],MATCH(TEXT(hf_kommune[[#This Row],[Kommunenr]],\"0\"),Table11[Nr],0),MATCH(hf_kommune[[#Headers],[2031]],Table11[#Headers],0))","v":85},{"$f":"INDEX(Table11[],MATCH(TEXT(hf_kommune[[#This Row],[Kommunenr]],\"0\"),Table11[Nr],0),MATCH(hf_kommune[[#Headers],[2032]],Table11[#Headers],0))","v":87},{"$f":"INDEX(Table11[],MATCH(TEXT(hf_kommune[[#This Row],[Kommunenr]],\"0\"),Table11[Nr],0),MATCH(hf_kommune[[#Headers],[2033]],Table11[#Headers],0))","v":66},{"$f":"INDEX(Table11[],MATCH(TEXT(hf_kommune[[#This Row],[Kommunenr]],\"0\"),Table11[Nr],0),MATCH(hf_kommune[[#Headers],[2034]],Table11[#Headers],0))","v":80},{"$f":"INDEX(Table11[],MATCH(TEXT(hf_kommune[[#This Row],[Kommunenr]],\"0\"),Table11[Nr],0),MATCH(hf_kommune[[#Headers],[2035]],Table11[#Headers],0))","v":80},{"$f":"INDEX(Table11[],MATCH(TEXT(hf_kommune[[#This Row],[Kommunenr]],\"0\"),Table11[Nr],0),MATCH(hf_kommune[[#Headers],[2036]],Table11[#Headers],0))","v":79},{"$f":"INDEX(Table11[],MATCH(TEXT(hf_kommune[[#This Row],[Kommunenr]],\"0\"),Table11[Nr],0),MATCH(hf_kommune[[#Headers],[2037]],Table11[#Headers],0))","v":79},{"$f":"INDEX(Table11[],MATCH(TEXT(hf_kommune[[#This Row],[Kommunenr]],\"0\"),Table11[Nr],0),MATCH(hf_kommune[[#Headers],[2038]],Table11[#Headers],0))","v":97},{"$f":"INDEX(Table11[],MATCH(TEXT(hf_kommune[[#This Row],[Kommunenr]],\"0\"),Table11[Nr],0),MATCH(hf_kommune[[#Headers],[2039]],Table11[#Headers],0))","v":83},{"$f":"INDEX(Table11[],MATCH(TEXT(hf_kommune[[#This Row],[Kommunenr]],\"0\"),Table11[Nr],0),MATCH(hf_kommune[[#Headers],[2040]],Table11[#Headers],0))","v":80},5815,5847,5880,5917,5956,5995,6033,6071,6107,6142,6177,6211,6244,6278,6311,6344,6377,6408,6438]
[1528,"Sykkylven","Helse Midt-Norge","Helse Møre og Romsdal","Ålesund",{"$f":"INDEX(Table11[],MATCH(TEXT(hf_kommune[[#This Row],[Kommunenr]],\"0\"),Table11[Nr],0),MATCH(hf_kommune[[#Headers],[2020]],Table11[#Headers],0))","v":96},{"$f":"INDEX(Table11[],MATCH(TEXT(hf_kommune[[#This Row],[Kommunenr]],\"0\"),Table11[Nr],0),MATCH(hf_kommune[[#Headers],[2021]],Table11[#Headers],0))","v":109},{"$f":"INDEX(Table11[],MATCH(TEXT(hf_kommune[[#This Row],[Kommunenr]],\"0\"),Table11[Nr],0),MATCH(hf_kommune[[#Headers],[2022]],Table11[#Headers],0))","v":114},{"$f":"INDEX(Table11[],MATCH(TEXT(hf_kommune[[#This Row],[Kommunenr]],\"0\"),Table11[Nr],0),MATCH(hf_kommune[[#Headers],[2023]],Table11[#Headers],0))","v":107},{"$f":"INDEX(Table11[],MATCH(TEXT(hf_kommune[[#This Row],[Kommunenr]],\"0\"),Table11[Nr],0),MATCH(hf_kommune[[#Headers],[2024]],Table11[#Headers],0))","v":100},{"$f":"INDEX(Table11[],MATCH(TEXT(hf_kommune[[#This Row],[Kommunenr]],\"0\"),Table11[Nr],0),MATCH(hf_kommune[[#Headers],[2025]],Table11[#Headers],0))","v":95},{"$f":"INDEX(Table11[],MATCH(TEXT(hf_kommune[[#This Row],[Kommunenr]],\"0\"),Table11[Nr],0),MATCH(hf_kommune[[#Headers],[2026]],Table11[#Headers],0))","v":97},{"$f":"INDEX(Table11[],MATCH(TEXT(hf_kommune[[#This Row],[Kommunenr]],\"0\"),Table11[Nr],0),MATCH(hf_kommune[[#Headers],[2027]],Table11[#Headers],0))","v":116},{"$f":"INDEX(Table11[],MATCH(TEXT(hf_kommune[[#This Row],[Kommunenr]],\"0\"),Table11[Nr],0),MATCH(hf_kommune[[#Headers],[2028]],Table11[#Headers],0))","v":120},{"$f":"INDEX(Table11[],MATCH(TEXT(hf_kommune[[#This Row],[Kommunenr]],\"0\"),Table11[Nr],0),MATCH(hf_kommune[[#Headers],[2029]],Table11[#Headers],0))","v":102},{"$f":"INDEX(Table11[],MATCH(TEXT(hf_kommune[[#This Row],[Kommunenr]],\"0\"),Table11[Nr],0),MATCH(hf_kommune[[#Headers],[2030]],Table11[#Headers],0))","v":100},{"$f":"INDEX(Table11[],MATCH(TEXT(hf_kommune[[#This Row],[Kommunenr]],\"0\"),Table11[Nr],0),MATCH(hf_kommune[[#Headers],[2031]],Table11[#Headers],0))","v":98},{"$f":"INDEX(Table11[],MATCH(TEXT(hf_kommune[[#This Row],[Kommunenr]],\"0\"),Table11[Nr],0),MATCH(hf_kommune[[#Headers],[2032]],Table11[#Headers],0))","v":96},{"$f":"INDEX(Table11[],MATCH(TEXT(hf_kommune[[#This Row],[Kommunenr]],\"0\"),Table11[Nr],0),MATCH(hf_kommune[[#Headers],[2033]],Table11[#Headers],0))","v":87},{"$f":"INDEX(Table11[],MATCH(TEXT(hf_kommune[[#This Row],[Kommunenr]],\"0\"),Table11[Nr],0),MATCH(hf_kommune[[#Headers],[2034]],Table11[#Headers],0))","v":86},{"$f":"INDEX(Table11[],MATCH(TEXT(hf_kommune[[#This Row],[Kommunenr]],\"0\"),Table11[Nr],0),MATCH(hf_kommune[[#Headers],[2035]],Table11[#Headers],0))","v":95},{"$f":"INDEX(Table11[],MATCH(TEXT(hf_kommune[[#This Row],[Kommunenr]],\"0\"),Table11[Nr],0),MATCH(hf_kommune[[#Headers],[2036]],Table11[#Headers],0))","v":100},{"$f":"INDEX(Table11[],MATCH(TEXT(hf_kommune[[#This Row],[Kommunenr]],\"0\"),Table11[Nr],0),MATCH(hf_kommune[[#Headers],[2037]],Table11[#Headers],0))","v":87},{"$f":"INDEX(Table11[],MATCH(TEXT(hf_kommune[[#This Row],[Kommunenr]],\"0\"),Table11[Nr],0),MATCH(hf_kommune[[#Headers],[2038]],Table11[#Headers],0))","v":93},{"$f":"INDEX(Table11[],MATCH(TEXT(hf_kommune[[#This Row],[Kommunenr]],\"0\"),Table11[Nr],0),MATCH(hf_kommune[[#Headers],[2039]],Table11[#Headers],0))","v":100},{"$f":"INDEX(Table11[],MATCH(TEXT(hf_kommune[[#This Row],[Kommunenr]],\"0\"),Table11[Nr],0),MATCH(hf_kommune[[#Headers],[2040]],Table11[#Headers],0))","v":95},7478,7426,7384,7353,7331,7310,7290,7270,7251,7232,7212,7193,7173,7153,7133,7114,7095,7075,7055]
[1812,"Sømna","Helse Nord","Helgelandssykehuset","Sandnessjøen",{"$f":"INDEX(Table11[],MATCH(TEXT(hf_kommune[[#This Row],[Kommunenr]],\"0\"),Table11[Nr],0),MATCH(hf_kommune[[#Headers],[2020]],Table11[#Headers],0))","v":29},{"$f":"INDEX(Table11[],MATCH(TEXT(hf_kommune[[#This Row],[Kommunenr]],\"0\"),Table11[Nr],0),MATCH(hf_kommune[[#Headers],[2021]],Table11[#Headers],0))","v":29},{"$f":"INDEX(Table11[],MATCH(TEXT(hf_kommune[[#This Row],[Kommunenr]],\"0\"),Table11[Nr],0),MATCH(hf_kommune[[#Headers],[2022]],Table11[#Headers],0))","v":30},{"$f":"INDEX(Table11[],MATCH(TEXT(hf_kommune[[#This Row],[Kommunenr]],\"0\"),Table11[Nr],0),MATCH(hf_kommune[[#Headers],[2023]],Table11[#Headers],0))","v":38},{"$f":"INDEX(Table11[],MATCH(TEXT(hf_kommune[[#This Row],[Kommunenr]],\"0\"),Table11[Nr],0),MATCH(hf_kommune[[#Headers],[2024]],Table11[#Headers],0))","v":33},{"$f":"INDEX(Table11[],MATCH(TEXT(hf_kommune[[#This Row],[Kommunenr]],\"0\"),Table11[Nr],0),MATCH(hf_kommune[[#Headers],[2025]],Table11[#Headers],0))","v":27},{"$f":"INDEX(Table11[],MATCH(TEXT(hf_kommune[[#This Row],[Kommunenr]],\"0\"),Table11[Nr],0),MATCH(hf_kommune[[#Headers],[2026]],Table11[#Headers],0))","v":30},{"$f":"INDEX(Table11[],MATCH(TEXT(hf_kommune[[#This Row],[Kommunenr]],\"0\"),Table11[Nr],0),MATCH(hf_kommune[[#Headers],[2027]],Table11[#Headers],0))","v":32},{"$f":"INDEX(Table11[],MATCH(TEXT(hf_kommune[[#This Row],[Kommunenr]],\"0\"),Table11[Nr],0),MATCH(hf_kommune[[#Headers],[2028]],Table11[#Headers],0))","v":18},{"$f":"INDEX(Table11[],MATCH(TEXT(hf_kommune[[#This Row],[Kommunenr]],\"0\"),Table11[Nr],0),MATCH(hf_kommune[[#Headers],[2029]],Table11[#Headers],0))","v":33},{"$f":"INDEX(Table11[],MATCH(TEXT(hf_kommune[[#This Row],[Kommunenr]],\"0\"),Table11[Nr],0),MATCH(hf_kommune[[#Headers],[2030]],Table11[#Headers],0))","v":27},{"$f":"INDEX(Table11[],MATCH(TEXT(hf_kommune[[#This Row],[Kommunenr]],\"0\"),Table11[Nr],0),MATCH(hf_kommune[[#Headers],[2031]],Table11[#Headers],0))","v":28},{"$f":"INDEX(Table11[],MATCH(TEXT(hf_kommune[[#This Row],[Kommunenr]],\"0\"),Table11[Nr],0),MATCH(hf_kommune[[#Headers],[2032]],Table11[#Headers],0))","v":19},{"$f":"INDEX(Table11[],MATCH(TEXT(hf_kommune[[#This Row],[Kommunenr]],\"0\"),Table11[Nr],0),MATCH(hf_kommune[[#Headers],[2033]],Table11[#Headers],0))","v":16},{"$f":"INDEX(Table11[],MATCH(TEXT(hf_kommune[[#This Row],[Kommunenr]],\"0\"),Table11[Nr],0),MATCH(hf_kommune[[#Headers],[2034]],Table11[#Headers],0))","v":20},{"$f":"INDEX(Table11[],MATCH(TEXT(hf_kommune[[#This Row],[Kommunenr]],\"0\"),Table11[Nr],0),MATCH(hf_kommune[[#Headers],[2035]],Table11[#Headers],0))","v":26},{"$f":"INDEX(Table11[],MATCH(TEXT(hf_kommune[[#This Row],[Kommunenr]],\"0\"),Table11[Nr],0),MATCH(hf_kommune[[#Headers],[2036]],Table11[#Headers],0))","v":22},{"$f":"INDEX(Table11[],MATCH(TEXT(hf_kommune[[#This Row],[Kommunenr]],\"0\"),Table11[Nr],0),MATCH(hf_kommune[[#Headers],[2037]],Table11[#Headers],0))","v":26},{"$f":"INDEX(Table11[],MATCH(TEXT(hf_kommune[[#This Row],[Kommunenr]],\"0\"),Table11[Nr],0),MATCH(hf_kommune[[#Headers],[2038]],Table11[#Headers],0))","v":19},{"$f":"INDEX(Table11[],MATCH(TEXT(hf_kommune[[#This Row],[Kommunenr]],\"0\"),Table11[Nr],0),MATCH(hf_kommune[[#Headers],[2039]],Table11[#Headers],0))","v":22},{"$f":"INDEX(Table11[],MATCH(TEXT(hf_kommune[[#This Row],[Kommunenr]],\"0\"),Table11[Nr],0),MATCH(hf_kommune[[#Headers],[2040]],Table11[#Headers],0))","v":23},1967,1964,1962,1962,1962,1962,1962,1962,1962,1961,1961,1961,1961,1960,1960,1960,1960,1960,1959]
[3447,"Søndre Land","Helse Sør-Øst","Sykehuset Innlandet","Gjøvik",{"$f":"INDEX(Table11[],MATCH(TEXT(hf_kommune[[#This Row],[Kommunenr]],\"0\"),Table11[Nr],0),MATCH(hf_kommune[[#Headers],[2020]],Table11[#Headers],0))","v":108},{"$f":"INDEX(Table11[],MATCH(TEXT(hf_kommune[[#This Row],[Kommunenr]],\"0\"),Table11[Nr],0),MATCH(hf_kommune[[#Headers],[2021]],Table11[#Headers],0))","v":91},{"$f":"INDEX(Table11[],MATCH(TEXT(hf_kommune[[#This Row],[Kommunenr]],\"0\"),Table11[Nr],0),MATCH(hf_kommune[[#Headers],[2022]],Table11[#Headers],0))","v":100},{"$f":"INDEX(Table11[],MATCH(TEXT(hf_kommune[[#This Row],[Kommunenr]],\"0\"),Table11[Nr],0),MATCH(hf_kommune[[#Headers],[2023]],Table11[#Headers],0))","v":90},{"$f":"INDEX(Table11[],MATCH(TEXT(hf_kommune[[#This Row],[Kommunenr]],\"0\"),Table11[Nr],0),MATCH(hf_kommune[[#Headers],[2024]],Table11[#Headers],0))","v":100},{"$f":"INDEX(Table11[],MATCH(TEXT(hf_kommune[[#This Row],[Kommunenr]],\"0\"),Table11[Nr],0),MATCH(hf_kommune[[#Headers],[2025]],Table11[#Headers],0))","v":98},{"$f":"INDEX(Table11[],MATCH(TEXT(hf_kommune[[#This Row],[Kommunenr]],\"0\"),Table11[Nr],0),MATCH(hf_kommune[[#Headers],[2026]],Table11[#Headers],0))","v":90},{"$f":"INDEX(Table11[],MATCH(TEXT(hf_kommune[[#This Row],[Kommunenr]],\"0\"),Table11[Nr],0),MATCH(hf_kommune[[#Headers],[2027]],Table11[#Headers],0))","v":88},{"$f":"INDEX(Table11[],MATCH(TEXT(hf_kommune[[#This Row],[Kommunenr]],\"0\"),Table11[Nr],0),MATCH(hf_kommune[[#Headers],[2028]],Table11[#Headers],0))","v":90},{"$f":"INDEX(Table11[],MATCH(TEXT(hf_kommune[[#This Row],[Kommunenr]],\"0\"),Table11[Nr],0),MATCH(hf_kommune[[#Headers],[2029]],Table11[#Headers],0))","v":91},{"$f":"INDEX(Table11[],MATCH(TEXT(hf_kommune[[#This Row],[Kommunenr]],\"0\"),Table11[Nr],0),MATCH(hf_kommune[[#Headers],[2030]],Table11[#Headers],0))","v":72},{"$f":"INDEX(Table11[],MATCH(TEXT(hf_kommune[[#This Row],[Kommunenr]],\"0\"),Table11[Nr],0),MATCH(hf_kommune[[#Headers],[2031]],Table11[#Headers],0))","v":82},{"$f":"INDEX(Table11[],MATCH(TEXT(hf_kommune[[#This Row],[Kommunenr]],\"0\"),Table11[Nr],0),MATCH(hf_kommune[[#Headers],[2032]],Table11[#Headers],0))","v":74},{"$f":"INDEX(Table11[],MATCH(TEXT(hf_kommune[[#This Row],[Kommunenr]],\"0\"),Table11[Nr],0),MATCH(hf_kommune[[#Headers],[2033]],Table11[#Headers],0))","v":70},{"$f":"INDEX(Table11[],MATCH(TEXT(hf_kommune[[#This Row],[Kommunenr]],\"0\"),Table11[Nr],0),MATCH(hf_kommune[[#Headers],[2034]],Table11[#Headers],0))","v":72},{"$f":"INDEX(Table11[],MATCH(TEXT(hf_kommune[[#This Row],[Kommunenr]],\"0\"),Table11[Nr],0),MATCH(hf_kommune[[#Headers],[2035]],Table11[#Headers],0))","v":78},{"$f":"INDEX(Table11[],MATCH(TEXT(hf_kommune[[#This Row],[Kommunenr]],\"0\"),Table11[Nr],0),MATCH(hf_kommune[[#Headers],[2036]],Table11[#Headers],0))","v":73},{"$f":"INDEX(Table11[],MATCH(TEXT(hf_kommune[[#This Row],[Kommunenr]],\"0\"),Table11[Nr],0),MATCH(hf_kommune[[#Headers],[2037]],Table11[#Headers],0))","v":76},{"$f":"INDEX(Table11[],MATCH(TEXT(hf_kommune[[#This Row],[Kommunenr]],\"0\"),Table11[Nr],0),MATCH(hf_kommune[[#Headers],[2038]],Table11[#Headers],0))","v":76},{"$f":"INDEX(Table11[],MATCH(TEXT(hf_kommune[[#This Row],[Kommunenr]],\"0\"),Table11[Nr],0),MATCH(hf_kommune[[#Headers],[2039]],Table11[#Headers],0))","v":78},{"$f":"INDEX(Table11[],MATCH(TEXT(hf_kommune[[#This Row],[Kommunenr]],\"0\"),Table11[Nr],0),MATCH(hf_kommune[[#Headers],[2040]],Table11[#Headers],0))","v":71},5621,5633,5649,5670,5693,5717,5740,5763,5786,5808,5830,5850,5869,5888,5906,5923,5939,5954,5968]
[3449,"Sør-Aurdal","Helse Sør-Øst","Sykehuset Innlandet","Gjøvik",{"$f":"INDEX(Table11[],MATCH(TEXT(hf_kommune[[#This Row],[Kommunenr]],\"0\"),Table11[Nr],0),MATCH(hf_kommune[[#Headers],[2020]],Table11[#Headers],0))","v":54},{"$f":"INDEX(Table11[],MATCH(TEXT(hf_kommune[[#This Row],[Kommunenr]],\"0\"),Table11[Nr],0),MATCH(hf_kommune[[#Headers],[2021]],Table11[#Headers],0))","v":39},{"$f":"INDEX(Table11[],MATCH(TEXT(hf_kommune[[#This Row],[Kommunenr]],\"0\"),Table11[Nr],0),MATCH(hf_kommune[[#Headers],[2022]],Table11[#Headers],0))","v":53},{"$f":"INDEX(Table11[],MATCH(TEXT(hf_kommune[[#This Row],[Kommunenr]],\"0\"),Table11[Nr],0),MATCH(hf_kommune[[#Headers],[2023]],Table11[#Headers],0))","v":48},{"$f":"INDEX(Table11[],MATCH(TEXT(hf_kommune[[#This Row],[Kommunenr]],\"0\"),Table11[Nr],0),MATCH(hf_kommune[[#Headers],[2024]],Table11[#Headers],0))","v":33},{"$f":"INDEX(Table11[],MATCH(TEXT(hf_kommune[[#This Row],[Kommunenr]],\"0\"),Table11[Nr],0),MATCH(hf_kommune[[#Headers],[2025]],Table11[#Headers],0))","v":42},{"$f":"INDEX(Table11[],MATCH(TEXT(hf_kommune[[#This Row],[Kommunenr]],\"0\"),Table11[Nr],0),MATCH(hf_kommune[[#Headers],[2026]],Table11[#Headers],0))","v":46},{"$f":"INDEX(Table11[],MATCH(TEXT(hf_kommune[[#This Row],[Kommunenr]],\"0\"),Table11[Nr],0),MATCH(hf_kommune[[#Headers],[2027]],Table11[#Headers],0))","v":35},{"$f":"INDEX(Table11[],MATCH(TEXT(hf_kommune[[#This Row],[Kommunenr]],\"0\"),Table11[Nr],0),MATCH(hf_kommune[[#Headers],[2028]],Table11[#Headers],0))","v":39},{"$f":"INDEX(Table11[],MATCH(TEXT(hf_kommune[[#This Row],[Kommunenr]],\"0\"),Table11[Nr],0),MATCH(hf_kommune[[#Headers],[2029]],Table11[#Headers],0))","v":35},{"$f":"INDEX(Table11[],MATCH(TEXT(hf_kommune[[#This Row],[Kommunenr]],\"0\"),Table11[Nr],0),MATCH(hf_kommune[[#Headers],[2030]],Table11[#Headers],0))","v":45},{"$f":"INDEX(Table11[],MATCH(TEXT(hf_kommune[[#This Row],[Kommunenr]],\"0\"),Table11[Nr],0),MATCH(hf_kommune[[#Headers],[2031]],Table11[#Headers],0))","v":32},{"$f":"INDEX(Table11[],MATCH(TEXT(hf_kommune[[#This Row],[Kommunenr]],\"0\"),Table11[Nr],0),MATCH(hf_kommune[[#Headers],[2032]],Table11[#Headers],0))","v":34},{"$f":"INDEX(Table11[],MATCH(TEXT(hf_kommune[[#This Row],[Kommunenr]],\"0\"),Table11[Nr],0),MATCH(hf_kommune[[#Headers],[2033]],Table11[#Headers],0))","v":37},{"$f":"INDEX(Table11[],MATCH(TEXT(hf_kommune[[#This Row],[Kommunenr]],\"0\"),Table11[Nr],0),MATCH(hf_kommune[[#Headers],[2034]],Table11[#Headers],0))","v":29},{"$f":"INDEX(Table11[],MATCH(TEXT(hf_kommune[[#This Row],[Kommunenr]],\"0\"),Table11[Nr],0),MATCH(hf_kommune[[#Headers],[2035]],Table11[#Headers],0))","v":36},{"$f":"INDEX(Table11[],MATCH(TEXT(hf_kommune[[#This Row],[Kommunenr]],\"0\"),Table11[Nr],0),MATCH(hf_kommune[[#Headers],[2036]],Table11[#Headers],0))","v":32},{"$f":"INDEX(Table11[],MATCH(TEXT(hf_kommune[[#This Row],[Kommunenr]],\"0\"),Table11[Nr],0),MATCH(hf_kommune[[#Headers],[2037]],Table11[#Headers],0))","v":38},{"$f":"INDEX(Table11[],MATCH(TEXT(hf_kommune[[#This Row],[Kommunenr]],\"0\"),Table11[Nr],0),MATCH(hf_kommune[[#Headers],[2038]],Table11[#Headers],0))","v":30},{"$f":"INDEX(Table11[],MATCH(TEXT(hf_kommune[[#This Row],[Kommunenr]],\"0\"),Table11[Nr],0),MATCH(hf_kommune[[#Headers],[2039]],Table11[#Headers],0))","v":36},{"$f":"INDEX(Table11[],MATCH(TEXT(hf_kommune[[#This Row],[Kommunenr]],\"0\"),Table11[Nr],0),MATCH(hf_kommune[[#Headers],[2040]],Table11[#Headers],0))","v":36},2915,2896,2879,2865,2852,2840,2830,2820,2811,2803,2796,2790,2784,2779,2774,2770,2767,2764,2761]
[1845,"Sørfold","Helse Nord","Nordlandssykehuset","Bodø",{"$f":"INDEX(Table11[],MATCH(TEXT(hf_kommune[[#This Row],[Kommunenr]],\"0\"),Table11[Nr],0),MATCH(hf_kommune[[#Headers],[2020]],Table11[#Headers],0))","v":20},{"$f":"INDEX(Table11[],MATCH(TEXT(hf_kommune[[#This Row],[Kommunenr]],\"0\"),Table11[Nr],0),MATCH(hf_kommune[[#Headers],[2021]],Table11[#Headers],0))","v":32},{"$f":"INDEX(Table11[],MATCH(TEXT(hf_kommune[[#This Row],[Kommunenr]],\"0\"),Table11[Nr],0),MATCH(hf_kommune[[#Headers],[2022]],Table11[#Headers],0))","v":26},{"$f":"INDEX(Table11[],MATCH(TEXT(hf_kommune[[#This Row],[Kommunenr]],\"0\"),Table11[Nr],0),MATCH(hf_kommune[[#Headers],[2023]],Table11[#Headers],0))","v":27},{"$f":"INDEX(Table11[],MATCH(TEXT(hf_kommune[[#This Row],[Kommunenr]],\"0\"),Table11[Nr],0),MATCH(hf_kommune[[#Headers],[2024]],Table11[#Headers],0))","v":32},{"$f":"INDEX(Table11[],MATCH(TEXT(hf_kommune[[#This Row],[Kommunenr]],\"0\"),Table11[Nr],0),MATCH(hf_kommune[[#Headers],[2025]],Table11[#Headers],0))","v":27},{"$f":"INDEX(Table11[],MATCH(TEXT(hf_kommune[[#This Row],[Kommunenr]],\"0\"),Table11[Nr],0),MATCH(hf_kommune[[#Headers],[2026]],Table11[#Headers],0))","v":27},{"$f":"INDEX(Table11[],MATCH(TEXT(hf_kommune[[#This Row],[Kommunenr]],\"0\"),Table11[Nr],0),MATCH(hf_kommune[[#Headers],[2027]],Table11[#Headers],0))","v":29},{"$f":"INDEX(Table11[],MATCH(TEXT(hf_kommune[[#This Row],[Kommunenr]],\"0\"),Table11[Nr],0),MATCH(hf_kommune[[#Headers],[2028]],Table11[#Headers],0))","v":31},{"$f":"INDEX(Table11[],MATCH(TEXT(hf_kommune[[#This Row],[Kommunenr]],\"0\"),Table11[Nr],0),MATCH(hf_kommune[[#Headers],[2029]],Table11[#Headers],0))","v":31},{"$f":"INDEX(Table11[],MATCH(TEXT(hf_kommune[[#This Row],[Kommunenr]],\"0\"),Table11[Nr],0),MATCH(hf_kommune[[#Headers],[2030]],Table11[#Headers],0))","v":21},{"$f":"INDEX(Table11[],MATCH(TEXT(hf_kommune[[#This Row],[Kommunenr]],\"0\"),Table11[Nr],0),MATCH(hf_kommune[[#Headers],[2031]],Table11[#Headers],0))","v":24},{"$f":"INDEX(Table11[],MATCH(TEXT(hf_kommune[[#This Row],[Kommunenr]],\"0\"),Table11[Nr],0),MATCH(hf_kommune[[#Headers],[2032]],Table11[#Headers],0))","v":23},{"$f":"INDEX(Table11[],MATCH(TEXT(hf_kommune[[#This Row],[Kommunenr]],\"0\"),Table11[Nr],0),MATCH(hf_kommune[[#Headers],[2033]],Table11[#Headers],0))","v":16},{"$f":"INDEX(Table11[],MATCH(TEXT(hf_kommune[[#This Row],[Kommunenr]],\"0\"),Table11[Nr],0),MATCH(hf_kommune[[#Headers],[2034]],Table11[#Headers],0))","v":23},{"$f":"INDEX(Table11[],MATCH(TEXT(hf_kommune[[#This Row],[Kommunenr]],\"0\"),Table11[Nr],0),MATCH(hf_kommune[[#Headers],[2035]],Table11[#Headers],0))","v":19},{"$f":"INDEX(Table11[],MATCH(TEXT(hf_kommune[[#This Row],[Kommunenr]],\"0\"),Table11[Nr],0),MATCH(hf_kommune[[#Headers],[2036]],Table11[#Headers],0))","v":19},{"$f":"INDEX(Table11[],MATCH(TEXT(hf_kommune[[#This Row],[Kommunenr]],\"0\"),Table11[Nr],0),MATCH(hf_kommune[[#Headers],[2037]],Table11[#Headers],0))","v":22},{"$f":"INDEX(Table11[],MATCH(TEXT(hf_kommune[[#This Row],[Kommunenr]],\"0\"),Table11[Nr],0),MATCH(hf_kommune[[#Headers],[2038]],Table11[#Headers],0))","v":19},{"$f":"INDEX(Table11[],MATCH(TEXT(hf_kommune[[#This Row],[Kommunenr]],\"0\"),Table11[Nr],0),MATCH(hf_kommune[[#Headers],[2039]],Table11[#Headers],0))","v":18},{"$f":"INDEX(Table11[],MATCH(TEXT(hf_kommune[[#This Row],[Kommunenr]],\"0\"),Table11[Nr],0),MATCH(hf_kommune[[#Headers],[2040]],Table11[#Headers],0))","v":19},1918,1916,1915,1915,1917,1919,1921,1923,1925,1927,1929,1930,1932,1932,1932,1932,1932,1930,1929]
[3438,"Sør-Fron","Helse Sør-Øst","Sykehuset Innlandet","Lillehammer",{"$f":"INDEX(Table11[],MATCH(TEXT(hf_kommune[[#This Row],[Kommunenr]],\"0\"),Table11[Nr],0),MATCH(hf_kommune[[#Headers],[2020]],Table11[#Headers],0))","v":40},{"$f":"INDEX(Table11[],MATCH(TEXT(hf_kommune[[#This Row],[Kommunenr]],\"0\"),Table11[Nr],0),MATCH(hf_kommune[[#Headers],[2021]],Table11[#Headers],0))","v":52},{"$f":"INDEX(Table11[],MATCH(TEXT(hf_kommune[[#This Row],[Kommunenr]],\"0\"),Table11[Nr],0),MATCH(hf_kommune[[#Headers],[2022]],Table11[#Headers],0))","v":45},{"$f":"INDEX(Table11[],MATCH(TEXT(hf_kommune[[#This Row],[Kommunenr]],\"0\"),Table11[Nr],0),MATCH(hf_kommune[[#Headers],[2023]],Table11[#Headers],0))","v":56},{"$f":"INDEX(Table11[],MATCH(TEXT(hf_kommune[[#This Row],[Kommunenr]],\"0\"),Table11[Nr],0),MATCH(hf_kommune[[#Headers],[2024]],Table11[#Headers],0))","v":52},{"$f":"INDEX(Table11[],MATCH(TEXT(hf_kommune[[#This Row],[Kommunenr]],\"0\"),Table11[Nr],0),MATCH(hf_kommune[[#Headers],[2025]],Table11[#Headers],0))","v":54},{"$f":"INDEX(Table11[],MATCH(TEXT(hf_kommune[[#This Row],[Kommunenr]],\"0\"),Table11[Nr],0),MATCH(hf_kommune[[#Headers],[2026]],Table11[#Headers],0))","v":55},{"$f":"INDEX(Table11[],MATCH(TEXT(hf_kommune[[#This Row],[Kommunenr]],\"0\"),Table11[Nr],0),MATCH(hf_kommune[[#Headers],[2027]],Table11[#Headers],0))","v":56},{"$f":"INDEX(Table11[],MATCH(TEXT(hf_kommune[[#This Row],[Kommunenr]],\"0\"),Table11[Nr],0),MATCH(hf_kommune[[#Headers],[2028]],Table11[#Headers],0))","v":51},{"$f":"INDEX(Table11[],MATCH(TEXT(hf_kommune[[#This Row],[Kommunenr]],\"0\"),Table11[Nr],0),MATCH(hf_kommune[[#Headers],[2029]],Table11[#Headers],0))","v":43},{"$f":"INDEX(Table11[],MATCH(TEXT(hf_kommune[[#This Row],[Kommunenr]],\"0\"),Table11[Nr],0),MATCH(hf_kommune[[#Headers],[2030]],Table11[#Headers],0))","v":48},{"$f":"INDEX(Table11[],MATCH(TEXT(hf_kommune[[#This Row],[Kommunenr]],\"0\"),Table11[Nr],0),MATCH(hf_kommune[[#Headers],[2031]],Table11[#Headers],0))","v":37},{"$f":"INDEX(Table11[],MATCH(TEXT(hf_kommune[[#This Row],[Kommunenr]],\"0\"),Table11[Nr],0),MATCH(hf_kommune[[#Headers],[2032]],Table11[#Headers],0))","v":37},{"$f":"INDEX(Table11[],MATCH(TEXT(hf_kommune[[#This Row],[Kommunenr]],\"0\"),Table11[Nr],0),MATCH(hf_kommune[[#Headers],[2033]],Table11[#Headers],0))","v":35},{"$f":"INDEX(Table11[],MATCH(TEXT(hf_kommune[[#This Row],[Kommunenr]],\"0\"),Table11[Nr],0),MATCH(hf_kommune[[#Headers],[2034]],Table11[#Headers],0))","v":36},{"$f":"INDEX(Table11[],MATCH(TEXT(hf_kommune[[#This Row],[Kommunenr]],\"0\"),Table11[Nr],0),MATCH(hf_kommune[[#Headers],[2035]],Table11[#Headers],0))","v":32},{"$f":"INDEX(Table11[],MATCH(TEXT(hf_kommune[[#This Row],[Kommunenr]],\"0\"),Table11[Nr],0),MATCH(hf_kommune[[#Headers],[2036]],Table11[#Headers],0))","v":30},{"$f":"INDEX(Table11[],MATCH(TEXT(hf_kommune[[#This Row],[Kommunenr]],\"0\"),Table11[Nr],0),MATCH(hf_kommune[[#Headers],[2037]],Table11[#Headers],0))","v":33},{"$f":"INDEX(Table11[],MATCH(TEXT(hf_kommune[[#This Row],[Kommunenr]],\"0\"),Table11[Nr],0),MATCH(hf_kommune[[#Headers],[2038]],Table11[#Headers],0))","v":41},{"$f":"INDEX(Table11[],MATCH(TEXT(hf_kommune[[#This Row],[Kommunenr]],\"0\"),Table11[Nr],0),MATCH(hf_kommune[[#Headers],[2039]],Table11[#Headers],0))","v":42},{"$f":"INDEX(Table11[],MATCH(TEXT(hf_kommune[[#This Row],[Kommunenr]],\"0\"),Table11[Nr],0),MATCH(hf_kommune[[#Headers],[2040]],Table11[#Headers],0))","v":42},3084,3073,3064,3057,3054,3051,3049,3048,3047,3046,3045,3045,3045,3046,3048,3050,3052,3054,3057]
[3415,"Sør-Odal","Helse Sør-Øst","Akershus universitetssykehus","Kongsvinger",{"$f":"INDEX(Table11[],MATCH(TEXT(hf_kommune[[#This Row],[Kommunenr]],\"0\"),Table11[Nr],0),MATCH(hf_kommune[[#Headers],[2020]],Table11[#Headers],0))","v":118},{"$f":"INDEX(Table11[],MATCH(TEXT(hf_kommune[[#This Row],[Kommunenr]],\"0\"),Table11[Nr],0),MATCH(hf_kommune[[#Headers],[2021]],Table11[#Headers],0))","v":130},{"$f":"INDEX(Table11[],MATCH(TEXT(hf_kommune[[#This Row],[Kommunenr]],\"0\"),Table11[Nr],0),MATCH(hf_kommune[[#Headers],[2022]],Table11[#Headers],0))","v":110},{"$f":"INDEX(Table11[],MATCH(TEXT(hf_kommune[[#This Row],[Kommunenr]],\"0\"),Table11[Nr],0),MATCH(hf_kommune[[#Headers],[2023]],Table11[#Headers],0))","v":142},{"$f":"INDEX(Table11[],MATCH(TEXT(hf_kommune[[#This Row],[Kommunenr]],\"0\"),Table11[Nr],0),MATCH(hf_kommune[[#Headers],[2024]],Table11[#Headers],0))","v":120},{"$f":"INDEX(Table11[],MATCH(TEXT(hf_kommune[[#This Row],[Kommunenr]],\"0\"),Table11[Nr],0),MATCH(hf_kommune[[#Headers],[2025]],Table11[#Headers],0))","v":122},{"$f":"INDEX(Table11[],MATCH(TEXT(hf_kommune[[#This Row],[Kommunenr]],\"0\"),Table11[Nr],0),MATCH(hf_kommune[[#Headers],[2026]],Table11[#Headers],0))","v":149},{"$f":"INDEX(Table11[],MATCH(TEXT(hf_kommune[[#This Row],[Kommunenr]],\"0\"),Table11[Nr],0),MATCH(hf_kommune[[#Headers],[2027]],Table11[#Headers],0))","v":120},{"$f":"INDEX(Table11[],MATCH(TEXT(hf_kommune[[#This Row],[Kommunenr]],\"0\"),Table11[Nr],0),MATCH(hf_kommune[[#Headers],[2028]],Table11[#Headers],0))","v":137},{"$f":"INDEX(Table11[],MATCH(TEXT(hf_kommune[[#This Row],[Kommunenr]],\"0\"),Table11[Nr],0),MATCH(hf_kommune[[#Headers],[2029]],Table11[#Headers],0))","v":131},{"$f":"INDEX(Table11[],MATCH(TEXT(hf_kommune[[#This Row],[Kommunenr]],\"0\"),Table11[Nr],0),MATCH(hf_kommune[[#Headers],[2030]],Table11[#Headers],0))","v":114},{"$f":"INDEX(Table11[],MATCH(TEXT(hf_kommune[[#This Row],[Kommunenr]],\"0\"),Table11[Nr],0),MATCH(hf_kommune[[#Headers],[2031]],Table11[#Headers],0))","v":125},{"$f":"INDEX(Table11[],MATCH(TEXT(hf_kommune[[#This Row],[Kommunenr]],\"0\"),Table11[Nr],0),MATCH(hf_kommune[[#Headers],[2032]],Table11[#Headers],0))","v":114},{"$f":"INDEX(Table11[],MATCH(TEXT(hf_kommune[[#This Row],[Kommunenr]],\"0\"),Table11[Nr],0),MATCH(hf_kommune[[#Headers],[2033]],Table11[#Headers],0))","v":103},{"$f":"INDEX(Table11[],MATCH(TEXT(hf_kommune[[#This Row],[Kommunenr]],\"0\"),Table11[Nr],0),MATCH(hf_kommune[[#Headers],[2034]],Table11[#Headers],0))","v":104},{"$f":"INDEX(Table11[],MATCH(TEXT(hf_kommune[[#This Row],[Kommunenr]],\"0\"),Table11[Nr],0),MATCH(hf_kommune[[#Headers],[2035]],Table11[#Headers],0))","v":93},{"$f":"INDEX(Table11[],MATCH(TEXT(hf_kommune[[#This Row],[Kommunenr]],\"0\"),Table11[Nr],0),MATCH(hf_kommune[[#Headers],[2036]],Table11[#Headers],0))","v":112},{"$f":"INDEX(Table11[],MATCH(TEXT(hf_kommune[[#This Row],[Kommunenr]],\"0\"),Table11[Nr],0),MATCH(hf_kommune[[#Headers],[2037]],Table11[#Headers],0))","v":111},{"$f":"INDEX(Table11[],MATCH(TEXT(hf_kommune[[#This Row],[Kommunenr]],\"0\"),Table11[Nr],0),MATCH(hf_kommune[[#Headers],[2038]],Table11[#Headers],0))","v":115},{"$f":"INDEX(Table11[],MATCH(TEXT(hf_kommune[[#This Row],[Kommunenr]],\"0\"),Table11[Nr],0),MATCH(hf_kommune[[#Headers],[2039]],Table11[#Headers],0))","v":119},{"$f":"INDEX(Table11[],MATCH(TEXT(hf_kommune[[#This Row],[Kommunenr]],\"0\"),Table11[Nr],0),MATCH(hf_kommune[[#Headers],[2040]],Table11[#Headers],0))","v":117},7968,7998,8026,8050,8071,8094,8117,8141,8166,8190,8214,8238,8261,8283,8305,8326,8345,8363,8379]
[5419,"Sørreisa","Helse Nord","Universitetssykehuset Nord-Norge","Tromsø",{"$f":"INDEX(Table11[],MATCH(TEXT(hf_kommune[[#This Row],[Kommunenr]],\"0\"),Table11[Nr],0),MATCH(hf_kommune[[#Headers],[2020]],Table11[#Headers],0))","v":47},{"$f":"INDEX(Table11[],MATCH(TEXT(hf_kommune[[#This Row],[Kommunenr]],\"0\"),Table11[Nr],0),MATCH(hf_kommune[[#Headers],[2021]],Table11[#Headers],0))","v":48},{"$f":"INDEX(Table11[],MATCH(TEXT(hf_kommune[[#This Row],[Kommunenr]],\"0\"),Table11[Nr],0),MATCH(hf_kommune[[#Headers],[2022]],Table11[#Headers],0))","v":58},{"$f":"INDEX(Table11[],MATCH(TEXT(hf_kommune[[#This Row],[Kommunenr]],\"0\"),Table11[Nr],0),MATCH(hf_kommune[[#Headers],[2023]],Table11[#Headers],0))","v":42},{"$f":"INDEX(Table11[],MATCH(TEXT(hf_kommune[[#This Row],[Kommunenr]],\"0\"),Table11[Nr],0),MATCH(hf_kommune[[#Headers],[2024]],Table11[#Headers],0))","v":56},{"$f":"INDEX(Table11[],MATCH(TEXT(hf_kommune[[#This Row],[Kommunenr]],\"0\"),Table11[Nr],0),MATCH(hf_kommune[[#Headers],[2025]],Table11[#Headers],0))","v":48},{"$f":"INDEX(Table11[],MATCH(TEXT(hf_kommune[[#This Row],[Kommunenr]],\"0\"),Table11[Nr],0),MATCH(hf_kommune[[#Headers],[2026]],Table11[#Headers],0))","v":52},{"$f":"INDEX(Table11[],MATCH(TEXT(hf_kommune[[#This Row],[Kommunenr]],\"0\"),Table11[Nr],0),MATCH(hf_kommune[[#Headers],[2027]],Table11[#Headers],0))","v":57},{"$f":"INDEX(Table11[],MATCH(TEXT(hf_kommune[[#This Row],[Kommunenr]],\"0\"),Table11[Nr],0),MATCH(hf_kommune[[#Headers],[2028]],Table11[#Headers],0))","v":49},{"$f":"INDEX(Table11[],MATCH(TEXT(hf_kommune[[#This Row],[Kommunenr]],\"0\"),Table11[Nr],0),MATCH(hf_kommune[[#Headers],[2029]],Table11[#Headers],0))","v":44},{"$f":"INDEX(Table11[],MATCH(TEXT(hf_kommune[[#This Row],[Kommunenr]],\"0\"),Table11[Nr],0),MATCH(hf_kommune[[#Headers],[2030]],Table11[#Headers],0))","v":42},{"$f":"INDEX(Table11[],MATCH(TEXT(hf_kommune[[#This Row],[Kommunenr]],\"0\"),Table11[Nr],0),MATCH(hf_kommune[[#Headers],[2031]],Table11[#Headers],0))","v":36},{"$f":"INDEX(Table11[],MATCH(TEXT(hf_kommune[[#This Row],[Kommunenr]],\"0\"),Table11[Nr],0),MATCH(hf_kommune[[#Headers],[2032]],Table11[#Headers],0))","v":32},{"$f":"INDEX(Table11[],MATCH(TEXT(hf_kommune[[#This Row],[Kommunenr]],\"0\"),Table11[Nr],0),MATCH(hf_kommune[[#Headers],[2033]],Table11[#Headers],0))","v":32},{"$f":"INDEX(Table11[],MATCH(TEXT(hf_kommune[[#This Row],[Kommunenr]],\"0\"),Table11[Nr],0),MATCH(hf_kommune[[#Headers],[2034]],Table11[#Headers],0))","v":44},{"$f":"INDEX(Table11[],MATCH(TEXT(hf_kommune[[#This Row],[Kommunenr]],\"0\"),Table11[Nr],0),MATCH(hf_kommune[[#Headers],[2035]],Table11[#Headers],0))","v":42},{"$f":"INDEX(Table11[],MATCH(TEXT(hf_kommune[[#This Row],[Kommunenr]],\"0\"),Table11[Nr],0),MATCH(hf_kommune[[#Headers],[2036]],Table11[#Headers],0))","v":41},{"$f":"INDEX(Table11[],MATCH(TEXT(hf_kommune[[#This Row],[Kommunenr]],\"0\"),Table11[Nr],0),MATCH(hf_kommune[[#Headers],[2037]],Table11[#Headers],0))","v":33},{"$f":"INDEX(Table11[],MATCH(TEXT(hf_kommune[[#This Row],[Kommunenr]],\"0\"),Table11[Nr],0),MATCH(hf_kommune[[#Headers],[2038]],Table11[#Headers],0))","v":33},{"$f":"INDEX(Table11[],MATCH(TEXT(hf_kommune[[#This Row],[Kommunenr]],\"0\"),Table11[Nr],0),MATCH(hf_kommune[[#Headers],[2039]],Table11[#Headers],0))","v":39},{"$f":"INDEX(Table11[],MATCH(TEXT(hf_kommune[[#This Row],[Kommunenr]],\"0\"),Table11[Nr],0),MATCH(hf_kommune[[#Headers],[2040]],Table11[#Headers],0))","v":41},3432,3418,3408,3401,3397,3394,3392,3391,3390,3389,3387,3386,3386,3385,3385,3384,3383,3381,3379]
[5444,"Sør-Varanger","Helse Nord","Finnmarkssykehuset","Kirkenes",{"$f":"INDEX(Table11[],MATCH(TEXT(hf_kommune[[#This Row],[Kommunenr]],\"0\"),Table11[Nr],0),MATCH(hf_kommune[[#Headers],[2020]],Table11[#Headers],0))","v":149},{"$f":"INDEX(Table11[],MATCH(TEXT(hf_kommune[[#This Row],[Kommunenr]],\"0\"),Table11[Nr],0),MATCH(hf_kommune[[#Headers],[2021]],Table11[#Headers],0))","v":134},{"$f":"INDEX(Table11[],MATCH(TEXT(hf_kommune[[#This Row],[Kommunenr]],\"0\"),Table11[Nr],0),MATCH(hf_kommune[[#Headers],[2022]],Table11[#Headers],0))","v":157},{"$f":"INDEX(Table11[],MATCH(TEXT(hf_kommune[[#This Row],[Kommunenr]],\"0\"),Table11[Nr],0),MATCH(hf_kommune[[#Headers],[2023]],Table11[#Headers],0))","v":150},{"$f":"INDEX(Table11[],MATCH(TEXT(hf_kommune[[#This Row],[Kommunenr]],\"0\"),Table11[Nr],0),MATCH(hf_kommune[[#Headers],[2024]],Table11[#Headers],0))","v":132},{"$f":"INDEX(Table11[],MATCH(TEXT(hf_kommune[[#This Row],[Kommunenr]],\"0\"),Table11[Nr],0),MATCH(hf_kommune[[#Headers],[2025]],Table11[#Headers],0))","v":147},{"$f":"INDEX(Table11[],MATCH(TEXT(hf_kommune[[#This Row],[Kommunenr]],\"0\"),Table11[Nr],0),MATCH(hf_kommune[[#Headers],[2026]],Table11[#Headers],0))","v":169},{"$f":"INDEX(Table11[],MATCH(TEXT(hf_kommune[[#This Row],[Kommunenr]],\"0\"),Table11[Nr],0),MATCH(hf_kommune[[#Headers],[2027]],Table11[#Headers],0))","v":149},{"$f":"INDEX(Table11[],MATCH(TEXT(hf_kommune[[#This Row],[Kommunenr]],\"0\"),Table11[Nr],0),MATCH(hf_kommune[[#Headers],[2028]],Table11[#Headers],0))","v":151},{"$f":"INDEX(Table11[],MATCH(TEXT(hf_kommune[[#This Row],[Kommunenr]],\"0\"),Table11[Nr],0),MATCH(hf_kommune[[#Headers],[2029]],Table11[#Headers],0))","v":125},{"$f":"INDEX(Table11[],MATCH(TEXT(hf_kommune[[#This Row],[Kommunenr]],\"0\"),Table11[Nr],0),MATCH(hf_kommune[[#Headers],[2030]],Table11[#Headers],0))","v":115},{"$f":"INDEX(Table11[],MATCH(TEXT(hf_kommune[[#This Row],[Kommunenr]],\"0\"),Table11[Nr],0),MATCH(hf_kommune[[#Headers],[2031]],Table11[#Headers],0))","v":131},{"$f":"INDEX(Table11[],MATCH(TEXT(hf_kommune[[#This Row],[Kommunenr]],\"0\"),Table11[Nr],0),MATCH(hf_kommune[[#Headers],[2032]],Table11[#Headers],0))","v":123},{"$f":"INDEX(Table11[],MATCH(TEXT(hf_kommune[[#This Row],[Kommunenr]],\"0\"),Table11[Nr],0),MATCH(hf_kommune[[#Headers],[2033]],Table11[#Headers],0))","v":97},{"$f":"INDEX(Table11[],MATCH(TEXT(hf_kommune[[#This Row],[Kommunenr]],\"0\"),Table11[Nr],0),MATCH(hf_kommune[[#Headers],[2034]],Table11[#Headers],0))","v":99},{"$f":"INDEX(Table11[],MATCH(TEXT(hf_kommune[[#This Row],[Kommunenr]],\"0\"),Table11[Nr],0),MATCH(hf_kommune[[#Headers],[2035]],Table11[#Headers],0))","v":92},{"$f":"INDEX(Table11[],MATCH(TEXT(hf_kommune[[#This Row],[Kommunenr]],\"0\"),Table11[Nr],0),MATCH(hf_kommune[[#Headers],[2036]],Table11[#Headers],0))","v":105},{"$f":"INDEX(Table11[],MATCH(TEXT(hf_kommune[[#This Row],[Kommunenr]],\"0\"),Table11[Nr],0),MATCH(hf_kommune[[#Headers],[2037]],Table11[#Headers],0))","v":96},{"$f":"INDEX(Table11[],MATCH(TEXT(hf_kommune[[#This Row],[Kommunenr]],\"0\"),Table11[Nr],0),MATCH(hf_kommune[[#Headers],[2038]],Table11[#Headers],0))","v":117},{"$f":"INDEX(Table11[],MATCH(TEXT(hf_kommune[[#This Row],[Kommunenr]],\"0\"),Table11[Nr],0),MATCH(hf_kommune[[#Headers],[2039]],Table11[#Headers],0))","v":103},{"$f":"INDEX(Table11[],MATCH(TEXT(hf_kommune[[#This Row],[Kommunenr]],\"0\"),Table11[Nr],0),MATCH(hf_kommune[[#Headers],[2040]],Table11[#Headers],0))","v":100},10095,10094,10102,10120,10148,10174,10201,10227,10252,10278,10302,10326,10350,10374,10398,10420,10440,10457,10473]
[1121,"Time","Helse Vest","Helse Stavanger","Stavanger",{"$f":"INDEX(Table11[],MATCH(TEXT(hf_kommune[[#This Row],[Kommunenr]],\"0\"),Table11[Nr],0),MATCH(hf_kommune[[#Headers],[2020]],Table11[#Headers],0))","v":238},{"$f":"INDEX(Table11[],MATCH(TEXT(hf_kommune[[#This Row],[Kommunenr]],\"0\"),Table11[Nr],0),MATCH(hf_kommune[[#Headers],[2021]],Table11[#Headers],0))","v":213},{"$f":"INDEX(Table11[],MATCH(TEXT(hf_kommune[[#This Row],[Kommunenr]],\"0\"),Table11[Nr],0),MATCH(hf_kommune[[#Headers],[2022]],Table11[#Headers],0))","v":212},{"$f":"INDEX(Table11[],MATCH(TEXT(hf_kommune[[#This Row],[Kommunenr]],\"0\"),Table11[Nr],0),MATCH(hf_kommune[[#Headers],[2023]],Table11[#Headers],0))","v":263},{"$f":"INDEX(Table11[],MATCH(TEXT(hf_kommune[[#This Row],[Kommunenr]],\"0\"),Table11[Nr],0),MATCH(hf_kommune[[#Headers],[2024]],Table11[#Headers],0))","v":265},{"$f":"INDEX(Table11[],MATCH(TEXT(hf_kommune[[#This Row],[Kommunenr]],\"0\"),Table11[Nr],0),MATCH(hf_kommune[[#Headers],[2025]],Table11[#Headers],0))","v":254},{"$f":"INDEX(Table11[],MATCH(TEXT(hf_kommune[[#This Row],[Kommunenr]],\"0\"),Table11[Nr],0),MATCH(hf_kommune[[#Headers],[2026]],Table11[#Headers],0))","v":244},{"$f":"INDEX(Table11[],MATCH(TEXT(hf_kommune[[#This Row],[Kommunenr]],\"0\"),Table11[Nr],0),MATCH(hf_kommune[[#Headers],[2027]],Table11[#Headers],0))","v":265},{"$f":"INDEX(Table11[],MATCH(TEXT(hf_kommune[[#This Row],[Kommunenr]],\"0\"),Table11[Nr],0),MATCH(hf_kommune[[#Headers],[2028]],Table11[#Headers],0))","v":259},{"$f":"INDEX(Table11[],MATCH(TEXT(hf_kommune[[#This Row],[Kommunenr]],\"0\"),Table11[Nr],0),MATCH(hf_kommune[[#Headers],[2029]],Table11[#Headers],0))","v":251},{"$f":"INDEX(Table11[],MATCH(TEXT(hf_kommune[[#This Row],[Kommunenr]],\"0\"),Table11[Nr],0),MATCH(hf_kommune[[#Headers],[2030]],Table11[#Headers],0))","v":249},{"$f":"INDEX(Table11[],MATCH(TEXT(hf_kommune[[#This Row],[Kommunenr]],\"0\"),Table11[Nr],0),MATCH(hf_kommune[[#Headers],[2031]],Table11[#Headers],0))","v":246},{"$f":"INDEX(Table11[],MATCH(TEXT(hf_kommune[[#This Row],[Kommunenr]],\"0\"),Table11[Nr],0),MATCH(hf_kommune[[#Headers],[2032]],Table11[#Headers],0))","v":252},{"$f":"INDEX(Table11[],MATCH(TEXT(hf_kommune[[#This Row],[Kommunenr]],\"0\"),Table11[Nr],0),MATCH(hf_kommune[[#Headers],[2033]],Table11[#Headers],0))","v":273},{"$f":"INDEX(Table11[],MATCH(TEXT(hf_kommune[[#This Row],[Kommunenr]],\"0\"),Table11[Nr],0),MATCH(hf_kommune[[#Headers],[2034]],Table11[#Headers],0))","v":287},{"$f":"INDEX(Table11[],MATCH(TEXT(hf_kommune[[#This Row],[Kommunenr]],\"0\"),Table11[Nr],0),MATCH(hf_kommune[[#Headers],[2035]],Table11[#Headers],0))","v":282},{"$f":"INDEX(Table11[],MATCH(TEXT(hf_kommune[[#This Row],[Kommunenr]],\"0\"),Table11[Nr],0),MATCH(hf_kommune[[#Headers],[2036]],Table11[#Headers],0))","v":272},{"$f":"INDEX(Table11[],MATCH(TEXT(hf_kommune[[#This Row],[Kommunenr]],\"0\"),Table11[Nr],0),MATCH(hf_kommune[[#Headers],[2037]],Table11[#Headers],0))","v":272},{"$f":"INDEX(Table11[],MATCH(TEXT(hf_kommune[[#This Row],[Kommunenr]],\"0\"),Table11[Nr],0),MATCH(hf_kommune[[#Headers],[2038]],Table11[#Headers],0))","v":268},{"$f":"INDEX(Table11[],MATCH(TEXT(hf_kommune[[#This Row],[Kommunenr]],\"0\"),Table11[Nr],0),MATCH(hf_kommune[[#Headers],[2039]],Table11[#Headers],0))","v":285},{"$f":"INDEX(Table11[],MATCH(TEXT(hf_kommune[[#This Row],[Kommunenr]],\"0\"),Table11[Nr],0),MATCH(hf_kommune[[#Headers],[2040]],Table11[#Headers],0))","v":277},19161,19308,19468,19643,19833,20018,20199,20377,20550,20721,20889,21055,21219,21383,21547,21709,21868,22023,22174]
[1560,"Tingvoll","Helse Midt-Norge","Helse Møre og Romsdal","Kristiansund",{"$f":"INDEX(Table11[],MATCH(TEXT(hf_kommune[[#This Row],[Kommunenr]],\"0\"),Table11[Nr],0),MATCH(hf_kommune[[#Headers],[2020]],Table11[#Headers],0))","v":42},{"$f":"INDEX(Table11[],MATCH(TEXT(hf_kommune[[#This Row],[Kommunenr]],\"0\"),Table11[Nr],0),MATCH(hf_kommune[[#Headers],[2021]],Table11[#Headers],0))","v":30},{"$f":"INDEX(Table11[],MATCH(TEXT(hf_kommune[[#This Row],[Kommunenr]],\"0\"),Table11[Nr],0),MATCH(hf_kommune[[#Headers],[2022]],Table11[#Headers],0))","v":39},{"$f":"INDEX(Table11[],MATCH(TEXT(hf_kommune[[#This Row],[Kommunenr]],\"0\"),Table11[Nr],0),MATCH(hf_kommune[[#Headers],[2023]],Table11[#Headers],0))","v":38},{"$f":"INDEX(Table11[],MATCH(TEXT(hf_kommune[[#This Row],[Kommunenr]],\"0\"),Table11[Nr],0),MATCH(hf_kommune[[#Headers],[2024]],Table11[#Headers],0))","v":55},{"$f":"INDEX(Table11[],MATCH(TEXT(hf_kommune[[#This Row],[Kommunenr]],\"0\"),Table11[Nr],0),MATCH(hf_kommune[[#Headers],[2025]],Table11[#Headers],0))","v":45},{"$f":"INDEX(Table11[],MATCH(TEXT(hf_kommune[[#This Row],[Kommunenr]],\"0\"),Table11[Nr],0),MATCH(hf_kommune[[#Headers],[2026]],Table11[#Headers],0))","v":38},{"$f":"INDEX(Table11[],MATCH(TEXT(hf_kommune[[#This Row],[Kommunenr]],\"0\"),Table11[Nr],0),MATCH(hf_kommune[[#Headers],[2027]],Table11[#Headers],0))","v":47},{"$f":"INDEX(Table11[],MATCH(TEXT(hf_kommune[[#This Row],[Kommunenr]],\"0\"),Table11[Nr],0),MATCH(hf_kommune[[#Headers],[2028]],Table11[#Headers],0))","v":62},{"$f":"INDEX(Table11[],MATCH(TEXT(hf_kommune[[#This Row],[Kommunenr]],\"0\"),Table11[Nr],0),MATCH(hf_kommune[[#Headers],[2029]],Table11[#Headers],0))","v":38},{"$f":"INDEX(Table11[],MATCH(TEXT(hf_kommune[[#This Row],[Kommunenr]],\"0\"),Table11[Nr],0),MATCH(hf_kommune[[#Headers],[2030]],Table11[#Headers],0))","v":46},{"$f":"INDEX(Table11[],MATCH(TEXT(hf_kommune[[#This Row],[Kommunenr]],\"0\"),Table11[Nr],0),MATCH(hf_kommune[[#Headers],[2031]],Table11[#Headers],0))","v":40},{"$f":"INDEX(Table11[],MATCH(TEXT(hf_kommune[[#This Row],[Kommunenr]],\"0\"),Table11[Nr],0),MATCH(hf_kommune[[#Headers],[2032]],Table11[#Headers],0))","v":31},{"$f":"INDEX(Table11[],MATCH(TEXT(hf_kommune[[#This Row],[Kommunenr]],\"0\"),Table11[Nr],0),MATCH(hf_kommune[[#Headers],[2033]],Table11[#Headers],0))","v":38},{"$f":"INDEX(Table11[],MATCH(TEXT(hf_kommune[[#This Row],[Kommunenr]],\"0\"),Table11[Nr],0),MATCH(hf_kommune[[#Headers],[2034]],Table11[#Headers],0))","v":33},{"$f":"INDEX(Table11[],MATCH(TEXT(hf_kommune[[#This Row],[Kommunenr]],\"0\"),Table11[Nr],0),MATCH(hf_kommune[[#Headers],[2035]],Table11[#Headers],0))","v":35},{"$f":"INDEX(Table11[],MATCH(TEXT(hf_kommune[[#This Row],[Kommunenr]],\"0\"),Table11[Nr],0),MATCH(hf_kommune[[#Headers],[2036]],Table11[#Headers],0))","v":32},{"$f":"INDEX(Table11[],MATCH(TEXT(hf_kommune[[#This Row],[Kommunenr]],\"0\"),Table11[Nr],0),MATCH(hf_kommune[[#Headers],[2037]],Table11[#Headers],0))","v":38},{"$f":"INDEX(Table11[],MATCH(TEXT(hf_kommune[[#This Row],[Kommunenr]],\"0\"),Table11[Nr],0),MATCH(hf_kommune[[#Headers],[2038]],Table11[#Headers],0))","v":40},{"$f":"INDEX(Table11[],MATCH(TEXT(hf_kommune[[#This Row],[Kommunenr]],\"0\"),Table11[Nr],0),MATCH(hf_kommune[[#Headers],[2039]],Table11[#Headers],0))","v":35},{"$f":"INDEX(Table11[],MATCH(TEXT(hf_kommune[[#This Row],[Kommunenr]],\"0\"),Table11[Nr],0),MATCH(hf_kommune[[#Headers],[2040]],Table11[#Headers],0))","v":40},3013,3016,3021,3027,3035,3042,3049,3055,3060,3065,3070,3074,3078,3082,3086,3089,3092,3094,3097]
[3818,"Tinn","Helse Sør-Øst","Sykehuset Telemark","Notodden",{"$f":"INDEX(Table11[],MATCH(TEXT(hf_kommune[[#This Row],[Kommunenr]],\"0\"),Table11[Nr],0),MATCH(hf_kommune[[#Headers],[2020]],Table11[#Headers],0))","v":90},{"$f":"INDEX(Table11[],MATCH(TEXT(hf_kommune[[#This Row],[Kommunenr]],\"0\"),Table11[Nr],0),MATCH(hf_kommune[[#Headers],[2021]],Table11[#Headers],0))","v":75},{"$f":"INDEX(Table11[],MATCH(TEXT(hf_kommune[[#This Row],[Kommunenr]],\"0\"),Table11[Nr],0),MATCH(hf_kommune[[#Headers],[2022]],Table11[#Headers],0))","v":95},{"$f":"INDEX(Table11[],MATCH(TEXT(hf_kommune[[#This Row],[Kommunenr]],\"0\"),Table11[Nr],0),MATCH(hf_kommune[[#Headers],[2023]],Table11[#Headers],0))","v":89},{"$f":"INDEX(Table11[],MATCH(TEXT(hf_kommune[[#This Row],[Kommunenr]],\"0\"),Table11[Nr],0),MATCH(hf_kommune[[#Headers],[2024]],Table11[#Headers],0))","v":88},{"$f":"INDEX(Table11[],MATCH(TEXT(hf_kommune[[#This Row],[Kommunenr]],\"0\"),Table11[Nr],0),MATCH(hf_kommune[[#Headers],[2025]],Table11[#Headers],0))","v":99},{"$f":"INDEX(Table11[],MATCH(TEXT(hf_kommune[[#This Row],[Kommunenr]],\"0\"),Table11[Nr],0),MATCH(hf_kommune[[#Headers],[2026]],Table11[#Headers],0))","v":95},{"$f":"INDEX(Table11[],MATCH(TEXT(hf_kommune[[#This Row],[Kommunenr]],\"0\"),Table11[Nr],0),MATCH(hf_kommune[[#Headers],[2027]],Table11[#Headers],0))","v":86},{"$f":"INDEX(Table11[],MATCH(TEXT(hf_kommune[[#This Row],[Kommunenr]],\"0\"),Table11[Nr],0),MATCH(hf_kommune[[#Headers],[2028]],Table11[#Headers],0))","v":90},{"$f":"INDEX(Table11[],MATCH(TEXT(hf_kommune[[#This Row],[Kommunenr]],\"0\"),Table11[Nr],0),MATCH(hf_kommune[[#Headers],[2029]],Table11[#Headers],0))","v":87},{"$f":"INDEX(Table11[],MATCH(TEXT(hf_kommune[[#This Row],[Kommunenr]],\"0\"),Table11[Nr],0),MATCH(hf_kommune[[#Headers],[2030]],Table11[#Headers],0))","v":78},{"$f":"INDEX(Table11[],MATCH(TEXT(hf_kommune[[#This Row],[Kommunenr]],\"0\"),Table11[Nr],0),MATCH(hf_kommune[[#Headers],[2031]],Table11[#Headers],0))","v":65},{"$f":"INDEX(Table11[],MATCH(TEXT(hf_kommune[[#This Row],[Kommunenr]],\"0\"),Table11[Nr],0),MATCH(hf_kommune[[#Headers],[2032]],Table11[#Headers],0))","v":70},{"$f":"INDEX(Table11[],MATCH(TEXT(hf_kommune[[#This Row],[Kommunenr]],\"0\"),Table11[Nr],0),MATCH(hf_kommune[[#Headers],[2033]],Table11[#Headers],0))","v":70},{"$f":"INDEX(Table11[],MATCH(TEXT(hf_kommune[[#This Row],[Kommunenr]],\"0\"),Table11[Nr],0),MATCH(hf_kommune[[#Headers],[2034]],Table11[#Headers],0))","v":58},{"$f":"INDEX(Table11[],MATCH(TEXT(hf_kommune[[#This Row],[Kommunenr]],\"0\"),Table11[Nr],0),MATCH(hf_kommune[[#Headers],[2035]],Table11[#Headers],0))","v":62},{"$f":"INDEX(Table11[],MATCH(TEXT(hf_kommune[[#This Row],[Kommunenr]],\"0\"),Table11[Nr],0),MATCH(hf_kommune[[#Headers],[2036]],Table11[#Headers],0))","v":63},{"$f":"INDEX(Table11[],MATCH(TEXT(hf_kommune[[#This Row],[Kommunenr]],\"0\"),Table11[Nr],0),MATCH(hf_kommune[[#Headers],[2037]],Table11[#Headers],0))","v":55},{"$f":"INDEX(Table11[],MATCH(TEXT(hf_kommune[[#This Row],[Kommunenr]],\"0\"),Table11[Nr],0),MATCH(hf_kommune[[#Headers],[2038]],Table11[#Headers],0))","v":62},{"$f":"INDEX(Table11[],MATCH(TEXT(hf_kommune[[#This Row],[Kommunenr]],\"0\"),Table11[Nr],0),MATCH(hf_kommune[[#Headers],[2039]],Table11[#Headers],0))","v":60},{"$f":"INDEX(Table11[],MATCH(TEXT(hf_kommune[[#This Row],[Kommunenr]],\"0\"),Table11[Nr],0),MATCH(hf_kommune[[#Headers],[2040]],Table11[#Headers],0))","v":63},5589,5558,5538,5527,5525,5525,5524,5525,5526,5527,5528,5529,5529,5530,5530,5529,5527,5524,5520]
[5412,"Tjeldsund","Helse Nord","Universitetssykehuset Nord-Norge","Harstad",{"$f":"INDEX(Table11[],MATCH(TEXT(hf_kommune[[#This Row],[Kommunenr]],\"0\"),Table11[Nr],0),MATCH(hf_kommune[[#Headers],[2020]],Table11[#Headers],0))","v":72},{"$f":"INDEX(Table11[],MATCH(TEXT(hf_kommune[[#This Row],[Kommunenr]],\"0\"),Table11[Nr],0),MATCH(hf_kommune[[#Headers],[2021]],Table11[#Headers],0))","v":58},{"$f":"INDEX(Table11[],MATCH(TEXT(hf_kommune[[#This Row],[Kommunenr]],\"0\"),Table11[Nr],0),MATCH(hf_kommune[[#Headers],[2022]],Table11[#Headers],0))","v":58},{"$f":"INDEX(Table11[],MATCH(TEXT(hf_kommune[[#This Row],[Kommunenr]],\"0\"),Table11[Nr],0),MATCH(hf_kommune[[#Headers],[2023]],Table11[#Headers],0))","v":68},{"$f":"INDEX(Table11[],MATCH(TEXT(hf_kommune[[#This Row],[Kommunenr]],\"0\"),Table11[Nr],0),MATCH(hf_kommune[[#Headers],[2024]],Table11[#Headers],0))","v":67},{"$f":"INDEX(Table11[],MATCH(TEXT(hf_kommune[[#This Row],[Kommunenr]],\"0\"),Table11[Nr],0),MATCH(hf_kommune[[#Headers],[2025]],Table11[#Headers],0))","v":51},{"$f":"INDEX(Table11[],MATCH(TEXT(hf_kommune[[#This Row],[Kommunenr]],\"0\"),Table11[Nr],0),MATCH(hf_kommune[[#Headers],[2026]],Table11[#Headers],0))","v":64},{"$f":"INDEX(Table11[],MATCH(TEXT(hf_kommune[[#This Row],[Kommunenr]],\"0\"),Table11[Nr],0),MATCH(hf_kommune[[#Headers],[2027]],Table11[#Headers],0))","v":64},{"$f":"INDEX(Table11[],MATCH(TEXT(hf_kommune[[#This Row],[Kommunenr]],\"0\"),Table11[Nr],0),MATCH(hf_kommune[[#Headers],[2028]],Table11[#Headers],0))","v":70},{"$f":"INDEX(Table11[],MATCH(TEXT(hf_kommune[[#This Row],[Kommunenr]],\"0\"),Table11[Nr],0),MATCH(hf_kommune[[#Headers],[2029]],Table11[#Headers],0))","v":59},{"$f":"INDEX(Table11[],MATCH(TEXT(hf_kommune[[#This Row],[Kommunenr]],\"0\"),Table11[Nr],0),MATCH(hf_kommune[[#Headers],[2030]],Table11[#Headers],0))","v":55},{"$f":"INDEX(Table11[],MATCH(TEXT(hf_kommune[[#This Row],[Kommunenr]],\"0\"),Table11[Nr],0),MATCH(hf_kommune[[#Headers],[2031]],Table11[#Headers],0))","v":49},{"$f":"INDEX(Table11[],MATCH(TEXT(hf_kommune[[#This Row],[Kommunenr]],\"0\"),Table11[Nr],0),MATCH(hf_kommune[[#Headers],[2032]],Table11[#Headers],0))","v":57},{"$f":"INDEX(Table11[],MATCH(TEXT(hf_kommune[[#This Row],[Kommunenr]],\"0\"),Table11[Nr],0),MATCH(hf_kommune[[#Headers],[2033]],Table11[#Headers],0))","v":58},{"$f":"INDEX(Table11[],MATCH(TEXT(hf_kommune[[#This Row],[Kommunenr]],\"0\"),Table11[Nr],0),MATCH(hf_kommune[[#Headers],[2034]],Table11[#Headers],0))","v":55},{"$f":"INDEX(Table11[],MATCH(TEXT(hf_kommune[[#This Row],[Kommunenr]],\"0\"),Table11[Nr],0),MATCH(hf_kommune[[#Headers],[2035]],Table11[#Headers],0))","v":59},{"$f":"INDEX(Table11[],MATCH(TEXT(hf_kommune[[#This Row],[Kommunenr]],\"0\"),Table11[Nr],0),MATCH(hf_kommune[[#Headers],[2036]],Table11[#Headers],0))","v":54},{"$f":"INDEX(Table11[],MATCH(TEXT(hf_kommune[[#This Row],[Kommunenr]],\"0\"),Table11[Nr],0),MATCH(hf_kommune[[#Headers],[2037]],Table11[#Headers],0))","v":48},{"$f":"INDEX(Table11[],MATCH(TEXT(hf_kommune[[#This Row],[Kommunenr]],\"0\"),Table11[Nr],0),MATCH(hf_kommune[[#Headers],[2038]],Table11[#Headers],0))","v":57},{"$f":"INDEX(Table11[],MATCH(TEXT(hf_kommune[[#This Row],[Kommunenr]],\"0\"),Table11[Nr],0),MATCH(hf_kommune[[#Headers],[2039]],Table11[#Headers],0))","v":56},{"$f":"INDEX(Table11[],MATCH(TEXT(hf_kommune[[#This Row],[Kommunenr]],\"0\"),Table11[Nr],0),MATCH(hf_kommune[[#Headers],[2040]],Table11[#Headers],0))","v":56},4218,4223,4228,4235,4243,4251,4259,4266,4272,4277,4282,4286,4289,4291,4294,4295,4296,4296,4295]
[3824,"Tokke","Helse Sør-Øst","Sykehuset Telemark","Notodden",{"$f":"INDEX(Table11[],MATCH(TEXT(hf_kommune[[#This Row],[Kommunenr]],\"0\"),Table11[Nr],0),MATCH(hf_kommune[[#Headers],[2020]],Table11[#Headers],0))","v":35},{"$f":"INDEX(Table11[],MATCH(TEXT(hf_kommune[[#This Row],[Kommunenr]],\"0\"),Table11[Nr],0),MATCH(hf_kommune[[#Headers],[2021]],Table11[#Headers],0))","v":29},{"$f":"INDEX(Table11[],MATCH(TEXT(hf_kommune[[#This Row],[Kommunenr]],\"0\"),Table11[Nr],0),MATCH(hf_kommune[[#Headers],[2022]],Table11[#Headers],0))","v":27},{"$f":"INDEX(Table11[],MATCH(TEXT(hf_kommune[[#This Row],[Kommunenr]],\"0\"),Table11[Nr],0),MATCH(hf_kommune[[#Headers],[2023]],Table11[#Headers],0))","v":39},{"$f":"INDEX(Table11[],MATCH(TEXT(hf_kommune[[#This Row],[Kommunenr]],\"0\"),Table11[Nr],0),MATCH(hf_kommune[[#Headers],[2024]],Table11[#Headers],0))","v":38},{"$f":"INDEX(Table11[],MATCH(TEXT(hf_kommune[[#This Row],[Kommunenr]],\"0\"),Table11[Nr],0),MATCH(hf_kommune[[#Headers],[2025]],Table11[#Headers],0))","v":27},{"$f":"INDEX(Table11[],MATCH(TEXT(hf_kommune[[#This Row],[Kommunenr]],\"0\"),Table11[Nr],0),MATCH(hf_kommune[[#Headers],[2026]],Table11[#Headers],0))","v":32},{"$f":"INDEX(Table11[],MATCH(TEXT(hf_kommune[[#This Row],[Kommunenr]],\"0\"),Table11[Nr],0),MATCH(hf_kommune[[#Headers],[2027]],Table11[#Headers],0))","v":34},{"$f":"INDEX(Table11[],MATCH(TEXT(hf_kommune[[#This Row],[Kommunenr]],\"0\"),Table11[Nr],0),MATCH(hf_kommune[[#Headers],[2028]],Table11[#Headers],0))","v":25},{"$f":"INDEX(Table11[],MATCH(TEXT(hf_kommune[[#This Row],[Kommunenr]],\"0\"),Table11[Nr],0),MATCH(hf_kommune[[#Headers],[2029]],Table11[#Headers],0))","v":34},{"$f":"INDEX(Table11[],MATCH(TEXT(hf_kommune[[#This Row],[Kommunenr]],\"0\"),Table11[Nr],0),MATCH(hf_kommune[[#Headers],[2030]],Table11[#Headers],0))","v":30},{"$f":"INDEX(Table11[],MATCH(TEXT(hf_kommune[[#This Row],[Kommunenr]],\"0\"),Table11[Nr],0),MATCH(hf_kommune[[#Headers],[2031]],Table11[#Headers],0))","v":28},{"$f":"INDEX(Table11[],MATCH(TEXT(hf_kommune[[#This Row],[Kommunenr]],\"0\"),Table11[Nr],0),MATCH(hf_kommune[[#Headers],[2032]],Table11[#Headers],0))","v":16},{"$f":"INDEX(Table11[],MATCH(TEXT(hf_kommune[[#This Row],[Kommunenr]],\"0\"),Table11[Nr],0),MATCH(hf_kommune[[#Headers],[2033]],Table11[#Headers],0))","v":31},{"$f":"INDEX(Table11[],MATCH(TEXT(hf_kommune[[#This Row],[Kommunenr]],\"0\"),Table11[Nr],0),MATCH(hf_kommune[[#Headers],[2034]],Table11[#Headers],0))","v":28},{"$f":"INDEX(Table11[],MATCH(TEXT(hf_kommune[[#This Row],[Kommunenr]],\"0\"),Table11[Nr],0),MATCH(hf_kommune[[#Headers],[2035]],Table11[#Headers],0))","v":21},{"$f":"INDEX(Table11[],MATCH(TEXT(hf_kommune[[#This Row],[Kommunenr]],\"0\"),Table11[Nr],0),MATCH(hf_kommune[[#Headers],[2036]],Table11[#Headers],0))","v":21},{"$f":"INDEX(Table11[],MATCH(TEXT(hf_kommune[[#This Row],[Kommunenr]],\"0\"),Table11[Nr],0),MATCH(hf_kommune[[#Headers],[2037]],Table11[#Headers],0))","v":22},{"$f":"INDEX(Table11[],MATCH(TEXT(hf_kommune[[#This Row],[Kommunenr]],\"0\"),Table11[Nr],0),MATCH(hf_kommune[[#Headers],[2038]],Table11[#Headers],0))","v":28},{"$f":"INDEX(Table11[],MATCH(TEXT(hf_kommune[[#This Row],[Kommunenr]],\"0\"),Table11[Nr],0),MATCH(hf_kommune[[#Headers],[2039]],Table11[#Headers],0))","v":25},{"$f":"INDEX(Table11[],MATCH(TEXT(hf_kommune[[#This Row],[Kommunenr]],\"0\"),Table11[Nr],0),MATCH(hf_kommune[[#Headers],[2040]],Table11[#Headers],0))","v":28},2155,2137,2123,2112,2102,2094,2086,2078,2071,2065,2059,2053,2049,2045,2042,2039,2035,2032,2029]
[3426,"Tolga","Helse Sør-Øst","Sykehuset Innlandet","Tynset",{"$f":"INDEX(Table11[],MATCH(TEXT(hf_kommune[[#This Row],[Kommunenr]],\"0\"),Table11[Nr],0),MATCH(hf_kommune[[#Headers],[2020]],Table11[#Headers],0))","v":27},{"$f":"INDEX(Table11[],MATCH(TEXT(hf_kommune[[#This Row],[Kommunenr]],\"0\"),Table11[Nr],0),MATCH(hf_kommune[[#Headers],[2021]],Table11[#Headers],0))","v":19},{"$f":"INDEX(Table11[],MATCH(TEXT(hf_kommune[[#This Row],[Kommunenr]],\"0\"),Table11[Nr],0),MATCH(hf_kommune[[#Headers],[2022]],Table11[#Headers],0))","v":20},{"$f":"INDEX(Table11[],MATCH(TEXT(hf_kommune[[#This Row],[Kommunenr]],\"0\"),Table11[Nr],0),MATCH(hf_kommune[[#Headers],[2023]],Table11[#Headers],0))","v":23},{"$f":"INDEX(Table11[],MATCH(TEXT(hf_kommune[[#This Row],[Kommunenr]],\"0\"),Table11[Nr],0),MATCH(hf_kommune[[#Headers],[2024]],Table11[#Headers],0))","v":23},{"$f":"INDEX(Table11[],MATCH(TEXT(hf_kommune[[#This Row],[Kommunenr]],\"0\"),Table11[Nr],0),MATCH(hf_kommune[[#Headers],[2025]],Table11[#Headers],0))","v":26},{"$f":"INDEX(Table11[],MATCH(TEXT(hf_kommune[[#This Row],[Kommunenr]],\"0\"),Table11[Nr],0),MATCH(hf_kommune[[#Headers],[2026]],Table11[#Headers],0))","v":23},{"$f":"INDEX(Table11[],MATCH(TEXT(hf_kommune[[#This Row],[Kommunenr]],\"0\"),Table11[Nr],0),MATCH(hf_kommune[[#Headers],[2027]],Table11[#Headers],0))","v":18},{"$f":"INDEX(Table11[],MATCH(TEXT(hf_kommune[[#This Row],[Kommunenr]],\"0\"),Table11[Nr],0),MATCH(hf_kommune[[#Headers],[2028]],Table11[#Headers],0))","v":16},{"$f":"INDEX(Table11[],MATCH(TEXT(hf_kommune[[#This Row],[Kommunenr]],\"0\"),Table11[Nr],0),MATCH(hf_kommune[[#Headers],[2029]],Table11[#Headers],0))","v":17},{"$f":"INDEX(Table11[],MATCH(TEXT(hf_kommune[[#This Row],[Kommunenr]],\"0\"),Table11[Nr],0),MATCH(hf_kommune[[#Headers],[2030]],Table11[#Headers],0))","v":19},{"$f":"INDEX(Table11[],MATCH(TEXT(hf_kommune[[#This Row],[Kommunenr]],\"0\"),Table11[Nr],0),MATCH(hf_kommune[[#Headers],[2031]],Table11[#Headers],0))","v":14},{"$f":"INDEX(Table11[],MATCH(TEXT(hf_kommune[[#This Row],[Kommunenr]],\"0\"),Table11[Nr],0),MATCH(hf_kommune[[#Headers],[2032]],Table11[#Headers],0))","v":8},{"$f":"INDEX(Table11[],MATCH(TEXT(hf_kommune[[#This Row],[Kommunenr]],\"0\"),Table11[Nr],0),MATCH(hf_kommune[[#Headers],[2033]],Table11[#Headers],0))","v":14},{"$f":"INDEX(Table11[],MATCH(TEXT(hf_kommune[[#This Row],[Kommunenr]],\"0\"),Table11[Nr],0),MATCH(hf_kommune[[#Headers],[2034]],Table11[#Headers],0))","v":16},{"$f":"INDEX(Table11[],MATCH(TEXT(hf_kommune[[#This Row],[Kommunenr]],\"0\"),Table11[Nr],0),MATCH(hf_kommune[[#Headers],[2035]],Table11[#Headers],0))","v":16},{"$f":"INDEX(Table11[],MATCH(TEXT(hf_kommune[[#This Row],[Kommunenr]],\"0\"),Table11[Nr],0),MATCH(hf_kommune[[#Headers],[2036]],Table11[#Headers],0))","v":17},{"$f":"INDEX(Table11[],MATCH(TEXT(hf_kommune[[#This Row],[Kommunenr]],\"0\"),Table11[Nr],0),MATCH(hf_kommune[[#Headers],[2037]],Table11[#Headers],0))","v":19},{"$f":"INDEX(Table11[],MATCH(TEXT(hf_kommune[[#This Row],[Kommunenr]],\"0\"),Table11[Nr],0),MATCH(hf_kommune[[#Headers],[2038]],Table11[#Headers],0))","v":16},{"$f":"INDEX(Table11[],MATCH(TEXT(hf_kommune[[#This Row],[Kommunenr]],\"0\"),Table11[Nr],0),MATCH(hf_kommune[[#Headers],[2039]],Table11[#Headers],0))","v":14},{"$f":"INDEX(Table11[],MATCH(TEXT(hf_kommune[[#This Row],[Kommunenr]],\"0\"),Table11[Nr],0),MATCH(hf_kommune[[#Headers],[2040]],Table11[#Headers],0))","v":16},1552,1549,1547,1544,1540,1537,1535,1532,1529,1526,1522,1519,1516,1513,1510,1507,1504,1502,1499]
[5401,"Tromsø","Helse Nord","Universitetssykehuset Nord-Norge","Tromsø",{"$f":"INDEX(Table11[],MATCH(TEXT(hf_kommune[[#This Row],[Kommunenr]],\"0\"),Table11[Nr],0),MATCH(hf_kommune[[#Headers],[2020]],Table11[#Headers],0))","v":921},{"$f":"INDEX(Table11[],MATCH(TEXT(hf_kommune[[#This Row],[Kommunenr]],\"0\"),Table11[Nr],0),MATCH(hf_kommune[[#Headers],[2021]],Table11[#Headers],0))","v":934},{"$f":"INDEX(Table11[],MATCH(TEXT(hf_kommune[[#This Row],[Kommunenr]],\"0\"),Table11[Nr],0),MATCH(hf_kommune[[#Headers],[2022]],Table11[#Headers],0))","v":1110},{"$f":"INDEX(Table11[],MATCH(TEXT(hf_kommune[[#This Row],[Kommunenr]],\"0\"),Table11[Nr],0),MATCH(hf_kommune[[#Headers],[2023]],Table11[#Headers],0))","v":1030},{"$f":"INDEX(Table11[],MATCH(TEXT(hf_kommune[[#This Row],[Kommunenr]],\"0\"),Table11[Nr],0),MATCH(hf_kommune[[#Headers],[2024]],Table11[#Headers],0))","v":1042},{"$f":"INDEX(Table11[],MATCH(TEXT(hf_kommune[[#This Row],[Kommunenr]],\"0\"),Table11[Nr],0),MATCH(hf_kommune[[#Headers],[2025]],Table11[#Headers],0))","v":1031},{"$f":"INDEX(Table11[],MATCH(TEXT(hf_kommune[[#This Row],[Kommunenr]],\"0\"),Table11[Nr],0),MATCH(hf_kommune[[#Headers],[2026]],Table11[#Headers],0))","v":1068},{"$f":"INDEX(Table11[],MATCH(TEXT(hf_kommune[[#This Row],[Kommunenr]],\"0\"),Table11[Nr],0),MATCH(hf_kommune[[#Headers],[2027]],Table11[#Headers],0))","v":1091},{"$f":"INDEX(Table11[],MATCH(TEXT(hf_kommune[[#This Row],[Kommunenr]],\"0\"),Table11[Nr],0),MATCH(hf_kommune[[#Headers],[2028]],Table11[#Headers],0))","v":1035},{"$f":"INDEX(Table11[],MATCH(TEXT(hf_kommune[[#This Row],[Kommunenr]],\"0\"),Table11[Nr],0),MATCH(hf_kommune[[#Headers],[2029]],Table11[#Headers],0))","v":1045},{"$f":"INDEX(Table11[],MATCH(TEXT(hf_kommune[[#This Row],[Kommunenr]],\"0\"),Table11[Nr],0),MATCH(hf_kommune[[#Headers],[2030]],Table11[#Headers],0))","v":1018},{"$f":"INDEX(Table11[],MATCH(TEXT(hf_kommune[[#This Row],[Kommunenr]],\"0\"),Table11[Nr],0),MATCH(hf_kommune[[#Headers],[2031]],Table11[#Headers],0))","v":952},{"$f":"INDEX(Table11[],MATCH(TEXT(hf_kommune[[#This Row],[Kommunenr]],\"0\"),Table11[Nr],0),MATCH(hf_kommune[[#Headers],[2032]],Table11[#Headers],0))","v":913},{"$f":"INDEX(Table11[],MATCH(TEXT(hf_kommune[[#This Row],[Kommunenr]],\"0\"),Table11[Nr],0),MATCH(hf_kommune[[#Headers],[2033]],Table11[#Headers],0))","v":911},{"$f":"INDEX(Table11[],MATCH(TEXT(hf_kommune[[#This Row],[Kommunenr]],\"0\"),Table11[Nr],0),MATCH(hf_kommune[[#Headers],[2034]],Table11[#Headers],0))","v":846},{"$f":"INDEX(Table11[],MATCH(TEXT(hf_kommune[[#This Row],[Kommunenr]],\"0\"),Table11[Nr],0),MATCH(hf_kommune[[#Headers],[2035]],Table11[#Headers],0))","v":944},{"$f":"INDEX(Table11[],MATCH(TEXT(hf_kommune[[#This Row],[Kommunenr]],\"0\"),Table11[Nr],0),MATCH(hf_kommune[[#Headers],[2036]],Table11[#Headers],0))","v":944},{"$f":"INDEX(Table11[],MATCH(TEXT(hf_kommune[[#This Row],[Kommunenr]],\"0\"),Table11[Nr],0),MATCH(hf_kommune[[#Headers],[2037]],Table11[#Headers],0))","v":970},{"$f":"INDEX(Table11[],MATCH(TEXT(hf_kommune[[#This Row],[Kommunenr]],\"0\"),Table11[Nr],0),MATCH(hf_kommune[[#Headers],[2038]],Table11[#Headers],0))","v":984},{"$f":"INDEX(Table11[],MATCH(TEXT(hf_kommune[[#This Row],[Kommunenr]],\"0\"),Table11[Nr],0),MATCH(hf_kommune[[#Headers],[2039]],Table11[#Headers],0))","v":973},{"$f":"INDEX(Table11[],MATCH(TEXT(hf_kommune[[#This Row],[Kommunenr]],\"0\"),Table11[Nr],0),MATCH(hf_kommune[[#Headers],[2040]],Table11[#Headers],0))","v":959},77613,78000,78372,78738,79105,79458,79801,80133,80456,80767,81065,81351,81625,81888,82140,82376,82593,82789,82966]
[5001,"Trondheim","Helse Midt-Norge","St. Olavs hospital","St. Olav - Øya",{"$f":"INDEX(Table11[],MATCH(TEXT(hf_kommune[[#This Row],[Kommunenr]],\"0\"),Table11[Nr],0),MATCH(hf_kommune[[#Headers],[2020]],Table11[#Headers],0))","v":2318},{"$f":"INDEX(Table11[],MATCH(TEXT(hf_kommune[[#This Row],[Kommunenr]],\"0\"),Table11[Nr],0),MATCH(hf_kommune[[#Headers],[2021]],Table11[#Headers],0))","v":2447},{"$f":"INDEX(Table11[],MATCH(TEXT(hf_kommune[[#This Row],[Kommunenr]],\"0\"),Table11[Nr],0),MATCH(hf_kommune[[#Headers],[2022]],Table11[#Headers],0))","v":2531},{"$f":"INDEX(Table11[],MATCH(TEXT(hf_kommune[[#This Row],[Kommunenr]],\"0\"),Table11[Nr],0),MATCH(hf_kommune[[#Headers],[2023]],Table11[#Headers],0))","v":2446},{"$f":"INDEX(Table11[],MATCH(TEXT(hf_kommune[[#This Row],[Kommunenr]],\"0\"),Table11[Nr],0),MATCH(hf_kommune[[#Headers],[2024]],Table11[#Headers],0))","v":2701},{"$f":"INDEX(Table11[],MATCH(TEXT(hf_kommune[[#This Row],[Kommunenr]],\"0\"),Table11[Nr],0),MATCH(hf_kommune[[#Headers],[2025]],Table11[#Headers],0))","v":2610},{"$f":"INDEX(Table11[],MATCH(TEXT(hf_kommune[[#This Row],[Kommunenr]],\"0\"),Table11[Nr],0),MATCH(hf_kommune[[#Headers],[2026]],Table11[#Headers],0))","v":2590},{"$f":"INDEX(Table11[],MATCH(TEXT(hf_kommune[[#This Row],[Kommunenr]],\"0\"),Table11[Nr],0),MATCH(hf_kommune[[#Headers],[2027]],Table11[#Headers],0))","v":2593},{"$f":"INDEX(Table11[],MATCH(TEXT(hf_kommune[[#This Row],[Kommunenr]],\"0\"),Table11[Nr],0),MATCH(hf_kommune[[#Headers],[2028]],Table11[#Headers],0))","v":2593},{"$f":"INDEX(Table11[],MATCH(TEXT(hf_kommune[[#This Row],[Kommunenr]],\"0\"),Table11[Nr],0),MATCH(hf_kommune[[#Headers],[2029]],Table11[#Headers],0))","v":2686},{"$f":"INDEX(Table11[],MATCH(TEXT(hf_kommune[[#This Row],[Kommunenr]],\"0\"),Table11[Nr],0),MATCH(hf_kommune[[#Headers],[2030]],Table11[#Headers],0))","v":2610},{"$f":"INDEX(Table11[],MATCH(TEXT(hf_kommune[[#This Row],[Kommunenr]],\"0\"),Table11[Nr],0),MATCH(hf_kommune[[#Headers],[2031]],Table11[#Headers],0))","v":2521},{"$f":"INDEX(Table11[],MATCH(TEXT(hf_kommune[[#This Row],[Kommunenr]],\"0\"),Table11[Nr],0),MATCH(hf_kommune[[#Headers],[2032]],Table11[#Headers],0))","v":2503},{"$f":"INDEX(Table11[],MATCH(TEXT(hf_kommune[[#This Row],[Kommunenr]],\"0\"),Table11[Nr],0),MATCH(hf_kommune[[#Headers],[2033]],Table11[#Headers],0))","v":2431},{"$f":"INDEX(Table11[],MATCH(TEXT(hf_kommune[[#This Row],[Kommunenr]],\"0\"),Table11[Nr],0),MATCH(hf_kommune[[#Headers],[2034]],Table11[#Headers],0))","v":2553},{"$f":"INDEX(Table11[],MATCH(TEXT(hf_kommune[[#This Row],[Kommunenr]],\"0\"),Table11[Nr],0),MATCH(hf_kommune[[#Headers],[2035]],Table11[#Headers],0))","v":2554},{"$f":"INDEX(Table11[],MATCH(TEXT(hf_kommune[[#This Row],[Kommunenr]],\"0\"),Table11[Nr],0),MATCH(hf_kommune[[#Headers],[2036]],Table11[#Headers],0))","v":2625},{"$f":"INDEX(Table11[],MATCH(TEXT(hf_kommune[[#This Row],[Kommunenr]],\"0\"),Table11[Nr],0),MATCH(hf_kommune[[#Headers],[2037]],Table11[#Headers],0))","v":2661},{"$f":"INDEX(Table11[],MATCH(TEXT(hf_kommune[[#This Row],[Kommunenr]],\"0\"),Table11[Nr],0),MATCH(hf_kommune[[#Headers],[2038]],Table11[#Headers],0))","v":2730},{"$f":"INDEX(Table11[],MATCH(TEXT(hf_kommune[[#This Row],[Kommunenr]],\"0\"),Table11[Nr],0),MATCH(hf_kommune[[#Headers],[2039]],Table11[#Headers],0))","v":2691},{"$f":"INDEX(Table11[],MATCH(TEXT(hf_kommune[[#This Row],[Kommunenr]],\"0\"),Table11[Nr],0),MATCH(hf_kommune[[#Headers],[2040]],Table11[#Headers],0))","v":2739},209603,211682,213505,215109,216520,217909,219279,220623,221934,223207,224429,225604,226737,227826,228875,229870,230801,231674,232494]
[3421,"Trysil","Helse Sør-Øst","Sykehuset Innlandet","Elverum",{"$f":"INDEX(Table11[],MATCH(TEXT(hf_kommune[[#This Row],[Kommunenr]],\"0\"),Table11[Nr],0),MATCH(hf_kommune[[#Headers],[2020]],Table11[#Headers],0))","v":107},{"$f":"INDEX(Table11[],MATCH(TEXT(hf_kommune[[#This Row],[Kommunenr]],\"0\"),Table11[Nr],0),MATCH(hf_kommune[[#Headers],[2021]],Table11[#Headers],0))","v":95},{"$f":"INDEX(Table11[],MATCH(TEXT(hf_kommune[[#This Row],[Kommunenr]],\"0\"),Table11[Nr],0),MATCH(hf_kommune[[#Headers],[2022]],Table11[#Headers],0))","v":99},{"$f":"INDEX(Table11[],MATCH(TEXT(hf_kommune[[#This Row],[Kommunenr]],\"0\"),Table11[Nr],0),MATCH(hf_kommune[[#Headers],[2023]],Table11[#Headers],0))","v":104},{"$f":"INDEX(Table11[],MATCH(TEXT(hf_kommune[[#This Row],[Kommunenr]],\"0\"),Table11[Nr],0),MATCH(hf_kommune[[#Headers],[2024]],Table11[#Headers],0))","v":107},{"$f":"INDEX(Table11[],MATCH(TEXT(hf_kommune[[#This Row],[Kommunenr]],\"0\"),Table11[Nr],0),MATCH(hf_kommune[[#Headers],[2025]],Table11[#Headers],0))","v":115},{"$f":"INDEX(Table11[],MATCH(TEXT(hf_kommune[[#This Row],[Kommunenr]],\"0\"),Table11[Nr],0),MATCH(hf_kommune[[#Headers],[2026]],Table11[#Headers],0))","v":111},{"$f":"INDEX(Table11[],MATCH(TEXT(hf_kommune[[#This Row],[Kommunenr]],\"0\"),Table11[Nr],0),MATCH(hf_kommune[[#Headers],[2027]],Table11[#Headers],0))","v":90},{"$f":"INDEX(Table11[],MATCH(TEXT(hf_kommune[[#This Row],[Kommunenr]],\"0\"),Table11[Nr],0),MATCH(hf_kommune[[#Headers],[2028]],Table11[#Headers],0))","v":98},{"$f":"INDEX(Table11[],MATCH(TEXT(hf_kommune[[#This Row],[Kommunenr]],\"0\"),Table11[Nr],0),MATCH(hf_kommune[[#Headers],[2029]],Table11[#Headers],0))","v":93},{"$f":"INDEX(Table11[],MATCH(TEXT(hf_kommune[[#This Row],[Kommunenr]],\"0\"),Table11[Nr],0),MATCH(hf_kommune[[#Headers],[2030]],Table11[#Headers],0))","v":92},{"$f":"INDEX(Table11[],MATCH(TEXT(hf_kommune[[#This Row],[Kommunenr]],\"0\"),Table11[Nr],0),MATCH(hf_kommune[[#Headers],[2031]],Table11[#Headers],0))","v":90},{"$f":"INDEX(Table11[],MATCH(TEXT(hf_kommune[[#This Row],[Kommunenr]],\"0\"),Table11[Nr],0),MATCH(hf_kommune[[#Headers],[2032]],Table11[#Headers],0))","v":84},{"$f":"INDEX(Table11[],MATCH(TEXT(hf_kommune[[#This Row],[Kommunenr]],\"0\"),Table11[Nr],0),MATCH(hf_kommune[[#Headers],[2033]],Table11[#Headers],0))","v":77},{"$f":"INDEX(Table11[],MATCH(TEXT(hf_kommune[[#This Row],[Kommunenr]],\"0\"),Table11[Nr],0),MATCH(hf_kommune[[#Headers],[2034]],Table11[#Headers],0))","v":69},{"$f":"INDEX(Table11[],MATCH(TEXT(hf_kommune[[#This Row],[Kommunenr]],\"0\"),Table11[Nr],0),MATCH(hf_kommune[[#Headers],[2035]],Table11[#Headers],0))","v":81},{"$f":"INDEX(Table11[],MATCH(TEXT(hf_kommune[[#This Row],[Kommunenr]],\"0\"),Table11[Nr],0),MATCH(hf_kommune[[#Headers],[2036]],Table11[#Headers],0))","v":77},{"$f":"INDEX(Table11[],MATCH(TEXT(hf_kommune[[#This Row],[Kommunenr]],\"0\"),Table11[Nr],0),MATCH(hf_kommune[[#Headers],[2037]],Table11[#Headers],0))","v":88},{"$f":"INDEX(Table11[],MATCH(TEXT(hf_kommune[[#This Row],[Kommunenr]],\"0\"),Table11[Nr],0),MATCH(hf_kommune[[#Headers],[2038]],Table11[#Headers],0))","v":86},{"$f":"INDEX(Table11[],MATCH(TEXT(hf_kommune[[#This Row],[Kommunenr]],\"0\"),Table11[Nr],0),MATCH(hf_kommune[[#Headers],[2039]],Table11[#Headers],0))","v":87},{"$f":"INDEX(Table11[],MATCH(TEXT(hf_kommune[[#This Row],[Kommunenr]],\"0\"),Table11[Nr],0),MATCH(hf_kommune[[#Headers],[2040]],Table11[#Headers],0))","v":78},6516,6481,6451,6427,6407,6388,6370,6353,6337,6321,6306,6292,6278,6265,6252,6239,6225,6212,6199]
[1835,"Træna","Helse Nord","Helgelandssykehuset","Sandnessjøen",{"$f":"INDEX(Table11[],MATCH(TEXT(hf_kommune[[#This Row],[Kommunenr]],\"0\"),Table11[Nr],0),MATCH(hf_kommune[[#Headers],[2020]],Table11[#Headers],0))","v":3},{"$f":"INDEX(Table11[],MATCH(TEXT(hf_kommune[[#This Row],[Kommunenr]],\"0\"),Table11[Nr],0),MATCH(hf_kommune[[#Headers],[2021]],Table11[#Headers],0))","v":4},{"$f":"INDEX(Table11[],MATCH(TEXT(hf_kommune[[#This Row],[Kommunenr]],\"0\"),Table11[Nr],0),MATCH(hf_kommune[[#Headers],[2022]],Table11[#Headers],0))","v":7},{"$f":"INDEX(Table11[],MATCH(TEXT(hf_kommune[[#This Row],[Kommunenr]],\"0\"),Table11[Nr],0),MATCH(hf_kommune[[#Headers],[2023]],Table11[#Headers],0))","v":8},{"$f":"INDEX(Table11[],MATCH(TEXT(hf_kommune[[#This Row],[Kommunenr]],\"0\"),Table11[Nr],0),MATCH(hf_kommune[[#Headers],[2024]],Table11[#Headers],0))","v":9},{"$f":"INDEX(Table11[],MATCH(TEXT(hf_kommune[[#This Row],[Kommunenr]],\"0\"),Table11[Nr],0),MATCH(hf_kommune[[#Headers],[2025]],Table11[#Headers],0))","v":12},{"$f":"INDEX(Table11[],MATCH(TEXT(hf_kommune[[#This Row],[Kommunenr]],\"0\"),Table11[Nr],0),MATCH(hf_kommune[[#Headers],[2026]],Table11[#Headers],0))","v":6},{"$f":"INDEX(Table11[],MATCH(TEXT(hf_kommune[[#This Row],[Kommunenr]],\"0\"),Table11[Nr],0),MATCH(hf_kommune[[#Headers],[2027]],Table11[#Headers],0))","v":8},{"$f":"INDEX(Table11[],MATCH(TEXT(hf_kommune[[#This Row],[Kommunenr]],\"0\"),Table11[Nr],0),MATCH(hf_kommune[[#Headers],[2028]],Table11[#Headers],0))","v":5},{"$f":"INDEX(Table11[],MATCH(TEXT(hf_kommune[[#This Row],[Kommunenr]],\"0\"),Table11[Nr],0),MATCH(hf_kommune[[#Headers],[2029]],Table11[#Headers],0))","v":7},{"$f":"INDEX(Table11[],MATCH(TEXT(hf_kommune[[#This Row],[Kommunenr]],\"0\"),Table11[Nr],0),MATCH(hf_kommune[[#Headers],[2030]],Table11[#Headers],0))","v":8},{"$f":"INDEX(Table11[],MATCH(TEXT(hf_kommune[[#This Row],[Kommunenr]],\"0\"),Table11[Nr],0),MATCH(hf_kommune[[#Headers],[2031]],Table11[#Headers],0))","v":8},{"$f":"INDEX(Table11[],MATCH(TEXT(hf_kommune[[#This Row],[Kommunenr]],\"0\"),Table11[Nr],0),MATCH(hf_kommune[[#Headers],[2032]],Table11[#Headers],0))","v":9},{"$f":"INDEX(Table11[],MATCH(TEXT(hf_kommune[[#This Row],[Kommunenr]],\"0\"),Table11[Nr],0),MATCH(hf_kommune[[#Headers],[2033]],Table11[#Headers],0))","v":7},{"$f":"INDEX(Table11[],MATCH(TEXT(hf_kommune[[#This Row],[Kommunenr]],\"0\"),Table11[Nr],0),MATCH(hf_kommune[[#Headers],[2034]],Table11[#Headers],0))","v":10},{"$f":"INDEX(Table11[],MATCH(TEXT(hf_kommune[[#This Row],[Kommunenr]],\"0\"),Table11[Nr],0),MATCH(hf_kommune[[#Headers],[2035]],Table11[#Headers],0))","v":10},{"$f":"INDEX(Table11[],MATCH(TEXT(hf_kommune[[#This Row],[Kommunenr]],\"0\"),Table11[Nr],0),MATCH(hf_kommune[[#Headers],[2036]],Table11[#Headers],0))","v":8},{"$f":"INDEX(Table11[],MATCH(TEXT(hf_kommune[[#This Row],[Kommunenr]],\"0\"),Table11[Nr],0),MATCH(hf_kommune[[#Headers],[2037]],Table11[#Headers],0))","v":6},{"$f":"INDEX(Table11[],MATCH(TEXT(hf_kommune[[#This Row],[Kommunenr]],\"0\"),Table11[Nr],0),MATCH(hf_kommune[[#Headers],[2038]],Table11[#Headers],0))","v":10},{"$f":"INDEX(Table11[],MATCH(TEXT(hf_kommune[[#This Row],[Kommunenr]],\"0\"),Table11[Nr],0),MATCH(hf_kommune[[#Headers],[2039]],Table11[#Headers],0))","v":8},{"$f":"INDEX(Table11[],MATCH(TEXT(hf_kommune[[#This Row],[Kommunenr]],\"0\"),Table11[Nr],0),MATCH(hf_kommune[[#Headers],[2040]],Table11[#Headers],0))","v":7},423,421,420,422,425,428,431,434,438,441,444,447,450,453,456,459,462,464,467]
[4213,"Tvedestrand","Helse Sør-Øst","Sørlandet sykehus","Arendal",{"$f":"INDEX(Table11[],MATCH(TEXT(hf_kommune[[#This Row],[Kommunenr]],\"0\"),Table11[Nr],0),MATCH(hf_kommune[[#Headers],[2020]],Table11[#Headers],0))","v":83},{"$f":"INDEX(Table11[],MATCH(TEXT(hf_kommune[[#This Row],[Kommunenr]],\"0\"),Table11[Nr],0),MATCH(hf_kommune[[#Headers],[2021]],Table11[#Headers],0))","v":78},{"$f":"INDEX(Table11[],MATCH(TEXT(hf_kommune[[#This Row],[Kommunenr]],\"0\"),Table11[Nr],0),MATCH(hf_kommune[[#Headers],[2022]],Table11[#Headers],0))","v":72},{"$f":"INDEX(Table11[],MATCH(TEXT(hf_kommune[[#This Row],[Kommunenr]],\"0\"),Table11[Nr],0),MATCH(hf_kommune[[#Headers],[2023]],Table11[#Headers],0))","v":99},{"$f":"INDEX(Table11[],MATCH(TEXT(hf_kommune[[#This Row],[Kommunenr]],\"0\"),Table11[Nr],0),MATCH(hf_kommune[[#Headers],[2024]],Table11[#Headers],0))","v":86},{"$f":"INDEX(Table11[],MATCH(TEXT(hf_kommune[[#This Row],[Kommunenr]],\"0\"),Table11[Nr],0),MATCH(hf_kommune[[#Headers],[2025]],Table11[#Headers],0))","v":74},{"$f":"INDEX(Table11[],MATCH(TEXT(hf_kommune[[#This Row],[Kommunenr]],\"0\"),Table11[Nr],0),MATCH(hf_kommune[[#Headers],[2026]],Table11[#Headers],0))","v":93},{"$f":"INDEX(Table11[],MATCH(TEXT(hf_kommune[[#This Row],[Kommunenr]],\"0\"),Table11[Nr],0),MATCH(hf_kommune[[#Headers],[2027]],Table11[#Headers],0))","v":102},{"$f":"INDEX(Table11[],MATCH(TEXT(hf_kommune[[#This Row],[Kommunenr]],\"0\"),Table11[Nr],0),MATCH(hf_kommune[[#Headers],[2028]],Table11[#Headers],0))","v":101},{"$f":"INDEX(Table11[],MATCH(TEXT(hf_kommune[[#This Row],[Kommunenr]],\"0\"),Table11[Nr],0),MATCH(hf_kommune[[#Headers],[2029]],Table11[#Headers],0))","v":99},{"$f":"INDEX(Table11[],MATCH(TEXT(hf_kommune[[#This Row],[Kommunenr]],\"0\"),Table11[Nr],0),MATCH(hf_kommune[[#Headers],[2030]],Table11[#Headers],0))","v":87},{"$f":"INDEX(Table11[],MATCH(TEXT(hf_kommune[[#This Row],[Kommunenr]],\"0\"),Table11[Nr],0),MATCH(hf_kommune[[#Headers],[2031]],Table11[#Headers],0))","v":90},{"$f":"INDEX(Table11[],MATCH(TEXT(hf_kommune[[#This Row],[Kommunenr]],\"0\"),Table11[Nr],0),MATCH(hf_kommune[[#Headers],[2032]],Table11[#Headers],0))","v":90},{"$f":"INDEX(Table11[],MATCH(TEXT(hf_kommune[[#This Row],[Kommunenr]],\"0\"),Table11[Nr],0),MATCH(hf_kommune[[#Headers],[2033]],Table11[#Headers],0))","v":92},{"$f":"INDEX(Table11[],MATCH(TEXT(hf_kommune[[#This Row],[Kommunenr]],\"0\"),Table11[Nr],0),MATCH(hf_kommune[[#Headers],[2034]],Table11[#Headers],0))","v":79},{"$f":"INDEX(Table11[],MATCH(TEXT(hf_kommune[[#This Row],[Kommunenr]],\"0\"),Table11[Nr],0),MATCH(hf_kommune[[#Headers],[2035]],Table11[#Headers],0))","v":88},{"$f":"INDEX(Table11[],MATCH(TEXT(hf_kommune[[#This Row],[Kommunenr]],\"0\"),Table11[Nr],0),MATCH(hf_kommune[[#Headers],[2036]],Table11[#Headers],0))","v":82},{"$f":"INDEX(Table11[],MATCH(TEXT(hf_kommune[[#This Row],[Kommunenr]],\"0\"),Table11[Nr],0),MATCH(hf_kommune[[#Headers],[2037]],Table11[#Headers],0))","v":81},{"$f":"INDEX(Table11[],MATCH(TEXT(hf_kommune[[#This Row],[Kommunenr]],\"0\"),Table11[Nr],0),MATCH(hf_kommune[[#Headers],[2038]],Table11[#Headers],0))","v":97},{"$f":"INDEX(Table11[],MATCH(TEXT(hf_kommune[[#This Row],[Kommunenr]],\"0\"),Table11[Nr],0),MATCH(hf_kommune[[#Headers],[2039]],Table11[#Headers],0))","v":91},{"$f":"INDEX(Table11[],MATCH(TEXT(hf_kommune[[#This Row],[Kommunenr]],\"0\"),Table11[Nr],0),MATCH(hf_kommune[[#Headers],[2040]],Table11[#Headers],0))","v":75},6102,6122,6138,6152,6163,6175,6188,6202,6216,6231,6247,6263,6278,6294,6310,6325,6340,6354,6367]
[5033,"Tydal","Helse Midt-Norge","St. Olavs hospital","St. Olav - Øya",{"$f":"INDEX(Table11[],MATCH(TEXT(hf_kommune[[#This Row],[Kommunenr]],\"0\"),Table11[Nr],0),MATCH(hf_kommune[[#Headers],[2020]],Table11[#Headers],0))","v":15},{"$f":"INDEX(Table11[],MATCH(TEXT(hf_kommune[[#This Row],[Kommunenr]],\"0\"),Table11[Nr],0),MATCH(hf_kommune[[#Headers],[2021]],Table11[#Headers],0))","v":15},{"$f":"INDEX(Table11[],MATCH(TEXT(hf_kommune[[#This Row],[Kommunenr]],\"0\"),Table11[Nr],0),MATCH(hf_kommune[[#Headers],[2022]],Table11[#Headers],0))","v":16},{"$f":"INDEX(Table11[],MATCH(TEXT(hf_kommune[[#This Row],[Kommunenr]],\"0\"),Table11[Nr],0),MATCH(hf_kommune[[#Headers],[2023]],Table11[#Headers],0))","v":6},{"$f":"INDEX(Table11[],MATCH(TEXT(hf_kommune[[#This Row],[Kommunenr]],\"0\"),Table11[Nr],0),MATCH(hf_kommune[[#Headers],[2024]],Table11[#Headers],0))","v":13},{"$f":"INDEX(Table11[],MATCH(TEXT(hf_kommune[[#This Row],[Kommunenr]],\"0\"),Table11[Nr],0),MATCH(hf_kommune[[#Headers],[2025]],Table11[#Headers],0))","v":9},{"$f":"INDEX(Table11[],MATCH(TEXT(hf_kommune[[#This Row],[Kommunenr]],\"0\"),Table11[Nr],0),MATCH(hf_kommune[[#Headers],[2026]],Table11[#Headers],0))","v":9},{"$f":"INDEX(Table11[],MATCH(TEXT(hf_kommune[[#This Row],[Kommunenr]],\"0\"),Table11[Nr],0),MATCH(hf_kommune[[#Headers],[2027]],Table11[#Headers],0))","v":12},{"$f":"INDEX(Table11[],MATCH(TEXT(hf_kommune[[#This Row],[Kommunenr]],\"0\"),Table11[Nr],0),MATCH(hf_kommune[[#Headers],[2028]],Table11[#Headers],0))","v":7},{"$f":"INDEX(Table11[],MATCH(TEXT(hf_kommune[[#This Row],[Kommunenr]],\"0\"),Table11[Nr],0),MATCH(hf_kommune[[#Headers],[2029]],Table11[#Headers],0))","v":12},{"$f":"INDEX(Table11[],MATCH(TEXT(hf_kommune[[#This Row],[Kommunenr]],\"0\"),Table11[Nr],0),MATCH(hf_kommune[[#Headers],[2030]],Table11[#Headers],0))","v":10},{"$f":"INDEX(Table11[],MATCH(TEXT(hf_kommune[[#This Row],[Kommunenr]],\"0\"),Table11[Nr],0),MATCH(hf_kommune[[#Headers],[2031]],Table11[#Headers],0))","v":7},{"$f":"INDEX(Table11[],MATCH(TEXT(hf_kommune[[#This Row],[Kommunenr]],\"0\"),Table11[Nr],0),MATCH(hf_kommune[[#Headers],[2032]],Table11[#Headers],0))","v":8},{"$f":"INDEX(Table11[],MATCH(TEXT(hf_kommune[[#This Row],[Kommunenr]],\"0\"),Table11[Nr],0),MATCH(hf_kommune[[#Headers],[2033]],Table11[#Headers],0))","v":6},{"$f":"INDEX(Table11[],MATCH(TEXT(hf_kommune[[#This Row],[Kommunenr]],\"0\"),Table11[Nr],0),MATCH(hf_kommune[[#Headers],[2034]],Table11[#Headers],0))","v":6},{"$f":"INDEX(Table11[],MATCH(TEXT(hf_kommune[[#This Row],[Kommunenr]],\"0\"),Table11[Nr],0),MATCH(hf_kommune[[#Headers],[2035]],Table11[#Headers],0))","v":8},{"$f":"INDEX(Table11[],MATCH(TEXT(hf_kommune[[#This Row],[Kommunenr]],\"0\"),Table11[Nr],0),MATCH(hf_kommune[[#Headers],[2036]],Table11[#Headers],0))","v":8},{"$f":"INDEX(Table11[],MATCH(TEXT(hf_kommune[[#This Row],[Kommunenr]],\"0\"),Table11[Nr],0),MATCH(hf_kommune[[#Headers],[2037]],Table11[#Headers],0))","v":7},{"$f":"INDEX(Table11[],MATCH(TEXT(hf_kommune[[#This Row],[Kommunenr]],\"0\"),Table11[Nr],0),MATCH(hf_kommune[[#Headers],[2038]],Table11[#Headers],0))","v":7},{"$f":"INDEX(Table11[],MATCH(TEXT(hf_kommune[[#This Row],[Kommunenr]],\"0\"),Table11[Nr],0),MATCH(hf_kommune[[#Headers],[2039]],Table11[#Headers],0))","v":10},{"$f":"INDEX(Table11[],MATCH(TEXT(hf_kommune[[#This Row],[Kommunenr]],\"0\"),Table11[Nr],0),MATCH(hf_kommune[[#Headers],[2040]],Table11[#Headers],0))","v":8},755,750,746,743,741,740,738,737,735,734,733,731,730,730,729,729,729,729,729]
[3427,"Tynset","Helse Sør-Øst","Sykehuset Innlandet","Tynset",{"$f":"INDEX(Table11[],MATCH(TEXT(hf_kommune[[#This Row],[Kommunenr]],\"0\"),Table11[Nr],0),MATCH(hf_kommune[[#Headers],[2020]],Table11[#Headers],0))","v":75},{"$f":"INDEX(Table11[],MATCH(TEXT(hf_kommune[[#This Row],[Kommunenr]],\"0\"),Table11[Nr],0),MATCH(hf_kommune[[#Headers],[2021]],Table11[#Headers],0))","v":77},{"$f":"INDEX(Table11[],MATCH(TEXT(hf_kommune[[#This Row],[Kommunenr]],\"0\"),Table11[Nr],0),MATCH(hf_kommune[[#Headers],[2022]],Table11[#Headers],0))","v":72},{"$f":"INDEX(Table11[],MATCH(TEXT(hf_kommune[[#This Row],[Kommunenr]],\"0\"),Table11[Nr],0),MATCH(hf_kommune[[#Headers],[2023]],Table11[#Headers],0))","v":72},{"$f":"INDEX(Table11[],MATCH(TEXT(hf_kommune[[#This Row],[Kommunenr]],\"0\"),Table11[Nr],0),MATCH(hf_kommune[[#Headers],[2024]],Table11[#Headers],0))","v":84},{"$f":"INDEX(Table11[],MATCH(TEXT(hf_kommune[[#This Row],[Kommunenr]],\"0\"),Table11[Nr],0),MATCH(hf_kommune[[#Headers],[2025]],Table11[#Headers],0))","v":83},{"$f":"INDEX(Table11[],MATCH(TEXT(hf_kommune[[#This Row],[Kommunenr]],\"0\"),Table11[Nr],0),MATCH(hf_kommune[[#Headers],[2026]],Table11[#Headers],0))","v":73},{"$f":"INDEX(Table11[],MATCH(TEXT(hf_kommune[[#This Row],[Kommunenr]],\"0\"),Table11[Nr],0),MATCH(hf_kommune[[#Headers],[2027]],Table11[#Headers],0))","v":75},{"$f":"INDEX(Table11[],MATCH(TEXT(hf_kommune[[#This Row],[Kommunenr]],\"0\"),Table11[Nr],0),MATCH(hf_kommune[[#Headers],[2028]],Table11[#Headers],0))","v":90},{"$f":"INDEX(Table11[],MATCH(TEXT(hf_kommune[[#This Row],[Kommunenr]],\"0\"),Table11[Nr],0),MATCH(hf_kommune[[#Headers],[2029]],Table11[#Headers],0))","v":69},{"$f":"INDEX(Table11[],MATCH(TEXT(hf_kommune[[#This Row],[Kommunenr]],\"0\"),Table11[Nr],0),MATCH(hf_kommune[[#Headers],[2030]],Table11[#Headers],0))","v":70},{"$f":"INDEX(Table11[],MATCH(TEXT(hf_kommune[[#This Row],[Kommunenr]],\"0\"),Table11[Nr],0),MATCH(hf_kommune[[#Headers],[2031]],Table11[#Headers],0))","v":64},{"$f":"INDEX(Table11[],MATCH(TEXT(hf_kommune[[#This Row],[Kommunenr]],\"0\"),Table11[Nr],0),MATCH(hf_kommune[[#Headers],[2032]],Table11[#Headers],0))","v":58},{"$f":"INDEX(Table11[],MATCH(TEXT(hf_kommune[[#This Row],[Kommunenr]],\"0\"),Table11[Nr],0),MATCH(hf_kommune[[#Headers],[2033]],Table11[#Headers],0))","v":56},{"$f":"INDEX(Table11[],MATCH(TEXT(hf_kommune[[#This Row],[Kommunenr]],\"0\"),Table11[Nr],0),MATCH(hf_kommune[[#Headers],[2034]],Table11[#Headers],0))","v":61},{"$f":"INDEX(Table11[],MATCH(TEXT(hf_kommune[[#This Row],[Kommunenr]],\"0\"),Table11[Nr],0),MATCH(hf_kommune[[#Headers],[2035]],Table11[#Headers],0))","v":62},{"$f":"INDEX(Table11[],MATCH(TEXT(hf_kommune[[#This Row],[Kommunenr]],\"0\"),Table11[Nr],0),MATCH(hf_kommune[[#Headers],[2036]],Table11[#Headers],0))","v":62},{"$f":"INDEX(Table11[],MATCH(TEXT(hf_kommune[[#This Row],[Kommunenr]],\"0\"),Table11[Nr],0),MATCH(hf_kommune[[#Headers],[2037]],Table11[#Headers],0))","v":69},{"$f":"INDEX(Table11[],MATCH(TEXT(hf_kommune[[#This Row],[Kommunenr]],\"0\"),Table11[Nr],0),MATCH(hf_kommune[[#Headers],[2038]],Table11[#Headers],0))","v":70},{"$f":"INDEX(Table11[],MATCH(TEXT(hf_kommune[[#This Row],[Kommunenr]],\"0\"),Table11[Nr],0),MATCH(hf_kommune[[#Headers],[2039]],Table11[#Headers],0))","v":73},{"$f":"INDEX(Table11[],MATCH(TEXT(hf_kommune[[#This Row],[Kommunenr]],\"0\"),Table11[Nr],0),MATCH(hf_kommune[[#Headers],[2040]],Table11[#Headers],0))","v":70},5518,5501,5488,5481,5478,5476,5476,5475,5475,5475,5475,5475,5475,5477,5479,5482,5485,5487,5489]
[4616,"Tysnes","Helse Vest","Helse Fonna","Stord",{"$f":"INDEX(Table11[],MATCH(TEXT(hf_kommune[[#This Row],[Kommunenr]],\"0\"),Table11[Nr],0),MATCH(hf_kommune[[#Headers],[2020]],Table11[#Headers],0))","v":45},{"$f":"INDEX(Table11[],MATCH(TEXT(hf_kommune[[#This Row],[Kommunenr]],\"0\"),Table11[Nr],0),MATCH(hf_kommune[[#Headers],[2021]],Table11[#Headers],0))","v":44},{"$f":"INDEX(Table11[],MATCH(TEXT(hf_kommune[[#This Row],[Kommunenr]],\"0\"),Table11[Nr],0),MATCH(hf_kommune[[#Headers],[2022]],Table11[#Headers],0))","v":41},{"$f":"INDEX(Table11[],MATCH(TEXT(hf_kommune[[#This Row],[Kommunenr]],\"0\"),Table11[Nr],0),MATCH(hf_kommune[[#Headers],[2023]],Table11[#Headers],0))","v":42},{"$f":"INDEX(Table11[],MATCH(TEXT(hf_kommune[[#This Row],[Kommunenr]],\"0\"),Table11[Nr],0),MATCH(hf_kommune[[#Headers],[2024]],Table11[#Headers],0))","v":39},{"$f":"INDEX(Table11[],MATCH(TEXT(hf_kommune[[#This Row],[Kommunenr]],\"0\"),Table11[Nr],0),MATCH(hf_kommune[[#Headers],[2025]],Table11[#Headers],0))","v":33},{"$f":"INDEX(Table11[],MATCH(TEXT(hf_kommune[[#This Row],[Kommunenr]],\"0\"),Table11[Nr],0),MATCH(hf_kommune[[#Headers],[2026]],Table11[#Headers],0))","v":36},{"$f":"INDEX(Table11[],MATCH(TEXT(hf_kommune[[#This Row],[Kommunenr]],\"0\"),Table11[Nr],0),MATCH(hf_kommune[[#Headers],[2027]],Table11[#Headers],0))","v":37},{"$f":"INDEX(Table11[],MATCH(TEXT(hf_kommune[[#This Row],[Kommunenr]],\"0\"),Table11[Nr],0),MATCH(hf_kommune[[#Headers],[2028]],Table11[#Headers],0))","v":28},{"$f":"INDEX(Table11[],MATCH(TEXT(hf_kommune[[#This Row],[Kommunenr]],\"0\"),Table11[Nr],0),MATCH(hf_kommune[[#Headers],[2029]],Table11[#Headers],0))","v":35},{"$f":"INDEX(Table11[],MATCH(TEXT(hf_kommune[[#This Row],[Kommunenr]],\"0\"),Table11[Nr],0),MATCH(hf_kommune[[#Headers],[2030]],Table11[#Headers],0))","v":31},{"$f":"INDEX(Table11[],MATCH(TEXT(hf_kommune[[#This Row],[Kommunenr]],\"0\"),Table11[Nr],0),MATCH(hf_kommune[[#Headers],[2031]],Table11[#Headers],0))","v":42},{"$f":"INDEX(Table11[],MATCH(TEXT(hf_kommune[[#This Row],[Kommunenr]],\"0\"),Table11[Nr],0),MATCH(hf_kommune[[#Headers],[2032]],Table11[#Headers],0))","v":34},{"$f":"INDEX(Table11[],MATCH(TEXT(hf_kommune[[#This Row],[Kommunenr]],\"0\"),Table11[Nr],0),MATCH(hf_kommune[[#Headers],[2033]],Table11[#Headers],0))","v":38},{"$f":"INDEX(Table11[],MATCH(TEXT(hf_kommune[[#This Row],[Kommunenr]],\"0\"),Table11[Nr],0),MATCH(hf_kommune[[#Headers],[2034]],Table11[#Headers],0))","v":29},{"$f":"INDEX(Table11[],MATCH(TEXT(hf_kommune[[#This Row],[Kommunenr]],\"0\"),Table11[Nr],0),MATCH(hf_kommune[[#Headers],[2035]],Table11[#Headers],0))","v":36},{"$f":"INDEX(Table11[],MATCH(TEXT(hf_kommune[[#This Row],[Kommunenr]],\"0\"),Table11[Nr],0),MATCH(hf_kommune[[#Headers],[2036]],Table11[#Headers],0))","v":37},{"$f":"INDEX(Table11[],MATCH(TEXT(hf_kommune[[#This Row],[Kommunenr]],\"0\"),Table11[Nr],0),MATCH(hf_kommune[[#Headers],[2037]],Table11[#Headers],0))","v":38},{"$f":"INDEX(Table11[],MATCH(TEXT(hf_kommune[[#This Row],[Kommunenr]],\"0\"),Table11[Nr],0),MATCH(hf_kommune[[#Headers],[2038]],Table11[#Headers],0))","v":35},{"$f":"INDEX(Table11[],MATCH(TEXT(hf_kommune[[#This Row],[Kommunenr]],\"0\"),Table11[Nr],0),MATCH(hf_kommune[[#Headers],[2039]],Table11[#Headers],0))","v":38},{"$f":"INDEX(Table11[],MATCH(TEXT(hf_kommune[[#This Row],[Kommunenr]],\"0\"),Table11[Nr],0),MATCH(hf_kommune[[#Headers],[2040]],Table11[#Headers],0))","v":37},2840,2834,2834,2838,2845,2852,2860,2866,2872,2877,2882,2886,2889,2891,2892,2893,2893,2892,2890]
[1146,"Tysvær","Helse Vest","Helse Fonna","Haugesund",{"$f":"INDEX(Table11[],MATCH(TEXT(hf_kommune[[#This Row],[Kommunenr]],\"0\"),Table11[Nr],0),MATCH(hf_kommune[[#Headers],[2020]],Table11[#Headers],0))","v":140},{"$f":"INDEX(Table11[],MATCH(TEXT(hf_kommune[[#This Row],[Kommunenr]],\"0\"),Table11[Nr],0),MATCH(hf_kommune[[#Headers],[2021]],Table11[#Headers],0))","v":142},{"$f":"INDEX(Table11[],MATCH(TEXT(hf_kommune[[#This Row],[Kommunenr]],\"0\"),Table11[Nr],0),MATCH(hf_kommune[[#Headers],[2022]],Table11[#Headers],0))","v":151},{"$f":"INDEX(Table11[],MATCH(TEXT(hf_kommune[[#This Row],[Kommunenr]],\"0\"),Table11[Nr],0),MATCH(hf_kommune[[#Headers],[2023]],Table11[#Headers],0))","v":116},{"$f":"INDEX(Table11[],MATCH(TEXT(hf_kommune[[#This Row],[Kommunenr]],\"0\"),Table11[Nr],0),MATCH(hf_kommune[[#Headers],[2024]],Table11[#Headers],0))","v":160},{"$f":"INDEX(Table11[],MATCH(TEXT(hf_kommune[[#This Row],[Kommunenr]],\"0\"),Table11[Nr],0),MATCH(hf_kommune[[#Headers],[2025]],Table11[#Headers],0))","v":147},{"$f":"INDEX(Table11[],MATCH(TEXT(hf_kommune[[#This Row],[Kommunenr]],\"0\"),Table11[Nr],0),MATCH(hf_kommune[[#Headers],[2026]],Table11[#Headers],0))","v":163},{"$f":"INDEX(Table11[],MATCH(TEXT(hf_kommune[[#This Row],[Kommunenr]],\"0\"),Table11[Nr],0),MATCH(hf_kommune[[#Headers],[2027]],Table11[#Headers],0))","v":155},{"$f":"INDEX(Table11[],MATCH(TEXT(hf_kommune[[#This Row],[Kommunenr]],\"0\"),Table11[Nr],0),MATCH(hf_kommune[[#Headers],[2028]],Table11[#Headers],0))","v":157},{"$f":"INDEX(Table11[],MATCH(TEXT(hf_kommune[[#This Row],[Kommunenr]],\"0\"),Table11[Nr],0),MATCH(hf_kommune[[#Headers],[2029]],Table11[#Headers],0))","v":151},{"$f":"INDEX(Table11[],MATCH(TEXT(hf_kommune[[#This Row],[Kommunenr]],\"0\"),Table11[Nr],0),MATCH(hf_kommune[[#Headers],[2030]],Table11[#Headers],0))","v":151},{"$f":"INDEX(Table11[],MATCH(TEXT(hf_kommune[[#This Row],[Kommunenr]],\"0\"),Table11[Nr],0),MATCH(hf_kommune[[#Headers],[2031]],Table11[#Headers],0))","v":169},{"$f":"INDEX(Table11[],MATCH(TEXT(hf_kommune[[#This Row],[Kommunenr]],\"0\"),Table11[Nr],0),MATCH(hf_kommune[[#Headers],[2032]],Table11[#Headers],0))","v":136},{"$f":"INDEX(Table11[],MATCH(TEXT(hf_kommune[[#This Row],[Kommunenr]],\"0\"),Table11[Nr],0),MATCH(hf_kommune[[#Headers],[2033]],Table11[#Headers],0))","v":143},{"$f":"INDEX(Table11[],MATCH(TEXT(hf_kommune[[#This Row],[Kommunenr]],\"0\"),Table11[Nr],0),MATCH(hf_kommune[[#Headers],[2034]],Table11[#Headers],0))","v":136},{"$f":"INDEX(Table11[],MATCH(TEXT(hf_kommune[[#This Row],[Kommunenr]],\"0\"),Table11[Nr],0),MATCH(hf_kommune[[#Headers],[2035]],Table11[#Headers],0))","v":157},{"$f":"INDEX(Table11[],MATCH(TEXT(hf_kommune[[#This Row],[Kommunenr]],\"0\"),Table11[Nr],0),MATCH(hf_kommune[[#Headers],[2036]],Table11[#Headers],0))","v":160},{"$f":"INDEX(Table11[],MATCH(TEXT(hf_kommune[[#This Row],[Kommunenr]],\"0\"),Table11[Nr],0),MATCH(hf_kommune[[#Headers],[2037]],Table11[#Headers],0))","v":150},{"$f":"INDEX(Table11[],MATCH(TEXT(hf_kommune[[#This Row],[Kommunenr]],\"0\"),Table11[Nr],0),MATCH(hf_kommune[[#Headers],[2038]],Table11[#Headers],0))","v":152},{"$f":"INDEX(Table11[],MATCH(TEXT(hf_kommune[[#This Row],[Kommunenr]],\"0\"),Table11[Nr],0),MATCH(hf_kommune[[#Headers],[2039]],Table11[#Headers],0))","v":152},{"$f":"INDEX(Table11[],MATCH(TEXT(hf_kommune[[#This Row],[Kommunenr]],\"0\"),Table11[Nr],0),MATCH(hf_kommune[[#Headers],[2040]],Table11[#Headers],0))","v":150},11136,11176,11222,11273,11329,11382,11433,11483,11530,11576,11621,11665,11709,11752,11796,11840,11883,11924,11965]
[3803,"Tønsberg","Helse Sør-Øst","Sykehuset i Vestfold","Tønsberg",{"$f":"INDEX(Table11[],MATCH(TEXT(hf_kommune[[#This Row],[Kommunenr]],\"0\"),Table11[Nr],0),MATCH(hf_kommune[[#Headers],[2020]],Table11[#Headers],0))","v":770},{"$f":"INDEX(Table11[],MATCH(TEXT(hf_kommune[[#This Row],[Kommunenr]],\"0\"),Table11[Nr],0),MATCH(hf_kommune[[#Headers],[2021]],Table11[#Headers],0))","v":812},{"$f":"INDEX(Table11[],MATCH(TEXT(hf_kommune[[#This Row],[Kommunenr]],\"0\"),Table11[Nr],0),MATCH(hf_kommune[[#Headers],[2022]],Table11[#Headers],0))","v":803},{"$f":"INDEX(Table11[],MATCH(TEXT(hf_kommune[[#This Row],[Kommunenr]],\"0\"),Table11[Nr],0),MATCH(hf_kommune[[#Headers],[2023]],Table11[#Headers],0))","v":815},{"$f":"INDEX(Table11[],MATCH(TEXT(hf_kommune[[#This Row],[Kommunenr]],\"0\"),Table11[Nr],0),MATCH(hf_kommune[[#Headers],[2024]],Table11[#Headers],0))","v":837},{"$f":"INDEX(Table11[],MATCH(TEXT(hf_kommune[[#This Row],[Kommunenr]],\"0\"),Table11[Nr],0),MATCH(hf_kommune[[#Headers],[2025]],Table11[#Headers],0))","v":880},{"$f":"INDEX(Table11[],MATCH(TEXT(hf_kommune[[#This Row],[Kommunenr]],\"0\"),Table11[Nr],0),MATCH(hf_kommune[[#Headers],[2026]],Table11[#Headers],0))","v":775},{"$f":"INDEX(Table11[],MATCH(TEXT(hf_kommune[[#This Row],[Kommunenr]],\"0\"),Table11[Nr],0),MATCH(hf_kommune[[#Headers],[2027]],Table11[#Headers],0))","v":872},{"$f":"INDEX(Table11[],MATCH(TEXT(hf_kommune[[#This Row],[Kommunenr]],\"0\"),Table11[Nr],0),MATCH(hf_kommune[[#Headers],[2028]],Table11[#Headers],0))","v":866},{"$f":"INDEX(Table11[],MATCH(TEXT(hf_kommune[[#This Row],[Kommunenr]],\"0\"),Table11[Nr],0),MATCH(hf_kommune[[#Headers],[2029]],Table11[#Headers],0))","v":777},{"$f":"INDEX(Table11[],MATCH(TEXT(hf_kommune[[#This Row],[Kommunenr]],\"0\"),Table11[Nr],0),MATCH(hf_kommune[[#Headers],[2030]],Table11[#Headers],0))","v":793},{"$f":"INDEX(Table11[],MATCH(TEXT(hf_kommune[[#This Row],[Kommunenr]],\"0\"),Table11[Nr],0),MATCH(hf_kommune[[#Headers],[2031]],Table11[#Headers],0))","v":776},{"$f":"INDEX(Table11[],MATCH(TEXT(hf_kommune[[#This Row],[Kommunenr]],\"0\"),Table11[Nr],0),MATCH(hf_kommune[[#Headers],[2032]],Table11[#Headers],0))","v":769},{"$f":"INDEX(Table11[],MATCH(TEXT(hf_kommune[[#This Row],[Kommunenr]],\"0\"),Table11[Nr],0),MATCH(hf_kommune[[#Headers],[2033]],Table11[#Headers],0))","v":780},{"$f":"INDEX(Table11[],MATCH(TEXT(hf_kommune[[#This Row],[Kommunenr]],\"0\"),Table11[Nr],0),MATCH(hf_kommune[[#Headers],[2034]],Table11[#Headers],0))","v":801},{"$f":"INDEX(Table11[],MATCH(TEXT(hf_kommune[[#This Row],[Kommunenr]],\"0\"),Table11[Nr],0),MATCH(hf_kommune[[#Headers],[2035]],Table11[#Headers],0))","v":779},{"$f":"INDEX(Table11[],MATCH(TEXT(hf_kommune[[#This Row],[Kommunenr]],\"0\"),Table11[Nr],0),MATCH(hf_kommune[[#Headers],[2036]],Table11[#Headers],0))","v":817},{"$f":"INDEX(Table11[],MATCH(TEXT(hf_kommune[[#This Row],[Kommunenr]],\"0\"),Table11[Nr],0),MATCH(hf_kommune[[#Headers],[2037]],Table11[#Headers],0))","v":808},{"$f":"INDEX(Table11[],MATCH(TEXT(hf_kommune[[#This Row],[Kommunenr]],\"0\"),Table11[Nr],0),MATCH(hf_kommune[[#Headers],[2038]],Table11[#Headers],0))","v":789},{"$f":"INDEX(Table11[],MATCH(TEXT(hf_kommune[[#This Row],[Kommunenr]],\"0\"),Table11[Nr],0),MATCH(hf_kommune[[#Headers],[2039]],Table11[#Headers],0))","v":779},{"$f":"INDEX(Table11[],MATCH(TEXT(hf_kommune[[#This Row],[Kommunenr]],\"0\"),Table11[Nr],0),MATCH(hf_kommune[[#Headers],[2040]],Table11[#Headers],0))","v":802},57371,57861,58301,58695,59048,59393,59735,60072,60403,60728,61046,61359,61668,61972,62273,62566,62848,63119,63378]
[3033,"Ullensaker","Helse Sør-Øst","Akershus universitetssykehus","Ahus",{"$f":"INDEX(Table11[],MATCH(TEXT(hf_kommune[[#This Row],[Kommunenr]],\"0\"),Table11[Nr],0),MATCH(hf_kommune[[#Headers],[2020]],Table11[#Headers],0))","v":492},{"$f":"INDEX(Table11[],MATCH(TEXT(hf_kommune[[#This Row],[Kommunenr]],\"0\"),Table11[Nr],0),MATCH(hf_kommune[[#Headers],[2021]],Table11[#Headers],0))","v":563},{"$f":"INDEX(Table11[],MATCH(TEXT(hf_kommune[[#This Row],[Kommunenr]],\"0\"),Table11[Nr],0),MATCH(hf_kommune[[#Headers],[2022]],Table11[#Headers],0))","v":566},{"$f":"INDEX(Table11[],MATCH(TEXT(hf_kommune[[#This Row],[Kommunenr]],\"0\"),Table11[Nr],0),MATCH(hf_kommune[[#Headers],[2023]],Table11[#Headers],0))","v":563},{"$f":"INDEX(Table11[],MATCH(TEXT(hf_kommune[[#This Row],[Kommunenr]],\"0\"),Table11[Nr],0),MATCH(hf_kommune[[#Headers],[2024]],Table11[#Headers],0))","v":576},{"$f":"INDEX(Table11[],MATCH(TEXT(hf_kommune[[#This Row],[Kommunenr]],\"0\"),Table11[Nr],0),MATCH(hf_kommune[[#Headers],[2025]],Table11[#Headers],0))","v":615},{"$f":"INDEX(Table11[],MATCH(TEXT(hf_kommune[[#This Row],[Kommunenr]],\"0\"),Table11[Nr],0),MATCH(hf_kommune[[#Headers],[2026]],Table11[#Headers],0))","v":630},{"$f":"INDEX(Table11[],MATCH(TEXT(hf_kommune[[#This Row],[Kommunenr]],\"0\"),Table11[Nr],0),MATCH(hf_kommune[[#Headers],[2027]],Table11[#Headers],0))","v":658},{"$f":"INDEX(Table11[],MATCH(TEXT(hf_kommune[[#This Row],[Kommunenr]],\"0\"),Table11[Nr],0),MATCH(hf_kommune[[#Headers],[2028]],Table11[#Headers],0))","v":651},{"$f":"INDEX(Table11[],MATCH(TEXT(hf_kommune[[#This Row],[Kommunenr]],\"0\"),Table11[Nr],0),MATCH(hf_kommune[[#Headers],[2029]],Table11[#Headers],0))","v":599},{"$f":"INDEX(Table11[],MATCH(TEXT(hf_kommune[[#This Row],[Kommunenr]],\"0\"),Table11[Nr],0),MATCH(hf_kommune[[#Headers],[2030]],Table11[#Headers],0))","v":675},{"$f":"INDEX(Table11[],MATCH(TEXT(hf_kommune[[#This Row],[Kommunenr]],\"0\"),Table11[Nr],0),MATCH(hf_kommune[[#Headers],[2031]],Table11[#Headers],0))","v":617},{"$f":"INDEX(Table11[],MATCH(TEXT(hf_kommune[[#This Row],[Kommunenr]],\"0\"),Table11[Nr],0),MATCH(hf_kommune[[#Headers],[2032]],Table11[#Headers],0))","v":620},{"$f":"INDEX(Table11[],MATCH(TEXT(hf_kommune[[#This Row],[Kommunenr]],\"0\"),Table11[Nr],0),MATCH(hf_kommune[[#Headers],[2033]],Table11[#Headers],0))","v":623},{"$f":"INDEX(Table11[],MATCH(TEXT(hf_kommune[[#This Row],[Kommunenr]],\"0\"),Table11[Nr],0),MATCH(hf_kommune[[#Headers],[2034]],Table11[#Headers],0))","v":605},{"$f":"INDEX(Table11[],MATCH(TEXT(hf_kommune[[#This Row],[Kommunenr]],\"0\"),Table11[Nr],0),MATCH(hf_kommune[[#Headers],[2035]],Table11[#Headers],0))","v":637},{"$f":"INDEX(Table11[],MATCH(TEXT(hf_kommune[[#This Row],[Kommunenr]],\"0\"),Table11[Nr],0),MATCH(hf_kommune[[#Headers],[2036]],Table11[#Headers],0))","v":635},{"$f":"INDEX(Table11[],MATCH(TEXT(hf_kommune[[#This Row],[Kommunenr]],\"0\"),Table11[Nr],0),MATCH(hf_kommune[[#Headers],[2037]],Table11[#Headers],0))","v":631},{"$f":"INDEX(Table11[],MATCH(TEXT(hf_kommune[[#This Row],[Kommunenr]],\"0\"),Table11[Nr],0),MATCH(hf_kommune[[#Headers],[2038]],Table11[#Headers],0))","v":684},{"$f":"INDEX(Table11[],MATCH(TEXT(hf_kommune[[#This Row],[Kommunenr]],\"0\"),Table11[Nr],0),MATCH(hf_kommune[[#Headers],[2039]],Table11[#Headers],0))","v":667},{"$f":"INDEX(Table11[],MATCH(TEXT(hf_kommune[[#This Row],[Kommunenr]],\"0\"),Table11[Nr],0),MATCH(hf_kommune[[#Headers],[2040]],Table11[#Headers],0))","v":679},41769,42633,43341,43909,44347,44774,45191,45597,45991,46375,46749,47115,47475,47831,48183,48527,48862,49186,49501]
[4618,"Ullensvang","Helse Vest","Helse Fonna","Odda",{"$f":"INDEX(Table11[],MATCH(TEXT(hf_kommune[[#This Row],[Kommunenr]],\"0\"),Table11[Nr],0),MATCH(hf_kommune[[#Headers],[2020]],Table11[#Headers],0))","v":163},{"$f":"INDEX(Table11[],MATCH(TEXT(hf_kommune[[#This Row],[Kommunenr]],\"0\"),Table11[Nr],0),MATCH(hf_kommune[[#Headers],[2021]],Table11[#Headers],0))","v":173},{"$f":"INDEX(Table11[],MATCH(TEXT(hf_kommune[[#This Row],[Kommunenr]],\"0\"),Table11[Nr],0),MATCH(hf_kommune[[#Headers],[2022]],Table11[#Headers],0))","v":161},{"$f":"INDEX(Table11[],MATCH(TEXT(hf_kommune[[#This Row],[Kommunenr]],\"0\"),Table11[Nr],0),MATCH(hf_kommune[[#Headers],[2023]],Table11[#Headers],0))","v":158},{"$f":"INDEX(Table11[],MATCH(TEXT(hf_kommune[[#This Row],[Kommunenr]],\"0\"),Table11[Nr],0),MATCH(hf_kommune[[#Headers],[2024]],Table11[#Headers],0))","v":158},{"$f":"INDEX(Table11[],MATCH(TEXT(hf_kommune[[#This Row],[Kommunenr]],\"0\"),Table11[Nr],0),MATCH(hf_kommune[[#Headers],[2025]],Table11[#Headers],0))","v":143},{"$f":"INDEX(Table11[],MATCH(TEXT(hf_kommune[[#This Row],[Kommunenr]],\"0\"),Table11[Nr],0),MATCH(hf_kommune[[#Headers],[2026]],Table11[#Headers],0))","v":154},{"$f":"INDEX(Table11[],MATCH(TEXT(hf_kommune[[#This Row],[Kommunenr]],\"0\"),Table11[Nr],0),MATCH(hf_kommune[[#Headers],[2027]],Table11[#Headers],0))","v":127},{"$f":"INDEX(Table11[],MATCH(TEXT(hf_kommune[[#This Row],[Kommunenr]],\"0\"),Table11[Nr],0),MATCH(hf_kommune[[#Headers],[2028]],Table11[#Headers],0))","v":142},{"$f":"INDEX(Table11[],MATCH(TEXT(hf_kommune[[#This Row],[Kommunenr]],\"0\"),Table11[Nr],0),MATCH(hf_kommune[[#Headers],[2029]],Table11[#Headers],0))","v":147},{"$f":"INDEX(Table11[],MATCH(TEXT(hf_kommune[[#This Row],[Kommunenr]],\"0\"),Table11[Nr],0),MATCH(hf_kommune[[#Headers],[2030]],Table11[#Headers],0))","v":128},{"$f":"INDEX(Table11[],MATCH(TEXT(hf_kommune[[#This Row],[Kommunenr]],\"0\"),Table11[Nr],0),MATCH(hf_kommune[[#Headers],[2031]],Table11[#Headers],0))","v":132},{"$f":"INDEX(Table11[],MATCH(TEXT(hf_kommune[[#This Row],[Kommunenr]],\"0\"),Table11[Nr],0),MATCH(hf_kommune[[#Headers],[2032]],Table11[#Headers],0))","v":121},{"$f":"INDEX(Table11[],MATCH(TEXT(hf_kommune[[#This Row],[Kommunenr]],\"0\"),Table11[Nr],0),MATCH(hf_kommune[[#Headers],[2033]],Table11[#Headers],0))","v":124},{"$f":"INDEX(Table11[],MATCH(TEXT(hf_kommune[[#This Row],[Kommunenr]],\"0\"),Table11[Nr],0),MATCH(hf_kommune[[#Headers],[2034]],Table11[#Headers],0))","v":126},{"$f":"INDEX(Table11[],MATCH(TEXT(hf_kommune[[#This Row],[Kommunenr]],\"0\"),Table11[Nr],0),MATCH(hf_kommune[[#Headers],[2035]],Table11[#Headers],0))","v":132},{"$f":"INDEX(Table11[],MATCH(TEXT(hf_kommune[[#This Row],[Kommunenr]],\"0\"),Table11[Nr],0),MATCH(hf_kommune[[#Headers],[2036]],Table11[#Headers],0))","v":127},{"$f":"INDEX(Table11[],MATCH(TEXT(hf_kommune[[#This Row],[Kommunenr]],\"0\"),Table11[Nr],0),MATCH(hf_kommune[[#Headers],[2037]],Table11[#Headers],0))","v":129},{"$f":"INDEX(Table11[],MATCH(TEXT(hf_kommune[[#This Row],[Kommunenr]],\"0\"),Table11[Nr],0),MATCH(hf_kommune[[#Headers],[2038]],Table11[#Headers],0))","v":127},{"$f":"INDEX(Table11[],MATCH(TEXT(hf_kommune[[#This Row],[Kommunenr]],\"0\"),Table11[Nr],0),MATCH(hf_kommune[[#Headers],[2039]],Table11[#Headers],0))","v":118},{"$f":"INDEX(Table11[],MATCH(TEXT(hf_kommune[[#This Row],[Kommunenr]],\"0\"),Table11[Nr],0),MATCH(hf_kommune[[#Headers],[2040]],Table11[#Headers],0))","v":119},10809,10724,10652,10592,10541,10494,10449,10404,10360,10316,10272,10229,10187,10147,10108,10071,10034,9999,9963]
[1516,"Ulstein","Helse Midt-Norge","Helse Møre og Romsdal","Volda",{"$f":"INDEX(Table11[],MATCH(TEXT(hf_kommune[[#This Row],[Kommunenr]],\"0\"),Table11[Nr],0),MATCH(hf_kommune[[#Headers],[2020]],Table11[#Headers],0))","v":97},{"$f":"INDEX(Table11[],MATCH(TEXT(hf_kommune[[#This Row],[Kommunenr]],\"0\"),Table11[Nr],0),MATCH(hf_kommune[[#Headers],[2021]],Table11[#Headers],0))","v":124},{"$f":"INDEX(Table11[],MATCH(TEXT(hf_kommune[[#This Row],[Kommunenr]],\"0\"),Table11[Nr],0),MATCH(hf_kommune[[#Headers],[2022]],Table11[#Headers],0))","v":101},{"$f":"INDEX(Table11[],MATCH(TEXT(hf_kommune[[#This Row],[Kommunenr]],\"0\"),Table11[Nr],0),MATCH(hf_kommune[[#Headers],[2023]],Table11[#Headers],0))","v":128},{"$f":"INDEX(Table11[],MATCH(TEXT(hf_kommune[[#This Row],[Kommunenr]],\"0\"),Table11[Nr],0),MATCH(hf_kommune[[#Headers],[2024]],Table11[#Headers],0))","v":142},{"$f":"INDEX(Table11[],MATCH(TEXT(hf_kommune[[#This Row],[Kommunenr]],\"0\"),Table11[Nr],0),MATCH(hf_kommune[[#Headers],[2025]],Table11[#Headers],0))","v":148},{"$f":"INDEX(Table11[],MATCH(TEXT(hf_kommune[[#This Row],[Kommunenr]],\"0\"),Table11[Nr],0),MATCH(hf_kommune[[#Headers],[2026]],Table11[#Headers],0))","v":143},{"$f":"INDEX(Table11[],MATCH(TEXT(hf_kommune[[#This Row],[Kommunenr]],\"0\"),Table11[Nr],0),MATCH(hf_kommune[[#Headers],[2027]],Table11[#Headers],0))","v":141},{"$f":"INDEX(Table11[],MATCH(TEXT(hf_kommune[[#This Row],[Kommunenr]],\"0\"),Table11[Nr],0),MATCH(hf_kommune[[#Headers],[2028]],Table11[#Headers],0))","v":119},{"$f":"INDEX(Table11[],MATCH(TEXT(hf_kommune[[#This Row],[Kommunenr]],\"0\"),Table11[Nr],0),MATCH(hf_kommune[[#Headers],[2029]],Table11[#Headers],0))","v":129},{"$f":"INDEX(Table11[],MATCH(TEXT(hf_kommune[[#This Row],[Kommunenr]],\"0\"),Table11[Nr],0),MATCH(hf_kommune[[#Headers],[2030]],Table11[#Headers],0))","v":121},{"$f":"INDEX(Table11[],MATCH(TEXT(hf_kommune[[#This Row],[Kommunenr]],\"0\"),Table11[Nr],0),MATCH(hf_kommune[[#Headers],[2031]],Table11[#Headers],0))","v":107},{"$f":"INDEX(Table11[],MATCH(TEXT(hf_kommune[[#This Row],[Kommunenr]],\"0\"),Table11[Nr],0),MATCH(hf_kommune[[#Headers],[2032]],Table11[#Headers],0))","v":109},{"$f":"INDEX(Table11[],MATCH(TEXT(hf_kommune[[#This Row],[Kommunenr]],\"0\"),Table11[Nr],0),MATCH(hf_kommune[[#Headers],[2033]],Table11[#Headers],0))","v":110},{"$f":"INDEX(Table11[],MATCH(TEXT(hf_kommune[[#This Row],[Kommunenr]],\"0\"),Table11[Nr],0),MATCH(hf_kommune[[#Headers],[2034]],Table11[#Headers],0))","v":111},{"$f":"INDEX(Table11[],MATCH(TEXT(hf_kommune[[#This Row],[Kommunenr]],\"0\"),Table11[Nr],0),MATCH(hf_kommune[[#Headers],[2035]],Table11[#Headers],0))","v":120},{"$f":"INDEX(Table11[],MATCH(TEXT(hf_kommune[[#This Row],[Kommunenr]],\"0\"),Table11[Nr],0),MATCH(hf_kommune[[#Headers],[2036]],Table11[#Headers],0))","v":116},{"$f":"INDEX(Table11[],MATCH(TEXT(hf_kommune[[#This Row],[Kommunenr]],\"0\"),Table11[Nr],0),MATCH(hf_kommune[[#Headers],[2037]],Table11[#Headers],0))","v":107},{"$f":"INDEX(Table11[],MATCH(TEXT(hf_kommune[[#This Row],[Kommunenr]],\"0\"),Table11[Nr],0),MATCH(hf_kommune[[#Headers],[2038]],Table11[#Headers],0))","v":103},{"$f":"INDEX(Table11[],MATCH(TEXT(hf_kommune[[#This Row],[Kommunenr]],\"0\"),Table11[Nr],0),MATCH(hf_kommune[[#Headers],[2039]],Table11[#Headers],0))","v":98},{"$f":"INDEX(Table11[],MATCH(TEXT(hf_kommune[[#This Row],[Kommunenr]],\"0\"),Table11[Nr],0),MATCH(hf_kommune[[#Headers],[2040]],Table11[#Headers],0))","v":119},8593,8623,8663,8714,8776,8838,8899,8959,9019,9078,9135,9191,9248,9302,9356,9407,9456,9503,9546]
[4620,"Ulvik","Helse Vest","Helse Bergen","Voss",{"$f":"INDEX(Table11[],MATCH(TEXT(hf_kommune[[#This Row],[Kommunenr]],\"0\"),Table11[Nr],0),MATCH(hf_kommune[[#Headers],[2020]],Table11[#Headers],0))","v":18},{"$f":"INDEX(Table11[],MATCH(TEXT(hf_kommune[[#This Row],[Kommunenr]],\"0\"),Table11[Nr],0),MATCH(hf_kommune[[#Headers],[2021]],Table11[#Headers],0))","v":20},{"$f":"INDEX(Table11[],MATCH(TEXT(hf_kommune[[#This Row],[Kommunenr]],\"0\"),Table11[Nr],0),MATCH(hf_kommune[[#Headers],[2022]],Table11[#Headers],0))","v":10},{"$f":"INDEX(Table11[],MATCH(TEXT(hf_kommune[[#This Row],[Kommunenr]],\"0\"),Table11[Nr],0),MATCH(hf_kommune[[#Headers],[2023]],Table11[#Headers],0))","v":14},{"$f":"INDEX(Table11[],MATCH(TEXT(hf_kommune[[#This Row],[Kommunenr]],\"0\"),Table11[Nr],0),MATCH(hf_kommune[[#Headers],[2024]],Table11[#Headers],0))","v":18},{"$f":"INDEX(Table11[],MATCH(TEXT(hf_kommune[[#This Row],[Kommunenr]],\"0\"),Table11[Nr],0),MATCH(hf_kommune[[#Headers],[2025]],Table11[#Headers],0))","v":17},{"$f":"INDEX(Table11[],MATCH(TEXT(hf_kommune[[#This Row],[Kommunenr]],\"0\"),Table11[Nr],0),MATCH(hf_kommune[[#Headers],[2026]],Table11[#Headers],0))","v":15},{"$f":"INDEX(Table11[],MATCH(TEXT(hf_kommune[[#This Row],[Kommunenr]],\"0\"),Table11[Nr],0),MATCH(hf_kommune[[#Headers],[2027]],Table11[#Headers],0))","v":17},{"$f":"INDEX(Table11[],MATCH(TEXT(hf_kommune[[#This Row],[Kommunenr]],\"0\"),Table11[Nr],0),MATCH(hf_kommune[[#Headers],[2028]],Table11[#Headers],0))","v":18},{"$f":"INDEX(Table11[],MATCH(TEXT(hf_kommune[[#This Row],[Kommunenr]],\"0\"),Table11[Nr],0),MATCH(hf_kommune[[#Headers],[2029]],Table11[#Headers],0))","v":11},{"$f":"INDEX(Table11[],MATCH(TEXT(hf_kommune[[#This Row],[Kommunenr]],\"0\"),Table11[Nr],0),MATCH(hf_kommune[[#Headers],[2030]],Table11[#Headers],0))","v":13},{"$f":"INDEX(Table11[],MATCH(TEXT(hf_kommune[[#This Row],[Kommunenr]],\"0\"),Table11[Nr],0),MATCH(hf_kommune[[#Headers],[2031]],Table11[#Headers],0))","v":8},{"$f":"INDEX(Table11[],MATCH(TEXT(hf_kommune[[#This Row],[Kommunenr]],\"0\"),Table11[Nr],0),MATCH(hf_kommune[[#Headers],[2032]],Table11[#Headers],0))","v":15},{"$f":"INDEX(Table11[],MATCH(TEXT(hf_kommune[[#This Row],[Kommunenr]],\"0\"),Table11[Nr],0),MATCH(hf_kommune[[#Headers],[2033]],Table11[#Headers],0))","v":10},{"$f":"INDEX(Table11[],MATCH(TEXT(hf_kommune[[#This Row],[Kommunenr]],\"0\"),Table11[Nr],0),MATCH(hf_kommune[[#Headers],[2034]],Table11[#Headers],0))","v":12},{"$f":"INDEX(Table11[],MATCH(TEXT(hf_kommune[[#This Row],[Kommunenr]],\"0\"),Table11[Nr],0),MATCH(hf_kommune[[#Headers],[2035]],Table11[#Headers],0))","v":12},{"$f":"INDEX(Table11[],MATCH(TEXT(hf_kommune[[#This Row],[Kommunenr]],\"0\"),Table11[Nr],0),MATCH(hf_kommune[[#Headers],[2036]],Table11[#Headers],0))","v":17},{"$f":"INDEX(Table11[],MATCH(TEXT(hf_kommune[[#This Row],[Kommunenr]],\"0\"),Table11[Nr],0),MATCH(hf_kommune[[#Headers],[2037]],Table11[#Headers],0))","v":11},{"$f":"INDEX(Table11[],MATCH(TEXT(hf_kommune[[#This Row],[Kommunenr]],\"0\"),Table11[Nr],0),MATCH(hf_kommune[[#Headers],[2038]],Table11[#Headers],0))","v":13},{"$f":"INDEX(Table11[],MATCH(TEXT(hf_kommune[[#This Row],[Kommunenr]],\"0\"),Table11[Nr],0),MATCH(hf_kommune[[#Headers],[2039]],Table11[#Headers],0))","v":7},{"$f":"INDEX(Table11[],MATCH(TEXT(hf_kommune[[#This Row],[Kommunenr]],\"0\"),Table11[Nr],0),MATCH(hf_kommune[[#Headers],[2040]],Table11[#Headers],0))","v":14},1082,1085,1089,1094,1099,1104,1108,1113,1117,1121,1125,1128,1131,1133,1136,1139,1142,1144,1147]
[5442,"Unjárga - Nesseby","Helse Nord","Finnmarkssykehuset","Kirkenes",{"$f":"INDEX(Table11[],MATCH(TEXT(hf_kommune[[#This Row],[Kommunenr]],\"0\"),Table11[Nr],0),MATCH(hf_kommune[[#Headers],[2020]],Table11[#Headers],0))","v":17},{"$f":"INDEX(Table11[],MATCH(TEXT(hf_kommune[[#This Row],[Kommunenr]],\"0\"),Table11[Nr],0),MATCH(hf_kommune[[#Headers],[2021]],Table11[#Headers],0))","v":12},{"$f":"INDEX(Table11[],MATCH(TEXT(hf_kommune[[#This Row],[Kommunenr]],\"0\"),Table11[Nr],0),MATCH(hf_kommune[[#Headers],[2022]],Table11[#Headers],0))","v":13},{"$f":"INDEX(Table11[],MATCH(TEXT(hf_kommune[[#This Row],[Kommunenr]],\"0\"),Table11[Nr],0),MATCH(hf_kommune[[#Headers],[2023]],Table11[#Headers],0))","v":7},{"$f":"INDEX(Table11[],MATCH(TEXT(hf_kommune[[#This Row],[Kommunenr]],\"0\"),Table11[Nr],0),MATCH(hf_kommune[[#Headers],[2024]],Table11[#Headers],0))","v":13},{"$f":"INDEX(Table11[],MATCH(TEXT(hf_kommune[[#This Row],[Kommunenr]],\"0\"),Table11[Nr],0),MATCH(hf_kommune[[#Headers],[2025]],Table11[#Headers],0))","v":12},{"$f":"INDEX(Table11[],MATCH(TEXT(hf_kommune[[#This Row],[Kommunenr]],\"0\"),Table11[Nr],0),MATCH(hf_kommune[[#Headers],[2026]],Table11[#Headers],0))","v":12},{"$f":"INDEX(Table11[],MATCH(TEXT(hf_kommune[[#This Row],[Kommunenr]],\"0\"),Table11[Nr],0),MATCH(hf_kommune[[#Headers],[2027]],Table11[#Headers],0))","v":15},{"$f":"INDEX(Table11[],MATCH(TEXT(hf_kommune[[#This Row],[Kommunenr]],\"0\"),Table11[Nr],0),MATCH(hf_kommune[[#Headers],[2028]],Table11[#Headers],0))","v":14},{"$f":"INDEX(Table11[],MATCH(TEXT(hf_kommune[[#This Row],[Kommunenr]],\"0\"),Table11[Nr],0),MATCH(hf_kommune[[#Headers],[2029]],Table11[#Headers],0))","v":13},{"$f":"INDEX(Table11[],MATCH(TEXT(hf_kommune[[#This Row],[Kommunenr]],\"0\"),Table11[Nr],0),MATCH(hf_kommune[[#Headers],[2030]],Table11[#Headers],0))","v":7},{"$f":"INDEX(Table11[],MATCH(TEXT(hf_kommune[[#This Row],[Kommunenr]],\"0\"),Table11[Nr],0),MATCH(hf_kommune[[#Headers],[2031]],Table11[#Headers],0))","v":13},{"$f":"INDEX(Table11[],MATCH(TEXT(hf_kommune[[#This Row],[Kommunenr]],\"0\"),Table11[Nr],0),MATCH(hf_kommune[[#Headers],[2032]],Table11[#Headers],0))","v":10},{"$f":"INDEX(Table11[],MATCH(TEXT(hf_kommune[[#This Row],[Kommunenr]],\"0\"),Table11[Nr],0),MATCH(hf_kommune[[#Headers],[2033]],Table11[#Headers],0))","v":7},{"$f":"INDEX(Table11[],MATCH(TEXT(hf_kommune[[#This Row],[Kommunenr]],\"0\"),Table11[Nr],0),MATCH(hf_kommune[[#Headers],[2034]],Table11[#Headers],0))","v":9},{"$f":"INDEX(Table11[],MATCH(TEXT(hf_kommune[[#This Row],[Kommunenr]],\"0\"),Table11[Nr],0),MATCH(hf_kommune[[#Headers],[2035]],Table11[#Headers],0))","v":12},{"$f":"INDEX(Table11[],MATCH(TEXT(hf_kommune[[#This Row],[Kommunenr]],\"0\"),Table11[Nr],0),MATCH(hf_kommune[[#Headers],[2036]],Table11[#Headers],0))","v":11},{"$f":"INDEX(Table11[],MATCH(TEXT(hf_kommune[[#This Row],[Kommunenr]],\"0\"),Table11[Nr],0),MATCH(hf_kommune[[#Headers],[2037]],Table11[#Headers],0))","v":9},{"$f":"INDEX(Table11[],MATCH(TEXT(hf_kommune[[#This Row],[Kommunenr]],\"0\"),Table11[Nr],0),MATCH(hf_kommune[[#Headers],[2038]],Table11[#Headers],0))","v":11},{"$f":"INDEX(Table11[],MATCH(TEXT(hf_kommune[[#This Row],[Kommunenr]],\"0\"),Table11[Nr],0),MATCH(hf_kommune[[#Headers],[2039]],Table11[#Headers],0))","v":14},{"$f":"INDEX(Table11[],MATCH(TEXT(hf_kommune[[#This Row],[Kommunenr]],\"0\"),Table11[Nr],0),MATCH(hf_kommune[[#Headers],[2040]],Table11[#Headers],0))","v":14},916,914,914,915,918,921,923,925,927,928,929,930,931,932,933,933,934,935,936]
[1151,"Utsira","Helse Vest","Helse Fonna","Haugesund",{"$f":"INDEX(Table11[],MATCH(TEXT(hf_kommune[[#This Row],[Kommunenr]],\"0\"),Table11[Nr],0),MATCH(hf_kommune[[#Headers],[2020]],Table11[#Headers],0))","v":1},{"$f":"INDEX(Table11[],MATCH(TEXT(hf_kommune[[#This Row],[Kommunenr]],\"0\"),Table11[Nr],0),MATCH(hf_kommune[[#Headers],[2021]],Table11[#Headers],0))","v":4},{"$f":"INDEX(Table11[],MATCH(TEXT(hf_kommune[[#This Row],[Kommunenr]],\"0\"),Table11[Nr],0),MATCH(hf_kommune[[#Headers],[2022]],Table11[#Headers],0))","v":3},{"$f":"INDEX(Table11[],MATCH(TEXT(hf_kommune[[#This Row],[Kommunenr]],\"0\"),Table11[Nr],0),MATCH(hf_kommune[[#Headers],[2023]],Table11[#Headers],0))","v":2},{"$f":"INDEX(Table11[],MATCH(TEXT(hf_kommune[[#This Row],[Kommunenr]],\"0\"),Table11[Nr],0),MATCH(hf_kommune[[#Headers],[2024]],Table11[#Headers],0))","v":1},{"$f":"INDEX(Table11[],MATCH(TEXT(hf_kommune[[#This Row],[Kommunenr]],\"0\"),Table11[Nr],0),MATCH(hf_kommune[[#Headers],[2025]],Table11[#Headers],0))","v":4},{"$f":"INDEX(Table11[],MATCH(TEXT(hf_kommune[[#This Row],[Kommunenr]],\"0\"),Table11[Nr],0),MATCH(hf_kommune[[#Headers],[2026]],Table11[#Headers],0))","v":3},{"$f":"INDEX(Table11[],MATCH(TEXT(hf_kommune[[#This Row],[Kommunenr]],\"0\"),Table11[Nr],0),MATCH(hf_kommune[[#Headers],[2027]],Table11[#Headers],0))","v":2},{"$f":"INDEX(Table11[],MATCH(TEXT(hf_kommune[[#This Row],[Kommunenr]],\"0\"),Table11[Nr],0),MATCH(hf_kommune[[#Headers],[2028]],Table11[#Headers],0))","v":3},{"$f":"INDEX(Table11[],MATCH(TEXT(hf_kommune[[#This Row],[Kommunenr]],\"0\"),Table11[Nr],0),MATCH(hf_kommune[[#Headers],[2029]],Table11[#Headers],0))","v":3},{"$f":"INDEX(Table11[],MATCH(TEXT(hf_kommune[[#This Row],[Kommunenr]],\"0\"),Table11[Nr],0),MATCH(hf_kommune[[#Headers],[2030]],Table11[#Headers],0))","v":2},{"$f":"INDEX(Table11[],MATCH(TEXT(hf_kommune[[#This Row],[Kommunenr]],\"0\"),Table11[Nr],0),MATCH(hf_kommune[[#Headers],[2031]],Table11[#Headers],0))","v":2},{"$f":"INDEX(Table11[],MATCH(TEXT(hf_kommune[[#This Row],[Kommunenr]],\"0\"),Table11[Nr],0),MATCH(hf_kommune[[#Headers],[2032]],Table11[#Headers],0))","v":2},{"$f":"INDEX(Table11[],MATCH(TEXT(hf_kommune[[#This Row],[Kommunenr]],\"0\"),Table11[Nr],0),MATCH(hf_kommune[[#Headers],[2033]],Table11[#Headers],0))","v":4},{"$f":"INDEX(Table11[],MATCH(TEXT(hf_kommune[[#This Row],[Kommunenr]],\"0\"),Table11[Nr],0),MATCH(hf_kommune[[#Headers],[2034]],Table11[#Headers],0))","v":2},{"$f":"INDEX(Table11[],MATCH(TEXT(hf_kommune[[#This Row],[Kommunenr]],\"0\"),Table11[Nr],0),MATCH(hf_kommune[[#Headers],[2035]],Table11[#Headers],0))","v":5},{"$f":"INDEX(Table11[],MATCH(TEXT(hf_kommune[[#This Row],[Kommunenr]],\"0\"),Table11[Nr],0),MATCH(hf_kommune[[#Headers],[2036]],Table11[#Headers],0))","v":4},{"$f":"INDEX(Table11[],MATCH(TEXT(hf_kommune[[#This Row],[Kommunenr]],\"0\"),Table11[Nr],0),MATCH(hf_kommune[[#Headers],[2037]],Table11[#Headers],0))","v":2},{"$f":"INDEX(Table11[],MATCH(TEXT(hf_kommune[[#This Row],[Kommunenr]],\"0\"),Table11[Nr],0),MATCH(hf_kommune[[#Headers],[2038]],Table11[#Headers],0))","v":2},{"$f":"INDEX(Table11[],MATCH(TEXT(hf_kommune[[#This Row],[Kommunenr]],\"0\"),Table11[Nr],0),MATCH(hf_kommune[[#Headers],[2039]],Table11[#Headers],0))","v":3},{"$f":"INDEX(Table11[],MATCH(TEXT(hf_kommune[[#This Row],[Kommunenr]],\"0\"),Table11[Nr],0),MATCH(hf_kommune[[#Headers],[2040]],Table11[#Headers],0))","v":2},198,199,200,202,204,206,209,211,213,215,217,218,220,222,223,225,226,228,229]
[5405,"Vadsø","Helse Nord","Finnmarkssykehuset","Kirkenes",{"$f":"INDEX(Table11[],MATCH(TEXT(hf_kommune[[#This Row],[Kommunenr]],\"0\"),Table11[Nr],0),MATCH(hf_kommune[[#Headers],[2020]],Table11[#Headers],0))","v":97},{"$f":"INDEX(Table11[],MATCH(TEXT(hf_kommune[[#This Row],[Kommunenr]],\"0\"),Table11[Nr],0),MATCH(hf_kommune[[#Headers],[2021]],Table11[#Headers],0))","v":78},{"$f":"INDEX(Table11[],MATCH(TEXT(hf_kommune[[#This Row],[Kommunenr]],\"0\"),Table11[Nr],0),MATCH(hf_kommune[[#Headers],[2022]],Table11[#Headers],0))","v":94},{"$f":"INDEX(Table11[],MATCH(TEXT(hf_kommune[[#This Row],[Kommunenr]],\"0\"),Table11[Nr],0),MATCH(hf_kommune[[#Headers],[2023]],Table11[#Headers],0))","v":100},{"$f":"INDEX(Table11[],MATCH(TEXT(hf_kommune[[#This Row],[Kommunenr]],\"0\"),Table11[Nr],0),MATCH(hf_kommune[[#Headers],[2024]],Table11[#Headers],0))","v":90},{"$f":"INDEX(Table11[],MATCH(TEXT(hf_kommune[[#This Row],[Kommunenr]],\"0\"),Table11[Nr],0),MATCH(hf_kommune[[#Headers],[2025]],Table11[#Headers],0))","v":96},{"$f":"INDEX(Table11[],MATCH(TEXT(hf_kommune[[#This Row],[Kommunenr]],\"0\"),Table11[Nr],0),MATCH(hf_kommune[[#Headers],[2026]],Table11[#Headers],0))","v":98},{"$f":"INDEX(Table11[],MATCH(TEXT(hf_kommune[[#This Row],[Kommunenr]],\"0\"),Table11[Nr],0),MATCH(hf_kommune[[#Headers],[2027]],Table11[#Headers],0))","v":79},{"$f":"INDEX(Table11[],MATCH(TEXT(hf_kommune[[#This Row],[Kommunenr]],\"0\"),Table11[Nr],0),MATCH(hf_kommune[[#Headers],[2028]],Table11[#Headers],0))","v":94},{"$f":"INDEX(Table11[],MATCH(TEXT(hf_kommune[[#This Row],[Kommunenr]],\"0\"),Table11[Nr],0),MATCH(hf_kommune[[#Headers],[2029]],Table11[#Headers],0))","v":73},{"$f":"INDEX(Table11[],MATCH(TEXT(hf_kommune[[#This Row],[Kommunenr]],\"0\"),Table11[Nr],0),MATCH(hf_kommune[[#Headers],[2030]],Table11[#Headers],0))","v":61},{"$f":"INDEX(Table11[],MATCH(TEXT(hf_kommune[[#This Row],[Kommunenr]],\"0\"),Table11[Nr],0),MATCH(hf_kommune[[#Headers],[2031]],Table11[#Headers],0))","v":68},{"$f":"INDEX(Table11[],MATCH(TEXT(hf_kommune[[#This Row],[Kommunenr]],\"0\"),Table11[Nr],0),MATCH(hf_kommune[[#Headers],[2032]],Table11[#Headers],0))","v":57},{"$f":"INDEX(Table11[],MATCH(TEXT(hf_kommune[[#This Row],[Kommunenr]],\"0\"),Table11[Nr],0),MATCH(hf_kommune[[#Headers],[2033]],Table11[#Headers],0))","v":60},{"$f":"INDEX(Table11[],MATCH(TEXT(hf_kommune[[#This Row],[Kommunenr]],\"0\"),Table11[Nr],0),MATCH(hf_kommune[[#Headers],[2034]],Table11[#Headers],0))","v":55},{"$f":"INDEX(Table11[],MATCH(TEXT(hf_kommune[[#This Row],[Kommunenr]],\"0\"),Table11[Nr],0),MATCH(hf_kommune[[#Headers],[2035]],Table11[#Headers],0))","v":64},{"$f":"INDEX(Table11[],MATCH(TEXT(hf_kommune[[#This Row],[Kommunenr]],\"0\"),Table11[Nr],0),MATCH(hf_kommune[[#Headers],[2036]],Table11[#Headers],0))","v":53},{"$f":"INDEX(Table11[],MATCH(TEXT(hf_kommune[[#This Row],[Kommunenr]],\"0\"),Table11[Nr],0),MATCH(hf_kommune[[#Headers],[2037]],Table11[#Headers],0))","v":56},{"$f":"INDEX(Table11[],MATCH(TEXT(hf_kommune[[#This Row],[Kommunenr]],\"0\"),Table11[Nr],0),MATCH(hf_kommune[[#Headers],[2038]],Table11[#Headers],0))","v":54},{"$f":"INDEX(Table11[],MATCH(TEXT(hf_kommune[[#This Row],[Kommunenr]],\"0\"),Table11[Nr],0),MATCH(hf_kommune[[#Headers],[2039]],Table11[#Headers],0))","v":59},{"$f":"INDEX(Table11[],MATCH(TEXT(hf_kommune[[#This Row],[Kommunenr]],\"0\"),Table11[Nr],0),MATCH(hf_kommune[[#Headers],[2040]],Table11[#Headers],0))","v":63},5723,5706,5695,5690,5691,5692,5695,5697,5701,5704,5706,5709,5710,5712,5713,5713,5712,5710,5708]
[4628,"Vaksdal","Helse Vest","Helse Bergen","Voss",{"$f":"INDEX(Table11[],MATCH(TEXT(hf_kommune[[#This Row],[Kommunenr]],\"0\"),Table11[Nr],0),MATCH(hf_kommune[[#Headers],[2020]],Table11[#Headers],0))","v":61},{"$f":"INDEX(Table11[],MATCH(TEXT(hf_kommune[[#This Row],[Kommunenr]],\"0\"),Table11[Nr],0),MATCH(hf_kommune[[#Headers],[2021]],Table11[#Headers],0))","v":45},{"$f":"INDEX(Table11[],MATCH(TEXT(hf_kommune[[#This Row],[Kommunenr]],\"0\"),Table11[Nr],0),MATCH(hf_kommune[[#Headers],[2022]],Table11[#Headers],0))","v":56},{"$f":"INDEX(Table11[],MATCH(TEXT(hf_kommune[[#This Row],[Kommunenr]],\"0\"),Table11[Nr],0),MATCH(hf_kommune[[#Headers],[2023]],Table11[#Headers],0))","v":45},{"$f":"INDEX(Table11[],MATCH(TEXT(hf_kommune[[#This Row],[Kommunenr]],\"0\"),Table11[Nr],0),MATCH(hf_kommune[[#Headers],[2024]],Table11[#Headers],0))","v":38},{"$f":"INDEX(Table11[],MATCH(TEXT(hf_kommune[[#This Row],[Kommunenr]],\"0\"),Table11[Nr],0),MATCH(hf_kommune[[#Headers],[2025]],Table11[#Headers],0))","v":50},{"$f":"INDEX(Table11[],MATCH(TEXT(hf_kommune[[#This Row],[Kommunenr]],\"0\"),Table11[Nr],0),MATCH(hf_kommune[[#Headers],[2026]],Table11[#Headers],0))","v":37},{"$f":"INDEX(Table11[],MATCH(TEXT(hf_kommune[[#This Row],[Kommunenr]],\"0\"),Table11[Nr],0),MATCH(hf_kommune[[#Headers],[2027]],Table11[#Headers],0))","v":59},{"$f":"INDEX(Table11[],MATCH(TEXT(hf_kommune[[#This Row],[Kommunenr]],\"0\"),Table11[Nr],0),MATCH(hf_kommune[[#Headers],[2028]],Table11[#Headers],0))","v":43},{"$f":"INDEX(Table11[],MATCH(TEXT(hf_kommune[[#This Row],[Kommunenr]],\"0\"),Table11[Nr],0),MATCH(hf_kommune[[#Headers],[2029]],Table11[#Headers],0))","v":45},{"$f":"INDEX(Table11[],MATCH(TEXT(hf_kommune[[#This Row],[Kommunenr]],\"0\"),Table11[Nr],0),MATCH(hf_kommune[[#Headers],[2030]],Table11[#Headers],0))","v":39},{"$f":"INDEX(Table11[],MATCH(TEXT(hf_kommune[[#This Row],[Kommunenr]],\"0\"),Table11[Nr],0),MATCH(hf_kommune[[#Headers],[2031]],Table11[#Headers],0))","v":45},{"$f":"INDEX(Table11[],MATCH(TEXT(hf_kommune[[#This Row],[Kommunenr]],\"0\"),Table11[Nr],0),MATCH(hf_kommune[[#Headers],[2032]],Table11[#Headers],0))","v":53},{"$f":"INDEX(Table11[],MATCH(TEXT(hf_kommune[[#This Row],[Kommunenr]],\"0\"),Table11[Nr],0),MATCH(hf_kommune[[#Headers],[2033]],Table11[#Headers],0))","v":39},{"$f":"INDEX(Table11[],MATCH(TEXT(hf_kommune[[#This Row],[Kommunenr]],\"0\"),Table11[Nr],0),MATCH(hf_kommune[[#Headers],[2034]],Table11[#Headers],0))","v":43},{"$f":"INDEX(Table11[],MATCH(TEXT(hf_kommune[[#This Row],[Kommunenr]],\"0\"),Table11[Nr],0),MATCH(hf_kommune[[#Headers],[2035]],Table11[#Headers],0))","v":52},{"$f":"INDEX(Table11[],MATCH(TEXT(hf_kommune[[#This Row],[Kommunenr]],\"0\"),Table11[Nr],0),MATCH(hf_kommune[[#Headers],[2036]],Table11[#Headers],0))","v":48},{"$f":"INDEX(Table11[],MATCH(TEXT(hf_kommune[[#This Row],[Kommunenr]],\"0\"),Table11[Nr],0),MATCH(hf_kommune[[#Headers],[2037]],Table11[#Headers],0))","v":49},{"$f":"INDEX(Table11[],MATCH(TEXT(hf_kommune[[#This Row],[Kommunenr]],\"0\"),Table11[Nr],0),MATCH(hf_kommune[[#Headers],[2038]],Table11[#Headers],0))","v":46},{"$f":"INDEX(Table11[],MATCH(TEXT(hf_kommune[[#This Row],[Kommunenr]],\"0\"),Table11[Nr],0),MATCH(hf_kommune[[#Headers],[2039]],Table11[#Headers],0))","v":50},{"$f":"INDEX(Table11[],MATCH(TEXT(hf_kommune[[#This Row],[Kommunenr]],\"0\"),Table11[Nr],0),MATCH(hf_kommune[[#Headers],[2040]],Table11[#Headers],0))","v":52},3895,3866,3845,3832,3826,3821,3816,3813,3810,3808,3806,3804,3803,3802,3801,3800,3800,3799,3798]
[4221,"Valle","Helse Sør-Øst","Sørlandet sykehus","Arendal",{"$f":"INDEX(Table11[],MATCH(TEXT(hf_kommune[[#This Row],[Kommunenr]],\"0\"),Table11[Nr],0),MATCH(hf_kommune[[#Headers],[2020]],Table11[#Headers],0))","v":13},{"$f":"INDEX(Table11[],MATCH(TEXT(hf_kommune[[#This Row],[Kommunenr]],\"0\"),Table11[Nr],0),MATCH(hf_kommune[[#Headers],[2021]],Table11[#Headers],0))","v":21},{"$f":"INDEX(Table11[],MATCH(TEXT(hf_kommune[[#This Row],[Kommunenr]],\"0\"),Table11[Nr],0),MATCH(hf_kommune[[#Headers],[2022]],Table11[#Headers],0))","v":16},{"$f":"INDEX(Table11[],MATCH(TEXT(hf_kommune[[#This Row],[Kommunenr]],\"0\"),Table11[Nr],0),MATCH(hf_kommune[[#Headers],[2023]],Table11[#Headers],0))","v":17},{"$f":"INDEX(Table11[],MATCH(TEXT(hf_kommune[[#This Row],[Kommunenr]],\"0\"),Table11[Nr],0),MATCH(hf_kommune[[#Headers],[2024]],Table11[#Headers],0))","v":15},{"$f":"INDEX(Table11[],MATCH(TEXT(hf_kommune[[#This Row],[Kommunenr]],\"0\"),Table11[Nr],0),MATCH(hf_kommune[[#Headers],[2025]],Table11[#Headers],0))","v":12},{"$f":"INDEX(Table11[],MATCH(TEXT(hf_kommune[[#This Row],[Kommunenr]],\"0\"),Table11[Nr],0),MATCH(hf_kommune[[#Headers],[2026]],Table11[#Headers],0))","v":24},{"$f":"INDEX(Table11[],MATCH(TEXT(hf_kommune[[#This Row],[Kommunenr]],\"0\"),Table11[Nr],0),MATCH(hf_kommune[[#Headers],[2027]],Table11[#Headers],0))","v":20},{"$f":"INDEX(Table11[],MATCH(TEXT(hf_kommune[[#This Row],[Kommunenr]],\"0\"),Table11[Nr],0),MATCH(hf_kommune[[#Headers],[2028]],Table11[#Headers],0))","v":16},{"$f":"INDEX(Table11[],MATCH(TEXT(hf_kommune[[#This Row],[Kommunenr]],\"0\"),Table11[Nr],0),MATCH(hf_kommune[[#Headers],[2029]],Table11[#Headers],0))","v":16},{"$f":"INDEX(Table11[],MATCH(TEXT(hf_kommune[[#This Row],[Kommunenr]],\"0\"),Table11[Nr],0),MATCH(hf_kommune[[#Headers],[2030]],Table11[#Headers],0))","v":10},{"$f":"INDEX(Table11[],MATCH(TEXT(hf_kommune[[#This Row],[Kommunenr]],\"0\"),Table11[Nr],0),MATCH(hf_kommune[[#Headers],[2031]],Table11[#Headers],0))","v":17},{"$f":"INDEX(Table11[],MATCH(TEXT(hf_kommune[[#This Row],[Kommunenr]],\"0\"),Table11[Nr],0),MATCH(hf_kommune[[#Headers],[2032]],Table11[#Headers],0))","v":14},{"$f":"INDEX(Table11[],MATCH(TEXT(hf_kommune[[#This Row],[Kommunenr]],\"0\"),Table11[Nr],0),MATCH(hf_kommune[[#Headers],[2033]],Table11[#Headers],0))","v":8},{"$f":"INDEX(Table11[],MATCH(TEXT(hf_kommune[[#This Row],[Kommunenr]],\"0\"),Table11[Nr],0),MATCH(hf_kommune[[#Headers],[2034]],Table11[#Headers],0))","v":10},{"$f":"INDEX(Table11[],MATCH(TEXT(hf_kommune[[#This Row],[Kommunenr]],\"0\"),Table11[Nr],0),MATCH(hf_kommune[[#Headers],[2035]],Table11[#Headers],0))","v":16},{"$f":"INDEX(Table11[],MATCH(TEXT(hf_kommune[[#This Row],[Kommunenr]],\"0\"),Table11[Nr],0),MATCH(hf_kommune[[#Headers],[2036]],Table11[#Headers],0))","v":12},{"$f":"INDEX(Table11[],MATCH(TEXT(hf_kommune[[#This Row],[Kommunenr]],\"0\"),Table11[Nr],0),MATCH(hf_kommune[[#Headers],[2037]],Table11[#Headers],0))","v":18},{"$f":"INDEX(Table11[],MATCH(TEXT(hf_kommune[[#This Row],[Kommunenr]],\"0\"),Table11[Nr],0),MATCH(hf_kommune[[#Headers],[2038]],Table11[#Headers],0))","v":14},{"$f":"INDEX(Table11[],MATCH(TEXT(hf_kommune[[#This Row],[Kommunenr]],\"0\"),Table11[Nr],0),MATCH(hf_kommune[[#Headers],[2039]],Table11[#Headers],0))","v":10},{"$f":"INDEX(Table11[],MATCH(TEXT(hf_kommune[[#This Row],[Kommunenr]],\"0\"),Table11[Nr],0),MATCH(hf_kommune[[#Headers],[2040]],Table11[#Headers],0))","v":9},1163,1163,1163,1162,1161,1161,1161,1161,1162,1163,1163,1164,1164,1164,1163,1163,1162,1161,1159]
[3454,"Vang","Helse Sør-Øst","Sykehuset Innlandet","Gjøvik",{"$f":"INDEX(Table11[],MATCH(TEXT(hf_kommune[[#This Row],[Kommunenr]],\"0\"),Table11[Nr],0),MATCH(hf_kommune[[#Headers],[2020]],Table11[#Headers],0))","v":22},{"$f":"INDEX(Table11[],MATCH(TEXT(hf_kommune[[#This Row],[Kommunenr]],\"0\"),Table11[Nr],0),MATCH(hf_kommune[[#Headers],[2021]],Table11[#Headers],0))","v":18},{"$f":"INDEX(Table11[],MATCH(TEXT(hf_kommune[[#This Row],[Kommunenr]],\"0\"),Table11[Nr],0),MATCH(hf_kommune[[#Headers],[2022]],Table11[#Headers],0))","v":15},{"$f":"INDEX(Table11[],MATCH(TEXT(hf_kommune[[#This Row],[Kommunenr]],\"0\"),Table11[Nr],0),MATCH(hf_kommune[[#Headers],[2023]],Table11[#Headers],0))","v":23},{"$f":"INDEX(Table11[],MATCH(TEXT(hf_kommune[[#This Row],[Kommunenr]],\"0\"),Table11[Nr],0),MATCH(hf_kommune[[#Headers],[2024]],Table11[#Headers],0))","v":21},{"$f":"INDEX(Table11[],MATCH(TEXT(hf_kommune[[#This Row],[Kommunenr]],\"0\"),Table11[Nr],0),MATCH(hf_kommune[[#Headers],[2025]],Table11[#Headers],0))","v":34},{"$f":"INDEX(Table11[],MATCH(TEXT(hf_kommune[[#This Row],[Kommunenr]],\"0\"),Table11[Nr],0),MATCH(hf_kommune[[#Headers],[2026]],Table11[#Headers],0))","v":22},{"$f":"INDEX(Table11[],MATCH(TEXT(hf_kommune[[#This Row],[Kommunenr]],\"0\"),Table11[Nr],0),MATCH(hf_kommune[[#Headers],[2027]],Table11[#Headers],0))","v":24},{"$f":"INDEX(Table11[],MATCH(TEXT(hf_kommune[[#This Row],[Kommunenr]],\"0\"),Table11[Nr],0),MATCH(hf_kommune[[#Headers],[2028]],Table11[#Headers],0))","v":24},{"$f":"INDEX(Table11[],MATCH(TEXT(hf_kommune[[#This Row],[Kommunenr]],\"0\"),Table11[Nr],0),MATCH(hf_kommune[[#Headers],[2029]],Table11[#Headers],0))","v":24},{"$f":"INDEX(Table11[],MATCH(TEXT(hf_kommune[[#This Row],[Kommunenr]],\"0\"),Table11[Nr],0),MATCH(hf_kommune[[#Headers],[2030]],Table11[#Headers],0))","v":22},{"$f":"INDEX(Table11[],MATCH(TEXT(hf_kommune[[#This Row],[Kommunenr]],\"0\"),Table11[Nr],0),MATCH(hf_kommune[[#Headers],[2031]],Table11[#Headers],0))","v":18},{"$f":"INDEX(Table11[],MATCH(TEXT(hf_kommune[[#This Row],[Kommunenr]],\"0\"),Table11[Nr],0),MATCH(hf_kommune[[#Headers],[2032]],Table11[#Headers],0))","v":20},{"$f":"INDEX(Table11[],MATCH(TEXT(hf_kommune[[#This Row],[Kommunenr]],\"0\"),Table11[Nr],0),MATCH(hf_kommune[[#Headers],[2033]],Table11[#Headers],0))","v":18},{"$f":"INDEX(Table11[],MATCH(TEXT(hf_kommune[[#This Row],[Kommunenr]],\"0\"),Table11[Nr],0),MATCH(hf_kommune[[#Headers],[2034]],Table11[#Headers],0))","v":16},{"$f":"INDEX(Table11[],MATCH(TEXT(hf_kommune[[#This Row],[Kommunenr]],\"0\"),Table11[Nr],0),MATCH(hf_kommune[[#Headers],[2035]],Table11[#Headers],0))","v":20},{"$f":"INDEX(Table11[],MATCH(TEXT(hf_kommune[[#This Row],[Kommunenr]],\"0\"),Table11[Nr],0),MATCH(hf_kommune[[#Headers],[2036]],Table11[#Headers],0))","v":24},{"$f":"INDEX(Table11[],MATCH(TEXT(hf_kommune[[#This Row],[Kommunenr]],\"0\"),Table11[Nr],0),MATCH(hf_kommune[[#Headers],[2037]],Table11[#Headers],0))","v":28},{"$f":"INDEX(Table11[],MATCH(TEXT(hf_kommune[[#This Row],[Kommunenr]],\"0\"),Table11[Nr],0),MATCH(hf_kommune[[#Headers],[2038]],Table11[#Headers],0))","v":20},{"$f":"INDEX(Table11[],MATCH(TEXT(hf_kommune[[#This Row],[Kommunenr]],\"0\"),Table11[Nr],0),MATCH(hf_kommune[[#Headers],[2039]],Table11[#Headers],0))","v":22},{"$f":"INDEX(Table11[],MATCH(TEXT(hf_kommune[[#This Row],[Kommunenr]],\"0\"),Table11[Nr],0),MATCH(hf_kommune[[#Headers],[2040]],Table11[#Headers],0))","v":28},1573,1579,1587,1595,1604,1612,1620,1628,1635,1641,1647,1653,1659,1665,1670,1675,1680,1685,1690]
[1511,"Vanylven","Helse Midt-Norge","Helse Møre og Romsdal","Volda",{"$f":"INDEX(Table11[],MATCH(TEXT(hf_kommune[[#This Row],[Kommunenr]],\"0\"),Table11[Nr],0),MATCH(hf_kommune[[#Headers],[2020]],Table11[#Headers],0))","v":59},{"$f":"INDEX(Table11[],MATCH(TEXT(hf_kommune[[#This Row],[Kommunenr]],\"0\"),Table11[Nr],0),MATCH(hf_kommune[[#Headers],[2021]],Table11[#Headers],0))","v":52},{"$f":"INDEX(Table11[],MATCH(TEXT(hf_kommune[[#This Row],[Kommunenr]],\"0\"),Table11[Nr],0),MATCH(hf_kommune[[#Headers],[2022]],Table11[#Headers],0))","v":41},{"$f":"INDEX(Table11[],MATCH(TEXT(hf_kommune[[#This Row],[Kommunenr]],\"0\"),Table11[Nr],0),MATCH(hf_kommune[[#Headers],[2023]],Table11[#Headers],0))","v":44},{"$f":"INDEX(Table11[],MATCH(TEXT(hf_kommune[[#This Row],[Kommunenr]],\"0\"),Table11[Nr],0),MATCH(hf_kommune[[#Headers],[2024]],Table11[#Headers],0))","v":44},{"$f":"INDEX(Table11[],MATCH(TEXT(hf_kommune[[#This Row],[Kommunenr]],\"0\"),Table11[Nr],0),MATCH(hf_kommune[[#Headers],[2025]],Table11[#Headers],0))","v":49},{"$f":"INDEX(Table11[],MATCH(TEXT(hf_kommune[[#This Row],[Kommunenr]],\"0\"),Table11[Nr],0),MATCH(hf_kommune[[#Headers],[2026]],Table11[#Headers],0))","v":47},{"$f":"INDEX(Table11[],MATCH(TEXT(hf_kommune[[#This Row],[Kommunenr]],\"0\"),Table11[Nr],0),MATCH(hf_kommune[[#Headers],[2027]],Table11[#Headers],0))","v":32},{"$f":"INDEX(Table11[],MATCH(TEXT(hf_kommune[[#This Row],[Kommunenr]],\"0\"),Table11[Nr],0),MATCH(hf_kommune[[#Headers],[2028]],Table11[#Headers],0))","v":39},{"$f":"INDEX(Table11[],MATCH(TEXT(hf_kommune[[#This Row],[Kommunenr]],\"0\"),Table11[Nr],0),MATCH(hf_kommune[[#Headers],[2029]],Table11[#Headers],0))","v":37},{"$f":"INDEX(Table11[],MATCH(TEXT(hf_kommune[[#This Row],[Kommunenr]],\"0\"),Table11[Nr],0),MATCH(hf_kommune[[#Headers],[2030]],Table11[#Headers],0))","v":35},{"$f":"INDEX(Table11[],MATCH(TEXT(hf_kommune[[#This Row],[Kommunenr]],\"0\"),Table11[Nr],0),MATCH(hf_kommune[[#Headers],[2031]],Table11[#Headers],0))","v":34},{"$f":"INDEX(Table11[],MATCH(TEXT(hf_kommune[[#This Row],[Kommunenr]],\"0\"),Table11[Nr],0),MATCH(hf_kommune[[#Headers],[2032]],Table11[#Headers],0))","v":29},{"$f":"INDEX(Table11[],MATCH(TEXT(hf_kommune[[#This Row],[Kommunenr]],\"0\"),Table11[Nr],0),MATCH(hf_kommune[[#Headers],[2033]],Table11[#Headers],0))","v":33},{"$f":"INDEX(Table11[],MATCH(TEXT(hf_kommune[[#This Row],[Kommunenr]],\"0\"),Table11[Nr],0),MATCH(hf_kommune[[#Headers],[2034]],Table11[#Headers],0))","v":28},{"$f":"INDEX(Table11[],MATCH(TEXT(hf_kommune[[#This Row],[Kommunenr]],\"0\"),Table11[Nr],0),MATCH(hf_kommune[[#Headers],[2035]],Table11[#Headers],0))","v":42},{"$f":"INDEX(Table11[],MATCH(TEXT(hf_kommune[[#This Row],[Kommunenr]],\"0\"),Table11[Nr],0),MATCH(hf_kommune[[#Headers],[2036]],Table11[#Headers],0))","v":35},{"$f":"INDEX(Table11[],MATCH(TEXT(hf_kommune[[#This Row],[Kommunenr]],\"0\"),Table11[Nr],0),MATCH(hf_kommune[[#Headers],[2037]],Table11[#Headers],0))","v":27},{"$f":"INDEX(Table11[],MATCH(TEXT(hf_kommune[[#This Row],[Kommunenr]],\"0\"),Table11[Nr],0),MATCH(hf_kommune[[#Headers],[2038]],Table11[#Headers],0))","v":27},{"$f":"INDEX(Table11[],MATCH(TEXT(hf_kommune[[#This Row],[Kommunenr]],\"0\"),Table11[Nr],0),MATCH(hf_kommune[[#Headers],[2039]],Table11[#Headers],0))","v":26},{"$f":"INDEX(Table11[],MATCH(TEXT(hf_kommune[[#This Row],[Kommunenr]],\"0\"),Table11[Nr],0),MATCH(hf_kommune[[#Headers],[2040]],Table11[#Headers],0))","v":27},3039,3005,2977,2952,2931,2911,2893,2875,2857,2840,2822,2805,2787,2770,2753,2735,2717,2699,2679]
[5404,"Vardø","Helse Nord","Finnmarkssykehuset","Kirkenes",{"$f":"INDEX(Table11[],MATCH(TEXT(hf_kommune[[#This Row],[Kommunenr]],\"0\"),Table11[Nr],0),MATCH(hf_kommune[[#Headers],[2020]],Table11[#Headers],0))","v":30},{"$f":"INDEX(Table11[],MATCH(TEXT(hf_kommune[[#This Row],[Kommunenr]],\"0\"),Table11[Nr],0),MATCH(hf_kommune[[#Headers],[2021]],Table11[#Headers],0))","v":30},{"$f":"INDEX(Table11[],MATCH(TEXT(hf_kommune[[#This Row],[Kommunenr]],\"0\"),Table11[Nr],0),MATCH(hf_kommune[[#Headers],[2022]],Table11[#Headers],0))","v":33},{"$f":"INDEX(Table11[],MATCH(TEXT(hf_kommune[[#This Row],[Kommunenr]],\"0\"),Table11[Nr],0),MATCH(hf_kommune[[#Headers],[2023]],Table11[#Headers],0))","v":40},{"$f":"INDEX(Table11[],MATCH(TEXT(hf_kommune[[#This Row],[Kommunenr]],\"0\"),Table11[Nr],0),MATCH(hf_kommune[[#Headers],[2024]],Table11[#Headers],0))","v":25},{"$f":"INDEX(Table11[],MATCH(TEXT(hf_kommune[[#This Row],[Kommunenr]],\"0\"),Table11[Nr],0),MATCH(hf_kommune[[#Headers],[2025]],Table11[#Headers],0))","v":27},{"$f":"INDEX(Table11[],MATCH(TEXT(hf_kommune[[#This Row],[Kommunenr]],\"0\"),Table11[Nr],0),MATCH(hf_kommune[[#Headers],[2026]],Table11[#Headers],0))","v":19},{"$f":"INDEX(Table11[],MATCH(TEXT(hf_kommune[[#This Row],[Kommunenr]],\"0\"),Table11[Nr],0),MATCH(hf_kommune[[#Headers],[2027]],Table11[#Headers],0))","v":26},{"$f":"INDEX(Table11[],MATCH(TEXT(hf_kommune[[#This Row],[Kommunenr]],\"0\"),Table11[Nr],0),MATCH(hf_kommune[[#Headers],[2028]],Table11[#Headers],0))","v":29},{"$f":"INDEX(Table11[],MATCH(TEXT(hf_kommune[[#This Row],[Kommunenr]],\"0\"),Table11[Nr],0),MATCH(hf_kommune[[#Headers],[2029]],Table11[#Headers],0))","v":25},{"$f":"INDEX(Table11[],MATCH(TEXT(hf_kommune[[#This Row],[Kommunenr]],\"0\"),Table11[Nr],0),MATCH(hf_kommune[[#Headers],[2030]],Table11[#Headers],0))","v":31},{"$f":"INDEX(Table11[],MATCH(TEXT(hf_kommune[[#This Row],[Kommunenr]],\"0\"),Table11[Nr],0),MATCH(hf_kommune[[#Headers],[2031]],Table11[#Headers],0))","v":26},{"$f":"INDEX(Table11[],MATCH(TEXT(hf_kommune[[#This Row],[Kommunenr]],\"0\"),Table11[Nr],0),MATCH(hf_kommune[[#Headers],[2032]],Table11[#Headers],0))","v":22},{"$f":"INDEX(Table11[],MATCH(TEXT(hf_kommune[[#This Row],[Kommunenr]],\"0\"),Table11[Nr],0),MATCH(hf_kommune[[#Headers],[2033]],Table11[#Headers],0))","v":24},{"$f":"INDEX(Table11[],MATCH(TEXT(hf_kommune[[#This Row],[Kommunenr]],\"0\"),Table11[Nr],0),MATCH(hf_kommune[[#Headers],[2034]],Table11[#Headers],0))","v":25},{"$f":"INDEX(Table11[],MATCH(TEXT(hf_kommune[[#This Row],[Kommunenr]],\"0\"),Table11[Nr],0),MATCH(hf_kommune[[#Headers],[2035]],Table11[#Headers],0))","v":24},{"$f":"INDEX(Table11[],MATCH(TEXT(hf_kommune[[#This Row],[Kommunenr]],\"0\"),Table11[Nr],0),MATCH(hf_kommune[[#Headers],[2036]],Table11[#Headers],0))","v":26},{"$f":"INDEX(Table11[],MATCH(TEXT(hf_kommune[[#This Row],[Kommunenr]],\"0\"),Table11[Nr],0),MATCH(hf_kommune[[#Headers],[2037]],Table11[#Headers],0))","v":22},{"$f":"INDEX(Table11[],MATCH(TEXT(hf_kommune[[#This Row],[Kommunenr]],\"0\"),Table11[Nr],0),MATCH(hf_kommune[[#Headers],[2038]],Table11[#Headers],0))","v":22},{"$f":"INDEX(Table11[],MATCH(TEXT(hf_kommune[[#This Row],[Kommunenr]],\"0\"),Table11[Nr],0),MATCH(hf_kommune[[#Headers],[2039]],Table11[#Headers],0))","v":22},{"$f":"INDEX(Table11[],MATCH(TEXT(hf_kommune[[#This Row],[Kommunenr]],\"0\"),Table11[Nr],0),MATCH(hf_kommune[[#Headers],[2040]],Table11[#Headers],0))","v":23},2009,2007,2009,2014,2021,2029,2036,2043,2049,2055,2061,2066,2071,2075,2079,2083,2086,2088,2090]
[1824,"Vefsn","Helse Nord","Helgelandssykehuset","Mosjøen",{"$f":"INDEX(Table11[],MATCH(TEXT(hf_kommune[[#This Row],[Kommunenr]],\"0\"),Table11[Nr],0),MATCH(hf_kommune[[#Headers],[2020]],Table11[#Headers],0))","v":205},{"$f":"INDEX(Table11[],MATCH(TEXT(hf_kommune[[#This Row],[Kommunenr]],\"0\"),Table11[Nr],0),MATCH(hf_kommune[[#Headers],[2021]],Table11[#Headers],0))","v":196},{"$f":"INDEX(Table11[],MATCH(TEXT(hf_kommune[[#This Row],[Kommunenr]],\"0\"),Table11[Nr],0),MATCH(hf_kommune[[#Headers],[2022]],Table11[#Headers],0))","v":190},{"$f":"INDEX(Table11[],MATCH(TEXT(hf_kommune[[#This Row],[Kommunenr]],\"0\"),Table11[Nr],0),MATCH(hf_kommune[[#Headers],[2023]],Table11[#Headers],0))","v":201},{"$f":"INDEX(Table11[],MATCH(TEXT(hf_kommune[[#This Row],[Kommunenr]],\"0\"),Table11[Nr],0),MATCH(hf_kommune[[#Headers],[2024]],Table11[#Headers],0))","v":202},{"$f":"INDEX(Table11[],MATCH(TEXT(hf_kommune[[#This Row],[Kommunenr]],\"0\"),Table11[Nr],0),MATCH(hf_kommune[[#Headers],[2025]],Table11[#Headers],0))","v":203},{"$f":"INDEX(Table11[],MATCH(TEXT(hf_kommune[[#This Row],[Kommunenr]],\"0\"),Table11[Nr],0),MATCH(hf_kommune[[#Headers],[2026]],Table11[#Headers],0))","v":171},{"$f":"INDEX(Table11[],MATCH(TEXT(hf_kommune[[#This Row],[Kommunenr]],\"0\"),Table11[Nr],0),MATCH(hf_kommune[[#Headers],[2027]],Table11[#Headers],0))","v":171},{"$f":"INDEX(Table11[],MATCH(TEXT(hf_kommune[[#This Row],[Kommunenr]],\"0\"),Table11[Nr],0),MATCH(hf_kommune[[#Headers],[2028]],Table11[#Headers],0))","v":205},{"$f":"INDEX(Table11[],MATCH(TEXT(hf_kommune[[#This Row],[Kommunenr]],\"0\"),Table11[Nr],0),MATCH(hf_kommune[[#Headers],[2029]],Table11[#Headers],0))","v":145},{"$f":"INDEX(Table11[],MATCH(TEXT(hf_kommune[[#This Row],[Kommunenr]],\"0\"),Table11[Nr],0),MATCH(hf_kommune[[#Headers],[2030]],Table11[#Headers],0))","v":157},{"$f":"INDEX(Table11[],MATCH(TEXT(hf_kommune[[#This Row],[Kommunenr]],\"0\"),Table11[Nr],0),MATCH(hf_kommune[[#Headers],[2031]],Table11[#Headers],0))","v":143},{"$f":"INDEX(Table11[],MATCH(TEXT(hf_kommune[[#This Row],[Kommunenr]],\"0\"),Table11[Nr],0),MATCH(hf_kommune[[#Headers],[2032]],Table11[#Headers],0))","v":128},{"$f":"INDEX(Table11[],MATCH(TEXT(hf_kommune[[#This Row],[Kommunenr]],\"0\"),Table11[Nr],0),MATCH(hf_kommune[[#Headers],[2033]],Table11[#Headers],0))","v":149},{"$f":"INDEX(Table11[],MATCH(TEXT(hf_kommune[[#This Row],[Kommunenr]],\"0\"),Table11[Nr],0),MATCH(hf_kommune[[#Headers],[2034]],Table11[#Headers],0))","v":139},{"$f":"INDEX(Table11[],MATCH(TEXT(hf_kommune[[#This Row],[Kommunenr]],\"0\"),Table11[Nr],0),MATCH(hf_kommune[[#Headers],[2035]],Table11[#Headers],0))","v":135},{"$f":"INDEX(Table11[],MATCH(TEXT(hf_kommune[[#This Row],[Kommunenr]],\"0\"),Table11[Nr],0),MATCH(hf_kommune[[#Headers],[2036]],Table11[#Headers],0))","v":131},{"$f":"INDEX(Table11[],MATCH(TEXT(hf_kommune[[#This Row],[Kommunenr]],\"0\"),Table11[Nr],0),MATCH(hf_kommune[[#Headers],[2037]],Table11[#Headers],0))","v":134},{"$f":"INDEX(Table11[],MATCH(TEXT(hf_kommune[[#This Row],[Kommunenr]],\"0\"),Table11[Nr],0),MATCH(hf_kommune[[#Headers],[2038]],Table11[#Headers],0))","v":134},{"$f":"INDEX(Table11[],MATCH(TEXT(hf_kommune[[#This Row],[Kommunenr]],\"0\"),Table11[Nr],0),MATCH(hf_kommune[[#Headers],[2039]],Table11[#Headers],0))","v":143},{"$f":"INDEX(Table11[],MATCH(TEXT(hf_kommune[[#This Row],[Kommunenr]],\"0\"),Table11[Nr],0),MATCH(hf_kommune[[#Headers],[2040]],Table11[#Headers],0))","v":149},13000,12898,12817,12758,12720,12683,12647,12613,12579,12546,12512,12478,12445,12413,12381,12350,12318,12285,12251]
[1815,"Vega","Helse Nord","Helgelandssykehuset","Sandnessjøen",{"$f":"INDEX(Table11[],MATCH(TEXT(hf_kommune[[#This Row],[Kommunenr]],\"0\"),Table11[Nr],0),MATCH(hf_kommune[[#Headers],[2020]],Table11[#Headers],0))","v":20},{"$f":"INDEX(Table11[],MATCH(TEXT(hf_kommune[[#This Row],[Kommunenr]],\"0\"),Table11[Nr],0),MATCH(hf_kommune[[#Headers],[2021]],Table11[#Headers],0))","v":16},{"$f":"INDEX(Table11[],MATCH(TEXT(hf_kommune[[#This Row],[Kommunenr]],\"0\"),Table11[Nr],0),MATCH(hf_kommune[[#Headers],[2022]],Table11[#Headers],0))","v":16},{"$f":"INDEX(Table11[],MATCH(TEXT(hf_kommune[[#This Row],[Kommunenr]],\"0\"),Table11[Nr],0),MATCH(hf_kommune[[#Headers],[2023]],Table11[#Headers],0))","v":20},{"$f":"INDEX(Table11[],MATCH(TEXT(hf_kommune[[#This Row],[Kommunenr]],\"0\"),Table11[Nr],0),MATCH(hf_kommune[[#Headers],[2024]],Table11[#Headers],0))","v":22},{"$f":"INDEX(Table11[],MATCH(TEXT(hf_kommune[[#This Row],[Kommunenr]],\"0\"),Table11[Nr],0),MATCH(hf_kommune[[#Headers],[2025]],Table11[#Headers],0))","v":16},{"$f":"INDEX(Table11[],MATCH(TEXT(hf_kommune[[#This Row],[Kommunenr]],\"0\"),Table11[Nr],0),MATCH(hf_kommune[[#Headers],[2026]],Table11[#Headers],0))","v":20},{"$f":"INDEX(Table11[],MATCH(TEXT(hf_kommune[[#This Row],[Kommunenr]],\"0\"),Table11[Nr],0),MATCH(hf_kommune[[#Headers],[2027]],Table11[#Headers],0))","v":17},{"$f":"INDEX(Table11[],MATCH(TEXT(hf_kommune[[#This Row],[Kommunenr]],\"0\"),Table11[Nr],0),MATCH(hf_kommune[[#Headers],[2028]],Table11[#Headers],0))","v":26},{"$f":"INDEX(Table11[],MATCH(TEXT(hf_kommune[[#This Row],[Kommunenr]],\"0\"),Table11[Nr],0),MATCH(hf_kommune[[#Headers],[2029]],Table11[#Headers],0))","v":10},{"$f":"INDEX(Table11[],MATCH(TEXT(hf_kommune[[#This Row],[Kommunenr]],\"0\"),Table11[Nr],0),MATCH(hf_kommune[[#Headers],[2030]],Table11[#Headers],0))","v":15},{"$f":"INDEX(Table11[],MATCH(TEXT(hf_kommune[[#This Row],[Kommunenr]],\"0\"),Table11[Nr],0),MATCH(hf_kommune[[#Headers],[2031]],Table11[#Headers],0))","v":17},{"$f":"INDEX(Table11[],MATCH(TEXT(hf_kommune[[#This Row],[Kommunenr]],\"0\"),Table11[Nr],0),MATCH(hf_kommune[[#Headers],[2032]],Table11[#Headers],0))","v":15},{"$f":"INDEX(Table11[],MATCH(TEXT(hf_kommune[[#This Row],[Kommunenr]],\"0\"),Table11[Nr],0),MATCH(hf_kommune[[#Headers],[2033]],Table11[#Headers],0))","v":13},{"$f":"INDEX(Table11[],MATCH(TEXT(hf_kommune[[#This Row],[Kommunenr]],\"0\"),Table11[Nr],0),MATCH(hf_kommune[[#Headers],[2034]],Table11[#Headers],0))","v":9},{"$f":"INDEX(Table11[],MATCH(TEXT(hf_kommune[[#This Row],[Kommunenr]],\"0\"),Table11[Nr],0),MATCH(hf_kommune[[#Headers],[2035]],Table11[#Headers],0))","v":8},{"$f":"INDEX(Table11[],MATCH(TEXT(hf_kommune[[#This Row],[Kommunenr]],\"0\"),Table11[Nr],0),MATCH(hf_kommune[[#Headers],[2036]],Table11[#Headers],0))","v":10},{"$f":"INDEX(Table11[],MATCH(TEXT(hf_kommune[[#This Row],[Kommunenr]],\"0\"),Table11[Nr],0),MATCH(hf_kommune[[#Headers],[2037]],Table11[#Headers],0))","v":9},{"$f":"INDEX(Table11[],MATCH(TEXT(hf_kommune[[#This Row],[Kommunenr]],\"0\"),Table11[Nr],0),MATCH(hf_kommune[[#Headers],[2038]],Table11[#Headers],0))","v":14},{"$f":"INDEX(Table11[],MATCH(TEXT(hf_kommune[[#This Row],[Kommunenr]],\"0\"),Table11[Nr],0),MATCH(hf_kommune[[#Headers],[2039]],Table11[#Headers],0))","v":12},{"$f":"INDEX(Table11[],MATCH(TEXT(hf_kommune[[#This Row],[Kommunenr]],\"0\"),Table11[Nr],0),MATCH(hf_kommune[[#Headers],[2040]],Table11[#Headers],0))","v":15},1197,1195,1192,1189,1186,1182,1179,1175,1171,1168,1164,1160,1157,1153,1149,1145,1141,1136,1132]
[4212,"Vegårshei","Helse Sør-Øst","Sørlandet sykehus","Arendal",{"$f":"INDEX(Table11[],MATCH(TEXT(hf_kommune[[#This Row],[Kommunenr]],\"0\"),Table11[Nr],0),MATCH(hf_kommune[[#Headers],[2020]],Table11[#Headers],0))","v":40},{"$f":"INDEX(Table11[],MATCH(TEXT(hf_kommune[[#This Row],[Kommunenr]],\"0\"),Table11[Nr],0),MATCH(hf_kommune[[#Headers],[2021]],Table11[#Headers],0))","v":27},{"$f":"INDEX(Table11[],MATCH(TEXT(hf_kommune[[#This Row],[Kommunenr]],\"0\"),Table11[Nr],0),MATCH(hf_kommune[[#Headers],[2022]],Table11[#Headers],0))","v":30},{"$f":"INDEX(Table11[],MATCH(TEXT(hf_kommune[[#This Row],[Kommunenr]],\"0\"),Table11[Nr],0),MATCH(hf_kommune[[#Headers],[2023]],Table11[#Headers],0))","v":43},{"$f":"INDEX(Table11[],MATCH(TEXT(hf_kommune[[#This Row],[Kommunenr]],\"0\"),Table11[Nr],0),MATCH(hf_kommune[[#Headers],[2024]],Table11[#Headers],0))","v":27},{"$f":"INDEX(Table11[],MATCH(TEXT(hf_kommune[[#This Row],[Kommunenr]],\"0\"),Table11[Nr],0),MATCH(hf_kommune[[#Headers],[2025]],Table11[#Headers],0))","v":30},{"$f":"INDEX(Table11[],MATCH(TEXT(hf_kommune[[#This Row],[Kommunenr]],\"0\"),Table11[Nr],0),MATCH(hf_kommune[[#Headers],[2026]],Table11[#Headers],0))","v":30},{"$f":"INDEX(Table11[],MATCH(TEXT(hf_kommune[[#This Row],[Kommunenr]],\"0\"),Table11[Nr],0),MATCH(hf_kommune[[#Headers],[2027]],Table11[#Headers],0))","v":31},{"$f":"INDEX(Table11[],MATCH(TEXT(hf_kommune[[#This Row],[Kommunenr]],\"0\"),Table11[Nr],0),MATCH(hf_kommune[[#Headers],[2028]],Table11[#Headers],0))","v":31},{"$f":"INDEX(Table11[],MATCH(TEXT(hf_kommune[[#This Row],[Kommunenr]],\"0\"),Table11[Nr],0),MATCH(hf_kommune[[#Headers],[2029]],Table11[#Headers],0))","v":28},{"$f":"INDEX(Table11[],MATCH(TEXT(hf_kommune[[#This Row],[Kommunenr]],\"0\"),Table11[Nr],0),MATCH(hf_kommune[[#Headers],[2030]],Table11[#Headers],0))","v":28},{"$f":"INDEX(Table11[],MATCH(TEXT(hf_kommune[[#This Row],[Kommunenr]],\"0\"),Table11[Nr],0),MATCH(hf_kommune[[#Headers],[2031]],Table11[#Headers],0))","v":33},{"$f":"INDEX(Table11[],MATCH(TEXT(hf_kommune[[#This Row],[Kommunenr]],\"0\"),Table11[Nr],0),MATCH(hf_kommune[[#Headers],[2032]],Table11[#Headers],0))","v":38},{"$f":"INDEX(Table11[],MATCH(TEXT(hf_kommune[[#This Row],[Kommunenr]],\"0\"),Table11[Nr],0),MATCH(hf_kommune[[#Headers],[2033]],Table11[#Headers],0))","v":33},{"$f":"INDEX(Table11[],MATCH(TEXT(hf_kommune[[#This Row],[Kommunenr]],\"0\"),Table11[Nr],0),MATCH(hf_kommune[[#Headers],[2034]],Table11[#Headers],0))","v":30},{"$f":"INDEX(Table11[],MATCH(TEXT(hf_kommune[[#This Row],[Kommunenr]],\"0\"),Table11[Nr],0),MATCH(hf_kommune[[#Headers],[2035]],Table11[#Headers],0))","v":30},{"$f":"INDEX(Table11[],MATCH(TEXT(hf_kommune[[#This Row],[Kommunenr]],\"0\"),Table11[Nr],0),MATCH(hf_kommune[[#Headers],[2036]],Table11[#Headers],0))","v":29},{"$f":"INDEX(Table11[],MATCH(TEXT(hf_kommune[[#This Row],[Kommunenr]],\"0\"),Table11[Nr],0),MATCH(hf_kommune[[#Headers],[2037]],Table11[#Headers],0))","v":30},{"$f":"INDEX(Table11[],MATCH(TEXT(hf_kommune[[#This Row],[Kommunenr]],\"0\"),Table11[Nr],0),MATCH(hf_kommune[[#Headers],[2038]],Table11[#Headers],0))","v":28},{"$f":"INDEX(Table11[],MATCH(TEXT(hf_kommune[[#This Row],[Kommunenr]],\"0\"),Table11[Nr],0),MATCH(hf_kommune[[#Headers],[2039]],Table11[#Headers],0))","v":21},{"$f":"INDEX(Table11[],MATCH(TEXT(hf_kommune[[#This Row],[Kommunenr]],\"0\"),Table11[Nr],0),MATCH(hf_kommune[[#Headers],[2040]],Table11[#Headers],0))","v":29},2113,2119,2126,2134,2141,2150,2158,2167,2176,2185,2194,2203,2212,2222,2231,2241,2250,2258,2266]
[4223,"Vennesla","Helse Sør-Øst","Sørlandet sykehus","Kristiansand",{"$f":"INDEX(Table11[],MATCH(TEXT(hf_kommune[[#This Row],[Kommunenr]],\"0\"),Table11[Nr],0),MATCH(hf_kommune[[#Headers],[2020]],Table11[#Headers],0))","v":190},{"$f":"INDEX(Table11[],MATCH(TEXT(hf_kommune[[#This Row],[Kommunenr]],\"0\"),Table11[Nr],0),MATCH(hf_kommune[[#Headers],[2021]],Table11[#Headers],0))","v":166},{"$f":"INDEX(Table11[],MATCH(TEXT(hf_kommune[[#This Row],[Kommunenr]],\"0\"),Table11[Nr],0),MATCH(hf_kommune[[#Headers],[2022]],Table11[#Headers],0))","v":209},{"$f":"INDEX(Table11[],MATCH(TEXT(hf_kommune[[#This Row],[Kommunenr]],\"0\"),Table11[Nr],0),MATCH(hf_kommune[[#Headers],[2023]],Table11[#Headers],0))","v":181},{"$f":"INDEX(Table11[],MATCH(TEXT(hf_kommune[[#This Row],[Kommunenr]],\"0\"),Table11[Nr],0),MATCH(hf_kommune[[#Headers],[2024]],Table11[#Headers],0))","v":198},{"$f":"INDEX(Table11[],MATCH(TEXT(hf_kommune[[#This Row],[Kommunenr]],\"0\"),Table11[Nr],0),MATCH(hf_kommune[[#Headers],[2025]],Table11[#Headers],0))","v":202},{"$f":"INDEX(Table11[],MATCH(TEXT(hf_kommune[[#This Row],[Kommunenr]],\"0\"),Table11[Nr],0),MATCH(hf_kommune[[#Headers],[2026]],Table11[#Headers],0))","v":191},{"$f":"INDEX(Table11[],MATCH(TEXT(hf_kommune[[#This Row],[Kommunenr]],\"0\"),Table11[Nr],0),MATCH(hf_kommune[[#Headers],[2027]],Table11[#Headers],0))","v":209},{"$f":"INDEX(Table11[],MATCH(TEXT(hf_kommune[[#This Row],[Kommunenr]],\"0\"),Table11[Nr],0),MATCH(hf_kommune[[#Headers],[2028]],Table11[#Headers],0))","v":196},{"$f":"INDEX(Table11[],MATCH(TEXT(hf_kommune[[#This Row],[Kommunenr]],\"0\"),Table11[Nr],0),MATCH(hf_kommune[[#Headers],[2029]],Table11[#Headers],0))","v":197},{"$f":"INDEX(Table11[],MATCH(TEXT(hf_kommune[[#This Row],[Kommunenr]],\"0\"),Table11[Nr],0),MATCH(hf_kommune[[#Headers],[2030]],Table11[#Headers],0))","v":204},{"$f":"INDEX(Table11[],MATCH(TEXT(hf_kommune[[#This Row],[Kommunenr]],\"0\"),Table11[Nr],0),MATCH(hf_kommune[[#Headers],[2031]],Table11[#Headers],0))","v":207},{"$f":"INDEX(Table11[],MATCH(TEXT(hf_kommune[[#This Row],[Kommunenr]],\"0\"),Table11[Nr],0),MATCH(hf_kommune[[#Headers],[2032]],Table11[#Headers],0))","v":185},{"$f":"INDEX(Table11[],MATCH(TEXT(hf_kommune[[#This Row],[Kommunenr]],\"0\"),Table11[Nr],0),MATCH(hf_kommune[[#Headers],[2033]],Table11[#Headers],0))","v":184},{"$f":"INDEX(Table11[],MATCH(TEXT(hf_kommune[[#This Row],[Kommunenr]],\"0\"),Table11[Nr],0),MATCH(hf_kommune[[#Headers],[2034]],Table11[#Headers],0))","v":209},{"$f":"INDEX(Table11[],MATCH(TEXT(hf_kommune[[#This Row],[Kommunenr]],\"0\"),Table11[Nr],0),MATCH(hf_kommune[[#Headers],[2035]],Table11[#Headers],0))","v":205},{"$f":"INDEX(Table11[],MATCH(TEXT(hf_kommune[[#This Row],[Kommunenr]],\"0\"),Table11[Nr],0),MATCH(hf_kommune[[#Headers],[2036]],Table11[#Headers],0))","v":219},{"$f":"INDEX(Table11[],MATCH(TEXT(hf_kommune[[#This Row],[Kommunenr]],\"0\"),Table11[Nr],0),MATCH(hf_kommune[[#Headers],[2037]],Table11[#Headers],0))","v":204},{"$f":"INDEX(Table11[],MATCH(TEXT(hf_kommune[[#This Row],[Kommunenr]],\"0\"),Table11[Nr],0),MATCH(hf_kommune[[#Headers],[2038]],Table11[#Headers],0))","v":218},{"$f":"INDEX(Table11[],MATCH(TEXT(hf_kommune[[#This Row],[Kommunenr]],\"0\"),Table11[Nr],0),MATCH(hf_kommune[[#Headers],[2039]],Table11[#Headers],0))","v":209},{"$f":"INDEX(Table11[],MATCH(TEXT(hf_kommune[[#This Row],[Kommunenr]],\"0\"),Table11[Nr],0),MATCH(hf_kommune[[#Headers],[2040]],Table11[#Headers],0))","v":201},14911,14993,15080,15171,15266,15360,15453,15544,15632,15718,15803,15887,15970,16052,16134,16215,16293,16369,16442]
[5038,"Verdal","Helse Midt-Norge","Helse Nord-Trøndelag","Levanger",{"$f":"INDEX(Table11[],MATCH(TEXT(hf_kommune[[#This Row],[Kommunenr]],\"0\"),Table11[Nr],0),MATCH(hf_kommune[[#Headers],[2020]],Table11[#Headers],0))","v":188},{"$f":"INDEX(Table11[],MATCH(TEXT(hf_kommune[[#This Row],[Kommunenr]],\"0\"),Table11[Nr],0),MATCH(hf_kommune[[#Headers],[2021]],Table11[#Headers],0))","v":197},{"$f":"INDEX(Table11[],MATCH(TEXT(hf_kommune[[#This Row],[Kommunenr]],\"0\"),Table11[Nr],0),MATCH(hf_kommune[[#Headers],[2022]],Table11[#Headers],0))","v":196},{"$f":"INDEX(Table11[],MATCH(TEXT(hf_kommune[[#This Row],[Kommunenr]],\"0\"),Table11[Nr],0),MATCH(hf_kommune[[#Headers],[2023]],Table11[#Headers],0))","v":195},{"$f":"INDEX(Table11[],MATCH(TEXT(hf_kommune[[#This Row],[Kommunenr]],\"0\"),Table11[Nr],0),MATCH(hf_kommune[[#Headers],[2024]],Table11[#Headers],0))","v":233},{"$f":"INDEX(Table11[],MATCH(TEXT(hf_kommune[[#This Row],[Kommunenr]],\"0\"),Table11[Nr],0),MATCH(hf_kommune[[#Headers],[2025]],Table11[#Headers],0))","v":231},{"$f":"INDEX(Table11[],MATCH(TEXT(hf_kommune[[#This Row],[Kommunenr]],\"0\"),Table11[Nr],0),MATCH(hf_kommune[[#Headers],[2026]],Table11[#Headers],0))","v":220},{"$f":"INDEX(Table11[],MATCH(TEXT(hf_kommune[[#This Row],[Kommunenr]],\"0\"),Table11[Nr],0),MATCH(hf_kommune[[#Headers],[2027]],Table11[#Headers],0))","v":201},{"$f":"INDEX(Table11[],MATCH(TEXT(hf_kommune[[#This Row],[Kommunenr]],\"0\"),Table11[Nr],0),MATCH(hf_kommune[[#Headers],[2028]],Table11[#Headers],0))","v":225},{"$f":"INDEX(Table11[],MATCH(TEXT(hf_kommune[[#This Row],[Kommunenr]],\"0\"),Table11[Nr],0),MATCH(hf_kommune[[#Headers],[2029]],Table11[#Headers],0))","v":178},{"$f":"INDEX(Table11[],MATCH(TEXT(hf_kommune[[#This Row],[Kommunenr]],\"0\"),Table11[Nr],0),MATCH(hf_kommune[[#Headers],[2030]],Table11[#Headers],0))","v":212},{"$f":"INDEX(Table11[],MATCH(TEXT(hf_kommune[[#This Row],[Kommunenr]],\"0\"),Table11[Nr],0),MATCH(hf_kommune[[#Headers],[2031]],Table11[#Headers],0))","v":184},{"$f":"INDEX(Table11[],MATCH(TEXT(hf_kommune[[#This Row],[Kommunenr]],\"0\"),Table11[Nr],0),MATCH(hf_kommune[[#Headers],[2032]],Table11[#Headers],0))","v":183},{"$f":"INDEX(Table11[],MATCH(TEXT(hf_kommune[[#This Row],[Kommunenr]],\"0\"),Table11[Nr],0),MATCH(hf_kommune[[#Headers],[2033]],Table11[#Headers],0))","v":168},{"$f":"INDEX(Table11[],MATCH(TEXT(hf_kommune[[#This Row],[Kommunenr]],\"0\"),Table11[Nr],0),MATCH(hf_kommune[[#Headers],[2034]],Table11[#Headers],0))","v":168},{"$f":"INDEX(Table11[],MATCH(TEXT(hf_kommune[[#This Row],[Kommunenr]],\"0\"),Table11[Nr],0),MATCH(hf_kommune[[#Headers],[2035]],Table11[#Headers],0))","v":164},{"$f":"INDEX(Table11[],MATCH(TEXT(hf_kommune[[#This Row],[Kommunenr]],\"0\"),Table11[Nr],0),MATCH(hf_kommune[[#Headers],[2036]],Table11[#Headers],0))","v":190},{"$f":"INDEX(Table11[],MATCH(TEXT(hf_kommune[[#This Row],[Kommunenr]],\"0\"),Table11[Nr],0),MATCH(hf_kommune[[#Headers],[2037]],Table11[#Headers],0))","v":181},{"$f":"INDEX(Table11[],MATCH(TEXT(hf_kommune[[#This Row],[Kommunenr]],\"0\"),Table11[Nr],0),MATCH(hf_kommune[[#Headers],[2038]],Table11[#Headers],0))","v":172},{"$f":"INDEX(Table11[],MATCH(TEXT(hf_kommune[[#This Row],[Kommunenr]],\"0\"),Table11[Nr],0),MATCH(hf_kommune[[#Headers],[2039]],Table11[#Headers],0))","v":171},{"$f":"INDEX(Table11[],MATCH(TEXT(hf_kommune[[#This Row],[Kommunenr]],\"0\"),Table11[Nr],0),MATCH(hf_kommune[[#Headers],[2040]],Table11[#Headers],0))","v":165},14885,14867,14859,14862,14876,14891,14907,14924,14940,14955,14969,14983,14995,15006,15016,15023,15027,15028,15027]
[3019,"Vestby","Helse Sør-Øst","Sykehuset Østfold","Kalnes",{"$f":"INDEX(Table11[],MATCH(TEXT(hf_kommune[[#This Row],[Kommunenr]],\"0\"),Table11[Nr],0),MATCH(hf_kommune[[#Headers],[2020]],Table11[#Headers],0))","v":258},{"$f":"INDEX(Table11[],MATCH(TEXT(hf_kommune[[#This Row],[Kommunenr]],\"0\"),Table11[Nr],0),MATCH(hf_kommune[[#Headers],[2021]],Table11[#Headers],0))","v":240},{"$f":"INDEX(Table11[],MATCH(TEXT(hf_kommune[[#This Row],[Kommunenr]],\"0\"),Table11[Nr],0),MATCH(hf_kommune[[#Headers],[2022]],Table11[#Headers],0))","v":269},{"$f":"INDEX(Table11[],MATCH(TEXT(hf_kommune[[#This Row],[Kommunenr]],\"0\"),Table11[Nr],0),MATCH(hf_kommune[[#Headers],[2023]],Table11[#Headers],0))","v":259},{"$f":"INDEX(Table11[],MATCH(TEXT(hf_kommune[[#This Row],[Kommunenr]],\"0\"),Table11[Nr],0),MATCH(hf_kommune[[#Headers],[2024]],Table11[#Headers],0))","v":294},{"$f":"INDEX(Table11[],MATCH(TEXT(hf_kommune[[#This Row],[Kommunenr]],\"0\"),Table11[Nr],0),MATCH(hf_kommune[[#Headers],[2025]],Table11[#Headers],0))","v":304},{"$f":"INDEX(Table11[],MATCH(TEXT(hf_kommune[[#This Row],[Kommunenr]],\"0\"),Table11[Nr],0),MATCH(hf_kommune[[#Headers],[2026]],Table11[#Headers],0))","v":335},{"$f":"INDEX(Table11[],MATCH(TEXT(hf_kommune[[#This Row],[Kommunenr]],\"0\"),Table11[Nr],0),MATCH(hf_kommune[[#Headers],[2027]],Table11[#Headers],0))","v":296},{"$f":"INDEX(Table11[],MATCH(TEXT(hf_kommune[[#This Row],[Kommunenr]],\"0\"),Table11[Nr],0),MATCH(hf_kommune[[#Headers],[2028]],Table11[#Headers],0))","v":303},{"$f":"INDEX(Table11[],MATCH(TEXT(hf_kommune[[#This Row],[Kommunenr]],\"0\"),Table11[Nr],0),MATCH(hf_kommune[[#Headers],[2029]],Table11[#Headers],0))","v":294},{"$f":"INDEX(Table11[],MATCH(TEXT(hf_kommune[[#This Row],[Kommunenr]],\"0\"),Table11[Nr],0),MATCH(hf_kommune[[#Headers],[2030]],Table11[#Headers],0))","v":312},{"$f":"INDEX(Table11[],MATCH(TEXT(hf_kommune[[#This Row],[Kommunenr]],\"0\"),Table11[Nr],0),MATCH(hf_kommune[[#Headers],[2031]],Table11[#Headers],0))","v":272},{"$f":"INDEX(Table11[],MATCH(TEXT(hf_kommune[[#This Row],[Kommunenr]],\"0\"),Table11[Nr],0),MATCH(hf_kommune[[#Headers],[2032]],Table11[#Headers],0))","v":304},{"$f":"INDEX(Table11[],MATCH(TEXT(hf_kommune[[#This Row],[Kommunenr]],\"0\"),Table11[Nr],0),MATCH(hf_kommune[[#Headers],[2033]],Table11[#Headers],0))","v":284},{"$f":"INDEX(Table11[],MATCH(TEXT(hf_kommune[[#This Row],[Kommunenr]],\"0\"),Table11[Nr],0),MATCH(hf_kommune[[#Headers],[2034]],Table11[#Headers],0))","v":278},{"$f":"INDEX(Table11[],MATCH(TEXT(hf_kommune[[#This Row],[Kommunenr]],\"0\"),Table11[Nr],0),MATCH(hf_kommune[[#Headers],[2035]],Table11[#Headers],0))","v":264},{"$f":"INDEX(Table11[],MATCH(TEXT(hf_kommune[[#This Row],[Kommunenr]],\"0\"),Table11[Nr],0),MATCH(hf_kommune[[#Headers],[2036]],Table11[#Headers],0))","v":294},{"$f":"INDEX(Table11[],MATCH(TEXT(hf_kommune[[#This Row],[Kommunenr]],\"0\"),Table11[Nr],0),MATCH(hf_kommune[[#Headers],[2037]],Table11[#Headers],0))","v":292},{"$f":"INDEX(Table11[],MATCH(TEXT(hf_kommune[[#This Row],[Kommunenr]],\"0\"),Table11[Nr],0),MATCH(hf_kommune[[#Headers],[2038]],Table11[#Headers],0))","v":303},{"$f":"INDEX(Table11[],MATCH(TEXT(hf_kommune[[#This Row],[Kommunenr]],\"0\"),Table11[Nr],0),MATCH(hf_kommune[[#Headers],[2039]],Table11[#Headers],0))","v":295},{"$f":"INDEX(Table11[],MATCH(TEXT(hf_kommune[[#This Row],[Kommunenr]],\"0\"),Table11[Nr],0),MATCH(hf_kommune[[#Headers],[2040]],Table11[#Headers],0))","v":299},18423,18632,18846,19068,19297,19518,19731,19937,20134,20324,20507,20683,20853,21020,21184,21345,21501,21653,21803]
[1535,"Vestnes","Helse Midt-Norge","Helse Møre og Romsdal","Molde",{"$f":"INDEX(Table11[],MATCH(TEXT(hf_kommune[[#This Row],[Kommunenr]],\"0\"),Table11[Nr],0),MATCH(hf_kommune[[#Headers],[2020]],Table11[#Headers],0))","v":98},{"$f":"INDEX(Table11[],MATCH(TEXT(hf_kommune[[#This Row],[Kommunenr]],\"0\"),Table11[Nr],0),MATCH(hf_kommune[[#Headers],[2021]],Table11[#Headers],0))","v":105},{"$f":"INDEX(Table11[],MATCH(TEXT(hf_kommune[[#This Row],[Kommunenr]],\"0\"),Table11[Nr],0),MATCH(hf_kommune[[#Headers],[2022]],Table11[#Headers],0))","v":106},{"$f":"INDEX(Table11[],MATCH(TEXT(hf_kommune[[#This Row],[Kommunenr]],\"0\"),Table11[Nr],0),MATCH(hf_kommune[[#Headers],[2023]],Table11[#Headers],0))","v":115},{"$f":"INDEX(Table11[],MATCH(TEXT(hf_kommune[[#This Row],[Kommunenr]],\"0\"),Table11[Nr],0),MATCH(hf_kommune[[#Headers],[2024]],Table11[#Headers],0))","v":108},{"$f":"INDEX(Table11[],MATCH(TEXT(hf_kommune[[#This Row],[Kommunenr]],\"0\"),Table11[Nr],0),MATCH(hf_kommune[[#Headers],[2025]],Table11[#Headers],0))","v":98},{"$f":"INDEX(Table11[],MATCH(TEXT(hf_kommune[[#This Row],[Kommunenr]],\"0\"),Table11[Nr],0),MATCH(hf_kommune[[#Headers],[2026]],Table11[#Headers],0))","v":116},{"$f":"INDEX(Table11[],MATCH(TEXT(hf_kommune[[#This Row],[Kommunenr]],\"0\"),Table11[Nr],0),MATCH(hf_kommune[[#Headers],[2027]],Table11[#Headers],0))","v":86},{"$f":"INDEX(Table11[],MATCH(TEXT(hf_kommune[[#This Row],[Kommunenr]],\"0\"),Table11[Nr],0),MATCH(hf_kommune[[#Headers],[2028]],Table11[#Headers],0))","v":101},{"$f":"INDEX(Table11[],MATCH(TEXT(hf_kommune[[#This Row],[Kommunenr]],\"0\"),Table11[Nr],0),MATCH(hf_kommune[[#Headers],[2029]],Table11[#Headers],0))","v":94},{"$f":"INDEX(Table11[],MATCH(TEXT(hf_kommune[[#This Row],[Kommunenr]],\"0\"),Table11[Nr],0),MATCH(hf_kommune[[#Headers],[2030]],Table11[#Headers],0))","v":91},{"$f":"INDEX(Table11[],MATCH(TEXT(hf_kommune[[#This Row],[Kommunenr]],\"0\"),Table11[Nr],0),MATCH(hf_kommune[[#Headers],[2031]],Table11[#Headers],0))","v":90},{"$f":"INDEX(Table11[],MATCH(TEXT(hf_kommune[[#This Row],[Kommunenr]],\"0\"),Table11[Nr],0),MATCH(hf_kommune[[#Headers],[2032]],Table11[#Headers],0))","v":82},{"$f":"INDEX(Table11[],MATCH(TEXT(hf_kommune[[#This Row],[Kommunenr]],\"0\"),Table11[Nr],0),MATCH(hf_kommune[[#Headers],[2033]],Table11[#Headers],0))","v":81},{"$f":"INDEX(Table11[],MATCH(TEXT(hf_kommune[[#This Row],[Kommunenr]],\"0\"),Table11[Nr],0),MATCH(hf_kommune[[#Headers],[2034]],Table11[#Headers],0))","v":74},{"$f":"INDEX(Table11[],MATCH(TEXT(hf_kommune[[#This Row],[Kommunenr]],\"0\"),Table11[Nr],0),MATCH(hf_kommune[[#Headers],[2035]],Table11[#Headers],0))","v":100},{"$f":"INDEX(Table11[],MATCH(TEXT(hf_kommune[[#This Row],[Kommunenr]],\"0\"),Table11[Nr],0),MATCH(hf_kommune[[#Headers],[2036]],Table11[#Headers],0))","v":74},{"$f":"INDEX(Table11[],MATCH(TEXT(hf_kommune[[#This Row],[Kommunenr]],\"0\"),Table11[Nr],0),MATCH(hf_kommune[[#Headers],[2037]],Table11[#Headers],0))","v":79},{"$f":"INDEX(Table11[],MATCH(TEXT(hf_kommune[[#This Row],[Kommunenr]],\"0\"),Table11[Nr],0),MATCH(hf_kommune[[#Headers],[2038]],Table11[#Headers],0))","v":85},{"$f":"INDEX(Table11[],MATCH(TEXT(hf_kommune[[#This Row],[Kommunenr]],\"0\"),Table11[Nr],0),MATCH(hf_kommune[[#Headers],[2039]],Table11[#Headers],0))","v":88},{"$f":"INDEX(Table11[],MATCH(TEXT(hf_kommune[[#This Row],[Kommunenr]],\"0\"),Table11[Nr],0),MATCH(hf_kommune[[#Headers],[2040]],Table11[#Headers],0))","v":81},6457,6436,6422,6416,6416,6416,6417,6417,6417,6417,6417,6417,6417,6416,6416,6414,6412,6408,6404]
[3452,"Vestre Slidre","Helse Sør-Øst","Sykehuset Innlandet","Gjøvik",{"$f":"INDEX(Table11[],MATCH(TEXT(hf_kommune[[#This Row],[Kommunenr]],\"0\"),Table11[Nr],0),MATCH(hf_kommune[[#Headers],[2020]],Table11[#Headers],0))","v":38},{"$f":"INDEX(Table11[],MATCH(TEXT(hf_kommune[[#This Row],[Kommunenr]],\"0\"),Table11[Nr],0),MATCH(hf_kommune[[#Headers],[2021]],Table11[#Headers],0))","v":34},{"$f":"INDEX(Table11[],MATCH(TEXT(hf_kommune[[#This Row],[Kommunenr]],\"0\"),Table11[Nr],0),MATCH(hf_kommune[[#Headers],[2022]],Table11[#Headers],0))","v":34},{"$f":"INDEX(Table11[],MATCH(TEXT(hf_kommune[[#This Row],[Kommunenr]],\"0\"),Table11[Nr],0),MATCH(hf_kommune[[#Headers],[2023]],Table11[#Headers],0))","v":29},{"$f":"INDEX(Table11[],MATCH(TEXT(hf_kommune[[#This Row],[Kommunenr]],\"0\"),Table11[Nr],0),MATCH(hf_kommune[[#Headers],[2024]],Table11[#Headers],0))","v":35},{"$f":"INDEX(Table11[],MATCH(TEXT(hf_kommune[[#This Row],[Kommunenr]],\"0\"),Table11[Nr],0),MATCH(hf_kommune[[#Headers],[2025]],Table11[#Headers],0))","v":31},{"$f":"INDEX(Table11[],MATCH(TEXT(hf_kommune[[#This Row],[Kommunenr]],\"0\"),Table11[Nr],0),MATCH(hf_kommune[[#Headers],[2026]],Table11[#Headers],0))","v":37},{"$f":"INDEX(Table11[],MATCH(TEXT(hf_kommune[[#This Row],[Kommunenr]],\"0\"),Table11[Nr],0),MATCH(hf_kommune[[#Headers],[2027]],Table11[#Headers],0))","v":27},{"$f":"INDEX(Table11[],MATCH(TEXT(hf_kommune[[#This Row],[Kommunenr]],\"0\"),Table11[Nr],0),MATCH(hf_kommune[[#Headers],[2028]],Table11[#Headers],0))","v":40},{"$f":"INDEX(Table11[],MATCH(TEXT(hf_kommune[[#This Row],[Kommunenr]],\"0\"),Table11[Nr],0),MATCH(hf_kommune[[#Headers],[2029]],Table11[#Headers],0))","v":25},{"$f":"INDEX(Table11[],MATCH(TEXT(hf_kommune[[#This Row],[Kommunenr]],\"0\"),Table11[Nr],0),MATCH(hf_kommune[[#Headers],[2030]],Table11[#Headers],0))","v":33},{"$f":"INDEX(Table11[],MATCH(TEXT(hf_kommune[[#This Row],[Kommunenr]],\"0\"),Table11[Nr],0),MATCH(hf_kommune[[#Headers],[2031]],Table11[#Headers],0))","v":27},{"$f":"INDEX(Table11[],MATCH(TEXT(hf_kommune[[#This Row],[Kommunenr]],\"0\"),Table11[Nr],0),MATCH(hf_kommune[[#Headers],[2032]],Table11[#Headers],0))","v":21},{"$f":"INDEX(Table11[],MATCH(TEXT(hf_kommune[[#This Row],[Kommunenr]],\"0\"),Table11[Nr],0),MATCH(hf_kommune[[#Headers],[2033]],Table11[#Headers],0))","v":33},{"$f":"INDEX(Table11[],MATCH(TEXT(hf_kommune[[#This Row],[Kommunenr]],\"0\"),Table11[Nr],0),MATCH(hf_kommune[[#Headers],[2034]],Table11[#Headers],0))","v":24},{"$f":"INDEX(Table11[],MATCH(TEXT(hf_kommune[[#This Row],[Kommunenr]],\"0\"),Table11[Nr],0),MATCH(hf_kommune[[#Headers],[2035]],Table11[#Headers],0))","v":23},{"$f":"INDEX(Table11[],MATCH(TEXT(hf_kommune[[#This Row],[Kommunenr]],\"0\"),Table11[Nr],0),MATCH(hf_kommune[[#Headers],[2036]],Table11[#Headers],0))","v":23},{"$f":"INDEX(Table11[],MATCH(TEXT(hf_kommune[[#This Row],[Kommunenr]],\"0\"),Table11[Nr],0),MATCH(hf_kommune[[#Headers],[2037]],Table11[#Headers],0))","v":23},{"$f":"INDEX(Table11[],MATCH(TEXT(hf_kommune[[#This Row],[Kommunenr]],\"0\"),Table11[Nr],0),MATCH(hf_kommune[[#Headers],[2038]],Table11[#Headers],0))","v":32},{"$f":"INDEX(Table11[],MATCH(TEXT(hf_kommune[[#This Row],[Kommunenr]],\"0\"),Table11[Nr],0),MATCH(hf_kommune[[#Headers],[2039]],Table11[#Headers],0))","v":28},{"$f":"INDEX(Table11[],MATCH(TEXT(hf_kommune[[#This Row],[Kommunenr]],\"0\"),Table11[Nr],0),MATCH(hf_kommune[[#Headers],[2040]],Table11[#Headers],0))","v":25},2143,2150,2155,2157,2156,2156,2156,2156,2156,2157,2158,2159,2160,2162,2164,2165,2167,2167,2168]
[3443,"Vestre Toten","Helse Sør-Øst","Sykehuset Innlandet","Gjøvik",{"$f":"INDEX(Table11[],MATCH(TEXT(hf_kommune[[#This Row],[Kommunenr]],\"0\"),Table11[Nr],0),MATCH(hf_kommune[[#Headers],[2020]],Table11[#Headers],0))","v":183},{"$f":"INDEX(Table11[],MATCH(TEXT(hf_kommune[[#This Row],[Kommunenr]],\"0\"),Table11[Nr],0),MATCH(hf_kommune[[#Headers],[2021]],Table11[#Headers],0))","v":208},{"$f":"INDEX(Table11[],MATCH(TEXT(hf_kommune[[#This Row],[Kommunenr]],\"0\"),Table11[Nr],0),MATCH(hf_kommune[[#Headers],[2022]],Table11[#Headers],0))","v":201},{"$f":"INDEX(Table11[],MATCH(TEXT(hf_kommune[[#This Row],[Kommunenr]],\"0\"),Table11[Nr],0),MATCH(hf_kommune[[#Headers],[2023]],Table11[#Headers],0))","v":216},{"$f":"INDEX(Table11[],MATCH(TEXT(hf_kommune[[#This Row],[Kommunenr]],\"0\"),Table11[Nr],0),MATCH(hf_kommune[[#Headers],[2024]],Table11[#Headers],0))","v":198},{"$f":"INDEX(Table11[],MATCH(TEXT(hf_kommune[[#This Row],[Kommunenr]],\"0\"),Table11[Nr],0),MATCH(hf_kommune[[#Headers],[2025]],Table11[#Headers],0))","v":207},{"$f":"INDEX(Table11[],MATCH(TEXT(hf_kommune[[#This Row],[Kommunenr]],\"0\"),Table11[Nr],0),MATCH(hf_kommune[[#Headers],[2026]],Table11[#Headers],0))","v":220},{"$f":"INDEX(Table11[],MATCH(TEXT(hf_kommune[[#This Row],[Kommunenr]],\"0\"),Table11[Nr],0),MATCH(hf_kommune[[#Headers],[2027]],Table11[#Headers],0))","v":200},{"$f":"INDEX(Table11[],MATCH(TEXT(hf_kommune[[#This Row],[Kommunenr]],\"0\"),Table11[Nr],0),MATCH(hf_kommune[[#Headers],[2028]],Table11[#Headers],0))","v":225},{"$f":"INDEX(Table11[],MATCH(TEXT(hf_kommune[[#This Row],[Kommunenr]],\"0\"),Table11[Nr],0),MATCH(hf_kommune[[#Headers],[2029]],Table11[#Headers],0))","v":186},{"$f":"INDEX(Table11[],MATCH(TEXT(hf_kommune[[#This Row],[Kommunenr]],\"0\"),Table11[Nr],0),MATCH(hf_kommune[[#Headers],[2030]],Table11[#Headers],0))","v":210},{"$f":"INDEX(Table11[],MATCH(TEXT(hf_kommune[[#This Row],[Kommunenr]],\"0\"),Table11[Nr],0),MATCH(hf_kommune[[#Headers],[2031]],Table11[#Headers],0))","v":169},{"$f":"INDEX(Table11[],MATCH(TEXT(hf_kommune[[#This Row],[Kommunenr]],\"0\"),Table11[Nr],0),MATCH(hf_kommune[[#Headers],[2032]],Table11[#Headers],0))","v":191},{"$f":"INDEX(Table11[],MATCH(TEXT(hf_kommune[[#This Row],[Kommunenr]],\"0\"),Table11[Nr],0),MATCH(hf_kommune[[#Headers],[2033]],Table11[#Headers],0))","v":169},{"$f":"INDEX(Table11[],MATCH(TEXT(hf_kommune[[#This Row],[Kommunenr]],\"0\"),Table11[Nr],0),MATCH(hf_kommune[[#Headers],[2034]],Table11[#Headers],0))","v":157},{"$f":"INDEX(Table11[],MATCH(TEXT(hf_kommune[[#This Row],[Kommunenr]],\"0\"),Table11[Nr],0),MATCH(hf_kommune[[#Headers],[2035]],Table11[#Headers],0))","v":155},{"$f":"INDEX(Table11[],MATCH(TEXT(hf_kommune[[#This Row],[Kommunenr]],\"0\"),Table11[Nr],0),MATCH(hf_kommune[[#Headers],[2036]],Table11[#Headers],0))","v":180},{"$f":"INDEX(Table11[],MATCH(TEXT(hf_kommune[[#This Row],[Kommunenr]],\"0\"),Table11[Nr],0),MATCH(hf_kommune[[#Headers],[2037]],Table11[#Headers],0))","v":156},{"$f":"INDEX(Table11[],MATCH(TEXT(hf_kommune[[#This Row],[Kommunenr]],\"0\"),Table11[Nr],0),MATCH(hf_kommune[[#Headers],[2038]],Table11[#Headers],0))","v":158},{"$f":"INDEX(Table11[],MATCH(TEXT(hf_kommune[[#This Row],[Kommunenr]],\"0\"),Table11[Nr],0),MATCH(hf_kommune[[#Headers],[2039]],Table11[#Headers],0))","v":157},{"$f":"INDEX(Table11[],MATCH(TEXT(hf_kommune[[#This Row],[Kommunenr]],\"0\"),Table11[Nr],0),MATCH(hf_kommune[[#Headers],[2040]],Table11[#Headers],0))","v":167},13528,13573,13614,13651,13686,13722,13760,13799,13840,13881,13922,13964,14005,14046,14086,14126,14163,14198,14231]
[1860,"Vestvågøy","Helse Nord","Nordlandssykehuset","Lofoten",{"$f":"INDEX(Table11[],MATCH(TEXT(hf_kommune[[#This Row],[Kommunenr]],\"0\"),Table11[Nr],0),MATCH(hf_kommune[[#Headers],[2020]],Table11[#Headers],0))","v":140},{"$f":"INDEX(Table11[],MATCH(TEXT(hf_kommune[[#This Row],[Kommunenr]],\"0\"),Table11[Nr],0),MATCH(hf_kommune[[#Headers],[2021]],Table11[#Headers],0))","v":151},{"$f":"INDEX(Table11[],MATCH(TEXT(hf_kommune[[#This Row],[Kommunenr]],\"0\"),Table11[Nr],0),MATCH(hf_kommune[[#Headers],[2022]],Table11[#Headers],0))","v":159},{"$f":"INDEX(Table11[],MATCH(TEXT(hf_kommune[[#This Row],[Kommunenr]],\"0\"),Table11[Nr],0),MATCH(hf_kommune[[#Headers],[2023]],Table11[#Headers],0))","v":166},{"$f":"INDEX(Table11[],MATCH(TEXT(hf_kommune[[#This Row],[Kommunenr]],\"0\"),Table11[Nr],0),MATCH(hf_kommune[[#Headers],[2024]],Table11[#Headers],0))","v":170},{"$f":"INDEX(Table11[],MATCH(TEXT(hf_kommune[[#This Row],[Kommunenr]],\"0\"),Table11[Nr],0),MATCH(hf_kommune[[#Headers],[2025]],Table11[#Headers],0))","v":165},{"$f":"INDEX(Table11[],MATCH(TEXT(hf_kommune[[#This Row],[Kommunenr]],\"0\"),Table11[Nr],0),MATCH(hf_kommune[[#Headers],[2026]],Table11[#Headers],0))","v":146},{"$f":"INDEX(Table11[],MATCH(TEXT(hf_kommune[[#This Row],[Kommunenr]],\"0\"),Table11[Nr],0),MATCH(hf_kommune[[#Headers],[2027]],Table11[#Headers],0))","v":147},{"$f":"INDEX(Table11[],MATCH(TEXT(hf_kommune[[#This Row],[Kommunenr]],\"0\"),Table11[Nr],0),MATCH(hf_kommune[[#Headers],[2028]],Table11[#Headers],0))","v":152},{"$f":"INDEX(Table11[],MATCH(TEXT(hf_kommune[[#This Row],[Kommunenr]],\"0\"),Table11[Nr],0),MATCH(hf_kommune[[#Headers],[2029]],Table11[#Headers],0))","v":133},{"$f":"INDEX(Table11[],MATCH(TEXT(hf_kommune[[#This Row],[Kommunenr]],\"0\"),Table11[Nr],0),MATCH(hf_kommune[[#Headers],[2030]],Table11[#Headers],0))","v":142},{"$f":"INDEX(Table11[],MATCH(TEXT(hf_kommune[[#This Row],[Kommunenr]],\"0\"),Table11[Nr],0),MATCH(hf_kommune[[#Headers],[2031]],Table11[#Headers],0))","v":138},{"$f":"INDEX(Table11[],MATCH(TEXT(hf_kommune[[#This Row],[Kommunenr]],\"0\"),Table11[Nr],0),MATCH(hf_kommune[[#Headers],[2032]],Table11[#Headers],0))","v":117},{"$f":"INDEX(Table11[],MATCH(TEXT(hf_kommune[[#This Row],[Kommunenr]],\"0\"),Table11[Nr],0),MATCH(hf_kommune[[#Headers],[2033]],Table11[#Headers],0))","v":125},{"$f":"INDEX(Table11[],MATCH(TEXT(hf_kommune[[#This Row],[Kommunenr]],\"0\"),Table11[Nr],0),MATCH(hf_kommune[[#Headers],[2034]],Table11[#Headers],0))","v":123},{"$f":"INDEX(Table11[],MATCH(TEXT(hf_kommune[[#This Row],[Kommunenr]],\"0\"),Table11[Nr],0),MATCH(hf_kommune[[#Headers],[2035]],Table11[#Headers],0))","v":133},{"$f":"INDEX(Table11[],MATCH(TEXT(hf_kommune[[#This Row],[Kommunenr]],\"0\"),Table11[Nr],0),MATCH(hf_kommune[[#Headers],[2036]],Table11[#Headers],0))","v":142},{"$f":"INDEX(Table11[],MATCH(TEXT(hf_kommune[[#This Row],[Kommunenr]],\"0\"),Table11[Nr],0),MATCH(hf_kommune[[#Headers],[2037]],Table11[#Headers],0))","v":148},{"$f":"INDEX(Table11[],MATCH(TEXT(hf_kommune[[#This Row],[Kommunenr]],\"0\"),Table11[Nr],0),MATCH(hf_kommune[[#Headers],[2038]],Table11[#Headers],0))","v":125},{"$f":"INDEX(Table11[],MATCH(TEXT(hf_kommune[[#This Row],[Kommunenr]],\"0\"),Table11[Nr],0),MATCH(hf_kommune[[#Headers],[2039]],Table11[#Headers],0))","v":133},{"$f":"INDEX(Table11[],MATCH(TEXT(hf_kommune[[#This Row],[Kommunenr]],\"0\"),Table11[Nr],0),MATCH(hf_kommune[[#Headers],[2040]],Table11[#Headers],0))","v":147},11321,11298,11288,11291,11306,11321,11337,11353,11368,11383,11396,11410,11423,11436,11448,11460,11471,11480,11488]
[1816,"Vevelstad","Helse Nord","Helgelandssykehuset","Sandnessjøen",{"$f":"INDEX(Table11[],MATCH(TEXT(hf_kommune[[#This Row],[Kommunenr]],\"0\"),Table11[Nr],0),MATCH(hf_kommune[[#Headers],[2020]],Table11[#Headers],0))","v":11},{"$f":"INDEX(Table11[],MATCH(TEXT(hf_kommune[[#This Row],[Kommunenr]],\"0\"),Table11[Nr],0),MATCH(hf_kommune[[#Headers],[2021]],Table11[#Headers],0))","v":9},{"$f":"INDEX(Table11[],MATCH(TEXT(hf_kommune[[#This Row],[Kommunenr]],\"0\"),Table11[Nr],0),MATCH(hf_kommune[[#Headers],[2022]],Table11[#Headers],0))","v":4},{"$f":"INDEX(Table11[],MATCH(TEXT(hf_kommune[[#This Row],[Kommunenr]],\"0\"),Table11[Nr],0),MATCH(hf_kommune[[#Headers],[2023]],Table11[#Headers],0))","v":9},{"$f":"INDEX(Table11[],MATCH(TEXT(hf_kommune[[#This Row],[Kommunenr]],\"0\"),Table11[Nr],0),MATCH(hf_kommune[[#Headers],[2024]],Table11[#Headers],0))","v":9},{"$f":"INDEX(Table11[],MATCH(TEXT(hf_kommune[[#This Row],[Kommunenr]],\"0\"),Table11[Nr],0),MATCH(hf_kommune[[#Headers],[2025]],Table11[#Headers],0))","v":6},{"$f":"INDEX(Table11[],MATCH(TEXT(hf_kommune[[#This Row],[Kommunenr]],\"0\"),Table11[Nr],0),MATCH(hf_kommune[[#Headers],[2026]],Table11[#Headers],0))","v":3},{"$f":"INDEX(Table11[],MATCH(TEXT(hf_kommune[[#This Row],[Kommunenr]],\"0\"),Table11[Nr],0),MATCH(hf_kommune[[#Headers],[2027]],Table11[#Headers],0))","v":6},{"$f":"INDEX(Table11[],MATCH(TEXT(hf_kommune[[#This Row],[Kommunenr]],\"0\"),Table11[Nr],0),MATCH(hf_kommune[[#Headers],[2028]],Table11[#Headers],0))","v":6},{"$f":"INDEX(Table11[],MATCH(TEXT(hf_kommune[[#This Row],[Kommunenr]],\"0\"),Table11[Nr],0),MATCH(hf_kommune[[#Headers],[2029]],Table11[#Headers],0))","v":7},{"$f":"INDEX(Table11[],MATCH(TEXT(hf_kommune[[#This Row],[Kommunenr]],\"0\"),Table11[Nr],0),MATCH(hf_kommune[[#Headers],[2030]],Table11[#Headers],0))","v":10},{"$f":"INDEX(Table11[],MATCH(TEXT(hf_kommune[[#This Row],[Kommunenr]],\"0\"),Table11[Nr],0),MATCH(hf_kommune[[#Headers],[2031]],Table11[#Headers],0))","v":5},{"$f":"INDEX(Table11[],MATCH(TEXT(hf_kommune[[#This Row],[Kommunenr]],\"0\"),Table11[Nr],0),MATCH(hf_kommune[[#Headers],[2032]],Table11[#Headers],0))","v":6},{"$f":"INDEX(Table11[],MATCH(TEXT(hf_kommune[[#This Row],[Kommunenr]],\"0\"),Table11[Nr],0),MATCH(hf_kommune[[#Headers],[2033]],Table11[#Headers],0))","v":5},{"$f":"INDEX(Table11[],MATCH(TEXT(hf_kommune[[#This Row],[Kommunenr]],\"0\"),Table11[Nr],0),MATCH(hf_kommune[[#Headers],[2034]],Table11[#Headers],0))","v":5},{"$f":"INDEX(Table11[],MATCH(TEXT(hf_kommune[[#This Row],[Kommunenr]],\"0\"),Table11[Nr],0),MATCH(hf_kommune[[#Headers],[2035]],Table11[#Headers],0))","v":5},{"$f":"INDEX(Table11[],MATCH(TEXT(hf_kommune[[#This Row],[Kommunenr]],\"0\"),Table11[Nr],0),MATCH(hf_kommune[[#Headers],[2036]],Table11[#Headers],0))","v":6},{"$f":"INDEX(Table11[],MATCH(TEXT(hf_kommune[[#This Row],[Kommunenr]],\"0\"),Table11[Nr],0),MATCH(hf_kommune[[#Headers],[2037]],Table11[#Headers],0))","v":7},{"$f":"INDEX(Table11[],MATCH(TEXT(hf_kommune[[#This Row],[Kommunenr]],\"0\"),Table11[Nr],0),MATCH(hf_kommune[[#Headers],[2038]],Table11[#Headers],0))","v":5},{"$f":"INDEX(Table11[],MATCH(TEXT(hf_kommune[[#This Row],[Kommunenr]],\"0\"),Table11[Nr],0),MATCH(hf_kommune[[#Headers],[2039]],Table11[#Headers],0))","v":6},{"$f":"INDEX(Table11[],MATCH(TEXT(hf_kommune[[#This Row],[Kommunenr]],\"0\"),Table11[Nr],0),MATCH(hf_kommune[[#Headers],[2040]],Table11[#Headers],0))","v":5},455,454,455,457,460,464,467,469,472,474,476,478,479,481,482,483,484,485,486]
[4639,"Vik","Helse Vest","Helse Bergen","Haukeland",{"$f":"INDEX(Table11[],MATCH(TEXT(hf_kommune[[#This Row],[Kommunenr]],\"0\"),Table11[Nr],0),MATCH(hf_kommune[[#Headers],[2020]],Table11[#Headers],0))","v":34},{"$f":"INDEX(Table11[],MATCH(TEXT(hf_kommune[[#This Row],[Kommunenr]],\"0\"),Table11[Nr],0),MATCH(hf_kommune[[#Headers],[2021]],Table11[#Headers],0))","v":26},{"$f":"INDEX(Table11[],MATCH(TEXT(hf_kommune[[#This Row],[Kommunenr]],\"0\"),Table11[Nr],0),MATCH(hf_kommune[[#Headers],[2022]],Table11[#Headers],0))","v":28},{"$f":"INDEX(Table11[],MATCH(TEXT(hf_kommune[[#This Row],[Kommunenr]],\"0\"),Table11[Nr],0),MATCH(hf_kommune[[#Headers],[2023]],Table11[#Headers],0))","v":30},{"$f":"INDEX(Table11[],MATCH(TEXT(hf_kommune[[#This Row],[Kommunenr]],\"0\"),Table11[Nr],0),MATCH(hf_kommune[[#Headers],[2024]],Table11[#Headers],0))","v":31},{"$f":"INDEX(Table11[],MATCH(TEXT(hf_kommune[[#This Row],[Kommunenr]],\"0\"),Table11[Nr],0),MATCH(hf_kommune[[#Headers],[2025]],Table11[#Headers],0))","v":29},{"$f":"INDEX(Table11[],MATCH(TEXT(hf_kommune[[#This Row],[Kommunenr]],\"0\"),Table11[Nr],0),MATCH(hf_kommune[[#Headers],[2026]],Table11[#Headers],0))","v":40},{"$f":"INDEX(Table11[],MATCH(TEXT(hf_kommune[[#This Row],[Kommunenr]],\"0\"),Table11[Nr],0),MATCH(hf_kommune[[#Headers],[2027]],Table11[#Headers],0))","v":31},{"$f":"INDEX(Table11[],MATCH(TEXT(hf_kommune[[#This Row],[Kommunenr]],\"0\"),Table11[Nr],0),MATCH(hf_kommune[[#Headers],[2028]],Table11[#Headers],0))","v":24},{"$f":"INDEX(Table11[],MATCH(TEXT(hf_kommune[[#This Row],[Kommunenr]],\"0\"),Table11[Nr],0),MATCH(hf_kommune[[#Headers],[2029]],Table11[#Headers],0))","v":37},{"$f":"INDEX(Table11[],MATCH(TEXT(hf_kommune[[#This Row],[Kommunenr]],\"0\"),Table11[Nr],0),MATCH(hf_kommune[[#Headers],[2030]],Table11[#Headers],0))","v":29},{"$f":"INDEX(Table11[],MATCH(TEXT(hf_kommune[[#This Row],[Kommunenr]],\"0\"),Table11[Nr],0),MATCH(hf_kommune[[#Headers],[2031]],Table11[#Headers],0))","v":35},{"$f":"INDEX(Table11[],MATCH(TEXT(hf_kommune[[#This Row],[Kommunenr]],\"0\"),Table11[Nr],0),MATCH(hf_kommune[[#Headers],[2032]],Table11[#Headers],0))","v":27},{"$f":"INDEX(Table11[],MATCH(TEXT(hf_kommune[[#This Row],[Kommunenr]],\"0\"),Table11[Nr],0),MATCH(hf_kommune[[#Headers],[2033]],Table11[#Headers],0))","v":28},{"$f":"INDEX(Table11[],MATCH(TEXT(hf_kommune[[#This Row],[Kommunenr]],\"0\"),Table11[Nr],0),MATCH(hf_kommune[[#Headers],[2034]],Table11[#Headers],0))","v":32},{"$f":"INDEX(Table11[],MATCH(TEXT(hf_kommune[[#This Row],[Kommunenr]],\"0\"),Table11[Nr],0),MATCH(hf_kommune[[#Headers],[2035]],Table11[#Headers],0))","v":22},{"$f":"INDEX(Table11[],MATCH(TEXT(hf_kommune[[#This Row],[Kommunenr]],\"0\"),Table11[Nr],0),MATCH(hf_kommune[[#Headers],[2036]],Table11[#Headers],0))","v":24},{"$f":"INDEX(Table11[],MATCH(TEXT(hf_kommune[[#This Row],[Kommunenr]],\"0\"),Table11[Nr],0),MATCH(hf_kommune[[#Headers],[2037]],Table11[#Headers],0))","v":27},{"$f":"INDEX(Table11[],MATCH(TEXT(hf_kommune[[#This Row],[Kommunenr]],\"0\"),Table11[Nr],0),MATCH(hf_kommune[[#Headers],[2038]],Table11[#Headers],0))","v":21},{"$f":"INDEX(Table11[],MATCH(TEXT(hf_kommune[[#This Row],[Kommunenr]],\"0\"),Table11[Nr],0),MATCH(hf_kommune[[#Headers],[2039]],Table11[#Headers],0))","v":25},{"$f":"INDEX(Table11[],MATCH(TEXT(hf_kommune[[#This Row],[Kommunenr]],\"0\"),Table11[Nr],0),MATCH(hf_kommune[[#Headers],[2040]],Table11[#Headers],0))","v":23},2577,2554,2534,2516,2501,2486,2471,2457,2443,2429,2415,2401,2387,2373,2359,2346,2332,2318,2303]
[1160,"Vindafjord","Helse Vest","Helse Fonna","Haugesund",{"$f":"INDEX(Table11[],MATCH(TEXT(hf_kommune[[#This Row],[Kommunenr]],\"0\"),Table11[Nr],0),MATCH(hf_kommune[[#Headers],[2020]],Table11[#Headers],0))","v":118},{"$f":"INDEX(Table11[],MATCH(TEXT(hf_kommune[[#This Row],[Kommunenr]],\"0\"),Table11[Nr],0),MATCH(hf_kommune[[#Headers],[2021]],Table11[#Headers],0))","v":121},{"$f":"INDEX(Table11[],MATCH(TEXT(hf_kommune[[#This Row],[Kommunenr]],\"0\"),Table11[Nr],0),MATCH(hf_kommune[[#Headers],[2022]],Table11[#Headers],0))","v":96},{"$f":"INDEX(Table11[],MATCH(TEXT(hf_kommune[[#This Row],[Kommunenr]],\"0\"),Table11[Nr],0),MATCH(hf_kommune[[#Headers],[2023]],Table11[#Headers],0))","v":119},{"$f":"INDEX(Table11[],MATCH(TEXT(hf_kommune[[#This Row],[Kommunenr]],\"0\"),Table11[Nr],0),MATCH(hf_kommune[[#Headers],[2024]],Table11[#Headers],0))","v":125},{"$f":"INDEX(Table11[],MATCH(TEXT(hf_kommune[[#This Row],[Kommunenr]],\"0\"),Table11[Nr],0),MATCH(hf_kommune[[#Headers],[2025]],Table11[#Headers],0))","v":114},{"$f":"INDEX(Table11[],MATCH(TEXT(hf_kommune[[#This Row],[Kommunenr]],\"0\"),Table11[Nr],0),MATCH(hf_kommune[[#Headers],[2026]],Table11[#Headers],0))","v":108},{"$f":"INDEX(Table11[],MATCH(TEXT(hf_kommune[[#This Row],[Kommunenr]],\"0\"),Table11[Nr],0),MATCH(hf_kommune[[#Headers],[2027]],Table11[#Headers],0))","v":132},{"$f":"INDEX(Table11[],MATCH(TEXT(hf_kommune[[#This Row],[Kommunenr]],\"0\"),Table11[Nr],0),MATCH(hf_kommune[[#Headers],[2028]],Table11[#Headers],0))","v":111},{"$f":"INDEX(Table11[],MATCH(TEXT(hf_kommune[[#This Row],[Kommunenr]],\"0\"),Table11[Nr],0),MATCH(hf_kommune[[#Headers],[2029]],Table11[#Headers],0))","v":120},{"$f":"INDEX(Table11[],MATCH(TEXT(hf_kommune[[#This Row],[Kommunenr]],\"0\"),Table11[Nr],0),MATCH(hf_kommune[[#Headers],[2030]],Table11[#Headers],0))","v":99},{"$f":"INDEX(Table11[],MATCH(TEXT(hf_kommune[[#This Row],[Kommunenr]],\"0\"),Table11[Nr],0),MATCH(hf_kommune[[#Headers],[2031]],Table11[#Headers],0))","v":114},{"$f":"INDEX(Table11[],MATCH(TEXT(hf_kommune[[#This Row],[Kommunenr]],\"0\"),Table11[Nr],0),MATCH(hf_kommune[[#Headers],[2032]],Table11[#Headers],0))","v":118},{"$f":"INDEX(Table11[],MATCH(TEXT(hf_kommune[[#This Row],[Kommunenr]],\"0\"),Table11[Nr],0),MATCH(hf_kommune[[#Headers],[2033]],Table11[#Headers],0))","v":107},{"$f":"INDEX(Table11[],MATCH(TEXT(hf_kommune[[#This Row],[Kommunenr]],\"0\"),Table11[Nr],0),MATCH(hf_kommune[[#Headers],[2034]],Table11[#Headers],0))","v":125},{"$f":"INDEX(Table11[],MATCH(TEXT(hf_kommune[[#This Row],[Kommunenr]],\"0\"),Table11[Nr],0),MATCH(hf_kommune[[#Headers],[2035]],Table11[#Headers],0))","v":111},{"$f":"INDEX(Table11[],MATCH(TEXT(hf_kommune[[#This Row],[Kommunenr]],\"0\"),Table11[Nr],0),MATCH(hf_kommune[[#Headers],[2036]],Table11[#Headers],0))","v":106},{"$f":"INDEX(Table11[],MATCH(TEXT(hf_kommune[[#This Row],[Kommunenr]],\"0\"),Table11[Nr],0),MATCH(hf_kommune[[#Headers],[2037]],Table11[#Headers],0))","v":126},{"$f":"INDEX(Table11[],MATCH(TEXT(hf_kommune[[#This Row],[Kommunenr]],\"0\"),Table11[Nr],0),MATCH(hf_kommune[[#Headers],[2038]],Table11[#Headers],0))","v":114},{"$f":"INDEX(Table11[],MATCH(TEXT(hf_kommune[[#This Row],[Kommunenr]],\"0\"),Table11[Nr],0),MATCH(hf_kommune[[#Headers],[2039]],Table11[#Headers],0))","v":115},{"$f":"INDEX(Table11[],MATCH(TEXT(hf_kommune[[#This Row],[Kommunenr]],\"0\"),Table11[Nr],0),MATCH(hf_kommune[[#Headers],[2040]],Table11[#Headers],0))","v":118},8595,8562,8542,8537,8545,8554,8564,8575,8585,8596,8606,8616,8627,8637,8648,8659,8668,8677,8686]
[3825,"Vinje","Helse Sør-Øst","Sykehuset Telemark","Notodden",{"$f":"INDEX(Table11[],MATCH(TEXT(hf_kommune[[#This Row],[Kommunenr]],\"0\"),Table11[Nr],0),MATCH(hf_kommune[[#Headers],[2020]],Table11[#Headers],0))","v":56},{"$f":"INDEX(Table11[],MATCH(TEXT(hf_kommune[[#This Row],[Kommunenr]],\"0\"),Table11[Nr],0),MATCH(hf_kommune[[#Headers],[2021]],Table11[#Headers],0))","v":52},{"$f":"INDEX(Table11[],MATCH(TEXT(hf_kommune[[#This Row],[Kommunenr]],\"0\"),Table11[Nr],0),MATCH(hf_kommune[[#Headers],[2022]],Table11[#Headers],0))","v":64},{"$f":"INDEX(Table11[],MATCH(TEXT(hf_kommune[[#This Row],[Kommunenr]],\"0\"),Table11[Nr],0),MATCH(hf_kommune[[#Headers],[2023]],Table11[#Headers],0))","v":52},{"$f":"INDEX(Table11[],MATCH(TEXT(hf_kommune[[#This Row],[Kommunenr]],\"0\"),Table11[Nr],0),MATCH(hf_kommune[[#Headers],[2024]],Table11[#Headers],0))","v":46},{"$f":"INDEX(Table11[],MATCH(TEXT(hf_kommune[[#This Row],[Kommunenr]],\"0\"),Table11[Nr],0),MATCH(hf_kommune[[#Headers],[2025]],Table11[#Headers],0))","v":53},{"$f":"INDEX(Table11[],MATCH(TEXT(hf_kommune[[#This Row],[Kommunenr]],\"0\"),Table11[Nr],0),MATCH(hf_kommune[[#Headers],[2026]],Table11[#Headers],0))","v":60},{"$f":"INDEX(Table11[],MATCH(TEXT(hf_kommune[[#This Row],[Kommunenr]],\"0\"),Table11[Nr],0),MATCH(hf_kommune[[#Headers],[2027]],Table11[#Headers],0))","v":54},{"$f":"INDEX(Table11[],MATCH(TEXT(hf_kommune[[#This Row],[Kommunenr]],\"0\"),Table11[Nr],0),MATCH(hf_kommune[[#Headers],[2028]],Table11[#Headers],0))","v":54},{"$f":"INDEX(Table11[],MATCH(TEXT(hf_kommune[[#This Row],[Kommunenr]],\"0\"),Table11[Nr],0),MATCH(hf_kommune[[#Headers],[2029]],Table11[#Headers],0))","v":49},{"$f":"INDEX(Table11[],MATCH(TEXT(hf_kommune[[#This Row],[Kommunenr]],\"0\"),Table11[Nr],0),MATCH(hf_kommune[[#Headers],[2030]],Table11[#Headers],0))","v":47},{"$f":"INDEX(Table11[],MATCH(TEXT(hf_kommune[[#This Row],[Kommunenr]],\"0\"),Table11[Nr],0),MATCH(hf_kommune[[#Headers],[2031]],Table11[#Headers],0))","v":47},{"$f":"INDEX(Table11[],MATCH(TEXT(hf_kommune[[#This Row],[Kommunenr]],\"0\"),Table11[Nr],0),MATCH(hf_kommune[[#Headers],[2032]],Table11[#Headers],0))","v":41},{"$f":"INDEX(Table11[],MATCH(TEXT(hf_kommune[[#This Row],[Kommunenr]],\"0\"),Table11[Nr],0),MATCH(hf_kommune[[#Headers],[2033]],Table11[#Headers],0))","v":50},{"$f":"INDEX(Table11[],MATCH(TEXT(hf_kommune[[#This Row],[Kommunenr]],\"0\"),Table11[Nr],0),MATCH(hf_kommune[[#Headers],[2034]],Table11[#Headers],0))","v":36},{"$f":"INDEX(Table11[],MATCH(TEXT(hf_kommune[[#This Row],[Kommunenr]],\"0\"),Table11[Nr],0),MATCH(hf_kommune[[#Headers],[2035]],Table11[#Headers],0))","v":43},{"$f":"INDEX(Table11[],MATCH(TEXT(hf_kommune[[#This Row],[Kommunenr]],\"0\"),Table11[Nr],0),MATCH(hf_kommune[[#Headers],[2036]],Table11[#Headers],0))","v":41},{"$f":"INDEX(Table11[],MATCH(TEXT(hf_kommune[[#This Row],[Kommunenr]],\"0\"),Table11[Nr],0),MATCH(hf_kommune[[#Headers],[2037]],Table11[#Headers],0))","v":46},{"$f":"INDEX(Table11[],MATCH(TEXT(hf_kommune[[#This Row],[Kommunenr]],\"0\"),Table11[Nr],0),MATCH(hf_kommune[[#Headers],[2038]],Table11[#Headers],0))","v":53},{"$f":"INDEX(Table11[],MATCH(TEXT(hf_kommune[[#This Row],[Kommunenr]],\"0\"),Table11[Nr],0),MATCH(hf_kommune[[#Headers],[2039]],Table11[#Headers],0))","v":50},{"$f":"INDEX(Table11[],MATCH(TEXT(hf_kommune[[#This Row],[Kommunenr]],\"0\"),Table11[Nr],0),MATCH(hf_kommune[[#Headers],[2040]],Table11[#Headers],0))","v":49},3666,3664,3664,3664,3666,3667,3670,3672,3674,3675,3677,3678,3679,3679,3679,3679,3679,3678,3677]
[1577,"Volda","Helse Midt-Norge","Helse Møre og Romsdal","Volda",{"$f":"INDEX(Table11[],MATCH(TEXT(hf_kommune[[#This Row],[Kommunenr]],\"0\"),Table11[Nr],0),MATCH(hf_kommune[[#Headers],[2020]],Table11[#Headers],0))","v":132},{"$f":"INDEX(Table11[],MATCH(TEXT(hf_kommune[[#This Row],[Kommunenr]],\"0\"),Table11[Nr],0),MATCH(hf_kommune[[#Headers],[2021]],Table11[#Headers],0))","v":117},{"$f":"INDEX(Table11[],MATCH(TEXT(hf_kommune[[#This Row],[Kommunenr]],\"0\"),Table11[Nr],0),MATCH(hf_kommune[[#Headers],[2022]],Table11[#Headers],0))","v":119},{"$f":"INDEX(Table11[],MATCH(TEXT(hf_kommune[[#This Row],[Kommunenr]],\"0\"),Table11[Nr],0),MATCH(hf_kommune[[#Headers],[2023]],Table11[#Headers],0))","v":129},{"$f":"INDEX(Table11[],MATCH(TEXT(hf_kommune[[#This Row],[Kommunenr]],\"0\"),Table11[Nr],0),MATCH(hf_kommune[[#Headers],[2024]],Table11[#Headers],0))","v":118},{"$f":"INDEX(Table11[],MATCH(TEXT(hf_kommune[[#This Row],[Kommunenr]],\"0\"),Table11[Nr],0),MATCH(hf_kommune[[#Headers],[2025]],Table11[#Headers],0))","v":142},{"$f":"INDEX(Table11[],MATCH(TEXT(hf_kommune[[#This Row],[Kommunenr]],\"0\"),Table11[Nr],0),MATCH(hf_kommune[[#Headers],[2026]],Table11[#Headers],0))","v":135},{"$f":"INDEX(Table11[],MATCH(TEXT(hf_kommune[[#This Row],[Kommunenr]],\"0\"),Table11[Nr],0),MATCH(hf_kommune[[#Headers],[2027]],Table11[#Headers],0))","v":118},{"$f":"INDEX(Table11[],MATCH(TEXT(hf_kommune[[#This Row],[Kommunenr]],\"0\"),Table11[Nr],0),MATCH(hf_kommune[[#Headers],[2028]],Table11[#Headers],0))","v":131},{"$f":"INDEX(Table11[],MATCH(TEXT(hf_kommune[[#This Row],[Kommunenr]],\"0\"),Table11[Nr],0),MATCH(hf_kommune[[#Headers],[2029]],Table11[#Headers],0))","v":109},{"$f":"INDEX(Table11[],MATCH(TEXT(hf_kommune[[#This Row],[Kommunenr]],\"0\"),Table11[Nr],0),MATCH(hf_kommune[[#Headers],[2030]],Table11[#Headers],0))","v":120},{"$f":"INDEX(Table11[],MATCH(TEXT(hf_kommune[[#This Row],[Kommunenr]],\"0\"),Table11[Nr],0),MATCH(hf_kommune[[#Headers],[2031]],Table11[#Headers],0))","v":118},{"$f":"INDEX(Table11[],MATCH(TEXT(hf_kommune[[#This Row],[Kommunenr]],\"0\"),Table11[Nr],0),MATCH(hf_kommune[[#Headers],[2032]],Table11[#Headers],0))","v":99},{"$f":"INDEX(Table11[],MATCH(TEXT(hf_kommune[[#This Row],[Kommunenr]],\"0\"),Table11[Nr],0),MATCH(hf_kommune[[#Headers],[2033]],Table11[#Headers],0))","v":102},{"$f":"INDEX(Table11[],MATCH(TEXT(hf_kommune[[#This Row],[Kommunenr]],\"0\"),Table11[Nr],0),MATCH(hf_kommune[[#Headers],[2034]],Table11[#Headers],0))","v":118},{"$f":"INDEX(Table11[],MATCH(TEXT(hf_kommune[[#This Row],[Kommunenr]],\"0\"),Table11[Nr],0),MATCH(hf_kommune[[#Headers],[2035]],Table11[#Headers],0))","v":119},{"$f":"INDEX(Table11[],MATCH(TEXT(hf_kommune[[#This Row],[Kommunenr]],\"0\"),Table11[Nr],0),MATCH(hf_kommune[[#Headers],[2036]],Table11[#Headers],0))","v":103},{"$f":"INDEX(Table11[],MATCH(TEXT(hf_kommune[[#This Row],[Kommunenr]],\"0\"),Table11[Nr],0),MATCH(hf_kommune[[#Headers],[2037]],Table11[#Headers],0))","v":119},{"$f":"INDEX(Table11[],MATCH(TEXT(hf_kommune[[#This Row],[Kommunenr]],\"0\"),Table11[Nr],0),MATCH(hf_kommune[[#Headers],[2038]],Table11[#Headers],0))","v":108},{"$f":"INDEX(Table11[],MATCH(TEXT(hf_kommune[[#This Row],[Kommunenr]],\"0\"),Table11[Nr],0),MATCH(hf_kommune[[#Headers],[2039]],Table11[#Headers],0))","v":132},{"$f":"INDEX(Table11[],MATCH(TEXT(hf_kommune[[#This Row],[Kommunenr]],\"0\"),Table11[Nr],0),MATCH(hf_kommune[[#Headers],[2040]],Table11[#Headers],0))","v":122},10607,10674,10730,10778,10818,10862,10907,10955,11004,11054,11104,11155,11204,11252,11298,11340,11376,11408,11435]
[4621,"Voss","Helse Vest","Helse Bergen","Voss",{"$f":"INDEX(Table11[],MATCH(TEXT(hf_kommune[[#This Row],[Kommunenr]],\"0\"),Table11[Nr],0),MATCH(hf_kommune[[#Headers],[2020]],Table11[#Headers],0))","v":212},{"$f":"INDEX(Table11[],MATCH(TEXT(hf_kommune[[#This Row],[Kommunenr]],\"0\"),Table11[Nr],0),MATCH(hf_kommune[[#Headers],[2021]],Table11[#Headers],0))","v":196},{"$f":"INDEX(Table11[],MATCH(TEXT(hf_kommune[[#This Row],[Kommunenr]],\"0\"),Table11[Nr],0),MATCH(hf_kommune[[#Headers],[2022]],Table11[#Headers],0))","v":206},{"$f":"INDEX(Table11[],MATCH(TEXT(hf_kommune[[#This Row],[Kommunenr]],\"0\"),Table11[Nr],0),MATCH(hf_kommune[[#Headers],[2023]],Table11[#Headers],0))","v":188},{"$f":"INDEX(Table11[],MATCH(TEXT(hf_kommune[[#This Row],[Kommunenr]],\"0\"),Table11[Nr],0),MATCH(hf_kommune[[#Headers],[2024]],Table11[#Headers],0))","v":206},{"$f":"INDEX(Table11[],MATCH(TEXT(hf_kommune[[#This Row],[Kommunenr]],\"0\"),Table11[Nr],0),MATCH(hf_kommune[[#Headers],[2025]],Table11[#Headers],0))","v":214},{"$f":"INDEX(Table11[],MATCH(TEXT(hf_kommune[[#This Row],[Kommunenr]],\"0\"),Table11[Nr],0),MATCH(hf_kommune[[#Headers],[2026]],Table11[#Headers],0))","v":192},{"$f":"INDEX(Table11[],MATCH(TEXT(hf_kommune[[#This Row],[Kommunenr]],\"0\"),Table11[Nr],0),MATCH(hf_kommune[[#Headers],[2027]],Table11[#Headers],0))","v":203},{"$f":"INDEX(Table11[],MATCH(TEXT(hf_kommune[[#This Row],[Kommunenr]],\"0\"),Table11[Nr],0),MATCH(hf_kommune[[#Headers],[2028]],Table11[#Headers],0))","v":177},{"$f":"INDEX(Table11[],MATCH(TEXT(hf_kommune[[#This Row],[Kommunenr]],\"0\"),Table11[Nr],0),MATCH(hf_kommune[[#Headers],[2029]],Table11[#Headers],0))","v":197},{"$f":"INDEX(Table11[],MATCH(TEXT(hf_kommune[[#This Row],[Kommunenr]],\"0\"),Table11[Nr],0),MATCH(hf_kommune[[#Headers],[2030]],Table11[#Headers],0))","v":224},{"$f":"INDEX(Table11[],MATCH(TEXT(hf_kommune[[#This Row],[Kommunenr]],\"0\"),Table11[Nr],0),MATCH(hf_kommune[[#Headers],[2031]],Table11[#Headers],0))","v":181},{"$f":"INDEX(Table11[],MATCH(TEXT(hf_kommune[[#This Row],[Kommunenr]],\"0\"),Table11[Nr],0),MATCH(hf_kommune[[#Headers],[2032]],Table11[#Headers],0))","v":157},{"$f":"INDEX(Table11[],MATCH(TEXT(hf_kommune[[#This Row],[Kommunenr]],\"0\"),Table11[Nr],0),MATCH(hf_kommune[[#Headers],[2033]],Table11[#Headers],0))","v":167},{"$f":"INDEX(Table11[],MATCH(TEXT(hf_kommune[[#This Row],[Kommunenr]],\"0\"),Table11[Nr],0),MATCH(hf_kommune[[#Headers],[2034]],Table11[#Headers],0))","v":203},{"$f":"INDEX(Table11[],MATCH(TEXT(hf_kommune[[#This Row],[Kommunenr]],\"0\"),Table11[Nr],0),MATCH(hf_kommune[[#Headers],[2035]],Table11[#Headers],0))","v":194},{"$f":"INDEX(Table11[],MATCH(TEXT(hf_kommune[[#This Row],[Kommunenr]],\"0\"),Table11[Nr],0),MATCH(hf_kommune[[#Headers],[2036]],Table11[#Headers],0))","v":189},{"$f":"INDEX(Table11[],MATCH(TEXT(hf_kommune[[#This Row],[Kommunenr]],\"0\"),Table11[Nr],0),MATCH(hf_kommune[[#Headers],[2037]],Table11[#Headers],0))","v":198},{"$f":"INDEX(Table11[],MATCH(TEXT(hf_kommune[[#This Row],[Kommunenr]],\"0\"),Table11[Nr],0),MATCH(hf_kommune[[#Headers],[2038]],Table11[#Headers],0))","v":187},{"$f":"INDEX(Table11[],MATCH(TEXT(hf_kommune[[#This Row],[Kommunenr]],\"0\"),Table11[Nr],0),MATCH(hf_kommune[[#Headers],[2039]],Table11[#Headers],0))","v":217},{"$f":"INDEX(Table11[],MATCH(TEXT(hf_kommune[[#This Row],[Kommunenr]],\"0\"),Table11[Nr],0),MATCH(hf_kommune[[#Headers],[2040]],Table11[#Headers],0))","v":206},15703,15712,15726,15746,15771,15797,15824,15851,15878,15904,15929,15954,15977,15999,16021,16040,16057,16072,16086]
[1857,"Værøy","Helse Nord","Nordlandssykehuset","Bodø",{"$f":"INDEX(Table11[],MATCH(TEXT(hf_kommune[[#This Row],[Kommunenr]],\"0\"),Table11[Nr],0),MATCH(hf_kommune[[#Headers],[2020]],Table11[#Headers],0))","v":13},{"$f":"INDEX(Table11[],MATCH(TEXT(hf_kommune[[#This Row],[Kommunenr]],\"0\"),Table11[Nr],0),MATCH(hf_kommune[[#Headers],[2021]],Table11[#Headers],0))","v":8},{"$f":"INDEX(Table11[],MATCH(TEXT(hf_kommune[[#This Row],[Kommunenr]],\"0\"),Table11[Nr],0),MATCH(hf_kommune[[#Headers],[2022]],Table11[#Headers],0))","v":15},{"$f":"INDEX(Table11[],MATCH(TEXT(hf_kommune[[#This Row],[Kommunenr]],\"0\"),Table11[Nr],0),MATCH(hf_kommune[[#Headers],[2023]],Table11[#Headers],0))","v":10},{"$f":"INDEX(Table11[],MATCH(TEXT(hf_kommune[[#This Row],[Kommunenr]],\"0\"),Table11[Nr],0),MATCH(hf_kommune[[#Headers],[2024]],Table11[#Headers],0))","v":11},{"$f":"INDEX(Table11[],MATCH(TEXT(hf_kommune[[#This Row],[Kommunenr]],\"0\"),Table11[Nr],0),MATCH(hf_kommune[[#Headers],[2025]],Table11[#Headers],0))","v":14},{"$f":"INDEX(Table11[],MATCH(TEXT(hf_kommune[[#This Row],[Kommunenr]],\"0\"),Table11[Nr],0),MATCH(hf_kommune[[#Headers],[2026]],Table11[#Headers],0))","v":13},{"$f":"INDEX(Table11[],MATCH(TEXT(hf_kommune[[#This Row],[Kommunenr]],\"0\"),Table11[Nr],0),MATCH(hf_kommune[[#Headers],[2027]],Table11[#Headers],0))","v":12},{"$f":"INDEX(Table11[],MATCH(TEXT(hf_kommune[[#This Row],[Kommunenr]],\"0\"),Table11[Nr],0),MATCH(hf_kommune[[#Headers],[2028]],Table11[#Headers],0))","v":12},{"$f":"INDEX(Table11[],MATCH(TEXT(hf_kommune[[#This Row],[Kommunenr]],\"0\"),Table11[Nr],0),MATCH(hf_kommune[[#Headers],[2029]],Table11[#Headers],0))","v":10},{"$f":"INDEX(Table11[],MATCH(TEXT(hf_kommune[[#This Row],[Kommunenr]],\"0\"),Table11[Nr],0),MATCH(hf_kommune[[#Headers],[2030]],Table11[#Headers],0))","v":10},{"$f":"INDEX(Table11[],MATCH(TEXT(hf_kommune[[#This Row],[Kommunenr]],\"0\"),Table11[Nr],0),MATCH(hf_kommune[[#Headers],[2031]],Table11[#Headers],0))","v":11},{"$f":"INDEX(Table11[],MATCH(TEXT(hf_kommune[[#This Row],[Kommunenr]],\"0\"),Table11[Nr],0),MATCH(hf_kommune[[#Headers],[2032]],Table11[#Headers],0))","v":5},{"$f":"INDEX(Table11[],MATCH(TEXT(hf_kommune[[#This Row],[Kommunenr]],\"0\"),Table11[Nr],0),MATCH(hf_kommune[[#Headers],[2033]],Table11[#Headers],0))","v":6},{"$f":"INDEX(Table11[],MATCH(TEXT(hf_kommune[[#This Row],[Kommunenr]],\"0\"),Table11[Nr],0),MATCH(hf_kommune[[#Headers],[2034]],Table11[#Headers],0))","v":11},{"$f":"INDEX(Table11[],MATCH(TEXT(hf_kommune[[#This Row],[Kommunenr]],\"0\"),Table11[Nr],0),MATCH(hf_kommune[[#Headers],[2035]],Table11[#Headers],0))","v":8},{"$f":"INDEX(Table11[],MATCH(TEXT(hf_kommune[[#This Row],[Kommunenr]],\"0\"),Table11[Nr],0),MATCH(hf_kommune[[#Headers],[2036]],Table11[#Headers],0))","v":7},{"$f":"INDEX(Table11[],MATCH(TEXT(hf_kommune[[#This Row],[Kommunenr]],\"0\"),Table11[Nr],0),MATCH(hf_kommune[[#Headers],[2037]],Table11[#Headers],0))","v":9},{"$f":"INDEX(Table11[],MATCH(TEXT(hf_kommune[[#This Row],[Kommunenr]],\"0\"),Table11[Nr],0),MATCH(hf_kommune[[#Headers],[2038]],Table11[#Headers],0))","v":8},{"$f":"INDEX(Table11[],MATCH(TEXT(hf_kommune[[#This Row],[Kommunenr]],\"0\"),Table11[Nr],0),MATCH(hf_kommune[[#Headers],[2039]],Table11[#Headers],0))","v":7},{"$f":"INDEX(Table11[],MATCH(TEXT(hf_kommune[[#This Row],[Kommunenr]],\"0\"),Table11[Nr],0),MATCH(hf_kommune[[#Headers],[2040]],Table11[#Headers],0))","v":10},724,724,725,725,727,727,728,728,729,729,730,730,730,730,731,731,732,732,732]
[1865,"Vågan","Helse Nord","Nordlandssykehuset","Lofoten",{"$f":"INDEX(Table11[],MATCH(TEXT(hf_kommune[[#This Row],[Kommunenr]],\"0\"),Table11[Nr],0),MATCH(hf_kommune[[#Headers],[2020]],Table11[#Headers],0))","v":128},{"$f":"INDEX(Table11[],MATCH(TEXT(hf_kommune[[#This Row],[Kommunenr]],\"0\"),Table11[Nr],0),MATCH(hf_kommune[[#Headers],[2021]],Table11[#Headers],0))","v":140},{"$f":"INDEX(Table11[],MATCH(TEXT(hf_kommune[[#This Row],[Kommunenr]],\"0\"),Table11[Nr],0),MATCH(hf_kommune[[#Headers],[2022]],Table11[#Headers],0))","v":126},{"$f":"INDEX(Table11[],MATCH(TEXT(hf_kommune[[#This Row],[Kommunenr]],\"0\"),Table11[Nr],0),MATCH(hf_kommune[[#Headers],[2023]],Table11[#Headers],0))","v":140},{"$f":"INDEX(Table11[],MATCH(TEXT(hf_kommune[[#This Row],[Kommunenr]],\"0\"),Table11[Nr],0),MATCH(hf_kommune[[#Headers],[2024]],Table11[#Headers],0))","v":145},{"$f":"INDEX(Table11[],MATCH(TEXT(hf_kommune[[#This Row],[Kommunenr]],\"0\"),Table11[Nr],0),MATCH(hf_kommune[[#Headers],[2025]],Table11[#Headers],0))","v":139},{"$f":"INDEX(Table11[],MATCH(TEXT(hf_kommune[[#This Row],[Kommunenr]],\"0\"),Table11[Nr],0),MATCH(hf_kommune[[#Headers],[2026]],Table11[#Headers],0))","v":136},{"$f":"INDEX(Table11[],MATCH(TEXT(hf_kommune[[#This Row],[Kommunenr]],\"0\"),Table11[Nr],0),MATCH(hf_kommune[[#Headers],[2027]],Table11[#Headers],0))","v":134},{"$f":"INDEX(Table11[],MATCH(TEXT(hf_kommune[[#This Row],[Kommunenr]],\"0\"),Table11[Nr],0),MATCH(hf_kommune[[#Headers],[2028]],Table11[#Headers],0))","v":122},{"$f":"INDEX(Table11[],MATCH(TEXT(hf_kommune[[#This Row],[Kommunenr]],\"0\"),Table11[Nr],0),MATCH(hf_kommune[[#Headers],[2029]],Table11[#Headers],0))","v":129},{"$f":"INDEX(Table11[],MATCH(TEXT(hf_kommune[[#This Row],[Kommunenr]],\"0\"),Table11[Nr],0),MATCH(hf_kommune[[#Headers],[2030]],Table11[#Headers],0))","v":133},{"$f":"INDEX(Table11[],MATCH(TEXT(hf_kommune[[#This Row],[Kommunenr]],\"0\"),Table11[Nr],0),MATCH(hf_kommune[[#Headers],[2031]],Table11[#Headers],0))","v":130},{"$f":"INDEX(Table11[],MATCH(TEXT(hf_kommune[[#This Row],[Kommunenr]],\"0\"),Table11[Nr],0),MATCH(hf_kommune[[#Headers],[2032]],Table11[#Headers],0))","v":130},{"$f":"INDEX(Table11[],MATCH(TEXT(hf_kommune[[#This Row],[Kommunenr]],\"0\"),Table11[Nr],0),MATCH(hf_kommune[[#Headers],[2033]],Table11[#Headers],0))","v":138},{"$f":"INDEX(Table11[],MATCH(TEXT(hf_kommune[[#This Row],[Kommunenr]],\"0\"),Table11[Nr],0),MATCH(hf_kommune[[#Headers],[2034]],Table11[#Headers],0))","v":132},{"$f":"INDEX(Table11[],MATCH(TEXT(hf_kommune[[#This Row],[Kommunenr]],\"0\"),Table11[Nr],0),MATCH(hf_kommune[[#Headers],[2035]],Table11[#Headers],0))","v":138},{"$f":"INDEX(Table11[],MATCH(TEXT(hf_kommune[[#This Row],[Kommunenr]],\"0\"),Table11[Nr],0),MATCH(hf_kommune[[#Headers],[2036]],Table11[#Headers],0))","v":148},{"$f":"INDEX(Table11[],MATCH(TEXT(hf_kommune[[#This Row],[Kommunenr]],\"0\"),Table11[Nr],0),MATCH(hf_kommune[[#Headers],[2037]],Table11[#Headers],0))","v":116},{"$f":"INDEX(Table11[],MATCH(TEXT(hf_kommune[[#This Row],[Kommunenr]],\"0\"),Table11[Nr],0),MATCH(hf_kommune[[#Headers],[2038]],Table11[#Headers],0))","v":135},{"$f":"INDEX(Table11[],MATCH(TEXT(hf_kommune[[#This Row],[Kommunenr]],\"0\"),Table11[Nr],0),MATCH(hf_kommune[[#Headers],[2039]],Table11[#Headers],0))","v":137},{"$f":"INDEX(Table11[],MATCH(TEXT(hf_kommune[[#This Row],[Kommunenr]],\"0\"),Table11[Nr],0),MATCH(hf_kommune[[#Headers],[2040]],Table11[#Headers],0))","v":135},9611,9635,9655,9674,9692,9711,9730,9748,9765,9781,9795,9808,9820,9830,9839,9846,9853,9858,9861]
[3435,"Vågå","Helse Sør-Øst","Sykehuset Innlandet","Lillehammer",{"$f":"INDEX(Table11[],MATCH(TEXT(hf_kommune[[#This Row],[Kommunenr]],\"0\"),Table11[Nr],0),MATCH(hf_kommune[[#Headers],[2020]],Table11[#Headers],0))","v":54},{"$f":"INDEX(Table11[],MATCH(TEXT(hf_kommune[[#This Row],[Kommunenr]],\"0\"),Table11[Nr],0),MATCH(hf_kommune[[#Headers],[2021]],Table11[#Headers],0))","v":52},{"$f":"INDEX(Table11[],MATCH(TEXT(hf_kommune[[#This Row],[Kommunenr]],\"0\"),Table11[Nr],0),MATCH(hf_kommune[[#Headers],[2022]],Table11[#Headers],0))","v":54},{"$f":"INDEX(Table11[],MATCH(TEXT(hf_kommune[[#This Row],[Kommunenr]],\"0\"),Table11[Nr],0),MATCH(hf_kommune[[#Headers],[2023]],Table11[#Headers],0))","v":42},{"$f":"INDEX(Table11[],MATCH(TEXT(hf_kommune[[#This Row],[Kommunenr]],\"0\"),Table11[Nr],0),MATCH(hf_kommune[[#Headers],[2024]],Table11[#Headers],0))","v":47},{"$f":"INDEX(Table11[],MATCH(TEXT(hf_kommune[[#This Row],[Kommunenr]],\"0\"),Table11[Nr],0),MATCH(hf_kommune[[#Headers],[2025]],Table11[#Headers],0))","v":53},{"$f":"INDEX(Table11[],MATCH(TEXT(hf_kommune[[#This Row],[Kommunenr]],\"0\"),Table11[Nr],0),MATCH(hf_kommune[[#Headers],[2026]],Table11[#Headers],0))","v":44},{"$f":"INDEX(Table11[],MATCH(TEXT(hf_kommune[[#This Row],[Kommunenr]],\"0\"),Table11[Nr],0),MATCH(hf_kommune[[#Headers],[2027]],Table11[#Headers],0))","v":49},{"$f":"INDEX(Table11[],MATCH(TEXT(hf_kommune[[#This Row],[Kommunenr]],\"0\"),Table11[Nr],0),MATCH(hf_kommune[[#Headers],[2028]],Table11[#Headers],0))","v":48},{"$f":"INDEX(Table11[],MATCH(TEXT(hf_kommune[[#This Row],[Kommunenr]],\"0\"),Table11[Nr],0),MATCH(hf_kommune[[#Headers],[2029]],Table11[#Headers],0))","v":46},{"$f":"INDEX(Table11[],MATCH(TEXT(hf_kommune[[#This Row],[Kommunenr]],\"0\"),Table11[Nr],0),MATCH(hf_kommune[[#Headers],[2030]],Table11[#Headers],0))","v":43},{"$f":"INDEX(Table11[],MATCH(TEXT(hf_kommune[[#This Row],[Kommunenr]],\"0\"),Table11[Nr],0),MATCH(hf_kommune[[#Headers],[2031]],Table11[#Headers],0))","v":41},{"$f":"INDEX(Table11[],MATCH(TEXT(hf_kommune[[#This Row],[Kommunenr]],\"0\"),Table11[Nr],0),MATCH(hf_kommune[[#Headers],[2032]],Table11[#Headers],0))","v":51},{"$f":"INDEX(Table11[],MATCH(TEXT(hf_kommune[[#This Row],[Kommunenr]],\"0\"),Table11[Nr],0),MATCH(hf_kommune[[#Headers],[2033]],Table11[#Headers],0))","v":44},{"$f":"INDEX(Table11[],MATCH(TEXT(hf_kommune[[#This Row],[Kommunenr]],\"0\"),Table11[Nr],0),MATCH(hf_kommune[[#Headers],[2034]],Table11[#Headers],0))","v":36},{"$f":"INDEX(Table11[],MATCH(TEXT(hf_kommune[[#This Row],[Kommunenr]],\"0\"),Table11[Nr],0),MATCH(hf_kommune[[#Headers],[2035]],Table11[#Headers],0))","v":42},{"$f":"INDEX(Table11[],MATCH(TEXT(hf_kommune[[#This Row],[Kommunenr]],\"0\"),Table11[Nr],0),MATCH(hf_kommune[[#Headers],[2036]],Table11[#Headers],0))","v":41},{"$f":"INDEX(Table11[],MATCH(TEXT(hf_kommune[[#This Row],[Kommunenr]],\"0\"),Table11[Nr],0),MATCH(hf_kommune[[#Headers],[2037]],Table11[#Headers],0))","v":42},{"$f":"INDEX(Table11[],MATCH(TEXT(hf_kommune[[#This Row],[Kommunenr]],\"0\"),Table11[Nr],0),MATCH(hf_kommune[[#Headers],[2038]],Table11[#Headers],0))","v":40},{"$f":"INDEX(Table11[],MATCH(TEXT(hf_kommune[[#This Row],[Kommunenr]],\"0\"),Table11[Nr],0),MATCH(hf_kommune[[#Headers],[2039]],Table11[#Headers],0))","v":43},{"$f":"INDEX(Table11[],MATCH(TEXT(hf_kommune[[#This Row],[Kommunenr]],\"0\"),Table11[Nr],0),MATCH(hf_kommune[[#Headers],[2040]],Table11[#Headers],0))","v":41},3487,3450,3418,3390,3366,3343,3321,3300,3280,3260,3242,3225,3208,3193,3178,3164,3149,3136,3122]
[3419,"Våler (Innlandet)","Helse Sør-Øst","Sykehuset Innlandet","Elverum",{"$f":"INDEX(Table11[],MATCH(TEXT(hf_kommune[[#This Row],[Kommunenr]],\"0\"),Table11[Nr],0),MATCH(hf_kommune[[#Headers],[2020]],Table11[#Headers],0))","v":57},{"$f":"INDEX(Table11[],MATCH(TEXT(hf_kommune[[#This Row],[Kommunenr]],\"0\"),Table11[Nr],0),MATCH(hf_kommune[[#Headers],[2021]],Table11[#Headers],0))","v":56},{"$f":"INDEX(Table11[],MATCH(TEXT(hf_kommune[[#This Row],[Kommunenr]],\"0\"),Table11[Nr],0),MATCH(hf_kommune[[#Headers],[2022]],Table11[#Headers],0))","v":52},{"$f":"INDEX(Table11[],MATCH(TEXT(hf_kommune[[#This Row],[Kommunenr]],\"0\"),Table11[Nr],0),MATCH(hf_kommune[[#Headers],[2023]],Table11[#Headers],0))","v":78},{"$f":"INDEX(Table11[],MATCH(TEXT(hf_kommune[[#This Row],[Kommunenr]],\"0\"),Table11[Nr],0),MATCH(hf_kommune[[#Headers],[2024]],Table11[#Headers],0))","v":60},{"$f":"INDEX(Table11[],MATCH(TEXT(hf_kommune[[#This Row],[Kommunenr]],\"0\"),Table11[Nr],0),MATCH(hf_kommune[[#Headers],[2025]],Table11[#Headers],0))","v":65},{"$f":"INDEX(Table11[],MATCH(TEXT(hf_kommune[[#This Row],[Kommunenr]],\"0\"),Table11[Nr],0),MATCH(hf_kommune[[#Headers],[2026]],Table11[#Headers],0))","v":69},{"$f":"INDEX(Table11[],MATCH(TEXT(hf_kommune[[#This Row],[Kommunenr]],\"0\"),Table11[Nr],0),MATCH(hf_kommune[[#Headers],[2027]],Table11[#Headers],0))","v":65},{"$f":"INDEX(Table11[],MATCH(TEXT(hf_kommune[[#This Row],[Kommunenr]],\"0\"),Table11[Nr],0),MATCH(hf_kommune[[#Headers],[2028]],Table11[#Headers],0))","v":63},{"$f":"INDEX(Table11[],MATCH(TEXT(hf_kommune[[#This Row],[Kommunenr]],\"0\"),Table11[Nr],0),MATCH(hf_kommune[[#Headers],[2029]],Table11[#Headers],0))","v":52},{"$f":"INDEX(Table11[],MATCH(TEXT(hf_kommune[[#This Row],[Kommunenr]],\"0\"),Table11[Nr],0),MATCH(hf_kommune[[#Headers],[2030]],Table11[#Headers],0))","v":41},{"$f":"INDEX(Table11[],MATCH(TEXT(hf_kommune[[#This Row],[Kommunenr]],\"0\"),Table11[Nr],0),MATCH(hf_kommune[[#Headers],[2031]],Table11[#Headers],0))","v":51},{"$f":"INDEX(Table11[],MATCH(TEXT(hf_kommune[[#This Row],[Kommunenr]],\"0\"),Table11[Nr],0),MATCH(hf_kommune[[#Headers],[2032]],Table11[#Headers],0))","v":52},{"$f":"INDEX(Table11[],MATCH(TEXT(hf_kommune[[#This Row],[Kommunenr]],\"0\"),Table11[Nr],0),MATCH(hf_kommune[[#Headers],[2033]],Table11[#Headers],0))","v":49},{"$f":"INDEX(Table11[],MATCH(TEXT(hf_kommune[[#This Row],[Kommunenr]],\"0\"),Table11[Nr],0),MATCH(hf_kommune[[#Headers],[2034]],Table11[#Headers],0))","v":38},{"$f":"INDEX(Table11[],MATCH(TEXT(hf_kommune[[#This Row],[Kommunenr]],\"0\"),Table11[Nr],0),MATCH(hf_kommune[[#Headers],[2035]],Table11[#Headers],0))","v":49},{"$f":"INDEX(Table11[],MATCH(TEXT(hf_kommune[[#This Row],[Kommunenr]],\"0\"),Table11[Nr],0),MATCH(hf_kommune[[#Headers],[2036]],Table11[#Headers],0))","v":45},{"$f":"INDEX(Table11[],MATCH(TEXT(hf_kommune[[#This Row],[Kommunenr]],\"0\"),Table11[Nr],0),MATCH(hf_kommune[[#Headers],[2037]],Table11[#Headers],0))","v":46},{"$f":"INDEX(Table11[],MATCH(TEXT(hf_kommune[[#This Row],[Kommunenr]],\"0\"),Table11[Nr],0),MATCH(hf_kommune[[#Headers],[2038]],Table11[#Headers],0))","v":42},{"$f":"INDEX(Table11[],MATCH(TEXT(hf_kommune[[#This Row],[Kommunenr]],\"0\"),Table11[Nr],0),MATCH(hf_kommune[[#Headers],[2039]],Table11[#Headers],0))","v":47},{"$f":"INDEX(Table11[],MATCH(TEXT(hf_kommune[[#This Row],[Kommunenr]],\"0\"),Table11[Nr],0),MATCH(hf_kommune[[#Headers],[2040]],Table11[#Headers],0))","v":43},3635,3630,3627,3628,3632,3637,3641,3644,3648,3652,3655,3659,3662,3665,3667,3670,3672,3673,3674]
[3018,"Våler (Viken)","Helse Sør-Øst","Sykehuset Østfold","Kalnes",{"$f":"INDEX(Table11[],MATCH(TEXT(hf_kommune[[#This Row],[Kommunenr]],\"0\"),Table11[Nr],0),MATCH(hf_kommune[[#Headers],[2020]],Table11[#Headers],0))","v":63},{"$f":"INDEX(Table11[],MATCH(TEXT(hf_kommune[[#This Row],[Kommunenr]],\"0\"),Table11[Nr],0),MATCH(hf_kommune[[#Headers],[2021]],Table11[#Headers],0))","v":82},{"$f":"INDEX(Table11[],MATCH(TEXT(hf_kommune[[#This Row],[Kommunenr]],\"0\"),Table11[Nr],0),MATCH(hf_kommune[[#Headers],[2022]],Table11[#Headers],0))","v":64},{"$f":"INDEX(Table11[],MATCH(TEXT(hf_kommune[[#This Row],[Kommunenr]],\"0\"),Table11[Nr],0),MATCH(hf_kommune[[#Headers],[2023]],Table11[#Headers],0))","v":101},{"$f":"INDEX(Table11[],MATCH(TEXT(hf_kommune[[#This Row],[Kommunenr]],\"0\"),Table11[Nr],0),MATCH(hf_kommune[[#Headers],[2024]],Table11[#Headers],0))","v":102},{"$f":"INDEX(Table11[],MATCH(TEXT(hf_kommune[[#This Row],[Kommunenr]],\"0\"),Table11[Nr],0),MATCH(hf_kommune[[#Headers],[2025]],Table11[#Headers],0))","v":90},{"$f":"INDEX(Table11[],MATCH(TEXT(hf_kommune[[#This Row],[Kommunenr]],\"0\"),Table11[Nr],0),MATCH(hf_kommune[[#Headers],[2026]],Table11[#Headers],0))","v":89},{"$f":"INDEX(Table11[],MATCH(TEXT(hf_kommune[[#This Row],[Kommunenr]],\"0\"),Table11[Nr],0),MATCH(hf_kommune[[#Headers],[2027]],Table11[#Headers],0))","v":107},{"$f":"INDEX(Table11[],MATCH(TEXT(hf_kommune[[#This Row],[Kommunenr]],\"0\"),Table11[Nr],0),MATCH(hf_kommune[[#Headers],[2028]],Table11[#Headers],0))","v":88},{"$f":"INDEX(Table11[],MATCH(TEXT(hf_kommune[[#This Row],[Kommunenr]],\"0\"),Table11[Nr],0),MATCH(hf_kommune[[#Headers],[2029]],Table11[#Headers],0))","v":91},{"$f":"INDEX(Table11[],MATCH(TEXT(hf_kommune[[#This Row],[Kommunenr]],\"0\"),Table11[Nr],0),MATCH(hf_kommune[[#Headers],[2030]],Table11[#Headers],0))","v":95},{"$f":"INDEX(Table11[],MATCH(TEXT(hf_kommune[[#This Row],[Kommunenr]],\"0\"),Table11[Nr],0),MATCH(hf_kommune[[#Headers],[2031]],Table11[#Headers],0))","v":97},{"$f":"INDEX(Table11[],MATCH(TEXT(hf_kommune[[#This Row],[Kommunenr]],\"0\"),Table11[Nr],0),MATCH(hf_kommune[[#Headers],[2032]],Table11[#Headers],0))","v":73},{"$f":"INDEX(Table11[],MATCH(TEXT(hf_kommune[[#This Row],[Kommunenr]],\"0\"),Table11[Nr],0),MATCH(hf_kommune[[#Headers],[2033]],Table11[#Headers],0))","v":89},{"$f":"INDEX(Table11[],MATCH(TEXT(hf_kommune[[#This Row],[Kommunenr]],\"0\"),Table11[Nr],0),MATCH(hf_kommune[[#Headers],[2034]],Table11[#Headers],0))","v":90},{"$f":"INDEX(Table11[],MATCH(TEXT(hf_kommune[[#This Row],[Kommunenr]],\"0\"),Table11[Nr],0),MATCH(hf_kommune[[#Headers],[2035]],Table11[#Headers],0))","v":102},{"$f":"INDEX(Table11[],MATCH(TEXT(hf_kommune[[#This Row],[Kommunenr]],\"0\"),Table11[Nr],0),MATCH(hf_kommune[[#Headers],[2036]],Table11[#Headers],0))","v":98},{"$f":"INDEX(Table11[],MATCH(TEXT(hf_kommune[[#This Row],[Kommunenr]],\"0\"),Table11[Nr],0),MATCH(hf_kommune[[#Headers],[2037]],Table11[#Headers],0))","v":98},{"$f":"INDEX(Table11[],MATCH(TEXT(hf_kommune[[#This Row],[Kommunenr]],\"0\"),Table11[Nr],0),MATCH(hf_kommune[[#Headers],[2038]],Table11[#Headers],0))","v":102},{"$f":"INDEX(Table11[],MATCH(TEXT(hf_kommune[[#This Row],[Kommunenr]],\"0\"),Table11[Nr],0),MATCH(hf_kommune[[#Headers],[2039]],Table11[#Headers],0))","v":111},{"$f":"INDEX(Table11[],MATCH(TEXT(hf_kommune[[#This Row],[Kommunenr]],\"0\"),Table11[Nr],0),MATCH(hf_kommune[[#Headers],[2040]],Table11[#Headers],0))","v":110},6116,6280,6424,6548,6655,6758,6856,6951,7042,7129,7212,7293,7370,7445,7518,7588,7657,7724,7788]
[1868,"Øksnes","Helse Nord","Nordlandssykehuset","Stokmarknes",{"$f":"INDEX(Table11[],MATCH(TEXT(hf_kommune[[#This Row],[Kommunenr]],\"0\"),Table11[Nr],0),MATCH(hf_kommune[[#Headers],[2020]],Table11[#Headers],0))","v":64},{"$f":"INDEX(Table11[],MATCH(TEXT(hf_kommune[[#This Row],[Kommunenr]],\"0\"),Table11[Nr],0),MATCH(hf_kommune[[#Headers],[2021]],Table11[#Headers],0))","v":62},{"$f":"INDEX(Table11[],MATCH(TEXT(hf_kommune[[#This Row],[Kommunenr]],\"0\"),Table11[Nr],0),MATCH(hf_kommune[[#Headers],[2022]],Table11[#Headers],0))","v":93},{"$f":"INDEX(Table11[],MATCH(TEXT(hf_kommune[[#This Row],[Kommunenr]],\"0\"),Table11[Nr],0),MATCH(hf_kommune[[#Headers],[2023]],Table11[#Headers],0))","v":73},{"$f":"INDEX(Table11[],MATCH(TEXT(hf_kommune[[#This Row],[Kommunenr]],\"0\"),Table11[Nr],0),MATCH(hf_kommune[[#Headers],[2024]],Table11[#Headers],0))","v":65},{"$f":"INDEX(Table11[],MATCH(TEXT(hf_kommune[[#This Row],[Kommunenr]],\"0\"),Table11[Nr],0),MATCH(hf_kommune[[#Headers],[2025]],Table11[#Headers],0))","v":79},{"$f":"INDEX(Table11[],MATCH(TEXT(hf_kommune[[#This Row],[Kommunenr]],\"0\"),Table11[Nr],0),MATCH(hf_kommune[[#Headers],[2026]],Table11[#Headers],0))","v":61},{"$f":"INDEX(Table11[],MATCH(TEXT(hf_kommune[[#This Row],[Kommunenr]],\"0\"),Table11[Nr],0),MATCH(hf_kommune[[#Headers],[2027]],Table11[#Headers],0))","v":79},{"$f":"INDEX(Table11[],MATCH(TEXT(hf_kommune[[#This Row],[Kommunenr]],\"0\"),Table11[Nr],0),MATCH(hf_kommune[[#Headers],[2028]],Table11[#Headers],0))","v":58},{"$f":"INDEX(Table11[],MATCH(TEXT(hf_kommune[[#This Row],[Kommunenr]],\"0\"),Table11[Nr],0),MATCH(hf_kommune[[#Headers],[2029]],Table11[#Headers],0))","v":67},{"$f":"INDEX(Table11[],MATCH(TEXT(hf_kommune[[#This Row],[Kommunenr]],\"0\"),Table11[Nr],0),MATCH(hf_kommune[[#Headers],[2030]],Table11[#Headers],0))","v":69},{"$f":"INDEX(Table11[],MATCH(TEXT(hf_kommune[[#This Row],[Kommunenr]],\"0\"),Table11[Nr],0),MATCH(hf_kommune[[#Headers],[2031]],Table11[#Headers],0))","v":51},{"$f":"INDEX(Table11[],MATCH(TEXT(hf_kommune[[#This Row],[Kommunenr]],\"0\"),Table11[Nr],0),MATCH(hf_kommune[[#Headers],[2032]],Table11[#Headers],0))","v":55},{"$f":"INDEX(Table11[],MATCH(TEXT(hf_kommune[[#This Row],[Kommunenr]],\"0\"),Table11[Nr],0),MATCH(hf_kommune[[#Headers],[2033]],Table11[#Headers],0))","v":49},{"$f":"INDEX(Table11[],MATCH(TEXT(hf_kommune[[#This Row],[Kommunenr]],\"0\"),Table11[Nr],0),MATCH(hf_kommune[[#Headers],[2034]],Table11[#Headers],0))","v":55},{"$f":"INDEX(Table11[],MATCH(TEXT(hf_kommune[[#This Row],[Kommunenr]],\"0\"),Table11[Nr],0),MATCH(hf_kommune[[#Headers],[2035]],Table11[#Headers],0))","v":48},{"$f":"INDEX(Table11[],MATCH(TEXT(hf_kommune[[#This Row],[Kommunenr]],\"0\"),Table11[Nr],0),MATCH(hf_kommune[[#Headers],[2036]],Table11[#Headers],0))","v":56},{"$f":"INDEX(Table11[],MATCH(TEXT(hf_kommune[[#This Row],[Kommunenr]],\"0\"),Table11[Nr],0),MATCH(hf_kommune[[#Headers],[2037]],Table11[#Headers],0))","v":45},{"$f":"INDEX(Table11[],MATCH(TEXT(hf_kommune[[#This Row],[Kommunenr]],\"0\"),Table11[Nr],0),MATCH(hf_kommune[[#Headers],[2038]],Table11[#Headers],0))","v":54},{"$f":"INDEX(Table11[],MATCH(TEXT(hf_kommune[[#This Row],[Kommunenr]],\"0\"),Table11[Nr],0),MATCH(hf_kommune[[#Headers],[2039]],Table11[#Headers],0))","v":58},{"$f":"INDEX(Table11[],MATCH(TEXT(hf_kommune[[#This Row],[Kommunenr]],\"0\"),Table11[Nr],0),MATCH(hf_kommune[[#Headers],[2040]],Table11[#Headers],0))","v":59},4336,4315,4298,4286,4279,4271,4265,4260,4255,4250,4244,4239,4234,4229,4224,4220,4215,4211,4206]
[5057,"Ørland","Helse Midt-Norge","St. Olavs hospital","St. Olav - Orkdal",{"$f":"INDEX(Table11[],MATCH(TEXT(hf_kommune[[#This Row],[Kommunenr]],\"0\"),Table11[Nr],0),MATCH(hf_kommune[[#Headers],[2020]],Table11[#Headers],0))","v":122},{"$f":"INDEX(Table11[],MATCH(TEXT(hf_kommune[[#This Row],[Kommunenr]],\"0\"),Table11[Nr],0),MATCH(hf_kommune[[#Headers],[2021]],Table11[#Headers],0))","v":138},{"$f":"INDEX(Table11[],MATCH(TEXT(hf_kommune[[#This Row],[Kommunenr]],\"0\"),Table11[Nr],0),MATCH(hf_kommune[[#Headers],[2022]],Table11[#Headers],0))","v":161},{"$f":"INDEX(Table11[],MATCH(TEXT(hf_kommune[[#This Row],[Kommunenr]],\"0\"),Table11[Nr],0),MATCH(hf_kommune[[#Headers],[2023]],Table11[#Headers],0))","v":146},{"$f":"INDEX(Table11[],MATCH(TEXT(hf_kommune[[#This Row],[Kommunenr]],\"0\"),Table11[Nr],0),MATCH(hf_kommune[[#Headers],[2024]],Table11[#Headers],0))","v":142},{"$f":"INDEX(Table11[],MATCH(TEXT(hf_kommune[[#This Row],[Kommunenr]],\"0\"),Table11[Nr],0),MATCH(hf_kommune[[#Headers],[2025]],Table11[#Headers],0))","v":160},{"$f":"INDEX(Table11[],MATCH(TEXT(hf_kommune[[#This Row],[Kommunenr]],\"0\"),Table11[Nr],0),MATCH(hf_kommune[[#Headers],[2026]],Table11[#Headers],0))","v":133},{"$f":"INDEX(Table11[],MATCH(TEXT(hf_kommune[[#This Row],[Kommunenr]],\"0\"),Table11[Nr],0),MATCH(hf_kommune[[#Headers],[2027]],Table11[#Headers],0))","v":136},{"$f":"INDEX(Table11[],MATCH(TEXT(hf_kommune[[#This Row],[Kommunenr]],\"0\"),Table11[Nr],0),MATCH(hf_kommune[[#Headers],[2028]],Table11[#Headers],0))","v":127},{"$f":"INDEX(Table11[],MATCH(TEXT(hf_kommune[[#This Row],[Kommunenr]],\"0\"),Table11[Nr],0),MATCH(hf_kommune[[#Headers],[2029]],Table11[#Headers],0))","v":127},{"$f":"INDEX(Table11[],MATCH(TEXT(hf_kommune[[#This Row],[Kommunenr]],\"0\"),Table11[Nr],0),MATCH(hf_kommune[[#Headers],[2030]],Table11[#Headers],0))","v":125},{"$f":"INDEX(Table11[],MATCH(TEXT(hf_kommune[[#This Row],[Kommunenr]],\"0\"),Table11[Nr],0),MATCH(hf_kommune[[#Headers],[2031]],Table11[#Headers],0))","v":111},{"$f":"INDEX(Table11[],MATCH(TEXT(hf_kommune[[#This Row],[Kommunenr]],\"0\"),Table11[Nr],0),MATCH(hf_kommune[[#Headers],[2032]],Table11[#Headers],0))","v":109},{"$f":"INDEX(Table11[],MATCH(TEXT(hf_kommune[[#This Row],[Kommunenr]],\"0\"),Table11[Nr],0),MATCH(hf_kommune[[#Headers],[2033]],Table11[#Headers],0))","v":119},{"$f":"INDEX(Table11[],MATCH(TEXT(hf_kommune[[#This Row],[Kommunenr]],\"0\"),Table11[Nr],0),MATCH(hf_kommune[[#Headers],[2034]],Table11[#Headers],0))","v":104},{"$f":"INDEX(Table11[],MATCH(TEXT(hf_kommune[[#This Row],[Kommunenr]],\"0\"),Table11[Nr],0),MATCH(hf_kommune[[#Headers],[2035]],Table11[#Headers],0))","v":112},{"$f":"INDEX(Table11[],MATCH(TEXT(hf_kommune[[#This Row],[Kommunenr]],\"0\"),Table11[Nr],0),MATCH(hf_kommune[[#Headers],[2036]],Table11[#Headers],0))","v":109},{"$f":"INDEX(Table11[],MATCH(TEXT(hf_kommune[[#This Row],[Kommunenr]],\"0\"),Table11[Nr],0),MATCH(hf_kommune[[#Headers],[2037]],Table11[#Headers],0))","v":115},{"$f":"INDEX(Table11[],MATCH(TEXT(hf_kommune[[#This Row],[Kommunenr]],\"0\"),Table11[Nr],0),MATCH(hf_kommune[[#Headers],[2038]],Table11[#Headers],0))","v":107},{"$f":"INDEX(Table11[],MATCH(TEXT(hf_kommune[[#This Row],[Kommunenr]],\"0\"),Table11[Nr],0),MATCH(hf_kommune[[#Headers],[2039]],Table11[#Headers],0))","v":119},{"$f":"INDEX(Table11[],MATCH(TEXT(hf_kommune[[#This Row],[Kommunenr]],\"0\"),Table11[Nr],0),MATCH(hf_kommune[[#Headers],[2040]],Table11[#Headers],0))","v":118},10323,10343,10371,10406,10449,10492,10534,10573,10611,10647,10681,10714,10744,10774,10803,10831,10859,10885,10911]
[1520,"Ørsta","Helse Midt-Norge","Helse Møre og Romsdal","Volda",{"$f":"INDEX(Table11[],MATCH(TEXT(hf_kommune[[#This Row],[Kommunenr]],\"0\"),Table11[Nr],0),MATCH(hf_kommune[[#Headers],[2020]],Table11[#Headers],0))","v":134},{"$f":"INDEX(Table11[],MATCH(TEXT(hf_kommune[[#This Row],[Kommunenr]],\"0\"),Table11[Nr],0),MATCH(hf_kommune[[#Headers],[2021]],Table11[#Headers],0))","v":136},{"$f":"INDEX(Table11[],MATCH(TEXT(hf_kommune[[#This Row],[Kommunenr]],\"0\"),Table11[Nr],0),MATCH(hf_kommune[[#Headers],[2022]],Table11[#Headers],0))","v":141},{"$f":"INDEX(Table11[],MATCH(TEXT(hf_kommune[[#This Row],[Kommunenr]],\"0\"),Table11[Nr],0),MATCH(hf_kommune[[#Headers],[2023]],Table11[#Headers],0))","v":155},{"$f":"INDEX(Table11[],MATCH(TEXT(hf_kommune[[#This Row],[Kommunenr]],\"0\"),Table11[Nr],0),MATCH(hf_kommune[[#Headers],[2024]],Table11[#Headers],0))","v":129},{"$f":"INDEX(Table11[],MATCH(TEXT(hf_kommune[[#This Row],[Kommunenr]],\"0\"),Table11[Nr],0),MATCH(hf_kommune[[#Headers],[2025]],Table11[#Headers],0))","v":143},{"$f":"INDEX(Table11[],MATCH(TEXT(hf_kommune[[#This Row],[Kommunenr]],\"0\"),Table11[Nr],0),MATCH(hf_kommune[[#Headers],[2026]],Table11[#Headers],0))","v":122},{"$f":"INDEX(Table11[],MATCH(TEXT(hf_kommune[[#This Row],[Kommunenr]],\"0\"),Table11[Nr],0),MATCH(hf_kommune[[#Headers],[2027]],Table11[#Headers],0))","v":144},{"$f":"INDEX(Table11[],MATCH(TEXT(hf_kommune[[#This Row],[Kommunenr]],\"0\"),Table11[Nr],0),MATCH(hf_kommune[[#Headers],[2028]],Table11[#Headers],0))","v":157},{"$f":"INDEX(Table11[],MATCH(TEXT(hf_kommune[[#This Row],[Kommunenr]],\"0\"),Table11[Nr],0),MATCH(hf_kommune[[#Headers],[2029]],Table11[#Headers],0))","v":123},{"$f":"INDEX(Table11[],MATCH(TEXT(hf_kommune[[#This Row],[Kommunenr]],\"0\"),Table11[Nr],0),MATCH(hf_kommune[[#Headers],[2030]],Table11[#Headers],0))","v":132},{"$f":"INDEX(Table11[],MATCH(TEXT(hf_kommune[[#This Row],[Kommunenr]],\"0\"),Table11[Nr],0),MATCH(hf_kommune[[#Headers],[2031]],Table11[#Headers],0))","v":140},{"$f":"INDEX(Table11[],MATCH(TEXT(hf_kommune[[#This Row],[Kommunenr]],\"0\"),Table11[Nr],0),MATCH(hf_kommune[[#Headers],[2032]],Table11[#Headers],0))","v":130},{"$f":"INDEX(Table11[],MATCH(TEXT(hf_kommune[[#This Row],[Kommunenr]],\"0\"),Table11[Nr],0),MATCH(hf_kommune[[#Headers],[2033]],Table11[#Headers],0))","v":120},{"$f":"INDEX(Table11[],MATCH(TEXT(hf_kommune[[#This Row],[Kommunenr]],\"0\"),Table11[Nr],0),MATCH(hf_kommune[[#Headers],[2034]],Table11[#Headers],0))","v":104},{"$f":"INDEX(Table11[],MATCH(TEXT(hf_kommune[[#This Row],[Kommunenr]],\"0\"),Table11[Nr],0),MATCH(hf_kommune[[#Headers],[2035]],Table11[#Headers],0))","v":124},{"$f":"INDEX(Table11[],MATCH(TEXT(hf_kommune[[#This Row],[Kommunenr]],\"0\"),Table11[Nr],0),MATCH(hf_kommune[[#Headers],[2036]],Table11[#Headers],0))","v":135},{"$f":"INDEX(Table11[],MATCH(TEXT(hf_kommune[[#This Row],[Kommunenr]],\"0\"),Table11[Nr],0),MATCH(hf_kommune[[#Headers],[2037]],Table11[#Headers],0))","v":137},{"$f":"INDEX(Table11[],MATCH(TEXT(hf_kommune[[#This Row],[Kommunenr]],\"0\"),Table11[Nr],0),MATCH(hf_kommune[[#Headers],[2038]],Table11[#Headers],0))","v":144},{"$f":"INDEX(Table11[],MATCH(TEXT(hf_kommune[[#This Row],[Kommunenr]],\"0\"),Table11[Nr],0),MATCH(hf_kommune[[#Headers],[2039]],Table11[#Headers],0))","v":130},{"$f":"INDEX(Table11[],MATCH(TEXT(hf_kommune[[#This Row],[Kommunenr]],\"0\"),Table11[Nr],0),MATCH(hf_kommune[[#Headers],[2040]],Table11[#Headers],0))","v":131},10752,10737,10729,10728,10735,10740,10745,10749,10752,10755,10757,10759,10760,10762,10764,10765,10764,10761,10757]
[3442,"Østre Toten","Helse Sør-Øst","Sykehuset Innlandet","Gjøvik",{"$f":"INDEX(Table11[],MATCH(TEXT(hf_kommune[[#This Row],[Kommunenr]],\"0\"),Table11[Nr],0),MATCH(hf_kommune[[#Headers],[2020]],Table11[#Headers],0))","v":193},{"$f":"INDEX(Table11[],MATCH(TEXT(hf_kommune[[#This Row],[Kommunenr]],\"0\"),Table11[Nr],0),MATCH(hf_kommune[[#Headers],[2021]],Table11[#Headers],0))","v":206},{"$f":"INDEX(Table11[],MATCH(TEXT(hf_kommune[[#This Row],[Kommunenr]],\"0\"),Table11[Nr],0),MATCH(hf_kommune[[#Headers],[2022]],Table11[#Headers],0))","v":256},{"$f":"INDEX(Table11[],MATCH(TEXT(hf_kommune[[#This Row],[Kommunenr]],\"0\"),Table11[Nr],0),MATCH(hf_kommune[[#Headers],[2023]],Table11[#Headers],0))","v":242},{"$f":"INDEX(Table11[],MATCH(TEXT(hf_kommune[[#This Row],[Kommunenr]],\"0\"),Table11[Nr],0),MATCH(hf_kommune[[#Headers],[2024]],Table11[#Headers],0))","v":246},{"$f":"INDEX(Table11[],MATCH(TEXT(hf_kommune[[#This Row],[Kommunenr]],\"0\"),Table11[Nr],0),MATCH(hf_kommune[[#Headers],[2025]],Table11[#Headers],0))","v":228},{"$f":"INDEX(Table11[],MATCH(TEXT(hf_kommune[[#This Row],[Kommunenr]],\"0\"),Table11[Nr],0),MATCH(hf_kommune[[#Headers],[2026]],Table11[#Headers],0))","v":225},{"$f":"INDEX(Table11[],MATCH(TEXT(hf_kommune[[#This Row],[Kommunenr]],\"0\"),Table11[Nr],0),MATCH(hf_kommune[[#Headers],[2027]],Table11[#Headers],0))","v":237},{"$f":"INDEX(Table11[],MATCH(TEXT(hf_kommune[[#This Row],[Kommunenr]],\"0\"),Table11[Nr],0),MATCH(hf_kommune[[#Headers],[2028]],Table11[#Headers],0))","v":238},{"$f":"INDEX(Table11[],MATCH(TEXT(hf_kommune[[#This Row],[Kommunenr]],\"0\"),Table11[Nr],0),MATCH(hf_kommune[[#Headers],[2029]],Table11[#Headers],0))","v":216},{"$f":"INDEX(Table11[],MATCH(TEXT(hf_kommune[[#This Row],[Kommunenr]],\"0\"),Table11[Nr],0),MATCH(hf_kommune[[#Headers],[2030]],Table11[#Headers],0))","v":233},{"$f":"INDEX(Table11[],MATCH(TEXT(hf_kommune[[#This Row],[Kommunenr]],\"0\"),Table11[Nr],0),MATCH(hf_kommune[[#Headers],[2031]],Table11[#Headers],0))","v":194},{"$f":"INDEX(Table11[],MATCH(TEXT(hf_kommune[[#This Row],[Kommunenr]],\"0\"),Table11[Nr],0),MATCH(hf_kommune[[#Headers],[2032]],Table11[#Headers],0))","v":172},{"$f":"INDEX(Table11[],MATCH(TEXT(hf_kommune[[#This Row],[Kommunenr]],\"0\"),Table11[Nr],0),MATCH(hf_kommune[[#Headers],[2033]],Table11[#Headers],0))","v":160},{"$f":"INDEX(Table11[],MATCH(TEXT(hf_kommune[[#This Row],[Kommunenr]],\"0\"),Table11[Nr],0),MATCH(hf_kommune[[#Headers],[2034]],Table11[#Headers],0))","v":182},{"$f":"INDEX(Table11[],MATCH(TEXT(hf_kommune[[#This Row],[Kommunenr]],\"0\"),Table11[Nr],0),MATCH(hf_kommune[[#Headers],[2035]],Table11[#Headers],0))","v":176},{"$f":"INDEX(Table11[],MATCH(TEXT(hf_kommune[[#This Row],[Kommunenr]],\"0\"),Table11[Nr],0),MATCH(hf_kommune[[#Headers],[2036]],Table11[#Headers],0))","v":175},{"$f":"INDEX(Table11[],MATCH(TEXT(hf_kommune[[#This Row],[Kommunenr]],\"0\"),Table11[Nr],0),MATCH(hf_kommune[[#Headers],[2037]],Table11[#Headers],0))","v":180},{"$f":"INDEX(Table11[],MATCH(TEXT(hf_kommune[[#This Row],[Kommunenr]],\"0\"),Table11[Nr],0),MATCH(hf_kommune[[#Headers],[2038]],Table11[#Headers],0))","v":172},{"$f":"INDEX(Table11[],MATCH(TEXT(hf_kommune[[#This Row],[Kommunenr]],\"0\"),Table11[Nr],0),MATCH(hf_kommune[[#Headers],[2039]],Table11[#Headers],0))","v":190},{"$f":"INDEX(Table11[],MATCH(TEXT(hf_kommune[[#This Row],[Kommunenr]],\"0\"),Table11[Nr],0),MATCH(hf_kommune[[#Headers],[2040]],Table11[#Headers],0))","v":173},14930,14932,14943,14961,14986,15012,15038,15065,15091,15117,15141,15163,15184,15204,15224,15244,15263,15282,15301]
[3048,"Øvre Eiker","Helse Sør-Øst","Vestre Viken","Kongsberg",{"$f":"INDEX(Table11[],MATCH(TEXT(hf_kommune[[#This Row],[Kommunenr]],\"0\"),Table11[Nr],0),MATCH(hf_kommune[[#Headers],[2020]],Table11[#Headers],0))","v":263},{"$f":"INDEX(Table11[],MATCH(TEXT(hf_kommune[[#This Row],[Kommunenr]],\"0\"),Table11[Nr],0),MATCH(hf_kommune[[#Headers],[2021]],Table11[#Headers],0))","v":261},{"$f":"INDEX(Table11[],MATCH(TEXT(hf_kommune[[#This Row],[Kommunenr]],\"0\"),Table11[Nr],0),MATCH(hf_kommune[[#Headers],[2022]],Table11[#Headers],0))","v":295},{"$f":"INDEX(Table11[],MATCH(TEXT(hf_kommune[[#This Row],[Kommunenr]],\"0\"),Table11[Nr],0),MATCH(hf_kommune[[#Headers],[2023]],Table11[#Headers],0))","v":250},{"$f":"INDEX(Table11[],MATCH(TEXT(hf_kommune[[#This Row],[Kommunenr]],\"0\"),Table11[Nr],0),MATCH(hf_kommune[[#Headers],[2024]],Table11[#Headers],0))","v":289},{"$f":"INDEX(Table11[],MATCH(TEXT(hf_kommune[[#This Row],[Kommunenr]],\"0\"),Table11[Nr],0),MATCH(hf_kommune[[#Headers],[2025]],Table11[#Headers],0))","v":280},{"$f":"INDEX(Table11[],MATCH(TEXT(hf_kommune[[#This Row],[Kommunenr]],\"0\"),Table11[Nr],0),MATCH(hf_kommune[[#Headers],[2026]],Table11[#Headers],0))","v":290},{"$f":"INDEX(Table11[],MATCH(TEXT(hf_kommune[[#This Row],[Kommunenr]],\"0\"),Table11[Nr],0),MATCH(hf_kommune[[#Headers],[2027]],Table11[#Headers],0))","v":324},{"$f":"INDEX(Table11[],MATCH(TEXT(hf_kommune[[#This Row],[Kommunenr]],\"0\"),Table11[Nr],0),MATCH(hf_kommune[[#Headers],[2028]],Table11[#Headers],0))","v":297},{"$f":"INDEX(Table11[],MATCH(TEXT(hf_kommune[[#This Row],[Kommunenr]],\"0\"),Table11[Nr],0),MATCH(hf_kommune[[#Headers],[2029]],Table11[#Headers],0))","v":275},{"$f":"INDEX(Table11[],MATCH(TEXT(hf_kommune[[#This Row],[Kommunenr]],\"0\"),Table11[Nr],0),MATCH(hf_kommune[[#Headers],[2030]],Table11[#Headers],0))","v":325},{"$f":"INDEX(Table11[],MATCH(TEXT(hf_kommune[[#This Row],[Kommunenr]],\"0\"),Table11[Nr],0),MATCH(hf_kommune[[#Headers],[2031]],Table11[#Headers],0))","v":306},{"$f":"INDEX(Table11[],MATCH(TEXT(hf_kommune[[#This Row],[Kommunenr]],\"0\"),Table11[Nr],0),MATCH(hf_kommune[[#Headers],[2032]],Table11[#Headers],0))","v":270},{"$f":"INDEX(Table11[],MATCH(TEXT(hf_kommune[[#This Row],[Kommunenr]],\"0\"),Table11[Nr],0),MATCH(hf_kommune[[#Headers],[2033]],Table11[#Headers],0))","v":254},{"$f":"INDEX(Table11[],MATCH(TEXT(hf_kommune[[#This Row],[Kommunenr]],\"0\"),Table11[Nr],0),MATCH(hf_kommune[[#Headers],[2034]],Table11[#Headers],0))","v":280},{"$f":"INDEX(Table11[],MATCH(TEXT(hf_kommune[[#This Row],[Kommunenr]],\"0\"),Table11[Nr],0),MATCH(hf_kommune[[#Headers],[2035]],Table11[#Headers],0))","v":297},{"$f":"INDEX(Table11[],MATCH(TEXT(hf_kommune[[#This Row],[Kommunenr]],\"0\"),Table11[Nr],0),MATCH(hf_kommune[[#Headers],[2036]],Table11[#Headers],0))","v":295},{"$f":"INDEX(Table11[],MATCH(TEXT(hf_kommune[[#This Row],[Kommunenr]],\"0\"),Table11[Nr],0),MATCH(hf_kommune[[#Headers],[2037]],Table11[#Headers],0))","v":282},{"$f":"INDEX(Table11[],MATCH(TEXT(hf_kommune[[#This Row],[Kommunenr]],\"0\"),Table11[Nr],0),MATCH(hf_kommune[[#Headers],[2038]],Table11[#Headers],0))","v":295},{"$f":"INDEX(Table11[],MATCH(TEXT(hf_kommune[[#This Row],[Kommunenr]],\"0\"),Table11[Nr],0),MATCH(hf_kommune[[#Headers],[2039]],Table11[#Headers],0))","v":285},{"$f":"INDEX(Table11[],MATCH(TEXT(hf_kommune[[#This Row],[Kommunenr]],\"0\"),Table11[Nr],0),MATCH(hf_kommune[[#Headers],[2040]],Table11[#Headers],0))","v":295},19932,20173,20397,20607,20801,20992,21180,21365,21549,21729,21906,22079,22249,22414,22576,22733,22886,23032,23174]
[3440,"Øyer","Helse Sør-Øst","Sykehuset Innlandet","Lillehammer",{"$f":"INDEX(Table11[],MATCH(TEXT(hf_kommune[[#This Row],[Kommunenr]],\"0\"),Table11[Nr],0),MATCH(hf_kommune[[#Headers],[2020]],Table11[#Headers],0))","v":78},{"$f":"INDEX(Table11[],MATCH(TEXT(hf_kommune[[#This Row],[Kommunenr]],\"0\"),Table11[Nr],0),MATCH(hf_kommune[[#Headers],[2021]],Table11[#Headers],0))","v":73},{"$f":"INDEX(Table11[],MATCH(TEXT(hf_kommune[[#This Row],[Kommunenr]],\"0\"),Table11[Nr],0),MATCH(hf_kommune[[#Headers],[2022]],Table11[#Headers],0))","v":86},{"$f":"INDEX(Table11[],MATCH(TEXT(hf_kommune[[#This Row],[Kommunenr]],\"0\"),Table11[Nr],0),MATCH(hf_kommune[[#Headers],[2023]],Table11[#Headers],0))","v":79},{"$f":"INDEX(Table11[],MATCH(TEXT(hf_kommune[[#This Row],[Kommunenr]],\"0\"),Table11[Nr],0),MATCH(hf_kommune[[#Headers],[2024]],Table11[#Headers],0))","v":65},{"$f":"INDEX(Table11[],MATCH(TEXT(hf_kommune[[#This Row],[Kommunenr]],\"0\"),Table11[Nr],0),MATCH(hf_kommune[[#Headers],[2025]],Table11[#Headers],0))","v":79},{"$f":"INDEX(Table11[],MATCH(TEXT(hf_kommune[[#This Row],[Kommunenr]],\"0\"),Table11[Nr],0),MATCH(hf_kommune[[#Headers],[2026]],Table11[#Headers],0))","v":74},{"$f":"INDEX(Table11[],MATCH(TEXT(hf_kommune[[#This Row],[Kommunenr]],\"0\"),Table11[Nr],0),MATCH(hf_kommune[[#Headers],[2027]],Table11[#Headers],0))","v":66},{"$f":"INDEX(Table11[],MATCH(TEXT(hf_kommune[[#This Row],[Kommunenr]],\"0\"),Table11[Nr],0),MATCH(hf_kommune[[#Headers],[2028]],Table11[#Headers],0))","v":68},{"$f":"INDEX(Table11[],MATCH(TEXT(hf_kommune[[#This Row],[Kommunenr]],\"0\"),Table11[Nr],0),MATCH(hf_kommune[[#Headers],[2029]],Table11[#Headers],0))","v":63},{"$f":"INDEX(Table11[],MATCH(TEXT(hf_kommune[[#This Row],[Kommunenr]],\"0\"),Table11[Nr],0),MATCH(hf_kommune[[#Headers],[2030]],Table11[#Headers],0))","v":68},{"$f":"INDEX(Table11[],MATCH(TEXT(hf_kommune[[#This Row],[Kommunenr]],\"0\"),Table11[Nr],0),MATCH(hf_kommune[[#Headers],[2031]],Table11[#Headers],0))","v":56},{"$f":"INDEX(Table11[],MATCH(TEXT(hf_kommune[[#This Row],[Kommunenr]],\"0\"),Table11[Nr],0),MATCH(hf_kommune[[#Headers],[2032]],Table11[#Headers],0))","v":66},{"$f":"INDEX(Table11[],MATCH(TEXT(hf_kommune[[#This Row],[Kommunenr]],\"0\"),Table11[Nr],0),MATCH(hf_kommune[[#Headers],[2033]],Table11[#Headers],0))","v":62},{"$f":"INDEX(Table11[],MATCH(TEXT(hf_kommune[[#This Row],[Kommunenr]],\"0\"),Table11[Nr],0),MATCH(hf_kommune[[#Headers],[2034]],Table11[#Headers],0))","v":59},{"$f":"INDEX(Table11[],MATCH(TEXT(hf_kommune[[#This Row],[Kommunenr]],\"0\"),Table11[Nr],0),MATCH(hf_kommune[[#Headers],[2035]],Table11[#Headers],0))","v":54},{"$f":"INDEX(Table11[],MATCH(TEXT(hf_kommune[[#This Row],[Kommunenr]],\"0\"),Table11[Nr],0),MATCH(hf_kommune[[#Headers],[2036]],Table11[#Headers],0))","v":57},{"$f":"INDEX(Table11[],MATCH(TEXT(hf_kommune[[#This Row],[Kommunenr]],\"0\"),Table11[Nr],0),MATCH(hf_kommune[[#Headers],[2037]],Table11[#Headers],0))","v":64},{"$f":"INDEX(Table11[],MATCH(TEXT(hf_kommune[[#This Row],[Kommunenr]],\"0\"),Table11[Nr],0),MATCH(hf_kommune[[#Headers],[2038]],Table11[#Headers],0))","v":58},{"$f":"INDEX(Table11[],MATCH(TEXT(hf_kommune[[#This Row],[Kommunenr]],\"0\"),Table11[Nr],0),MATCH(hf_kommune[[#Headers],[2039]],Table11[#Headers],0))","v":62},{"$f":"INDEX(Table11[],MATCH(TEXT(hf_kommune[[#This Row],[Kommunenr]],\"0\"),Table11[Nr],0),MATCH(hf_kommune[[#Headers],[2040]],Table11[#Headers],0))","v":70},5092,5102,5117,5135,5157,5178,5199,5219,5239,5259,5278,5297,5314,5330,5345,5359,5370,5381,5390]
[4626,"Øygarden","Helse Vest","Helse Bergen","Haukeland",{"$f":"INDEX(Table11[],MATCH(TEXT(hf_kommune[[#This Row],[Kommunenr]],\"0\"),Table11[Nr],0),MATCH(hf_kommune[[#Headers],[2020]],Table11[#Headers],0))","v":486},{"$f":"INDEX(Table11[],MATCH(TEXT(hf_kommune[[#This Row],[Kommunenr]],\"0\"),Table11[Nr],0),MATCH(hf_kommune[[#Headers],[2021]],Table11[#Headers],0))","v":498},{"$f":"INDEX(Table11[],MATCH(TEXT(hf_kommune[[#This Row],[Kommunenr]],\"0\"),Table11[Nr],0),MATCH(hf_kommune[[#Headers],[2022]],Table11[#Headers],0))","v":547},{"$f":"INDEX(Table11[],MATCH(TEXT(hf_kommune[[#This Row],[Kommunenr]],\"0\"),Table11[Nr],0),MATCH(hf_kommune[[#Headers],[2023]],Table11[#Headers],0))","v":556},{"$f":"INDEX(Table11[],MATCH(TEXT(hf_kommune[[#This Row],[Kommunenr]],\"0\"),Table11[Nr],0),MATCH(hf_kommune[[#Headers],[2024]],Table11[#Headers],0))","v":545},{"$f":"INDEX(Table11[],MATCH(TEXT(hf_kommune[[#This Row],[Kommunenr]],\"0\"),Table11[Nr],0),MATCH(hf_kommune[[#Headers],[2025]],Table11[#Headers],0))","v":585},{"$f":"INDEX(Table11[],MATCH(TEXT(hf_kommune[[#This Row],[Kommunenr]],\"0\"),Table11[Nr],0),MATCH(hf_kommune[[#Headers],[2026]],Table11[#Headers],0))","v":614},{"$f":"INDEX(Table11[],MATCH(TEXT(hf_kommune[[#This Row],[Kommunenr]],\"0\"),Table11[Nr],0),MATCH(hf_kommune[[#Headers],[2027]],Table11[#Headers],0))","v":536},{"$f":"INDEX(Table11[],MATCH(TEXT(hf_kommune[[#This Row],[Kommunenr]],\"0\"),Table11[Nr],0),MATCH(hf_kommune[[#Headers],[2028]],Table11[#Headers],0))","v":555},{"$f":"INDEX(Table11[],MATCH(TEXT(hf_kommune[[#This Row],[Kommunenr]],\"0\"),Table11[Nr],0),MATCH(hf_kommune[[#Headers],[2029]],Table11[#Headers],0))","v":538},{"$f":"INDEX(Table11[],MATCH(TEXT(hf_kommune[[#This Row],[Kommunenr]],\"0\"),Table11[Nr],0),MATCH(hf_kommune[[#Headers],[2030]],Table11[#Headers],0))","v":528},{"$f":"INDEX(Table11[],MATCH(TEXT(hf_kommune[[#This Row],[Kommunenr]],\"0\"),Table11[Nr],0),MATCH(hf_kommune[[#Headers],[2031]],Table11[#Headers],0))","v":526},{"$f":"INDEX(Table11[],MATCH(TEXT(hf_kommune[[#This Row],[Kommunenr]],\"0\"),Table11[Nr],0),MATCH(hf_kommune[[#Headers],[2032]],Table11[#Headers],0))","v":533},{"$f":"INDEX(Table11[],MATCH(TEXT(hf_kommune[[#This Row],[Kommunenr]],\"0\"),Table11[Nr],0),MATCH(hf_kommune[[#Headers],[2033]],Table11[#Headers],0))","v":503},{"$f":"INDEX(Table11[],MATCH(TEXT(hf_kommune[[#This Row],[Kommunenr]],\"0\"),Table11[Nr],0),MATCH(hf_kommune[[#Headers],[2034]],Table11[#Headers],0))","v":553},{"$f":"INDEX(Table11[],MATCH(TEXT(hf_kommune[[#This Row],[Kommunenr]],\"0\"),Table11[Nr],0),MATCH(hf_kommune[[#Headers],[2035]],Table11[#Headers],0))","v":546},{"$f":"INDEX(Table11[],MATCH(TEXT(hf_kommune[[#This Row],[Kommunenr]],\"0\"),Table11[Nr],0),MATCH(hf_kommune[[#Headers],[2036]],Table11[#Headers],0))","v":560},{"$f":"INDEX(Table11[],MATCH(TEXT(hf_kommune[[#This Row],[Kommunenr]],\"0\"),Table11[Nr],0),MATCH(hf_kommune[[#Headers],[2037]],Table11[#Headers],0))","v":555},{"$f":"INDEX(Table11[],MATCH(TEXT(hf_kommune[[#This Row],[Kommunenr]],\"0\"),Table11[Nr],0),MATCH(hf_kommune[[#Headers],[2038]],Table11[#Headers],0))","v":537},{"$f":"INDEX(Table11[],MATCH(TEXT(hf_kommune[[#This Row],[Kommunenr]],\"0\"),Table11[Nr],0),MATCH(hf_kommune[[#Headers],[2039]],Table11[#Headers],0))","v":548},{"$f":"INDEX(Table11[],MATCH(TEXT(hf_kommune[[#This Row],[Kommunenr]],\"0\"),Table11[Nr],0),MATCH(hf_kommune[[#Headers],[2040]],Table11[#Headers],0))","v":547},38809,39104,39424,39768,40136,40495,40849,41195,41536,41869,42196,42517,42831,43139,43442,43737,44022,44298,44566]
[3453,"Øystre Slidre","Helse Sør-Øst","Sykehuset Innlandet","Gjøvik",{"$f":"INDEX(Table11[],MATCH(TEXT(hf_kommune[[#This Row],[Kommunenr]],\"0\"),Table11[Nr],0),MATCH(hf_kommune[[#Headers],[2020]],Table11[#Headers],0))","v":58},{"$f":"INDEX(Table11[],MATCH(TEXT(hf_kommune[[#This Row],[Kommunenr]],\"0\"),Table11[Nr],0),MATCH(hf_kommune[[#Headers],[2021]],Table11[#Headers],0))","v":47},{"$f":"INDEX(Table11[],MATCH(TEXT(hf_kommune[[#This Row],[Kommunenr]],\"0\"),Table11[Nr],0),MATCH(hf_kommune[[#Headers],[2022]],Table11[#Headers],0))","v":58},{"$f":"INDEX(Table11[],MATCH(TEXT(hf_kommune[[#This Row],[Kommunenr]],\"0\"),Table11[Nr],0),MATCH(hf_kommune[[#Headers],[2023]],Table11[#Headers],0))","v":51},{"$f":"INDEX(Table11[],MATCH(TEXT(hf_kommune[[#This Row],[Kommunenr]],\"0\"),Table11[Nr],0),MATCH(hf_kommune[[#Headers],[2024]],Table11[#Headers],0))","v":50},{"$f":"INDEX(Table11[],MATCH(TEXT(hf_kommune[[#This Row],[Kommunenr]],\"0\"),Table11[Nr],0),MATCH(hf_kommune[[#Headers],[2025]],Table11[#Headers],0))","v":47},{"$f":"INDEX(Table11[],MATCH(TEXT(hf_kommune[[#This Row],[Kommunenr]],\"0\"),Table11[Nr],0),MATCH(hf_kommune[[#Headers],[2026]],Table11[#Headers],0))","v":44},{"$f":"INDEX(Table11[],MATCH(TEXT(hf_kommune[[#This Row],[Kommunenr]],\"0\"),Table11[Nr],0),MATCH(hf_kommune[[#Headers],[2027]],Table11[#Headers],0))","v":44},{"$f":"INDEX(Table11[],MATCH(TEXT(hf_kommune[[#This Row],[Kommunenr]],\"0\"),Table11[Nr],0),MATCH(hf_kommune[[#Headers],[2028]],Table11[#Headers],0))","v":43},{"$f":"INDEX(Table11[],MATCH(TEXT(hf_kommune[[#This Row],[Kommunenr]],\"0\"),Table11[Nr],0),MATCH(hf_kommune[[#Headers],[2029]],Table11[#Headers],0))","v":40},{"$f":"INDEX(Table11[],MATCH(TEXT(hf_kommune[[#This Row],[Kommunenr]],\"0\"),Table11[Nr],0),MATCH(hf_kommune[[#Headers],[2030]],Table11[#Headers],0))","v":42},{"$f":"INDEX(Table11[],MATCH(TEXT(hf_kommune[[#This Row],[Kommunenr]],\"0\"),Table11[Nr],0),MATCH(hf_kommune[[#Headers],[2031]],Table11[#Headers],0))","v":43},{"$f":"INDEX(Table11[],MATCH(TEXT(hf_kommune[[#This Row],[Kommunenr]],\"0\"),Table11[Nr],0),MATCH(hf_kommune[[#Headers],[2032]],Table11[#Headers],0))","v":39},{"$f":"INDEX(Table11[],MATCH(TEXT(hf_kommune[[#This Row],[Kommunenr]],\"0\"),Table11[Nr],0),MATCH(hf_kommune[[#Headers],[2033]],Table11[#Headers],0))","v":39},{"$f":"INDEX(Table11[],MATCH(TEXT(hf_kommune[[#This Row],[Kommunenr]],\"0\"),Table11[Nr],0),MATCH(hf_kommune[[#Headers],[2034]],Table11[#Headers],0))","v":36},{"$f":"INDEX(Table11[],MATCH(TEXT(hf_kommune[[#This Row],[Kommunenr]],\"0\"),Table11[Nr],0),MATCH(hf_kommune[[#Headers],[2035]],Table11[#Headers],0))","v":41},{"$f":"INDEX(Table11[],MATCH(TEXT(hf_kommune[[#This Row],[Kommunenr]],\"0\"),Table11[Nr],0),MATCH(hf_kommune[[#Headers],[2036]],Table11[#Headers],0))","v":39},{"$f":"INDEX(Table11[],MATCH(TEXT(hf_kommune[[#This Row],[Kommunenr]],\"0\"),Table11[Nr],0),MATCH(hf_kommune[[#Headers],[2037]],Table11[#Headers],0))","v":39},{"$f":"INDEX(Table11[],MATCH(TEXT(hf_kommune[[#This Row],[Kommunenr]],\"0\"),Table11[Nr],0),MATCH(hf_kommune[[#Headers],[2038]],Table11[#Headers],0))","v":45},{"$f":"INDEX(Table11[],MATCH(TEXT(hf_kommune[[#This Row],[Kommunenr]],\"0\"),Table11[Nr],0),MATCH(hf_kommune[[#Headers],[2039]],Table11[#Headers],0))","v":37},{"$f":"INDEX(Table11[],MATCH(TEXT(hf_kommune[[#This Row],[Kommunenr]],\"0\"),Table11[Nr],0),MATCH(hf_kommune[[#Headers],[2040]],Table11[#Headers],0))","v":36},3222,3223,3222,3222,3220,3220,3220,3219,3219,3218,3217,3214,3212,3209,3206,3204,3201,3198,3194]
[5058,"Åfjord","Helse Midt-Norge","St. Olavs hospital","St. Olav - Orkdal",{"$f":"INDEX(Table11[],MATCH(TEXT(hf_kommune[[#This Row],[Kommunenr]],\"0\"),Table11[Nr],0),MATCH(hf_kommune[[#Headers],[2020]],Table11[#Headers],0))","v":58},{"$f":"INDEX(Table11[],MATCH(TEXT(hf_kommune[[#This Row],[Kommunenr]],\"0\"),Table11[Nr],0),MATCH(hf_kommune[[#Headers],[2021]],Table11[#Headers],0))","v":64},{"$f":"INDEX(Table11[],MATCH(TEXT(hf_kommune[[#This Row],[Kommunenr]],\"0\"),Table11[Nr],0),MATCH(hf_kommune[[#Headers],[2022]],Table11[#Headers],0))","v":70},{"$f":"INDEX(Table11[],MATCH(TEXT(hf_kommune[[#This Row],[Kommunenr]],\"0\"),Table11[Nr],0),MATCH(hf_kommune[[#Headers],[2023]],Table11[#Headers],0))","v":71},{"$f":"INDEX(Table11[],MATCH(TEXT(hf_kommune[[#This Row],[Kommunenr]],\"0\"),Table11[Nr],0),MATCH(hf_kommune[[#Headers],[2024]],Table11[#Headers],0))","v":78},{"$f":"INDEX(Table11[],MATCH(TEXT(hf_kommune[[#This Row],[Kommunenr]],\"0\"),Table11[Nr],0),MATCH(hf_kommune[[#Headers],[2025]],Table11[#Headers],0))","v":71},{"$f":"INDEX(Table11[],MATCH(TEXT(hf_kommune[[#This Row],[Kommunenr]],\"0\"),Table11[Nr],0),MATCH(hf_kommune[[#Headers],[2026]],Table11[#Headers],0))","v":61},{"$f":"INDEX(Table11[],MATCH(TEXT(hf_kommune[[#This Row],[Kommunenr]],\"0\"),Table11[Nr],0),MATCH(hf_kommune[[#Headers],[2027]],Table11[#Headers],0))","v":69},{"$f":"INDEX(Table11[],MATCH(TEXT(hf_kommune[[#This Row],[Kommunenr]],\"0\"),Table11[Nr],0),MATCH(hf_kommune[[#Headers],[2028]],Table11[#Headers],0))","v":62},{"$f":"INDEX(Table11[],MATCH(TEXT(hf_kommune[[#This Row],[Kommunenr]],\"0\"),Table11[Nr],0),MATCH(hf_kommune[[#Headers],[2029]],Table11[#Headers],0))","v":61},{"$f":"INDEX(Table11[],MATCH(TEXT(hf_kommune[[#This Row],[Kommunenr]],\"0\"),Table11[Nr],0),MATCH(hf_kommune[[#Headers],[2030]],Table11[#Headers],0))","v":55},{"$f":"INDEX(Table11[],MATCH(TEXT(hf_kommune[[#This Row],[Kommunenr]],\"0\"),Table11[Nr],0),MATCH(hf_kommune[[#Headers],[2031]],Table11[#Headers],0))","v":56},{"$f":"INDEX(Table11[],MATCH(TEXT(hf_kommune[[#This Row],[Kommunenr]],\"0\"),Table11[Nr],0),MATCH(hf_kommune[[#Headers],[2032]],Table11[#Headers],0))","v":44},{"$f":"INDEX(Table11[],MATCH(TEXT(hf_kommune[[#This Row],[Kommunenr]],\"0\"),Table11[Nr],0),MATCH(hf_kommune[[#Headers],[2033]],Table11[#Headers],0))","v":49},{"$f":"INDEX(Table11[],MATCH(TEXT(hf_kommune[[#This Row],[Kommunenr]],\"0\"),Table11[Nr],0),MATCH(hf_kommune[[#Headers],[2034]],Table11[#Headers],0))","v":47},{"$f":"INDEX(Table11[],MATCH(TEXT(hf_kommune[[#This Row],[Kommunenr]],\"0\"),Table11[Nr],0),MATCH(hf_kommune[[#Headers],[2035]],Table11[#Headers],0))","v":42},{"$f":"INDEX(Table11[],MATCH(TEXT(hf_kommune[[#This Row],[Kommunenr]],\"0\"),Table11[Nr],0),MATCH(hf_kommune[[#Headers],[2036]],Table11[#Headers],0))","v":46},{"$f":"INDEX(Table11[],MATCH(TEXT(hf_kommune[[#This Row],[Kommunenr]],\"0\"),Table11[Nr],0),MATCH(hf_kommune[[#Headers],[2037]],Table11[#Headers],0))","v":45},{"$f":"INDEX(Table11[],MATCH(TEXT(hf_kommune[[#This Row],[Kommunenr]],\"0\"),Table11[Nr],0),MATCH(hf_kommune[[#Headers],[2038]],Table11[#Headers],0))","v":43},{"$f":"INDEX(Table11[],MATCH(TEXT(hf_kommune[[#This Row],[Kommunenr]],\"0\"),Table11[Nr],0),MATCH(hf_kommune[[#Headers],[2039]],Table11[#Headers],0))","v":41},{"$f":"INDEX(Table11[],MATCH(TEXT(hf_kommune[[#This Row],[Kommunenr]],\"0\"),Table11[Nr],0),MATCH(hf_kommune[[#Headers],[2040]],Table11[#Headers],0))","v":38},4195,4165,4145,4134,4132,4131,4130,4131,4132,4133,4134,4134,4134,4133,4131,4129,4126,4122,4119]
[3043,"Ål","Helse Sør-Øst","Vestre Viken","Ringerike",{"$f":"INDEX(Table11[],MATCH(TEXT(hf_kommune[[#This Row],[Kommunenr]],\"0\"),Table11[Nr],0),MATCH(hf_kommune[[#Headers],[2020]],Table11[#Headers],0))","v":53},{"$f":"INDEX(Table11[],MATCH(TEXT(hf_kommune[[#This Row],[Kommunenr]],\"0\"),Table11[Nr],0),MATCH(hf_kommune[[#Headers],[2021]],Table11[#Headers],0))","v":63},{"$f":"INDEX(Table11[],MATCH(TEXT(hf_kommune[[#This Row],[Kommunenr]],\"0\"),Table11[Nr],0),MATCH(hf_kommune[[#Headers],[2022]],Table11[#Headers],0))","v":70},{"$f":"INDEX(Table11[],MATCH(TEXT(hf_kommune[[#This Row],[Kommunenr]],\"0\"),Table11[Nr],0),MATCH(hf_kommune[[#Headers],[2023]],Table11[#Headers],0))","v":48},{"$f":"INDEX(Table11[],MATCH(TEXT(hf_kommune[[#This Row],[Kommunenr]],\"0\"),Table11[Nr],0),MATCH(hf_kommune[[#Headers],[2024]],Table11[#Headers],0))","v":77},{"$f":"INDEX(Table11[],MATCH(TEXT(hf_kommune[[#This Row],[Kommunenr]],\"0\"),Table11[Nr],0),MATCH(hf_kommune[[#Headers],[2025]],Table11[#Headers],0))","v":64},{"$f":"INDEX(Table11[],MATCH(TEXT(hf_kommune[[#This Row],[Kommunenr]],\"0\"),Table11[Nr],0),MATCH(hf_kommune[[#Headers],[2026]],Table11[#Headers],0))","v":79},{"$f":"INDEX(Table11[],MATCH(TEXT(hf_kommune[[#This Row],[Kommunenr]],\"0\"),Table11[Nr],0),MATCH(hf_kommune[[#Headers],[2027]],Table11[#Headers],0))","v":60},{"$f":"INDEX(Table11[],MATCH(TEXT(hf_kommune[[#This Row],[Kommunenr]],\"0\"),Table11[Nr],0),MATCH(hf_kommune[[#Headers],[2028]],Table11[#Headers],0))","v":63},{"$f":"INDEX(Table11[],MATCH(TEXT(hf_kommune[[#This Row],[Kommunenr]],\"0\"),Table11[Nr],0),MATCH(hf_kommune[[#Headers],[2029]],Table11[#Headers],0))","v":65},{"$f":"INDEX(Table11[],MATCH(TEXT(hf_kommune[[#This Row],[Kommunenr]],\"0\"),Table11[Nr],0),MATCH(hf_kommune[[#Headers],[2030]],Table11[#Headers],0))","v":61},{"$f":"INDEX(Table11[],MATCH(TEXT(hf_kommune[[#This Row],[Kommunenr]],\"0\"),Table11[Nr],0),MATCH(hf_kommune[[#Headers],[2031]],Table11[#Headers],0))","v":63},{"$f":"INDEX(Table11[],MATCH(TEXT(hf_kommune[[#This Row],[Kommunenr]],\"0\"),Table11[Nr],0),MATCH(hf_kommune[[#Headers],[2032]],Table11[#Headers],0))","v":58},{"$f":"INDEX(Table11[],MATCH(TEXT(hf_kommune[[#This Row],[Kommunenr]],\"0\"),Table11[Nr],0),MATCH(hf_kommune[[#Headers],[2033]],Table11[#Headers],0))","v":49},{"$f":"INDEX(Table11[],MATCH(TEXT(hf_kommune[[#This Row],[Kommunenr]],\"0\"),Table11[Nr],0),MATCH(hf_kommune[[#Headers],[2034]],Table11[#Headers],0))","v":49},{"$f":"INDEX(Table11[],MATCH(TEXT(hf_kommune[[#This Row],[Kommunenr]],\"0\"),Table11[Nr],0),MATCH(hf_kommune[[#Headers],[2035]],Table11[#Headers],0))","v":57},{"$f":"INDEX(Table11[],MATCH(TEXT(hf_kommune[[#This Row],[Kommunenr]],\"0\"),Table11[Nr],0),MATCH(hf_kommune[[#Headers],[2036]],Table11[#Headers],0))","v":61},{"$f":"INDEX(Table11[],MATCH(TEXT(hf_kommune[[#This Row],[Kommunenr]],\"0\"),Table11[Nr],0),MATCH(hf_kommune[[#Headers],[2037]],Table11[#Headers],0))","v":52},{"$f":"INDEX(Table11[],MATCH(TEXT(hf_kommune[[#This Row],[Kommunenr]],\"0\"),Table11[Nr],0),MATCH(hf_kommune[[#Headers],[2038]],Table11[#Headers],0))","v":52},{"$f":"INDEX(Table11[],MATCH(TEXT(hf_kommune[[#This Row],[Kommunenr]],\"0\"),Table11[Nr],0),MATCH(hf_kommune[[#Headers],[2039]],Table11[#Headers],0))","v":54},{"$f":"INDEX(Table11[],MATCH(TEXT(hf_kommune[[#This Row],[Kommunenr]],\"0\"),Table11[Nr],0),MATCH(hf_kommune[[#Headers],[2040]],Table11[#Headers],0))","v":53},4652,4643,4632,4621,4609,4599,4591,4585,4581,4577,4575,4574,4573,4573,4572,4572,4572,4570,4568]
[1507,"Ålesund","Helse Midt-Norge","Helse Møre og Romsdal","Ålesund",{"$f":"INDEX(Table11[],MATCH(TEXT(hf_kommune[[#This Row],[Kommunenr]],\"0\"),Table11[Nr],0),MATCH(hf_kommune[[#Headers],[2020]],Table11[#Headers],0))","v":784},{"$f":"INDEX(Table11[],MATCH(TEXT(hf_kommune[[#This Row],[Kommunenr]],\"0\"),Table11[Nr],0),MATCH(hf_kommune[[#Headers],[2021]],Table11[#Headers],0))","v":788},{"$f":"INDEX(Table11[],MATCH(TEXT(hf_kommune[[#This Row],[Kommunenr]],\"0\"),Table11[Nr],0),MATCH(hf_kommune[[#Headers],[2022]],Table11[#Headers],0))","v":808},{"$f":"INDEX(Table11[],MATCH(TEXT(hf_kommune[[#This Row],[Kommunenr]],\"0\"),Table11[Nr],0),MATCH(hf_kommune[[#Headers],[2023]],Table11[#Headers],0))","v":901},{"$f":"INDEX(Table11[],MATCH(TEXT(hf_kommune[[#This Row],[Kommunenr]],\"0\"),Table11[Nr],0),MATCH(hf_kommune[[#Headers],[2024]],Table11[#Headers],0))","v":911},{"$f":"INDEX(Table11[],MATCH(TEXT(hf_kommune[[#This Row],[Kommunenr]],\"0\"),Table11[Nr],0),MATCH(hf_kommune[[#Headers],[2025]],Table11[#Headers],0))","v":916},{"$f":"INDEX(Table11[],MATCH(TEXT(hf_kommune[[#This Row],[Kommunenr]],\"0\"),Table11[Nr],0),MATCH(hf_kommune[[#Headers],[2026]],Table11[#Headers],0))","v":910},{"$f":"INDEX(Table11[],MATCH(TEXT(hf_kommune[[#This Row],[Kommunenr]],\"0\"),Table11[Nr],0),MATCH(hf_kommune[[#Headers],[2027]],Table11[#Headers],0))","v":895},{"$f":"INDEX(Table11[],MATCH(TEXT(hf_kommune[[#This Row],[Kommunenr]],\"0\"),Table11[Nr],0),MATCH(hf_kommune[[#Headers],[2028]],Table11[#Headers],0))","v":918},{"$f":"INDEX(Table11[],MATCH(TEXT(hf_kommune[[#This Row],[Kommunenr]],\"0\"),Table11[Nr],0),MATCH(hf_kommune[[#Headers],[2029]],Table11[#Headers],0))","v":861},{"$f":"INDEX(Table11[],MATCH(TEXT(hf_kommune[[#This Row],[Kommunenr]],\"0\"),Table11[Nr],0),MATCH(hf_kommune[[#Headers],[2030]],Table11[#Headers],0))","v":861},{"$f":"INDEX(Table11[],MATCH(TEXT(hf_kommune[[#This Row],[Kommunenr]],\"0\"),Table11[Nr],0),MATCH(hf_kommune[[#Headers],[2031]],Table11[#Headers],0))","v":843},{"$f":"INDEX(Table11[],MATCH(TEXT(hf_kommune[[#This Row],[Kommunenr]],\"0\"),Table11[Nr],0),MATCH(hf_kommune[[#Headers],[2032]],Table11[#Headers],0))","v":853},{"$f":"INDEX(Table11[],MATCH(TEXT(hf_kommune[[#This Row],[Kommunenr]],\"0\"),Table11[Nr],0),MATCH(hf_kommune[[#Headers],[2033]],Table11[#Headers],0))","v":834},{"$f":"INDEX(Table11[],MATCH(TEXT(hf_kommune[[#This Row],[Kommunenr]],\"0\"),Table11[Nr],0),MATCH(hf_kommune[[#Headers],[2034]],Table11[#Headers],0))","v":846},{"$f":"INDEX(Table11[],MATCH(TEXT(hf_kommune[[#This Row],[Kommunenr]],\"0\"),Table11[Nr],0),MATCH(hf_kommune[[#Headers],[2035]],Table11[#Headers],0))","v":850},{"$f":"INDEX(Table11[],MATCH(TEXT(hf_kommune[[#This Row],[Kommunenr]],\"0\"),Table11[Nr],0),MATCH(hf_kommune[[#Headers],[2036]],Table11[#Headers],0))","v":877},{"$f":"INDEX(Table11[],MATCH(TEXT(hf_kommune[[#This Row],[Kommunenr]],\"0\"),Table11[Nr],0),MATCH(hf_kommune[[#Headers],[2037]],Table11[#Headers],0))","v":855},{"$f":"INDEX(Table11[],MATCH(TEXT(hf_kommune[[#This Row],[Kommunenr]],\"0\"),Table11[Nr],0),MATCH(hf_kommune[[#Headers],[2038]],Table11[#Headers],0))","v":880},{"$f":"INDEX(Table11[],MATCH(TEXT(hf_kommune[[#This Row],[Kommunenr]],\"0\"),Table11[Nr],0),MATCH(hf_kommune[[#Headers],[2039]],Table11[#Headers],0))","v":888},{"$f":"INDEX(Table11[],MATCH(TEXT(hf_kommune[[#This Row],[Kommunenr]],\"0\"),Table11[Nr],0),MATCH(hf_kommune[[#Headers],[2040]],Table11[#Headers],0))","v":888},67228,67649,68013,68338,68634,68935,69241,69549,69857,70160,70457,70745,71024,71295,71557,71807,72042,72263,72471]
[4217,"Åmli","Helse Sør-Øst","Sørlandet sykehus","Arendal",{"$f":"INDEX(Table11[],MATCH(TEXT(hf_kommune[[#This Row],[Kommunenr]],\"0\"),Table11[Nr],0),MATCH(hf_kommune[[#Headers],[2020]],Table11[#Headers],0))","v":30},{"$f":"INDEX(Table11[],MATCH(TEXT(hf_kommune[[#This Row],[Kommunenr]],\"0\"),Table11[Nr],0),MATCH(hf_kommune[[#Headers],[2021]],Table11[#Headers],0))","v":23},{"$f":"INDEX(Table11[],MATCH(TEXT(hf_kommune[[#This Row],[Kommunenr]],\"0\"),Table11[Nr],0),MATCH(hf_kommune[[#Headers],[2022]],Table11[#Headers],0))","v":24},{"$f":"INDEX(Table11[],MATCH(TEXT(hf_kommune[[#This Row],[Kommunenr]],\"0\"),Table11[Nr],0),MATCH(hf_kommune[[#Headers],[2023]],Table11[#Headers],0))","v":30},{"$f":"INDEX(Table11[],MATCH(TEXT(hf_kommune[[#This Row],[Kommunenr]],\"0\"),Table11[Nr],0),MATCH(hf_kommune[[#Headers],[2024]],Table11[#Headers],0))","v":25},{"$f":"INDEX(Table11[],MATCH(TEXT(hf_kommune[[#This Row],[Kommunenr]],\"0\"),Table11[Nr],0),MATCH(hf_kommune[[#Headers],[2025]],Table11[#Headers],0))","v":28},{"$f":"INDEX(Table11[],MATCH(TEXT(hf_kommune[[#This Row],[Kommunenr]],\"0\"),Table11[Nr],0),MATCH(hf_kommune[[#Headers],[2026]],Table11[#Headers],0))","v":27},{"$f":"INDEX(Table11[],MATCH(TEXT(hf_kommune[[#This Row],[Kommunenr]],\"0\"),Table11[Nr],0),MATCH(hf_kommune[[#Headers],[2027]],Table11[#Headers],0))","v":29},{"$f":"INDEX(Table11[],MATCH(TEXT(hf_kommune[[#This Row],[Kommunenr]],\"0\"),Table11[Nr],0),MATCH(hf_kommune[[#Headers],[2028]],Table11[#Headers],0))","v":26},{"$f":"INDEX(Table11[],MATCH(TEXT(hf_kommune[[#This Row],[Kommunenr]],\"0\"),Table11[Nr],0),MATCH(hf_kommune[[#Headers],[2029]],Table11[#Headers],0))","v":28},{"$f":"INDEX(Table11[],MATCH(TEXT(hf_kommune[[#This Row],[Kommunenr]],\"0\"),Table11[Nr],0),MATCH(hf_kommune[[#Headers],[2030]],Table11[#Headers],0))","v":24},{"$f":"INDEX(Table11[],MATCH(TEXT(hf_kommune[[#This Row],[Kommunenr]],\"0\"),Table11[Nr],0),MATCH(hf_kommune[[#Headers],[2031]],Table11[#Headers],0))","v":35},{"$f":"INDEX(Table11[],MATCH(TEXT(hf_kommune[[#This Row],[Kommunenr]],\"0\"),Table11[Nr],0),MATCH(hf_kommune[[#Headers],[2032]],Table11[#Headers],0))","v":34},{"$f":"INDEX(Table11[],MATCH(TEXT(hf_kommune[[#This Row],[Kommunenr]],\"0\"),Table11[Nr],0),MATCH(hf_kommune[[#Headers],[2033]],Table11[#Headers],0))","v":27},{"$f":"INDEX(Table11[],MATCH(TEXT(hf_kommune[[#This Row],[Kommunenr]],\"0\"),Table11[Nr],0),MATCH(hf_kommune[[#Headers],[2034]],Table11[#Headers],0))","v":24},{"$f":"INDEX(Table11[],MATCH(TEXT(hf_kommune[[#This Row],[Kommunenr]],\"0\"),Table11[Nr],0),MATCH(hf_kommune[[#Headers],[2035]],Table11[#Headers],0))","v":23},{"$f":"INDEX(Table11[],MATCH(TEXT(hf_kommune[[#This Row],[Kommunenr]],\"0\"),Table11[Nr],0),MATCH(hf_kommune[[#Headers],[2036]],Table11[#Headers],0))","v":29},{"$f":"INDEX(Table11[],MATCH(TEXT(hf_kommune[[#This Row],[Kommunenr]],\"0\"),Table11[Nr],0),MATCH(hf_kommune[[#Headers],[2037]],Table11[#Headers],0))","v":26},{"$f":"INDEX(Table11[],MATCH(TEXT(hf_kommune[[#This Row],[Kommunenr]],\"0\"),Table11[Nr],0),MATCH(hf_kommune[[#Headers],[2038]],Table11[#Headers],0))","v":26},{"$f":"INDEX(Table11[],MATCH(TEXT(hf_kommune[[#This Row],[Kommunenr]],\"0\"),Table11[Nr],0),MATCH(hf_kommune[[#Headers],[2039]],Table11[#Headers],0))","v":22},{"$f":"INDEX(Table11[],MATCH(TEXT(hf_kommune[[#This Row],[Kommunenr]],\"0\"),Table11[Nr],0),MATCH(hf_kommune[[#Headers],[2040]],Table11[#Headers],0))","v":23},1816,1811,1810,1812,1816,1821,1825,1828,1832,1835,1837,1840,1842,1844,1846,1848,1850,1852,1854]
[3422,"Åmot","Helse Sør-Øst","Sykehuset Innlandet","Elverum",{"$f":"INDEX(Table11[],MATCH(TEXT(hf_kommune[[#This Row],[Kommunenr]],\"0\"),Table11[Nr],0),MATCH(hf_kommune[[#Headers],[2020]],Table11[#Headers],0))","v":51},{"$f":"INDEX(Table11[],MATCH(TEXT(hf_kommune[[#This Row],[Kommunenr]],\"0\"),Table11[Nr],0),MATCH(hf_kommune[[#Headers],[2021]],Table11[#Headers],0))","v":72},{"$f":"INDEX(Table11[],MATCH(TEXT(hf_kommune[[#This Row],[Kommunenr]],\"0\"),Table11[Nr],0),MATCH(hf_kommune[[#Headers],[2022]],Table11[#Headers],0))","v":54},{"$f":"INDEX(Table11[],MATCH(TEXT(hf_kommune[[#This Row],[Kommunenr]],\"0\"),Table11[Nr],0),MATCH(hf_kommune[[#Headers],[2023]],Table11[#Headers],0))","v":61},{"$f":"INDEX(Table11[],MATCH(TEXT(hf_kommune[[#This Row],[Kommunenr]],\"0\"),Table11[Nr],0),MATCH(hf_kommune[[#Headers],[2024]],Table11[#Headers],0))","v":67},{"$f":"INDEX(Table11[],MATCH(TEXT(hf_kommune[[#This Row],[Kommunenr]],\"0\"),Table11[Nr],0),MATCH(hf_kommune[[#Headers],[2025]],Table11[#Headers],0))","v":58},{"$f":"INDEX(Table11[],MATCH(TEXT(hf_kommune[[#This Row],[Kommunenr]],\"0\"),Table11[Nr],0),MATCH(hf_kommune[[#Headers],[2026]],Table11[#Headers],0))","v":52},{"$f":"INDEX(Table11[],MATCH(TEXT(hf_kommune[[#This Row],[Kommunenr]],\"0\"),Table11[Nr],0),MATCH(hf_kommune[[#Headers],[2027]],Table11[#Headers],0))","v":61},{"$f":"INDEX(Table11[],MATCH(TEXT(hf_kommune[[#This Row],[Kommunenr]],\"0\"),Table11[Nr],0),MATCH(hf_kommune[[#Headers],[2028]],Table11[#Headers],0))","v":57},{"$f":"INDEX(Table11[],MATCH(TEXT(hf_kommune[[#This Row],[Kommunenr]],\"0\"),Table11[Nr],0),MATCH(hf_kommune[[#Headers],[2029]],Table11[#Headers],0))","v":61},{"$f":"INDEX(Table11[],MATCH(TEXT(hf_kommune[[#This Row],[Kommunenr]],\"0\"),Table11[Nr],0),MATCH(hf_kommune[[#Headers],[2030]],Table11[#Headers],0))","v":60},{"$f":"INDEX(Table11[],MATCH(TEXT(hf_kommune[[#This Row],[Kommunenr]],\"0\"),Table11[Nr],0),MATCH(hf_kommune[[#Headers],[2031]],Table11[#Headers],0))","v":53},{"$f":"INDEX(Table11[],MATCH(TEXT(hf_kommune[[#This Row],[Kommunenr]],\"0\"),Table11[Nr],0),MATCH(hf_kommune[[#Headers],[2032]],Table11[#Headers],0))","v":50},{"$f":"INDEX(Table11[],MATCH(TEXT(hf_kommune[[#This Row],[Kommunenr]],\"0\"),Table11[Nr],0),MATCH(hf_kommune[[#Headers],[2033]],Table11[#Headers],0))","v":47},{"$f":"INDEX(Table11[],MATCH(TEXT(hf_kommune[[#This Row],[Kommunenr]],\"0\"),Table11[Nr],0),MATCH(hf_kommune[[#Headers],[2034]],Table11[#Headers],0))","v":40},{"$f":"INDEX(Table11[],MATCH(TEXT(hf_kommune[[#This Row],[Kommunenr]],\"0\"),Table11[Nr],0),MATCH(hf_kommune[[#Headers],[2035]],Table11[#Headers],0))","v":41},{"$f":"INDEX(Table11[],MATCH(TEXT(hf_kommune[[#This Row],[Kommunenr]],\"0\"),Table11[Nr],0),MATCH(hf_kommune[[#Headers],[2036]],Table11[#Headers],0))","v":40},{"$f":"INDEX(Table11[],MATCH(TEXT(hf_kommune[[#This Row],[Kommunenr]],\"0\"),Table11[Nr],0),MATCH(hf_kommune[[#Headers],[2037]],Table11[#Headers],0))","v":42},{"$f":"INDEX(Table11[],MATCH(TEXT(hf_kommune[[#This Row],[Kommunenr]],\"0\"),Table11[Nr],0),MATCH(hf_kommune[[#Headers],[2038]],Table11[#Headers],0))","v":48},{"$f":"INDEX(Table11[],MATCH(TEXT(hf_kommune[[#This Row],[Kommunenr]],\"0\"),Table11[Nr],0),MATCH(hf_kommune[[#Headers],[2039]],Table11[#Headers],0))","v":45},{"$f":"INDEX(Table11[],MATCH(TEXT(hf_kommune[[#This Row],[Kommunenr]],\"0\"),Table11[Nr],0),MATCH(hf_kommune[[#Headers],[2040]],Table11[#Headers],0))","v":53},4487,4528,4558,4581,4598,4618,4642,4667,4694,4723,4752,4780,4808,4835,4862,4886,4908,4929,4948]
[4643,"Årdal","Helse Vest","Helse Førde","Lærdal",{"$f":"INDEX(Table11[],MATCH(TEXT(hf_kommune[[#This Row],[Kommunenr]],\"0\"),Table11[Nr],0),MATCH(hf_kommune[[#Headers],[2020]],Table11[#Headers],0))","v":77},{"$f":"INDEX(Table11[],MATCH(TEXT(hf_kommune[[#This Row],[Kommunenr]],\"0\"),Table11[Nr],0),MATCH(hf_kommune[[#Headers],[2021]],Table11[#Headers],0))","v":90},{"$f":"INDEX(Table11[],MATCH(TEXT(hf_kommune[[#This Row],[Kommunenr]],\"0\"),Table11[Nr],0),MATCH(hf_kommune[[#Headers],[2022]],Table11[#Headers],0))","v":78},{"$f":"INDEX(Table11[],MATCH(TEXT(hf_kommune[[#This Row],[Kommunenr]],\"0\"),Table11[Nr],0),MATCH(hf_kommune[[#Headers],[2023]],Table11[#Headers],0))","v":79},{"$f":"INDEX(Table11[],MATCH(TEXT(hf_kommune[[#This Row],[Kommunenr]],\"0\"),Table11[Nr],0),MATCH(hf_kommune[[#Headers],[2024]],Table11[#Headers],0))","v":84},{"$f":"INDEX(Table11[],MATCH(TEXT(hf_kommune[[#This Row],[Kommunenr]],\"0\"),Table11[Nr],0),MATCH(hf_kommune[[#Headers],[2025]],Table11[#Headers],0))","v":74},{"$f":"INDEX(Table11[],MATCH(TEXT(hf_kommune[[#This Row],[Kommunenr]],\"0\"),Table11[Nr],0),MATCH(hf_kommune[[#Headers],[2026]],Table11[#Headers],0))","v":81},{"$f":"INDEX(Table11[],MATCH(TEXT(hf_kommune[[#This Row],[Kommunenr]],\"0\"),Table11[Nr],0),MATCH(hf_kommune[[#Headers],[2027]],Table11[#Headers],0))","v":66},{"$f":"INDEX(Table11[],MATCH(TEXT(hf_kommune[[#This Row],[Kommunenr]],\"0\"),Table11[Nr],0),MATCH(hf_kommune[[#Headers],[2028]],Table11[#Headers],0))","v":75},{"$f":"INDEX(Table11[],MATCH(TEXT(hf_kommune[[#This Row],[Kommunenr]],\"0\"),Table11[Nr],0),MATCH(hf_kommune[[#Headers],[2029]],Table11[#Headers],0))","v":54},{"$f":"INDEX(Table11[],MATCH(TEXT(hf_kommune[[#This Row],[Kommunenr]],\"0\"),Table11[Nr],0),MATCH(hf_kommune[[#Headers],[2030]],Table11[#Headers],0))","v":60},{"$f":"INDEX(Table11[],MATCH(TEXT(hf_kommune[[#This Row],[Kommunenr]],\"0\"),Table11[Nr],0),MATCH(hf_kommune[[#Headers],[2031]],Table11[#Headers],0))","v":44},{"$f":"INDEX(Table11[],MATCH(TEXT(hf_kommune[[#This Row],[Kommunenr]],\"0\"),Table11[Nr],0),MATCH(hf_kommune[[#Headers],[2032]],Table11[#Headers],0))","v":52},{"$f":"INDEX(Table11[],MATCH(TEXT(hf_kommune[[#This Row],[Kommunenr]],\"0\"),Table11[Nr],0),MATCH(hf_kommune[[#Headers],[2033]],Table11[#Headers],0))","v":58},{"$f":"INDEX(Table11[],MATCH(TEXT(hf_kommune[[#This Row],[Kommunenr]],\"0\"),Table11[Nr],0),MATCH(hf_kommune[[#Headers],[2034]],Table11[#Headers],0))","v":58},{"$f":"INDEX(Table11[],MATCH(TEXT(hf_kommune[[#This Row],[Kommunenr]],\"0\"),Table11[Nr],0),MATCH(hf_kommune[[#Headers],[2035]],Table11[#Headers],0))","v":57},{"$f":"INDEX(Table11[],MATCH(TEXT(hf_kommune[[#This Row],[Kommunenr]],\"0\"),Table11[Nr],0),MATCH(hf_kommune[[#Headers],[2036]],Table11[#Headers],0))","v":66},{"$f":"INDEX(Table11[],MATCH(TEXT(hf_kommune[[#This Row],[Kommunenr]],\"0\"),Table11[Nr],0),MATCH(hf_kommune[[#Headers],[2037]],Table11[#Headers],0))","v":53},{"$f":"INDEX(Table11[],MATCH(TEXT(hf_kommune[[#This Row],[Kommunenr]],\"0\"),Table11[Nr],0),MATCH(hf_kommune[[#Headers],[2038]],Table11[#Headers],0))","v":56},{"$f":"INDEX(Table11[],MATCH(TEXT(hf_kommune[[#This Row],[Kommunenr]],\"0\"),Table11[Nr],0),MATCH(hf_kommune[[#Headers],[2039]],Table11[#Headers],0))","v":51},{"$f":"INDEX(Table11[],MATCH(TEXT(hf_kommune[[#This Row],[Kommunenr]],\"0\"),Table11[Nr],0),MATCH(hf_kommune[[#Headers],[2040]],Table11[#Headers],0))","v":61},5034,4967,4907,4854,4807,4762,4719,4678,4638,4600,4562,4525,4490,4456,4422,4389,4357,4324,4292]
[3021,"Ås","Helse Sør-Øst","Akershus universitetssykehus","Ski",{"$f":"INDEX(Table11[],MATCH(TEXT(hf_kommune[[#This Row],[Kommunenr]],\"0\"),Table11[Nr],0),MATCH(hf_kommune[[#Headers],[2020]],Table11[#Headers],0))","v":259},{"$f":"INDEX(Table11[],MATCH(TEXT(hf_kommune[[#This Row],[Kommunenr]],\"0\"),Table11[Nr],0),MATCH(hf_kommune[[#Headers],[2021]],Table11[#Headers],0))","v":253},{"$f":"INDEX(Table11[],MATCH(TEXT(hf_kommune[[#This Row],[Kommunenr]],\"0\"),Table11[Nr],0),MATCH(hf_kommune[[#Headers],[2022]],Table11[#Headers],0))","v":271},{"$f":"INDEX(Table11[],MATCH(TEXT(hf_kommune[[#This Row],[Kommunenr]],\"0\"),Table11[Nr],0),MATCH(hf_kommune[[#Headers],[2023]],Table11[#Headers],0))","v":253},{"$f":"INDEX(Table11[],MATCH(TEXT(hf_kommune[[#This Row],[Kommunenr]],\"0\"),Table11[Nr],0),MATCH(hf_kommune[[#Headers],[2024]],Table11[#Headers],0))","v":278},{"$f":"INDEX(Table11[],MATCH(TEXT(hf_kommune[[#This Row],[Kommunenr]],\"0\"),Table11[Nr],0),MATCH(hf_kommune[[#Headers],[2025]],Table11[#Headers],0))","v":260},{"$f":"INDEX(Table11[],MATCH(TEXT(hf_kommune[[#This Row],[Kommunenr]],\"0\"),Table11[Nr],0),MATCH(hf_kommune[[#Headers],[2026]],Table11[#Headers],0))","v":265},{"$f":"INDEX(Table11[],MATCH(TEXT(hf_kommune[[#This Row],[Kommunenr]],\"0\"),Table11[Nr],0),MATCH(hf_kommune[[#Headers],[2027]],Table11[#Headers],0))","v":269},{"$f":"INDEX(Table11[],MATCH(TEXT(hf_kommune[[#This Row],[Kommunenr]],\"0\"),Table11[Nr],0),MATCH(hf_kommune[[#Headers],[2028]],Table11[#Headers],0))","v":278},{"$f":"INDEX(Table11[],MATCH(TEXT(hf_kommune[[#This Row],[Kommunenr]],\"0\"),Table11[Nr],0),MATCH(hf_kommune[[#Headers],[2029]],Table11[#Headers],0))","v":271},{"$f":"INDEX(Table11[],MATCH(TEXT(hf_kommune[[#This Row],[Kommunenr]],\"0\"),Table11[Nr],0),MATCH(hf_kommune[[#Headers],[2030]],Table11[#Headers],0))","v":289},{"$f":"INDEX(Table11[],MATCH(TEXT(hf_kommune[[#This Row],[Kommunenr]],\"0\"),Table11[Nr],0),MATCH(hf_kommune[[#Headers],[2031]],Table11[#Headers],0))","v":275},{"$f":"INDEX(Table11[],MATCH(TEXT(hf_kommune[[#This Row],[Kommunenr]],\"0\"),Table11[Nr],0),MATCH(hf_kommune[[#Headers],[2032]],Table11[#Headers],0))","v":268},{"$f":"INDEX(Table11[],MATCH(TEXT(hf_kommune[[#This Row],[Kommunenr]],\"0\"),Table11[Nr],0),MATCH(hf_kommune[[#Headers],[2033]],Table11[#Headers],0))","v":262},{"$f":"INDEX(Table11[],MATCH(TEXT(hf_kommune[[#This Row],[Kommunenr]],\"0\"),Table11[Nr],0),MATCH(hf_kommune[[#Headers],[2034]],Table11[#Headers],0))","v":272},{"$f":"INDEX(Table11[],MATCH(TEXT(hf_kommune[[#This Row],[Kommunenr]],\"0\"),Table11[Nr],0),MATCH(hf_kommune[[#Headers],[2035]],Table11[#Headers],0))","v":306},{"$f":"INDEX(Table11[],MATCH(TEXT(hf_kommune[[#This Row],[Kommunenr]],\"0\"),Table11[Nr],0),MATCH(hf_kommune[[#Headers],[2036]],Table11[#Headers],0))","v":298},{"$f":"INDEX(Table11[],MATCH(TEXT(hf_kommune[[#This Row],[Kommunenr]],\"0\"),Table11[Nr],0),MATCH(hf_kommune[[#Headers],[2037]],Table11[#Headers],0))","v":290},{"$f":"INDEX(Table11[],MATCH(TEXT(hf_kommune[[#This Row],[Kommunenr]],\"0\"),Table11[Nr],0),MATCH(hf_kommune[[#Headers],[2038]],Table11[#Headers],0))","v":296},{"$f":"INDEX(Table11[],MATCH(TEXT(hf_kommune[[#This Row],[Kommunenr]],\"0\"),Table11[Nr],0),MATCH(hf_kommune[[#Headers],[2039]],Table11[#Headers],0))","v":302},{"$f":"INDEX(Table11[],MATCH(TEXT(hf_kommune[[#This Row],[Kommunenr]],\"0\"),Table11[Nr],0),MATCH(hf_kommune[[#Headers],[2040]],Table11[#Headers],0))","v":295},21227,21559,21833,22059,22244,22437,22635,22835,23035,23235,23430,23622,23809,23991,24171,24344,24511,24670,24822]
[4224,"Åseral","Helse Sør-Øst","Sørlandet sykehus","Kristiansand",{"$f":"INDEX(Table11[],MATCH(TEXT(hf_kommune[[#This Row],[Kommunenr]],\"0\"),Table11[Nr],0),MATCH(hf_kommune[[#Headers],[2020]],Table11[#Headers],0))","v":12},{"$f":"INDEX(Table11[],MATCH(TEXT(hf_kommune[[#This Row],[Kommunenr]],\"0\"),Table11[Nr],0),MATCH(hf_kommune[[#Headers],[2021]],Table11[#Headers],0))","v":14},{"$f":"INDEX(Table11[],MATCH(TEXT(hf_kommune[[#This Row],[Kommunenr]],\"0\"),Table11[Nr],0),MATCH(hf_kommune[[#Headers],[2022]],Table11[#Headers],0))","v":12},{"$f":"INDEX(Table11[],MATCH(TEXT(hf_kommune[[#This Row],[Kommunenr]],\"0\"),Table11[Nr],0),MATCH(hf_kommune[[#Headers],[2023]],Table11[#Headers],0))","v":26},{"$f":"INDEX(Table11[],MATCH(TEXT(hf_kommune[[#This Row],[Kommunenr]],\"0\"),Table11[Nr],0),MATCH(hf_kommune[[#Headers],[2024]],Table11[#Headers],0))","v":19},{"$f":"INDEX(Table11[],MATCH(TEXT(hf_kommune[[#This Row],[Kommunenr]],\"0\"),Table11[Nr],0),MATCH(hf_kommune[[#Headers],[2025]],Table11[#Headers],0))","v":15},{"$f":"INDEX(Table11[],MATCH(TEXT(hf_kommune[[#This Row],[Kommunenr]],\"0\"),Table11[Nr],0),MATCH(hf_kommune[[#Headers],[2026]],Table11[#Headers],0))","v":17},{"$f":"INDEX(Table11[],MATCH(TEXT(hf_kommune[[#This Row],[Kommunenr]],\"0\"),Table11[Nr],0),MATCH(hf_kommune[[#Headers],[2027]],Table11[#Headers],0))","v":11},{"$f":"INDEX(Table11[],MATCH(TEXT(hf_kommune[[#This Row],[Kommunenr]],\"0\"),Table11[Nr],0),MATCH(hf_kommune[[#Headers],[2028]],Table11[#Headers],0))","v":14},{"$f":"INDEX(Table11[],MATCH(TEXT(hf_kommune[[#This Row],[Kommunenr]],\"0\"),Table11[Nr],0),MATCH(hf_kommune[[#Headers],[2029]],Table11[#Headers],0))","v":11},{"$f":"INDEX(Table11[],MATCH(TEXT(hf_kommune[[#This Row],[Kommunenr]],\"0\"),Table11[Nr],0),MATCH(hf_kommune[[#Headers],[2030]],Table11[#Headers],0))","v":9},{"$f":"INDEX(Table11[],MATCH(TEXT(hf_kommune[[#This Row],[Kommunenr]],\"0\"),Table11[Nr],0),MATCH(hf_kommune[[#Headers],[2031]],Table11[#Headers],0))","v":11},{"$f":"INDEX(Table11[],MATCH(TEXT(hf_kommune[[#This Row],[Kommunenr]],\"0\"),Table11[Nr],0),MATCH(hf_kommune[[#Headers],[2032]],Table11[#Headers],0))","v":11},{"$f":"INDEX(Table11[],MATCH(TEXT(hf_kommune[[#This Row],[Kommunenr]],\"0\"),Table11[Nr],0),MATCH(hf_kommune[[#Headers],[2033]],Table11[#Headers],0))","v":8},{"$f":"INDEX(Table11[],MATCH(TEXT(hf_kommune[[#This Row],[Kommunenr]],\"0\"),Table11[Nr],0),MATCH(hf_kommune[[#Headers],[2034]],Table11[#Headers],0))","v":8},{"$f":"INDEX(Table11[],MATCH(TEXT(hf_kommune[[#This Row],[Kommunenr]],\"0\"),Table11[Nr],0),MATCH(hf_kommune[[#Headers],[2035]],Table11[#Headers],0))","v":14},{"$f":"INDEX(Table11[],MATCH(TEXT(hf_kommune[[#This Row],[Kommunenr]],\"0\"),Table11[Nr],0),MATCH(hf_kommune[[#Headers],[2036]],Table11[#Headers],0))","v":16},{"$f":"INDEX(Table11[],MATCH(TEXT(hf_kommune[[#This Row],[Kommunenr]],\"0\"),Table11[Nr],0),MATCH(hf_kommune[[#Headers],[2037]],Table11[#Headers],0))","v":14},{"$f":"INDEX(Table11[],MATCH(TEXT(hf_kommune[[#This Row],[Kommunenr]],\"0\"),Table11[Nr],0),MATCH(hf_kommune[[#Headers],[2038]],Table11[#Headers],0))","v":9},{"$f":"INDEX(Table11[],MATCH(TEXT(hf_kommune[[#This Row],[Kommunenr]],\"0\"),Table11[Nr],0),MATCH(hf_kommune[[#Headers],[2039]],Table11[#Headers],0))","v":10},{"$f":"INDEX(Table11[],MATCH(TEXT(hf_kommune[[#This Row],[Kommunenr]],\"0\"),Table11[Nr],0),MATCH(hf_kommune[[#Headers],[2040]],Table11[#Headers],0))","v":12},897,884,872,862,855,848,842,837,832,828,824,821,817,815,812,810,808,806,805]
[3418,"Åsnes","Helse Sør-Øst","Akershus universitetssykehus","Kongsvinger",{"$f":"INDEX(Table11[],MATCH(TEXT(hf_kommune[[#This Row],[Kommunenr]],\"0\"),Table11[Nr],0),MATCH(hf_kommune[[#Headers],[2020]],Table11[#Headers],0))","v":129},{"$f":"INDEX(Table11[],MATCH(TEXT(hf_kommune[[#This Row],[Kommunenr]],\"0\"),Table11[Nr],0),MATCH(hf_kommune[[#Headers],[2021]],Table11[#Headers],0))","v":112},{"$f":"INDEX(Table11[],MATCH(TEXT(hf_kommune[[#This Row],[Kommunenr]],\"0\"),Table11[Nr],0),MATCH(hf_kommune[[#Headers],[2022]],Table11[#Headers],0))","v":128},{"$f":"INDEX(Table11[],MATCH(TEXT(hf_kommune[[#This Row],[Kommunenr]],\"0\"),Table11[Nr],0),MATCH(hf_kommune[[#Headers],[2023]],Table11[#Headers],0))","v":94},{"$f":"INDEX(Table11[],MATCH(TEXT(hf_kommune[[#This Row],[Kommunenr]],\"0\"),Table11[Nr],0),MATCH(hf_kommune[[#Headers],[2024]],Table11[#Headers],0))","v":126},{"$f":"INDEX(Table11[],MATCH(TEXT(hf_kommune[[#This Row],[Kommunenr]],\"0\"),Table11[Nr],0),MATCH(hf_kommune[[#Headers],[2025]],Table11[#Headers],0))","v":129},{"$f":"INDEX(Table11[],MATCH(TEXT(hf_kommune[[#This Row],[Kommunenr]],\"0\"),Table11[Nr],0),MATCH(hf_kommune[[#Headers],[2026]],Table11[#Headers],0))","v":111},{"$f":"INDEX(Table11[],MATCH(TEXT(hf_kommune[[#This Row],[Kommunenr]],\"0\"),Table11[Nr],0),MATCH(hf_kommune[[#Headers],[2027]],Table11[#Headers],0))","v":131},{"$f":"INDEX(Table11[],MATCH(TEXT(hf_kommune[[#This Row],[Kommunenr]],\"0\"),Table11[Nr],0),MATCH(hf_kommune[[#Headers],[2028]],Table11[#Headers],0))","v":108},{"$f":"INDEX(Table11[],MATCH(TEXT(hf_kommune[[#This Row],[Kommunenr]],\"0\"),Table11[Nr],0),MATCH(hf_kommune[[#Headers],[2029]],Table11[#Headers],0))","v":114},{"$f":"INDEX(Table11[],MATCH(TEXT(hf_kommune[[#This Row],[Kommunenr]],\"0\"),Table11[Nr],0),MATCH(hf_kommune[[#Headers],[2030]],Table11[#Headers],0))","v":107},{"$f":"INDEX(Table11[],MATCH(TEXT(hf_kommune[[#This Row],[Kommunenr]],\"0\"),Table11[Nr],0),MATCH(hf_kommune[[#Headers],[2031]],Table11[#Headers],0))","v":94},{"$f":"INDEX(Table11[],MATCH(TEXT(hf_kommune[[#This Row],[Kommunenr]],\"0\"),Table11[Nr],0),MATCH(hf_kommune[[#Headers],[2032]],Table11[#Headers],0))","v":94},{"$f":"INDEX(Table11[],MATCH(TEXT(hf_kommune[[#This Row],[Kommunenr]],\"0\"),Table11[Nr],0),MATCH(hf_kommune[[#Headers],[2033]],Table11[#Headers],0))","v":86},{"$f":"INDEX(Table11[],MATCH(TEXT(hf_kommune[[#This Row],[Kommunenr]],\"0\"),Table11[Nr],0),MATCH(hf_kommune[[#Headers],[2034]],Table11[#Headers],0))","v":84},{"$f":"INDEX(Table11[],MATCH(TEXT(hf_kommune[[#This Row],[Kommunenr]],\"0\"),Table11[Nr],0),MATCH(hf_kommune[[#Headers],[2035]],Table11[#Headers],0))","v":89},{"$f":"INDEX(Table11[],MATCH(TEXT(hf_kommune[[#This Row],[Kommunenr]],\"0\"),Table11[Nr],0),MATCH(hf_kommune[[#Headers],[2036]],Table11[#Headers],0))","v":89},{"$f":"INDEX(Table11[],MATCH(TEXT(hf_kommune[[#This Row],[Kommunenr]],\"0\"),Table11[Nr],0),MATCH(hf_kommune[[#Headers],[2037]],Table11[#Headers],0))","v":82},{"$f":"INDEX(Table11[],MATCH(TEXT(hf_kommune[[#This Row],[Kommunenr]],\"0\"),Table11[Nr],0),MATCH(hf_kommune[[#Headers],[2038]],Table11[#Headers],0))","v":81},{"$f":"INDEX(Table11[],MATCH(TEXT(hf_kommune[[#This Row],[Kommunenr]],\"0\"),Table11[Nr],0),MATCH(hf_kommune[[#Headers],[2039]],Table11[#Headers],0))","v":89},{"$f":"INDEX(Table11[],MATCH(TEXT(hf_kommune[[#This Row],[Kommunenr]],\"0\"),Table11[Nr],0),MATCH(hf_kommune[[#Headers],[2040]],Table11[#Headers],0))","v":87},7146,7124,7104,7087,7072,7059,7049,7041,7033,7027,7020,7013,7007,7001,6995,6989,6983,6977,6971]
["Total",null,null,null,null,null,null,{"$f":"SUBTOTAL(109,hf_kommune[2022])","v":72952},{"$f":"SUBTOTAL(109,hf_kommune[2023])","v":73455},{"$f":"SUBTOTAL(109,hf_kommune[2024])","v":75519},{"$f":"SUBTOTAL(109,hf_kommune[2025])","v":76220.000000000015},{"$f":"SUBTOTAL(109,hf_kommune[2026])","v":74785},{"$f":"SUBTOTAL(109,hf_kommune[2027])","v":75652},{"$f":"SUBTOTAL(109,hf_kommune[2028])","v":75644.000000000015},{"$f":"SUBTOTAL(109,hf_kommune[2029])","v":73318},{"$f":"SUBTOTAL(109,hf_kommune[2030])","v":73327},{"$f":"SUBTOTAL(109,hf_kommune[2031])","v":70691.999999999985},{"$f":"SUBTOTAL(109,hf_kommune[2032])","v":68874},{"$f":"SUBTOTAL(109,hf_kommune[2033])","v":67541},{"$f":"SUBTOTAL(109,hf_kommune[2034])","v":69351},{"$f":"SUBTOTAL(109,hf_kommune[2035])","v":69915},{"$f":"SUBTOTAL(109,hf_kommune[2036])","v":71106.999999999985},{"$f":"SUBTOTAL(109,hf_kommune[2037])","v":70439},{"$f":"SUBTOTAL(109,hf_kommune[2038])","v":72017.999999999985},{"$f":"SUBTOTAL(109,hf_kommune[2039])","v":71869},{"$f":"SUBTOTAL(109,hf_kommune[2040])","v":72358},{"$f":"SUBTOTAL(109,hf_kommune[2022-tot])","v":5417351},{"$f":"SUBTOTAL(109,hf_kommune[2023-tot])","v":5444679},{"$f":"SUBTOTAL(109,hf_kommune[2024-tot])","v":5471238},{"$f":"SUBTOTAL(109,hf_kommune[2025-tot])","v":5497555},{"$f":"SUBTOTAL(109,hf_kommune[2026-tot])","v":5523922},{"$f":"SUBTOTAL(109,hf_kommune[2027-tot])","v":5549889},{"$f":"SUBTOTAL(109,hf_kommune[2028-tot])","v":5575492},{"$f":"SUBTOTAL(109,hf_kommune[2029-tot])","v":5600752},{"$f":"SUBTOTAL(109,hf_kommune[2030-tot])","v":5625562},{"$f":"SUBTOTAL(109,hf_kommune[2031-tot])","v":5649887}]

{"sheet":"Sheet1","index":7,"n_rows":357,"n_cols":23,"rows_kept":357,"cut":false,"hidden":true,"merged":[]}
["Nr","Kommune","2020","2021","2022","2023","2024","2025","2026","2027","2028","2029","2030","2031","2032","2033","2034","2035","2036","2037","2038","2039","2040"]
["3001","Halden",407,482,462,456,508,432,445,466,469,445,438,421,418,426,422,419,424,401,412,393,445]
["3002","Moss",750,755,737,762,807,801,752,790,783,745,759,737,689,695,718,704,739,711,702,736,723]
["3003","Sarpsborg",772,778,772,798,815,869,843,829,908,832,805,795,802,760,787,749,800,774,796,809,774]
["3004","Fredrikstad",1188,1225,1197,1261,1358,1303,1309,1218,1223,1217,1201,1126,1076,1096,1124,1084,1098,1097,1126,1174,1180]
["3005","Drammen",1267,1310,1319,1395,1479,1473,1471,1453,1486,1445,1478,1402,1361,1328,1356,1362,1392,1365,1423,1399,1434]
["3006","Kongsberg",386,380,413,406,377,397,390,419,411,400,403,400,410,391,390,379,378,383,389,404,374]
["3007","Ringerike",427,467,477,407,470,442,467,449,452,471,424,447,418,408,417,424,448,407,422,430,423]
["3011","Hvaler",97,93,63,76,77,78,82,89,83,85,87,91,82,80,83,86,83,79,77,75,80]
["3012","Aremark",22,26,26,32,23,20,22,17,19,21,26,14,20,20,15,16,18,18,17,19,16]
["3013","Marker",66,65,52,56,57,51,54,50,60,53,58,54,42,50,48,50,44,51,49,46,51]
["3014","Indre Østfold",588,690,675,687,735,700,708,707,676,653,671,665,608,603,629,646,666,665,654,655,687]
["3015","Skiptvet",73,54,61,50,48,54,55,52,61,56,59,57,56,55,55,57,57,57,62,61,59]
["3016","Rakkestad",117,119,118,117,131,105,128,121,125,110,121,120,113,126,115,110,122,118,127,124,118]
["3017","Råde",106,111,107,93,116,115,126,131,123,120,129,119,121,101,112,115,110,106,108,112,106]
["3018","Våler (Viken)",63,82,64,101,102,90,89,107,88,91,95,97,73,89,90,102,98,98,102,111,110]
["3019","Vestby",258,240,269,259,294,304,335,296,303,294,312,272,304,284,278,264,294,292,303,295,299]
["3020","Nordre Follo",802,796,857,823,933,892,839,890,919,867,906,845,834,814,855,814,815,837,838,840,876]
["3021","Ås",259,253,271,253,278,260,265,269,278,271,289,275,268,262,272,306,298,290,296,302,295]
["3022","Frogn",243,272,276,256,310,270,294,272,284,262,261,232,240,235,241,221,232,223,240,228,228]
["3023","Nesodden",272,315,318,281,280,303,289,299,294,293,324,290,276,286,318,312,296,304,315,309,316]
["3024","Bærum",1696,1664,1808,1763,1757,1798,1837,1875,1921,1822,1907,1850,1770,1717,1835,1776,1855,1871,1890,1916,1904]
["3025","Asker",1379,1407,1446,1452,1467,1468,1392,1454,1496,1504,1495,1406,1371,1358,1404,1420,1384,1415,1454,1459,1421]
["3026","Aurskog-Høland",251,245,281,294,298,302,262,304,301,283,274,253,263,267,255,251,263,255,261,274,271]
["3027","Rælingen",229,252,258,248,269,300,260,255,271,274,289,302,263,254,279,269,292,297,306,294,302]
["3028","Enebakk",169,161,167,152,189,172,158,172,172,182,184,171,162,169,171,166,165,159,169,177,177]
["3029","Lørenskog",600,572,621,617,657,648,603,690,659,600,628,668,611,639,649,651,647,662,700,711,727]
["3030","Lillestrøm",1175,1215,1318,1262,1352,1378,1326,1372,1419,1350,1362,1282,1268,1230,1267,1305,1319,1329,1345,1347,1363]
["3031","Nittedal",333,334,399,400,374,398,409,396,391,402,406,354,353,381,353,383,369,386,373,374,389]
["3032","Gjerdrum",114,102,107,122,130,112,122,125,139,109,112,105,104,104,99,106,113,113,110,107,112]
["3033","Ullensaker",492,563,566,563,576,615,630,658,651,599,675,617,620,623,605,637,635,631,684,667,679]
["3034","Nes",311,344,366,395,354,363,355,355,377,367,349,370,342,343,348,347,340,353,365,377,382]
["3035","Eidsvoll",350,332,367,366,397,386,377,397,377,372,404,384,374,373,403,400,432,401,415,420,434]
["3036","Nannestad",208,195,207,232,241,235,259,232,245,240,236,233,248,229,234,251,263,240,267,258,258]
["3037","Hurdal",45,33,46,33,44,55,49,37,57,50,44,43,43,39,46,47,50,43,46,50,48]
["3038","Hole",107,92,121,111,105,105,109,100,112,103,120,126,107,105,109,123,124,117,107,125,108]
["3039","Flå",19,18,13,19,17,13,18,15,18,13,18,16,12,15,12,11,13,16,13,16,16]
["3040","Nesbyen",46,47,55,49,51,63,42,60,52,34,44,37,46,45,44,36,31,33,36,38,33]
["3041","Gol",65,64,67,85,80,64,67,95,75,67,75,60,64,61,66,62,67,55,57,57,64]
["3042","Hemsedal",35,32,33,43,40,43,46,50,42,38,44,48,43,39,49,50,49,40,41,47,49]
["3043","Ål",53,63,70,48,77,64,79,60,63,65,61,63,58,49,49,57,61,52,52,54,53]
["3044","Hol",57,71,62,66,66,59,60,62,59,74,68,67,47,58,67,63,71,52,60,65,59]
["3045","Sigdal",51,57,45,54,65,60,51,54,48,55,64,39,39,45,48,38,54,47,39,44,44]
["3046","Krødsherad",24,24,31,37,28,30,27,38,28,30,34,30,32,29,32,29,33,31,31,31,33]
["3047","Modum",217,182,204,184,194,211,202,233,204,191,202,198,186,185,191,203,203,207,206,200,211]
["3048","Øvre Eiker",263,261,295,250,289,280,290,324,297,275,325,306,270,254,280,297,295,282,295,285,295]
["3049","Lier",384,392,402,396,423,419,402,436,428,416,431,387,405,393,429,424,416,403,436,439,423]
["3050","Flesberg",33,45,34,27,39,46,33,48,43,42,41,36,27,28,25,32,34,39,38,33,39]
["3051","Rollag",17,20,15,15,21,21,22,19,16,25,18,19,10,15,15,13,16,14,20,18,17]
["3052","Nore og Uvdal",41,52,34,33,44,37,38,37,34,42,29,27,23,33,22,26,27,28,32,25,26]
["3053","Jevnaker",115,110,101,103,111,111,114,97,104,110,100,86,93,91,101,99,106,90,94,102,109]
["3054","Lunner",123,125,147,153,155,151,145,137,152,129,118,114,122,116,128,134,120,126,116,135,132]
["0301","Oslo kommune",7308,7385,7971,7925,8106,8317,8364,8568,8661,8528,8766,8678,8549,8452,8614,8756,9040,8901,9061,9064,9262]
["3401","Kongsvinger",275,287,255,265,277,295,282,290,254,234,250,249,229,219,202,227,219,203,226,214,230]
["3403","Hamar",403,448,410,440,389,458,444,419,472,403,410,424,414,411,394,434,423,387,431,445,440]
["3405","Lillehammer",367,342,391,396,407,386,381,381,357,371,371,354,305,327,337,345,325,338,330,333,335]
["3407","Gjøvik",397,400,408,387,421,414,428,416,403,416,401,389,401,359,365,347,348,364,386,375,360]
["3411","Ringsaker",508,492,547,494,524,516,523,541,517,523,465,443,466,439,424,450,459,421,467,477,457]
["3412","Løten",103,109,121,103,107,127,96,120,113,102,103,93,99,109,99,95,110,98,109,107,111]
["3413","Stange",274,312,302,316,282,305,337,305,299,302,288,285,265,251,293,296,271,273,277,273,307]
["3414","Nord-Odal",83,86,72,85,76,91,85,93,87,70,71,61,71,60,55,64,58,66,56,61,56]
["3415","Sør-Odal",118,130,110,142,120,122,149,120,137,131,114,125,114,103,104,93,112,111,115,119,117]
["3416","Eidskog",108,105,112,113,123,88,101,104,101,100,91,75,81,74,85,68,78,74,75,76,68]
["3417","Grue",80,79,75,83,99,77,73,66,62,69,67,59,64,55,51,55,50,58,53,50,52]
["3418","Åsnes",129,112,128,94,126,129,111,131,108,114,107,94,94,86,84,89,89,82,81,89,87]
["3419","Våler (Innlandet)",57,56,52,78,60,65,69,65,63,52,41,51,52,49,38,49,45,46,42,47,43]
["3420","Elverum",310,290,291,277,319,311,325,305,305,268,277,275,260,266,240,269,228,248,242,266,262]
["3421","Trysil",107,95,99,104,107,115,111,90,98,93,92,90,84,77,69,81,77,88,86,87,78]
["3422","Åmot",51,72,54,61,67,58,52,61,57,61,60,53,50,47,40,41,40,42,48,45,53]
["3423","Stor-Elvdal",41,28,34,42,37,32,34,29,34,29,29,36,28,27,33,26,29,31,31,32,30]
["3424","Rendalen",27,30,40,33,19,32,28,34,26,21,27,23,22,26,23,24,25,23,21,23,20]
["3425","Engerdal",23,24,25,16,24,21,15,26,21,23,14,15,12,16,17,14,12,17,13,10,10]
["3426","Tolga",27,19,20,23,23,26,23,18,16,17,19,14,8,14,16,16,17,19,16,14,16]
["3427","Tynset",75,77,72,72,84,83,73,75,90,69,70,64,58,56,61,62,62,69,70,73,70]
["3428","Alvdal",26,36,39,31,31,41,33,28,29,30,24,25,29,25,29,24,28,18,24,25,24]
["3429","Folldal",25,27,17,18,29,23,19,27,20,18,25,18,18,22,21,22,22,15,18,16,20]
["3430","Os",41,37,21,25,29,32,30,29,25,29,30,28,19,16,20,18,18,22,23,17,19]
["3431","Dovre",24,39,40,36,38,35,31,36,36,33,29,30,21,22,30,26,28,24,26,27,24]
["3432","Lesja",29,24,28,32,29,25,27,29,26,30,28,23,24,19,24,18,27,17,17,19,18]
["3433","Skjåk",35,34,26,31,27,40,35,27,29,19,36,26,22,27,32,22,26,26,25,22,19]
["3434","Lom",30,38,30,24,28,39,36,28,33,26,28,27,17,23,26,25,24,27,20,22,21]
["3435","Vågå",54,52,54,42,47,53,44,49,48,46,43,41,51,44,36,42,41,42,40,43,41]
["3436","Nord-Fron",92,71,95,99,97,82,81,85,85,80,61,60,55,56,55,58,60,53,63,51,60]
["3437","Sel",92,65,80,75,82,97,68,90,91,77,72,86,58,60,50,47,63,66,55,58,54]
["3438","Sør-Fron",40,52,45,56,52,54,55,56,51,43,48,37,37,35,36,32,30,33,41,42,42]
["3439","Ringebu",56,71,75,69,71,72,60,68,67,63,62,51,48,44,47,45,59,50,50,59,48]
["3440","Øyer",78,73,86,79,65,79,74,66,68,63,68,56,66,62,59,54,57,64,58,62,70]
["3441","Gausdal",74,110,93,98,101,110,93,102,96,84,78,82,83,69,78,74,86,77,66,82,67]
["3442","Østre Toten",193,206,256,242,246,228,225,237,238,216,233,194,172,160,182,176,175,180,172,190,173]
["3443","Vestre Toten",183,208,201,216,198,207,220,200,225,186,210,169,191,169,157,155,180,156,158,157,167]
["3446","Gran",234,200,207,217,190,230,223,208,207,206,215,198,173,175,182,173,167,164,181,171,176]
["3447","Søndre Land",108,91,100,90,100,98,90,88,90,91,72,82,74,70,72,78,73,76,76,78,71]
["3448","Nordre Land",119,103,101,113,91,113,105,110,103,95,85,93,78,78,83,80,68,78,73,82,80]
["3449","Sør-Aurdal",54,39,53,48,33,42,46,35,39,35,45,32,34,37,29,36,32,38,30,36,36]
["3450","Etnedal",23,21,24,20,21,25,22,22,25,12,16,20,17,18,15,18,19,16,15,18,19]
["3451","Nord-Aurdal",77,89,93,95,79,98,85,93,92,93,84,86,87,63,77,73,81,82,71,72,72]
["3452","Vestre Slidre",38,34,34,29,35,31,37,27,40,25,33,27,21,33,24,23,23,23,32,28,25]
["3453","Øystre Slidre",58,47,58,51,50,47,44,44,43,40,42,43,39,39,36,41,39,39,45,37,36]
["3454","Vang",22,18,15,23,21,34,22,24,24,24,22,18,20,18,16,20,24,28,20,22,28]
["3801","Horten",418,416,374,434,418,424,414,409,416,417,373,339,353,344,321,355,353,362,372,361,356]
["3802","Holmestrand",358,389,338,373,405,398,416,429,389,421,423,394,374,402,358,370,393,369,394,394,391]
["3803","Tønsberg",770,812,803,815,837,880,775,872,866,777,793,776,769,780,801,779,817,808,789,779,802]
["3804","Sandefjord",857,945,901,970,975,1009,927,945,991,907,909,909,903,862,882,854,857,886,898,912,946]
["3805","Larvik",634,696,698,668,688,720,688,686,733,662,678,684,617,573,638,635,645,628,686,667,642]
["3806","Porsgrunn",512,517,531,529,527,579,534,539,529,499,515,485,473,445,479,465,453,479,473,461,465]
["3807","Skien",735,798,814,806,794,798,826,799,816,795,787,723,721,698,689,682,698,727,724,691,718]
["3808","Notodden",197,200,166,195,166,174,172,178,176,170,171,180,165,130,165,159,148,138,158,157,148]
["3811","Færder",380,419,412,395,415,434,405,408,426,359,359,351,386,360,366,368,363,353,363,369,372]
["3812","Siljan",43,28,29,35,27,38,34,30,34,32,36,28,33,38,27,29,30,34,30,30,30]
["3813","Bamble",212,197,222,198,224,197,203,221,215,194,173,186,190,158,150,177,164,154,174,172,183]
["3814","Kragerø",135,161,145,155,185,161,168,160,161,142,143,145,131,112,128,126,124,121,126,131,116]
["3815","Drangedal",55,56,67,65,66,52,56,65,76,55,64,54,61,51,50,53,54,49,50,53,51]
["3816","Nome",81,109,113,117,90,106,97,95,102,80,91,84,78,80,74,81,80,69,84,72,74]
["3817","Midt-Telemark",123,113,143,130,141,115,157,133,160,140,138,137,129,141,135,125,144,137,137,139,132]
["3818","Tinn",90,75,95,89,88,99,95,86,90,87,78,65,70,70,58,62,63,55,62,60,63]
["3819","Hjartdal",19,19,21,26,23,25,27,23,29,24,20,17,19,18,17,17,15,13,18,21,17]
["3820","Seljord",39,33,51,40,39,37,42,39,41,45,41,40,42,33,38,33,34,38,37,30,37]
["3821","Kviteseid",50,41,43,41,32,36,42,48,41,27,42,31,34,28,34,31,27,27,39,26,35]
["3822","Nissedal",16,20,25,21,23,27,34,22,16,17,16,21,21,19,19,24,22,17,14,20,20]
["3823","Fyresdal",18,17,19,13,16,21,22,19,16,18,13,14,18,16,14,15,13,11,16,17,14]
["3824","Tokke",35,29,27,39,38,27,32,34,25,34,30,28,16,31,28,21,21,22,28,25,28]
["3825","Vinje",56,52,64,52,46,53,60,54,54,49,47,47,41,50,36,43,41,46,53,50,49]
["4201","Risør",107,107,100,94,83,106,97,126,109,110,104,98,101,90,80,88,75,78,84,87,86]
["4202","Grimstad",307,290,315,291,337,345,322,330,320,352,343,319,310,299,294,295,319,309,299,326,300]
["4203","Arendal",610,657,602,657,637,708,670,646,674,676,654,675,633,608,602,586,627,628,623,625,676]
["4204","Kristiansand",1447,1459,1469,1428,1435,1523,1487,1556,1523,1480,1525,1441,1453,1376,1506,1466,1569,1517,1560,1547,1572]
["4205","Lindesnes",333,295,333,345,311,312,343,347,322,298,328,312,309,274,310,282,304,318,306,294,282]
["4206","Farsund",114,139,134,134,135,149,140,132,148,140,116,133,120,113,116,118,126,113,101,111,108]
["4207","Flekkefjord",137,110,116,128,132,146,111,123,119,128,98,110,100,101,102,107,109,105,95,100,102]
["4211","Gjerstad",33,33,27,40,39,42,38,34,45,42,43,33,39,34,34,31,30,28,26,26,29]
["4212","Vegårshei",40,27,30,43,27,30,30,31,31,28,28,33,38,33,30,30,29,30,28,21,29]
["4213","Tvedestrand",83,78,72,99,86,74,93,102,101,99,87,90,90,92,79,88,82,81,97,91,75]
["4214","Froland",94,85,98,84,75,93,88,102,85,84,90,92,102,86,89,84,84,91,94,82,91]
["4215","Lillesand",149,157,142,176,167,154,157,164,158,160,141,183,153,164,154,160,165,172,177,144,169]
["4216","Birkenes",62,68,78,72,81,66,73,77,71,67,79,67,86,65,74,78,62,82,83,77,77]
["4217","Åmli",30,23,24,30,25,28,27,29,26,28,24,35,34,27,24,23,29,26,26,22,23]
["4218","Iveland",19,15,21,16,15,17,18,20,23,16,25,26,27,16,18,18,22,22,20,25,22]
["4219","Evje og Hornnes",43,56,37,40,48,47,40,44,44,49,58,43,61,58,56,53,51,58,52,60,45]
["4220","Bygland",14,19,10,14,14,18,26,19,17,17,18,17,18,18,13,14,16,17,16,13,15]
["4221","Valle",13,21,16,17,15,12,24,20,16,16,10,17,14,8,10,16,12,18,14,10,9]
["4222","Bykle",18,19,8,21,15,16,17,15,20,12,14,13,15,14,16,14,10,13,20,17,15]
["4223","Vennesla",190,166,209,181,198,202,191,209,196,197,204,207,185,184,209,205,219,204,218,209,201]
["4224","Åseral",12,14,12,26,19,15,17,11,14,11,9,11,11,8,8,14,16,14,9,10,12]
["4225","Lyngdal",120,116,131,127,152,158,155,130,143,149,125,128,135,129,134,137,141,144,139,142,136]
["4226","Hægebostad",29,21,25,14,26,24,24,18,28,28,23,20,25,21,24,22,21,20,21,21,22]
["4227","Kvinesdal",89,73,82,81,94,80,60,90,71,76,81,70,62,51,81,67,65,61,62,68,59]
["4228","Sirdal",23,24,26,27,27,21,30,35,24,22,25,21,23,23,24,28,26,18,18,24,23]
["1101","Eigersund",170,171,210,211,209,203,203,213,210,190,209,174,189,179,170,190,175,181,187,190,187]
["1103","Stavanger",1771,1775,1857,1916,1847,1970,1896,1847,1935,1967,1921,1868,1894,1871,1903,1945,1953,1932,1966,1928,1961]
["1106","Haugesund",453,469,515,540,586,537,550,562,556,563,554,536,522,516,544,553,533,515,530,532,508]
["1108","Sandnes",965,937,976,1087,1063,1029,1044,1067,1094,1098,1082,1110,1080,1100,1166,1136,1219,1177,1209,1235,1247]
["1111","Sokndal",49,50,50,43,30,48,37,43,39,41,43,39,47,37,44,37,37,37,36,37,36]
["1112","Lund",36,56,42,52,45,42,47,40,41,46,40,38,29,34,36,44,33,38,42,38,41]
["1114","Bjerkreim",35,41,42,43,39,35,29,33,36,34,48,33,33,32,32,37,35,37,38,43,45]
["1119","Hå",223,233,211,224,261,248,246,264,242,252,232,225,227,264,260,257,268,273,273,269,272]
["1120","Klepp",260,255,262,272,293,297,276,270,283,281,259,255,254,265,292,284,281,294,300,280,282]
["1121","Time",238,213,212,263,265,254,244,265,259,251,249,246,252,273,287,282,272,272,268,285,277]
["1122","Gjesdal",146,147,161,151,149,169,146,159,148,153,144,154,167,152,177,185,165,166,174,177,168]
["1124","Sola",332,324,350,335,385,379,364,365,361,350,353,370,348,354,376,387,387,403,402,405,420]
["1127","Randaberg",139,160,150,177,155,189,163,152,142,134,151,160,134,144,137,136,158,145,151,146,157]
["1130","Strand",144,152,157,158,170,171,180,190,187,171,190,173,169,164,165,163,173,174,186,172,167]
["1133","Hjelmeland",38,32,31,42,34,34,34,35,26,34,36,31,24,28,33,43,35,27,29,34,41]
["1134","Suldal",51,56,61,42,45,51,41,56,41,50,50,55,43,42,45,45,56,48,40,39,38]
["1135","Sauda",65,74,49,58,57,62,58,52,54,48,58,60,60,64,43,57,49,49,55,54,49]
["1144","Kvitsøy",11,10,6,13,15,12,7,10,5,8,12,7,8,7,7,7,8,7,9,7,7]
["1145","Bokn",11,11,13,11,10,18,17,15,13,14,13,10,16,11,6,10,9,6,10,8,11]
["1146","Tysvær",140,142,151,116,160,147,163,155,157,151,151,169,136,143,136,157,160,150,152,152,150]
["1149","Karmøy",528,507,586,594,616,616,592,614,580,581,515,527,520,527,539,561,563,522,532,532,523]
["1151","Utsira",1,4,3,2,1,4,3,2,3,3,2,2,2,4,2,5,4,2,2,3,2]
["1160","Vindafjord",118,121,96,119,125,114,108,132,111,120,99,114,118,107,125,111,106,126,114,115,118]
["4601","Bergen",3273,3330,3566,3636,3723,3775,3598,3651,3771,3702,3602,3648,3435,3355,3526,3539,3598,3587,3734,3528,3590]
["4602","Kinn",243,224,215,229,224,237,259,240,226,189,214,213,206,178,197,199,202,199,195,209,206]
["4611","Etne",58,41,58,58,52,58,60,56,54,63,50,50,35,47,44,41,59,50,52,46,51]
["4612","Sveio",57,57,70,62,76,78,73,75,86,77,83,85,87,66,80,80,79,79,97,83,80]
["4613","Bømlo",162,153,151,166,161,150,157,177,170,156,169,141,144,142,136,167,148,149,163,145,154]
["4614","Stord",247,244,291,234,262,257,268,236,266,250,250,238,238,232,214,239,240,217,248,239,243]
["4615","Fitjar",45,32,42,30,37,40,36,36,35,43,54,54,50,40,49,48,48,45,39,44,41]
["4616","Tysnes",45,44,41,42,39,33,36,37,28,35,31,42,34,38,29,36,37,38,35,38,37]
["4617","Kvinnherad",170,173,180,182,211,197,182,200,155,184,148,169,141,144,160,139,156,155,160,148,148]
["4618","Ullensvang",163,173,161,158,158,143,154,127,142,147,128,132,121,124,126,132,127,129,127,118,119]
["4619","Eidfjord",19,14,22,17,16,22,10,10,11,16,9,12,13,10,11,14,10,9,11,12,12]
["4620","Ulvik",18,20,10,14,18,17,15,17,18,11,13,8,15,10,12,12,17,11,13,7,14]
["4621","Voss",212,196,206,188,206,214,192,203,177,197,224,181,157,167,203,194,189,198,187,217,206]
["4622","Kvam",109,126,102,115,118,139,91,124,103,106,86,109,92,105,107,106,97,94,91,91,108]
["4623","Samnanger",42,32,31,32,39,28,20,30,37,31,28,29,35,40,25,40,37,29,34,34,26]
["4624","Bjørnafjorden",310,303,316,312,306,314,360,319,323,368,365,332,331,372,351,350,351,381,376,354,371]
["4625","Austevoll",56,74,72,65,63,56,69,58,53,74,72,71,55,62,59,63,73,74,74,72,76]
["4626","Øygarden",486,498,547,556,545,585,614,536,555,538,528,526,533,503,553,546,560,555,537,548,547]
["4627","Askøy",333,332,368,356,396,413,442,422,424,447,449,421,404,396,395,446,419,429,434,431,412]
["4628","Vaksdal",61,45,56,45,38,50,37,59,43,45,39,45,53,39,43,52,48,49,46,50,52]
["4629","Modalen",9,4,6,8,0,1,4,4,6,6,5,2,4,5,6,5,4,6,5,8,5]
["4630","Osterøy",103,108,103,99,109,124,106,111,109,112,122,123,105,98,88,99,109,107,101,106,108]
["4631","Alver",335,352,365,411,380,425,403,422,409,432,396,391,404,371,398,403,394,407,407,375,365]
["4632","Austrheim",34,34,40,50,35,43,42,32,36,32,49,47,46,48,34,44,44,37,37,44,35]
["4633","Fedje",12,11,9,7,8,8,6,7,10,5,4,8,7,6,7,8,5,3,6,7,4]
["4634","Masfjorden",23,26,23,17,19,18,22,20,19,15,22,16,13,15,17,16,22,13,22,22,18]
["4635","Gulen",37,29,29,39,48,31,36,24,35,33,29,24,31,22,22,25,27,24,28,25,26]
["4636","Solund",9,11,10,8,8,13,11,12,10,7,12,10,10,11,9,10,14,13,12,10,7]
["4637","Hyllestad",26,23,22,19,28,20,17,23,25,21,23,21,21,18,15,19,14,16,23,16,18]
["4638","Høyanger",62,68,58,65,67,66,54,70,51,45,41,38,47,44,38,39,44,36,48,41,37]
["4639","Vik",34,26,28,30,31,29,40,31,24,37,29,35,27,28,32,22,24,27,21,25,23]
["4640","Sogndal",140,125,142,149,163,136,137,160,163,124,134,145,134,121,120,122,156,131,144,134,154]
["4641","Aurland",26,27,21,24,30,23,25,26,28,26,15,11,24,24,20,18,18,23,23,28,28]
["4642","Lærdal",23,38,30,34,36,32,22,35,29,29,30,28,31,21,27,24,22,24,28,23,22]
["4643","Årdal",77,90,78,79,84,74,81,66,75,54,60,44,52,58,58,57,66,53,56,51,61]
["4644","Luster",68,67,64,72,73,58,72,77,67,70,55,63,60,52,64,56,57,60,55,67,69]
["4645","Askvoll",37,42,41,45,41,40,37,29,29,40,32,30,30,28,31,36,36,37,23,27,31]
["4646","Fjaler",29,26,40,35,29,30,40,28,41,29,34,27,28,27,27,27,28,27,34,28,34]
["4647","Sunnfjord",269,265,266,267,277,292,281,297,309,281,280,237,240,249,270,246,254,273,250,272,265]
["4648","Bremanger",45,58,51,53,47,48,52,47,59,50,43,39,36,39,38,36,39,38,39,35,29]
["4649","Stad",128,124,138,108,125,151,117,133,110,112,111,105,96,117,114,117,106,118,103,112,106]
["4650","Gloppen",72,62,67,84,58,76,84,83,69,77,86,59,72,65,62,60,65,64,75,69,61]
["4651","Stryn",88,92,111,112,100,90,86,99,104,86,94,99,85,79,110,91,81,82,93,95,98]
["1505","Kristiansund",296,309,333,363,377,323,339,334,354,330,329,271,276,287,283,302,288,296,299,286,317]
["1506","Molde",428,421,433,394,458,453,429,434,423,403,381,333,369,367,384,391,414,394,401,403,424]
["1507","Ålesund",784,788,808,901,911,916,910,895,918,861,861,843,853,834,846,850,877,855,880,888,888]
["1511","Vanylven",59,52,41,44,44,49,47,32,39,37,35,34,29,33,28,42,35,27,27,26,27]
["1514","Sande (Møre og Romsdal)",34,41,30,40,45,45,48,41,47,41,42,25,30,36,27,33,37,31,35,32,33]
["1515","Herøy (Møre og Romsdal)",91,131,105,110,119,145,128,138,116,126,124,106,113,100,116,99,102,108,108,109,101]
["1516","Ulstein",97,124,101,128,142,148,143,141,119,129,121,107,109,110,111,120,116,107,103,98,119]
["1517","Hareid",55,68,57,65,67,67,61,61,60,76,60,65,69,67,71,56,67,59,63,68,70]
["1520","Ørsta",134,136,141,155,129,143,122,144,157,123,132,140,130,120,104,124,135,137,144,130,131]
["1525","Stranda",57,71,52,75,59,74,71,60,65,60,51,51,62,37,60,58,52,51,67,54,57]
["1528","Sykkylven",96,109,114,107,100,95,97,116,120,102,100,98,96,87,86,95,100,87,93,100,95]
["1531","Sula",100,110,85,115,119,134,123,138,148,132,130,122,116,116,123,145,138,146,140,144,138]
["1532","Giske",92,88,93,108,117,114,117,100,113,120,118,119,121,113,117,130,111,113,128,136,124]
["1535","Vestnes",98,105,106,115,108,98,116,86,101,94,91,90,82,81,74,100,74,79,85,88,81]
["1539","Rauma",108,85,95,98,110,100,111,82,100,83,105,86,84,87,73,72,88,104,88,90,88]
["1547","Aukra",49,31,43,47,44,48,44,51,39,51,47,43,46,40,48,51,55,43,49,51,50]
["1554","Averøy",74,87,94,79,87,80,82,95,80,95,87,66,87,72,90,71,76,78,83,91,85]
["1557","Gjemnes",33,36,25,39,32,31,29,44,32,38,37,27,26,36,31,35,33,35,31,38,32]
["1560","Tingvoll",42,30,39,38,55,45,38,47,62,38,46,40,31,38,33,35,32,38,40,35,40]
["1563","Sunndal",93,95,115,110,111,113,98,100,96,74,75,63,75,64,63,75,70,62,70,76,66]
["1566","Surnadal",68,75,83,101,92,100,92,96,61,82,54,75,52,57,59,52,61,65,62,66,58]
["1573","Smøla",31,29,37,33,34,29,22,30,35,31,26,29,25,25,30,22,24,32,25,27,28]
["1576","Aure",38,50,51,48,59,53,61,52,48,47,42,33,34,35,35,47,46,34,37,44,43]
["1577","Volda",132,117,119,129,118,142,135,118,131,109,120,118,99,102,118,119,103,119,108,132,122]
["1578","Fjord",31,32,45,31,45,32,27,35,40,36,28,28,34,24,30,33,37,27,30,28,30]
["1579","Hustadvika",177,157,206,162,180,197,182,168,178,154,172,161,168,166,162,163,180,176,168,176,152]
["5001","Trondheim",2318,2447,2531,2446,2701,2610,2590,2593,2593,2686,2610,2521,2503,2431,2553,2554,2625,2661,2730,2691,2739]
["5006","Steinkjer",335,349,352,313,339,346,308,339,325,265,293,238,266,272,256,275,274,246,270,258,261]
["5007","Namsos",200,214,214,228,205,208,199,202,215,199,165,150,157,161,151,167,156,138,144,153,179]
["5014","Frøya",56,57,64,64,80,80,67,75,78,72,70,83,69,56,79,71,73,79,80,78,75]
["5020","Osen",7,10,11,15,10,10,12,11,9,11,16,12,9,13,9,10,10,10,11,8,11]
["5021","Oppdal",89,93,96,120,115,90,99,95,109,95,94,88,85,72,91,81,86,73,88,91,94]
["5022","Rennebu",35,36,48,33,43,42,31,39,40,38,33,28,33,27,23,32,22,24,18,24,27]
["5025","Røros",64,84,83,72,86,88,65,91,74,74,89,68,76,62,68,71,73,70,75,70,71]
["5026","Holtålen",32,28,38,31,28,32,33,27,29,24,21,25,18,19,23,19,24,22,21,19,21]
["5027","Midtre Gauldal",88,95,96,89,82,85,89,73,76,84,75,69,69,65,60,63,73,64,71,68,67]
["5028","Melhus",219,200,244,239,244,244,243,226,240,253,256,217,234,233,199,229,215,209,243,234,228]
["5029","Skaun",109,109,110,106,123,119,125,121,123,121,111,124,119,115,122,111,124,124,123,135,126]
["5031","Malvik",188,206,205,194,219,230,211,230,232,196,213,198,164,181,198,209,190,202,196,197,200]
["5032","Selbu",69,64,43,60,53,60,57,66,56,61,61,57,49,45,54,53,60,49,55,49,51]
["5033","Tydal",15,15,16,6,13,9,9,12,7,12,10,7,8,6,6,8,8,7,7,10,8]
["5034","Meråker",34,28,40,41,39,29,42,38,34,32,40,35,32,22,39,33,32,33,34,33,33]
["5035","Stjørdal",322,358,327,348,352,350,369,378,370,364,324,335,292,319,302,315,300,305,338,303,312]
["5036","Frosta",35,40,46,33,37,29,42,38,43,42,37,33,38,27,32,33,40,35,40,36,32]
["5037","Levanger",277,290,281,296,260,274,238,258,246,235,243,225,201,229,241,233,239,223,238,226,247]
["5038","Verdal",188,197,196,195,233,231,220,201,225,178,212,184,183,168,168,164,190,181,172,171,165]
["5041","Snåase - Snåsa",34,23,33,31,29,31,17,20,21,26,17,21,14,18,13,25,17,18,19,27,19]
["5042","Lierne",17,21,12,20,17,22,21,15,26,21,19,16,12,18,21,12,12,16,14,12,13]
["5043","Raarvihke - Røyrvik",8,4,6,2,4,7,4,5,6,5,3,6,5,4,3,2,4,3,3,4,5]
["5044","Namsskogan",7,12,18,19,13,16,9,15,12,10,8,7,12,9,8,8,10,12,11,14,11]
["5045","Grong",26,32,34,40,36,25,33,26,27,29,33,24,24,22,22,21,22,27,22,27,26]
["5046","Høylandet",12,16,14,10,16,17,15,17,16,15,21,12,10,19,10,8,13,7,10,10,17]
["5047","Overhalla",49,54,40,50,46,65,42,33,53,46,54,40,44,45,47,44,41,44,48,48,49]
["5049","Flatanger",15,21,14,17,14,19,12,13,16,17,10,12,13,10,12,13,10,11,15,15,9]
["5052","Leka",9,6,10,9,7,8,7,9,7,9,5,6,6,4,5,6,4,7,5,7,9]
["5053","Inderøy",75,99,104,93,113,88,84,95,88,79,80,80,74,77,72,83,90,79,82,83,83]
["5054","Indre Fosen",151,135,169,159,144,144,147,160,132,138,144,136,122,125,116,103,104,117,106,115,111]
["5055","Heim",74,81,69,93,79,89,86,76,78,70,71,62,63,57,67,59,69,67,67,59,64]
["5056","Hitra",76,80,72,69,70,84,70,76,72,84,71,79,61,74,74,74,68,73,60,73,85]
["5057","Ørland",122,138,161,146,142,160,133,136,127,127,125,111,109,119,104,112,109,115,107,119,118]
["5058","Åfjord",58,64,70,71,78,71,61,69,62,61,55,56,44,49,47,42,46,45,43,41,38]
["5059","Orkland",271,273,271,260,289,253,261,274,255,233,260,246,218,219,215,245,233,230,264,258,238]
["5060","Nærøysund",123,135,143,124,145,137,137,147,129,132,131,110,101,105,108,121,100,116,109,117,117]
["5061","Rindal",29,29,30,29,30,31,30,19,27,25,30,21,24,19,13,20,18,18,22,18,19]
["1804","Bodø",705,674,683,733,756,747,711,695,658,648,671,650,619,597,605,655,639,660,636,636,636]
["1806","Narvik",303,319,316,300,323,287,285,243,239,245,259,249,209,226,242,230,235,251,249,233,248]
["1811","Bindal",16,20,18,18,19,19,24,21,15,12,13,19,20,11,19,14,18,12,14,20,15]
["1812","Sømna",29,29,30,38,33,27,30,32,18,33,27,28,19,16,20,26,22,26,19,22,23]
["1813","Brønnøy",116,124,135,103,115,138,121,105,125,92,106,81,82,80,81,94,94,87,77,93,90]
["1815","Vega",20,16,16,20,22,16,20,17,26,10,15,17,15,13,9,8,10,9,14,12,15]
["1816","Vevelstad",11,9,4,9,9,6,3,6,6,7,10,5,6,5,5,5,6,7,5,6,5]
["1818","Herøy (Nordland)",28,31,29,26,21,24,26,15,24,26,21,22,20,20,20,25,25,22,25,23,27]
["1820","Alstahaug",109,87,101,104,120,117,125,106,96,78,89,83,72,79,72,79,70,80,79,78,75]
["1822","Leirfjord",42,27,37,28,32,27,16,29,18,35,30,27,26,25,30,25,29,36,25,29,30]
["1824","Vefsn",205,196,190,201,202,203,171,171,205,145,157,143,128,149,139,135,131,134,134,143,149]
["1825","Grane",22,19,24,23,22,25,19,16,18,18,12,17,16,17,12,14,17,17,16,13,14]
["1826","Hattfjelldal",15,24,18,20,20,14,19,18,17,25,17,18,13,12,13,10,11,9,15,14,12]
["1827","Dønna",22,15,20,20,15,23,19,27,24,14,17,12,20,13,17,15,11,13,18,15,15]
["1828","Nesna",25,26,26,31,24,27,23,28,21,26,31,30,24,26,24,23,28,19,21,28,25]
["1832","Hemnes",69,57,74,66,64,67,65,66,63,50,52,57,46,51,50,49,50,40,42,52,49]
["1833","Rana",361,352,377,403,375,411,358,364,335,326,294,285,275,277,287,267,275,280,297,292,286]
["1834","Lurøy",32,28,22,26,37,22,26,25,24,23,23,24,24,17,19,17,24,17,21,23,26]
["1835","Træna",3,4,7,8,9,12,6,8,5,7,8,8,9,7,10,10,8,6,10,8,7]
["1836","Rødøy",15,12,15,16,11,19,25,22,17,17,12,10,14,8,10,10,13,8,13,12,13]
["1837","Meløy",94,92,86,101,95,102,99,78,82,66,79,72,64,53,62,58,58,70,67,62,63]
["1838","Gildeskål",26,27,26,31,21,27,27,27,32,26,27,29,27,19,27,30,26,29,25,21,24]
["1839","Beiarn",24,17,16,14,16,12,12,19,16,13,7,10,6,10,12,15,13,15,15,13,11]
["1840","Saltdal",73,73,71,66,66,67,68,53,56,60,56,53,55,43,55,45,49,54,52,54,54]
["1841","Fauske - Fuossko",118,147,135,129,154,148,126,140,136,131,124,115,118,113,115,102,115,118,107,113,107]
["1845","Sørfold",20,32,26,27,32,27,27,29,31,31,21,24,23,16,23,19,19,22,19,18,19]
["1848","Steigen",41,42,19,34,43,35,40,36,42,38,32,33,24,33,28,24,38,32,31,34,31]
["1851","Lødingen",29,30,31,31,35,26,35,36,40,28,26,21,21,21,30,25,21,17,22,19,22]
["1853","Evenes - Evenássi",15,22,22,16,23,25,18,20,18,21,19,20,14,16,20,20,19,18,22,17,22]
["1856","Røst",9,13,8,6,8,7,5,10,10,8,9,3,4,4,5,5,5,5,6,4,2]
["1857","Værøy",13,8,15,10,11,14,13,12,12,10,10,11,5,6,11,8,7,9,8,7,10]
["1859","Flakstad",16,19,23,26,13,19,23,15,11,15,19,15,12,14,19,14,12,16,13,16,14]
["1860","Vestvågøy",140,151,159,166,170,165,146,147,152,133,142,138,117,125,123,133,142,148,125,133,147]
["1865","Vågan",128,140,126,140,145,139,136,134,122,129,133,130,130,138,132,138,148,116,135,137,135]
["1866","Hadsel",103,118,123,140,121,102,119,132,113,99,106,83,93,94,96,92,86,88,96,100,92]
["1867","Bø (Nordland)",45,51,38,39,49,45,33,35,41,38,29,27,23,30,32,32,24,24,23,27,26]
["1868","Øksnes",64,62,93,73,65,79,61,79,58,67,69,51,55,49,55,48,56,45,54,58,59]
["1870","Sortland - Suortá",133,142,155,138,142,144,123,148,145,127,121,123,118,123,114,115,117,138,131,111,125]
["1871","Andøy",69,73,73,73,64,61,61,68,52,46,56,54,45,45,50,46,48,52,43,46,50]
["1874","Moskenes",20,12,16,12,12,17,17,15,17,15,12,15,17,16,19,13,16,17,19,14,14]
["1875","Hamarøy",37,41,41,40,24,37,31,31,38,36,36,35,36,35,34,39,40,37,35,41,40]
["5401","Tromsø",921,934,1110,1030,1042,1031,1068,1091,1035,1045,1018,952,913,911,846,944,944,970,984,973,959]
["5402","Harstad",296,329,314,344,336,342,331,349,308,313,322,291,288,275,278,280,302,254,301,268,271]
["5403","Alta",284,267,286,267,328,287,325,319,287,303,292,267,245,187,244,213,232,220,253,246,252]
["5404","Vardø",30,30,33,40,25,27,19,26,29,25,31,26,22,24,25,24,26,22,22,22,23]
["5405","Vadsø",97,78,94,100,90,96,98,79,94,73,61,68,57,60,55,64,53,56,54,59,63]
["5406","Hammerfest",152,148,146,177,171,144,174,176,173,144,129,118,128,123,123,127,120,128,125,123,124]
["5411","Kvæfjord",39,39,36,52,35,48,39,43,47,46,43,32,31,33,31,33,31,27,26,36,35]
["5412","Tjeldsund",72,58,58,68,67,51,64,64,70,59,55,49,57,58,55,59,54,48,57,56,56]
["5413","Ibestad",28,22,25,20,18,16,20,16,17,18,11,14,17,17,14,11,14,15,18,17,15]
["5414","Gratangen",22,19,19,13,21,19,14,20,18,21,15,11,13,13,16,14,15,15,13,15,13]
["5415","Loabák - Lavangen",14,14,9,14,22,12,13,17,13,15,19,12,16,12,12,14,11,11,11,12,10]
["5416","Bardu",36,50,42,52,46,47,45,57,49,50,41,44,51,41,39,35,45,42,42,45,31]
["5417","Salangen",25,32,33,37,27,44,32,32,33,30,39,23,23,22,17,20,22,26,21,23,18]
["5418","Målselv",80,97,77,77,90,101,108,82,70,86,76,61,68,70,69,53,62,64,66,71,66]
["5419","Sørreisa",47,48,58,42,56,48,52,57,49,44,42,36,32,32,44,42,41,33,33,39,41]
["5420","Dyrøy",11,17,15,10,18,16,14,24,17,15,14,14,9,13,10,8,14,11,11,11,11]
["5421","Senja",222,216,207,212,208,206,192,197,218,196,192,181,180,172,170,156,155,177,168,188,170]
["5422","Balsfjord",112,86,78,91,97,106,95,76,81,86,73,79,63,55,72,62,68,69,70,69,69]
["5423","Karlsøy",42,32,34,38,32,26,31,35,35,29,30,25,22,23,29,24,28,24,36,26,24]
["5424","Lyngen",33,40,35,43,36,46,43,49,37,38,39,25,34,24,34,29,33,28,26,31,31]
["5425","Storfjord - Omasvuotna - Omasvuono",26,36,21,14,29,22,33,27,30,26,26,20,28,27,25,17,22,23,19,22,24]
["5426","Gáivuotna - Kåfjord - Kaivuono",34,29,33,29,33,29,32,39,28,29,19,17,23,18,16,20,22,20,16,25,30]
["5427","Skjervøy",28,37,37,42,38,36,49,50,29,34,36,33,28,28,31,35,36,29,33,27,31]
["5428","Nordreisa",74,69,59,57,74,76,72,80,68,54,68,51,54,45,58,55,53,48,49,45,49]
["5429","Kvænangen",15,25,14,26,27,19,16,23,21,17,19,16,10,13,15,15,15,14,12,15,14]
["5430","Guovdageaidnu - Kautokeino",30,30,44,40,46,51,31,35,37,34,39,32,32,28,40,38,26,34,30,35,34]
["5432","Loppa",18,14,13,7,13,11,14,16,16,15,15,10,13,11,10,9,8,9,9,9,13]
["5433","Hasvik",16,13,19,18,17,20,20,19,17,16,10,9,11,14,13,16,15,14,14,14,14]
["5434","Måsøy",17,17,19,15,16,19,17,24,14,13,18,14,17,15,19,17,20,18,19,17,18]
["5435","Nordkapp",53,45,52,51,50,50,48,44,34,39,37,34,34,30,32,30,34,33,27,35,35]
["5436","Porsanger - Porsángu - Porsanki",62,65,64,65,53,68,51,55,54,45,43,44,38,50,43,45,43,39,44,44,45]
["5437","Kárásjohka - Karasjok",33,41,37,49,43,35,34,32,32,34,31,29,28,24,32,23,25,23,23,24,28]
["5438","Lebesby",31,21,21,15,27,20,25,21,17,15,16,13,15,12,12,15,15,13,15,18,16]
["5439","Gamvik",16,14,13,12,18,23,24,26,15,19,17,12,18,16,16,16,14,19,18,19,21]
["5440","Berlevåg",16,18,15,18,7,14,19,12,19,14,11,11,11,9,15,13,10,10,10,10,10]
["5441","Deatnu - Tana",38,47,32,37,46,63,50,35,44,58,39,36,35,32,31,38,31,34,33,31,34]
["5442","Unjárga - Nesseby",17,12,13,7,13,12,12,15,14,13,7,13,10,7,9,12,11,9,11,14,14]
["5443","Båtsfjord",37,20,38,44,43,28,34,37,32,35,22,23,27,30,27,26,25,25,24,31,25]
["5444","Sør-Varanger",149,134,157,150,132,147,169,149,151,125,115,131,123,97,99,92,105,96,117,103,100]

{"sheet":"Fordeling bydeler","index":8,"n_rows":39,"n_cols":26,"rows_kept":39,"cut":false,"hidden":true,"merged":[]}
["Oslo, Alna",7.8866616428033151E-2]
["Oslo, Bjerke",4.7939713639789001E-2]
["Oslo, Frogner",8.0620949510173331E-2]
["Oslo, Gamle Oslo",7.1511680482290882E-2]
["Oslo, Grorud",4.6981160512434061E-2]
["Oslo, Grünerløkka",6.4259231348907306E-2]
["Oslo, Marka",2.6706857573474E-3]
["Oslo, Nordre Aker",7.9734740015071581E-2]
["Oslo, Nordstrand",8.8482290881688019E-2]
["Oslo, Sagene",4.9856819894498867E-2]
["Oslo, Sentrum",1.416729464958553E-3]
["Oslo, St. Hanshaugen",4.9151469480030144E-2]
["Oslo, Stovner",5.4318010550113038E-2]
["Oslo, Søndre Nordstrand",6.2324039186134134E-2]
["Oslo, Ullern",5.4251695553880937E-2]
["Oslo, uoppgitt bydel",2.2064807837226829E-3]
["Oslo, Vestre Aker",7.700376789751319E-2]
["Oslo, Østensjø",8.8403918613413721E-2]
[]
[null,null,null,null,null,"2020","2021","2022","2023","2024","2025","2026","2027","2028","2029","2030","2031","2032","2033","2034","2035","2036","2037","2038","2039","2040"]
[30112,"Oslo, Alna","Helse Sør-Øst","Akershus universitetssykehus","Ahus",{"$f":"Sheet1!C$53*'Fordeling bydeler'!$B1","v":576.35723285606628},{"$f":"Sheet1!D$53*'Fordeling bydeler'!$B1","v":582.42996232102485},{"$f":"Sheet1!E$53*'Fordeling bydeler'!$B1","v":628.64579954785222},{"$f":"Sheet1!F$53*'Fordeling bydeler'!$B1","v":625.01793519216267},{"$f":"Sheet1!G$53*'Fordeling bydeler'!$B1","v":639.2927927656367},{"$f":"Sheet1!H$53*'Fordeling bydeler'!$B1","v":655.9336488319517},{"$f":"Sheet1!I$53*'Fordeling bydeler'!$B1","v":659.64037980406931},{"$f":"Sheet1!J$53*'Fordeling bydeler'!$B1","v":675.72916955538801},{"$f":"Sheet1!K$53*'Fordeling bydeler'!$B1","v":683.06376488319518},{"$f":"Sheet1!L$53*'Fordeling bydeler'!$B1","v":672.5745048982667},{"$f":"Sheet1!M$53*'Fordeling bydeler'!$B1","v":691.34475960813859},{"$f":"Sheet1!N$53*'Fordeling bydeler'!$B1","v":684.40449736247172},{"$f":"Sheet1!O$53*'Fordeling bydeler'!$B1","v":674.23070384325536},{"$f":"Sheet1!P$53*'Fordeling bydeler'!$B1","v":666.58064204973618},{"$f":"Sheet1!Q$53*'Fordeling bydeler'!$B1","v":679.35703391107756},{"$f":"Sheet1!R$53*'Fordeling bydeler'!$B1","v":690.55609344385823},{"$f":"Sheet1!S$53*'Fordeling bydeler'!$B1","v":712.95421250941968},{"$f":"Sheet1!T$53*'Fordeling bydeler'!$B1","v":701.99175282592307},{"$f":"Sheet1!U$53*'Fordeling bydeler'!$B1","v":714.61041145440834},{"$f":"Sheet1!V$53*'Fordeling bydeler'!$B1","v":714.84701130369251},{"$f":"Sheet1!W$53*'Fordeling bydeler'!$B1","v":730.46260135644309}]
[30109,"Oslo, Bjerke","Helse Sør-Øst","Oslosykehusene","Ullevål",{"$f":"Sheet1!C$53*'Fordeling bydeler'!$B2","v":350.34342727957801},{"$f":"Sheet1!D$53*'Fordeling bydeler'!$B2","v":354.03478522984176},{"$f":"Sheet1!E$53*'Fordeling bydeler'!$B2","v":382.12745742275814},{"$f":"Sheet1!F$53*'Fordeling bydeler'!$B2","v":379.92223059532785},{"$f":"Sheet1!G$53*'Fordeling bydeler'!$B2","v":388.59931876412963},{"$f":"Sheet1!H$53*'Fordeling bydeler'!$B2","v":398.7145983421251},{"$f":"Sheet1!I$53*'Fordeling bydeler'!$B2","v":400.96776488319523},{"$f":"Sheet1!J$53*'Fordeling bydeler'!$B2","v":410.74746646571214},{"$f":"Sheet1!K$53*'Fordeling bydeler'!$B2","v":415.20585983421256},{"$f":"Sheet1!L$53*'Fordeling bydeler'!$B2","v":408.82987792012062},{"$f":"Sheet1!M$53*'Fordeling bydeler'!$B2","v":420.23952976639038},{"$f":"Sheet1!N$53*'Fordeling bydeler'!$B2","v":416.02083496608896},{"$f":"Sheet1!O$53*'Fordeling bydeler'!$B2","v":409.83661190655619},{"$f":"Sheet1!P$53*'Fordeling bydeler'!$B2","v":405.18645968349665},{"$f":"Sheet1!Q$53*'Fordeling bydeler'!$B2","v":412.95269329314243},{"$f":"Sheet1!R$53*'Fordeling bydeler'!$B2","v":419.76013262999248},{"$f":"Sheet1!S$53*'Fordeling bydeler'!$B2","v":433.37501130369259},{"$f":"Sheet1!T$53*'Fordeling bydeler'!$B2","v":426.71139110776193},{"$f":"Sheet1!U$53*'Fordeling bydeler'!$B2","v":434.38174529012815},{"$f":"Sheet1!V$53*'Fordeling bydeler'!$B2","v":434.52556443104748},{"$f":"Sheet1!W$53*'Fordeling bydeler'!$B2","v":444.01762773172572}]
[30105,"Oslo, Frogner","Helse Sør-Øst","Oslosykehusene","Diakonhjemmet",{"$f":"Sheet1!C$53*'Fordeling bydeler'!$B3","v":589.17789902034667},{"$f":"Sheet1!D$53*'Fordeling bydeler'!$B3","v":595.38571213263003},{"$f":"Sheet1!E$53*'Fordeling bydeler'!$B3","v":642.62958854559167},{"$f":"Sheet1!F$53*'Fordeling bydeler'!$B3","v":638.9210248681236},{"$f":"Sheet1!G$53*'Fordeling bydeler'!$B3","v":653.51341672946501},{"$f":"Sheet1!H$53*'Fordeling bydeler'!$B3","v":670.52443707611155},{"$f":"Sheet1!I$53*'Fordeling bydeler'!$B3","v":674.31362170308978},{"$f":"Sheet1!J$53*'Fordeling bydeler'!$B3","v":690.76029540316506},{"$f":"Sheet1!K$53*'Fordeling bydeler'!$B3","v":698.25804370761125},{"$f":"Sheet1!L$53*'Fordeling bydeler'!$B3","v":687.53545742275821},{"$f":"Sheet1!M$53*'Fordeling bydeler'!$B3","v":706.72324340617945},{"$f":"Sheet1!N$53*'Fordeling bydeler'!$B3","v":699.62859984928411},{"$f":"Sheet1!O$53*'Fordeling bydeler'!$B3","v":689.22849736247178},{"$f":"Sheet1!P$53*'Fordeling bydeler'!$B3","v":681.408265259985},{"$f":"Sheet1!Q$53*'Fordeling bydeler'!$B3","v":694.46885908063302},{"$f":"Sheet1!R$53*'Fordeling bydeler'!$B3","v":705.91703391107774},{"$f":"Sheet1!S$53*'Fordeling bydeler'!$B3","v":728.81338357196694},{"$f":"Sheet1!T$53*'Fordeling bydeler'!$B3","v":717.60707159005278},{"$f":"Sheet1!U$53*'Fordeling bydeler'!$B3","v":730.50642351168051},{"$f":"Sheet1!V$53*'Fordeling bydeler'!$B3","v":730.74828636021107},{"$f":"Sheet1!W$53*'Fordeling bydeler'!$B3","v":746.71123436322534}]
[30101,"Oslo, Gamle Oslo","Helse Sør-Øst","Oslosykehusene","Lovisenberg",{"$f":"Sheet1!C$53*'Fordeling bydeler'!$B4","v":522.60736096458174},{"$f":"Sheet1!D$53*'Fordeling bydeler'!$B4","v":528.11376036171816},{"$f":"Sheet1!E$53*'Fordeling bydeler'!$B4","v":570.01960512434061},{"$f":"Sheet1!F$53*'Fordeling bydeler'!$B4","v":566.73006782215521},{"$f":"Sheet1!G$53*'Fordeling bydeler'!$B4","v":579.67368198944985},{"$f":"Sheet1!H$53*'Fordeling bydeler'!$B4","v":594.76264657121328},{"$f":"Sheet1!I$53*'Fordeling bydeler'!$B4","v":598.12369555388091},{"$f":"Sheet1!J$53*'Fordeling bydeler'!$B4","v":612.71207837226825},{"$f":"Sheet1!K$53*'Fordeling bydeler'!$B4","v":619.36266465712129},{"$f":"Sheet1!L$53*'Fordeling bydeler'!$B4","v":609.8516111529766},{"$f":"Sheet1!M$53*'Fordeling bydeler'!$B4","v":626.87139110776184},{"$f":"Sheet1!N$53*'Fordeling bydeler'!$B4","v":620.57836322532023},{"$f":"Sheet1!O$53*'Fordeling bydeler'!$B4","v":611.35335644310476},{"$f":"Sheet1!P$53*'Fordeling bydeler'!$B4","v":604.41672343632251},{"$f":"Sheet1!Q$53*'Fordeling bydeler'!$B4","v":616.00161567445366},{"$f":"Sheet1!R$53*'Fordeling bydeler'!$B4","v":626.15627430293898},{"$f":"Sheet1!S$53*'Fordeling bydeler'!$B4","v":646.46559155990963},{"$f":"Sheet1!T$53*'Fordeling bydeler'!$B4","v":636.52546797287118},{"$f":"Sheet1!U$53*'Fordeling bydeler'!$B4","v":647.96733685003767},{"$f":"Sheet1!V$53*'Fordeling bydeler'!$B4","v":648.18187189148455},{"$f":"Sheet1!W$53*'Fordeling bydeler'!$B4","v":662.34118462697813}]
[30110,"Oslo, Grorud","Helse Sør-Øst","Akershus universitetssykehus","Ahus",{"$f":"Sheet1!C$53*'Fordeling bydeler'!$B5","v":343.33832102486809},{"$f":"Sheet1!D$53*'Fordeling bydeler'!$B5","v":346.95587038432552},{"$f":"Sheet1!E$53*'Fordeling bydeler'!$B5","v":374.48683044461188},{"$f":"Sheet1!F$53*'Fordeling bydeler'!$B5","v":372.32569706103993},{"$f":"Sheet1!G$53*'Fordeling bydeler'!$B5","v":380.82928711379049},{"$f":"Sheet1!H$53*'Fordeling bydeler'!$B5","v":390.7423119819141},{"$f":"Sheet1!I$53*'Fordeling bydeler'!$B5","v":392.95042652599847},{"$f":"Sheet1!J$53*'Fordeling bydeler'!$B5","v":402.53458327053505},{"$f":"Sheet1!K$53*'Fordeling bydeler'!$B5","v":406.90383119819143},{"$f":"Sheet1!L$53*'Fordeling bydeler'!$B5","v":400.65533685003766},{"$f":"Sheet1!M$53*'Fordeling bydeler'!$B5","v":411.83685305199697},{"$f":"Sheet1!N$53*'Fordeling bydeler'!$B5","v":407.70251092690279},{"$f":"Sheet1!O$53*'Fordeling bydeler'!$B5","v":401.6419412207988},{"$f":"Sheet1!P$53*'Fordeling bydeler'!$B5","v":397.0847686510927},{"$f":"Sheet1!Q$53*'Fordeling bydeler'!$B5","v":404.695716654107},{"$f":"Sheet1!R$53*'Fordeling bydeler'!$B5","v":411.36704144687263},{"$f":"Sheet1!S$53*'Fordeling bydeler'!$B5","v":424.7096910324039},{"$f":"Sheet1!T$53*'Fordeling bydeler'!$B5","v":418.17930972117557},{"$f":"Sheet1!U$53*'Fordeling bydeler'!$B5","v":425.69629540316504},{"$f":"Sheet1!V$53*'Fordeling bydeler'!$B5","v":425.83723888470234},{"$f":"Sheet1!W$53*'Fordeling bydeler'!$B5","v":435.13950866616426}]
[30102,"Oslo, Grünerløkka","Helse Sør-Øst","Oslosykehusene","Lovisenberg",{"$f":"Sheet1!C$53*'Fordeling bydeler'!$B6","v":469.60646269781461},{"$f":"Sheet1!D$53*'Fordeling bydeler'!$B6","v":474.55442351168045},{"$f":"Sheet1!E$53*'Fordeling bydeler'!$B6","v":512.2103330821401},{"$f":"Sheet1!F$53*'Fordeling bydeler'!$B6","v":509.2544084400904},{"$f":"Sheet1!G$53*'Fordeling bydeler'!$B6","v":520.88532931424265},{"$f":"Sheet1!H$53*'Fordeling bydeler'!$B6","v":534.4440271288621},{"$f":"Sheet1!I$53*'Fordeling bydeler'!$B6","v":537.46421100226075},{"$f":"Sheet1!J$53*'Fordeling bydeler'!$B6","v":550.57309419743774},{"$f":"Sheet1!K$53*'Fordeling bydeler'!$B6","v":556.5492027128862},{"$f":"Sheet1!L$53*'Fordeling bydeler'!$B6","v":548.00272494348155},{"$f":"Sheet1!M$53*'Fordeling bydeler'!$B6","v":563.29642200452145},{"$f":"Sheet1!N$53*'Fordeling bydeler'!$B6","v":557.64160964581765},{"$f":"Sheet1!O$53*'Fordeling bydeler'!$B6","v":549.3521688018086},{"$f":"Sheet1!P$53*'Fordeling bydeler'!$B6","v":543.11902336096455},{"$f":"Sheet1!Q$53*'Fordeling bydeler'!$B6","v":553.52901883948755},{"$f":"Sheet1!R$53*'Fordeling bydeler'!$B6","v":562.65382969103234},{"$f":"Sheet1!S$53*'Fordeling bydeler'!$B6","v":580.90345139412204},{"$f":"Sheet1!T$53*'Fordeling bydeler'!$B6","v":571.97141823662389},{"$f":"Sheet1!U$53*'Fordeling bydeler'!$B6","v":582.25289525244909},{"$f":"Sheet1!V$53*'Fordeling bydeler'!$B6","v":582.44567294649585},{"$f":"Sheet1!W$53*'Fordeling bydeler'!$B6","v":595.16900075357944}]
[30117,"Oslo, Marka","Helse Sør-Øst","Oslosykehusene","Ullevål",{"$f":"Sheet1!C$53*'Fordeling bydeler'!$B7","v":19.517371514694798},{"$f":"Sheet1!D$53*'Fordeling bydeler'!$B7","v":19.723014318010549},{"$f":"Sheet1!E$53*'Fordeling bydeler'!$B7","v":21.288036171816124},{"$f":"Sheet1!F$53*'Fordeling bydeler'!$B7","v":21.165184626978146},{"$f":"Sheet1!G$53*'Fordeling bydeler'!$B7","v":21.648578749058025},{"$f":"Sheet1!H$53*'Fordeling bydeler'!$B7","v":22.212093443858326},{"$f":"Sheet1!I$53*'Fordeling bydeler'!$B7","v":22.337615674453652},{"$f":"Sheet1!J$53*'Fordeling bydeler'!$B7","v":22.882435568952523},{"$f":"Sheet1!K$53*'Fordeling bydeler'!$B7","v":23.130809344385831},{"$f":"Sheet1!L$53*'Fordeling bydeler'!$B7","v":22.775608138658626},{"$f":"Sheet1!M$53*'Fordeling bydeler'!$B7","v":23.411231348907307},{"$f":"Sheet1!N$53*'Fordeling bydeler'!$B7","v":23.176211002260736},{"$f":"Sheet1!O$53*'Fordeling bydeler'!$B7","v":22.831692539562923},{"$f":"Sheet1!P$53*'Fordeling bydeler'!$B7","v":22.572636021100223},{"$f":"Sheet1!Q$53*'Fordeling bydeler'!$B7","v":23.005287113790505},{"$f":"Sheet1!R$53*'Fordeling bydeler'!$B7","v":23.384524491333835},{"$f":"Sheet1!S$53*'Fordeling bydeler'!$B7","v":24.142999246420494},{"$f":"Sheet1!T$53*'Fordeling bydeler'!$B7","v":23.771773926149208},{"$f":"Sheet1!U$53*'Fordeling bydeler'!$B7","v":24.199083647324791},{"$f":"Sheet1!V$53*'Fordeling bydeler'!$B7","v":24.207095704596835},{"$f":"Sheet1!W$53*'Fordeling bydeler'!$B7","v":24.735891484551619}]
[30108,"Oslo, Nordre Aker","Helse Sør-Øst","Oslosykehusene","Ullevål",{"$f":"Sheet1!C$53*'Fordeling bydeler'!$B8","v":582.7014800301431},{"$f":"Sheet1!D$53*'Fordeling bydeler'!$B8","v":588.84105501130364},{"$f":"Sheet1!E$53*'Fordeling bydeler'!$B8","v":635.56561266013557},{"$f":"Sheet1!F$53*'Fordeling bydeler'!$B8","v":631.89781461944233},{"$f":"Sheet1!G$53*'Fordeling bydeler'!$B8","v":646.32980256217024},{"$f":"Sheet1!H$53*'Fordeling bydeler'!$B8","v":663.1538327053504},{"$f":"Sheet1!I$53*'Fordeling bydeler'!$B8","v":666.90136548605869},{"$f":"Sheet1!J$53*'Fordeling bydeler'!$B8","v":683.16725244913334},{"$f":"Sheet1!K$53*'Fordeling bydeler'!$B8","v":690.582583270535},{"$f":"Sheet1!L$53*'Fordeling bydeler'!$B8","v":679.97786284853044},{"$f":"Sheet1!M$53*'Fordeling bydeler'!$B8","v":698.95473097211743},{"$f":"Sheet1!N$53*'Fordeling bydeler'!$B8","v":691.93807385079117},{"$f":"Sheet1!O$53*'Fordeling bydeler'!$B8","v":681.65229238884694},{"$f":"Sheet1!P$53*'Fordeling bydeler'!$B8","v":673.91802260738496},{"$f":"Sheet1!Q$53*'Fordeling bydeler'!$B8","v":686.83505048982659},{"$f":"Sheet1!R$53*'Fordeling bydeler'!$B8","v":698.15738357196676},{"$f":"Sheet1!S$53*'Fordeling bydeler'!$B8","v":720.80204973624711},{"$f":"Sheet1!T$53*'Fordeling bydeler'!$B8","v":709.7189208741521},{"$f":"Sheet1!U$53*'Fordeling bydeler'!$B8","v":722.47647927656362},{"$f":"Sheet1!V$53*'Fordeling bydeler'!$B8","v":722.71568349660879},{"$f":"Sheet1!W$53*'Fordeling bydeler'!$B8","v":738.50316201959299}]
[30114,"Oslo, Nordstrand","Helse Sør-Øst","Oslosykehusene","Ullevål",{"$f":"Sheet1!C$53*'Fordeling bydeler'!$B9","v":646.62858176337602},{"$f":"Sheet1!D$53*'Fordeling bydeler'!$B9","v":653.44171816126607},{"$f":"Sheet1!E$53*'Fordeling bydeler'!$B9","v":705.29234061793522},{"$f":"Sheet1!F$53*'Fordeling bydeler'!$B9","v":701.22215523737759},{"$f":"Sheet1!G$53*'Fordeling bydeler'!$B9","v":717.23744988696308},{"$f":"Sheet1!H$53*'Fordeling bydeler'!$B9","v":735.90721326299922},{"$f":"Sheet1!I$53*'Fordeling bydeler'!$B9","v":740.06588093443861},{"$f":"Sheet1!J$53*'Fordeling bydeler'!$B9","v":758.11626827430291},{"$f":"Sheet1!K$53*'Fordeling bydeler'!$B9","v":766.34512132629993},{"$f":"Sheet1!L$53*'Fordeling bydeler'!$B9","v":754.57697663903548},{"$f":"Sheet1!M$53*'Fordeling bydeler'!$B9","v":775.63576186887713},{"$f":"Sheet1!N$53*'Fordeling bydeler'!$B9","v":767.84932027128866},{"$f":"Sheet1!O$53*'Fordeling bydeler'!$B9","v":756.43510474755089},{"$f":"Sheet1!P$53*'Fordeling bydeler'!$B9","v":747.85232253202719},{"$f":"Sheet1!Q$53*'Fordeling bydeler'!$B9","v":762.18645365486054},{"$f":"Sheet1!R$53*'Fordeling bydeler'!$B9","v":774.75093896006035},{"$f":"Sheet1!S$53*'Fordeling bydeler'!$B9","v":799.87990957045974},{"$f":"Sheet1!T$53*'Fordeling bydeler'!$B9","v":787.58087113790509},{"$f":"Sheet1!U$53*'Fordeling bydeler'!$B9","v":801.73803767897516},{"$f":"Sheet1!V$53*'Fordeling bydeler'!$B9","v":802.0034845516202},{"$f":"Sheet1!W$53*'Fordeling bydeler'!$B9","v":819.52297814619442}]
[30103,"Oslo, Sagene","Helse Sør-Øst","Oslosykehusene","Ullevål",{"$f":"Sheet1!C$53*'Fordeling bydeler'!$B10","v":364.35363978899773},{"$f":"Sheet1!D$53*'Fordeling bydeler'!$B10","v":368.19261492087412},{"$f":"Sheet1!E$53*'Fordeling bydeler'!$B10","v":397.40871137905049},{"$f":"Sheet1!F$53*'Fordeling bydeler'!$B10","v":395.1152976639035},{"$f":"Sheet1!G$53*'Fordeling bydeler'!$B10","v":404.13938206480782},{"$f":"Sheet1!H$53*'Fordeling bydeler'!$B10","v":414.6591710625471},{"$f":"Sheet1!I$53*'Fordeling bydeler'!$B10","v":417.00244159758853},{"$f":"Sheet1!J$53*'Fordeling bydeler'!$B10","v":427.17323285606631},{"$f":"Sheet1!K$53*'Fordeling bydeler'!$B10","v":431.80991710625472},{"$f":"Sheet1!L$53*'Fordeling bydeler'!$B10","v":425.17896006028633},{"$f":"Sheet1!M$53*'Fordeling bydeler'!$B10","v":437.04488319517708},{"$f":"Sheet1!N$53*'Fordeling bydeler'!$B10","v":432.65748304446117},{"$f":"Sheet1!O$53*'Fordeling bydeler'!$B10","v":426.22595327807079},{"$f":"Sheet1!P$53*'Fordeling bydeler'!$B10","v":421.38984174830443},{"$f":"Sheet1!Q$53*'Fordeling bydeler'!$B10","v":429.46664657121323},{"$f":"Sheet1!R$53*'Fordeling bydeler'!$B10","v":436.54631499623207},{"$f":"Sheet1!S$53*'Fordeling bydeler'!$B10","v":450.70565184626975},{"$f":"Sheet1!T$53*'Fordeling bydeler'!$B10","v":443.77555388093441},{"$f":"Sheet1!U$53*'Fordeling bydeler'!$B10","v":451.75264506405426},{"$f":"Sheet1!V$53*'Fordeling bydeler'!$B10","v":451.90221552373771},{"$f":"Sheet1!W$53*'Fordeling bydeler'!$B10","v":461.77386586284854}]
[30116,"Oslo, Sentrum","Helse Sør-Øst","Oslosykehusene","Lovisenberg",{"$f":"Sheet1!C$53*'Fordeling bydeler'!$B11","v":10.353458929917105},{"$f":"Sheet1!D$53*'Fordeling bydeler'!$B11","v":10.462547098718915},{"$f":"Sheet1!E$53*'Fordeling bydeler'!$B11","v":11.292750565184626},{"$f":"Sheet1!F$53*'Fordeling bydeler'!$B11","v":11.227581009796532},{"$f":"Sheet1!G$53*'Fordeling bydeler'!$B11","v":11.48400904295403},{"$f":"Sheet1!H$53*'Fordeling bydeler'!$B11","v":11.782938960060285},{"$f":"Sheet1!I$53*'Fordeling bydeler'!$B11","v":11.849525244913337},{"$f":"Sheet1!J$53*'Fordeling bydeler'!$B11","v":12.138538055764883},{"$f":"Sheet1!K$53*'Fordeling bydeler'!$B11","v":12.270293896006027},{"$f":"Sheet1!L$53*'Fordeling bydeler'!$B11","v":12.08186887716654},{"$f":"Sheet1!M$53*'Fordeling bydeler'!$B11","v":12.419050489826676},{"$f":"Sheet1!N$53*'Fordeling bydeler'!$B11","v":12.294378296910324},{"$f":"Sheet1!O$53*'Fordeling bydeler'!$B11","v":12.111620195930669},{"$f":"Sheet1!P$53*'Fordeling bydeler'!$B11","v":11.974197437829691},{"$f":"Sheet1!Q$53*'Fordeling bydeler'!$B11","v":12.203707611152975},{"$f":"Sheet1!R$53*'Fordeling bydeler'!$B11","v":12.40488319517709},{"$f":"Sheet1!S$53*'Fordeling bydeler'!$B11","v":12.807234363225319},{"$f":"Sheet1!T$53*'Fordeling bydeler'!$B11","v":12.610308967596081},{"$f":"Sheet1!U$53*'Fordeling bydeler'!$B11","v":12.836985681989448},{"$f":"Sheet1!V$53*'Fordeling bydeler'!$B11","v":12.841235870384324},{"$f":"Sheet1!W$53*'Fordeling bydeler'!$B11","v":13.121748304446118}]
[30104,"Oslo, St. Hanshaugen","Helse Sør-Øst","Oslosykehusene","Lovisenberg",{"$f":"Sheet1!C$53*'Fordeling bydeler'!$B12","v":359.19893896006027},{"$f":"Sheet1!D$53*'Fordeling bydeler'!$B12","v":362.98360211002262},{"$f":"Sheet1!E$53*'Fordeling bydeler'!$B12","v":391.78636322532026},{"$f":"Sheet1!F$53*'Fordeling bydeler'!$B12","v":389.52539562923891},{"$f":"Sheet1!G$53*'Fordeling bydeler'!$B12","v":398.42181160512433},{"$f":"Sheet1!H$53*'Fordeling bydeler'!$B12","v":408.79277166541073},{"$f":"Sheet1!I$53*'Fordeling bydeler'!$B12","v":411.10289073097215},{"$f":"Sheet1!J$53*'Fordeling bydeler'!$B12","v":421.12979050489827},{"$f":"Sheet1!K$53*'Fordeling bydeler'!$B12","v":425.70087716654109},{"$f":"Sheet1!L$53*'Fordeling bydeler'!$B12","v":419.16373172569706},{"$f":"Sheet1!M$53*'Fordeling bydeler'!$B12","v":430.86178146194425},{"$f":"Sheet1!N$53*'Fordeling bydeler'!$B12","v":426.5364521477016},{"$f":"Sheet1!O$53*'Fordeling bydeler'!$B12","v":420.19591258477772},{"$f":"Sheet1!P$53*'Fordeling bydeler'!$B12","v":415.4282200452148},{"$f":"Sheet1!Q$53*'Fordeling bydeler'!$B12","v":423.39075810097967},{"$f":"Sheet1!R$53*'Fordeling bydeler'!$B12","v":430.37026676714396},{"$f":"Sheet1!S$53*'Fordeling bydeler'!$B12","v":444.32928409947249},{"$f":"Sheet1!T$53*'Fordeling bydeler'!$B12","v":437.49722984174832},{"$f":"Sheet1!U$53*'Fordeling bydeler'!$B12","v":445.36146495855314},{"$f":"Sheet1!V$53*'Fordeling bydeler'!$B12","v":445.50891936699321},{"$f":"Sheet1!W$53*'Fordeling bydeler'!$B12","v":455.24091032403919}]
[30111,"Oslo, Stovner","Helse Sør-Øst","Akershus universitetssykehus","Ahus",{"$f":"Sheet1!C$53*'Fordeling bydeler'!$B13","v":396.95602110022611},{"$f":"Sheet1!D$53*'Fordeling bydeler'!$B13","v":401.13850791258477},{"$f":"Sheet1!E$53*'Fordeling bydeler'!$B13","v":432.96886209495102},{"$f":"Sheet1!F$53*'Fordeling bydeler'!$B13","v":430.47023360964585},{"$f":"Sheet1!G$53*'Fordeling bydeler'!$B13","v":440.30179351921629},{"$f":"Sheet1!H$53*'Fordeling bydeler'!$B13","v":451.76289374529011},{"$f":"Sheet1!I$53*'Fordeling bydeler'!$B13","v":454.31584024114545},{"$f":"Sheet1!J$53*'Fordeling bydeler'!$B13","v":465.39671439336854},{"$f":"Sheet1!K$53*'Fordeling bydeler'!$B13","v":470.448289374529},{"$f":"Sheet1!L$53*'Fordeling bydeler'!$B13","v":463.223993971364},{"$f":"Sheet1!M$53*'Fordeling bydeler'!$B13","v":476.15168048229089},{"$f":"Sheet1!N$53*'Fordeling bydeler'!$B13","v":471.37169555388095},{"$f":"Sheet1!O$53*'Fordeling bydeler'!$B13","v":464.36467219291637},{"$f":"Sheet1!P$53*'Fordeling bydeler'!$B13","v":459.09582516955538},{"$f":"Sheet1!Q$53*'Fordeling bydeler'!$B13","v":467.89534287867372},{"$f":"Sheet1!R$53*'Fordeling bydeler'!$B13","v":475.60850037678978},{"$f":"Sheet1!S$53*'Fordeling bydeler'!$B13","v":491.03481537302184},{"$f":"Sheet1!T$53*'Fordeling bydeler'!$B13","v":483.48461190655615},{"$f":"Sheet1!U$53*'Fordeling bydeler'!$B13","v":492.17549359457422},{"$f":"Sheet1!V$53*'Fordeling bydeler'!$B13","v":492.33844762622459},{"$f":"Sheet1!W$53*'Fordeling bydeler'!$B13","v":503.09341371514694}]
[30115,"Oslo, Søndre Nordstrand","Helse Sør-Øst","Oslosykehusene","Ullevål",{"$f":"Sheet1!C$53*'Fordeling bydeler'!$B14","v":455.46407837226826},{"$f":"Sheet1!D$53*'Fordeling bydeler'!$B14","v":460.2630293896006},{"$f":"Sheet1!E$53*'Fordeling bydeler'!$B14","v":496.78491635267517},{"$f":"Sheet1!F$53*'Fordeling bydeler'!$B14","v":493.91801055011302},{"$f":"Sheet1!G$53*'Fordeling bydeler'!$B14","v":505.1986616428033},{"$f":"Sheet1!H$53*'Fordeling bydeler'!$B14","v":518.34903391107764},{"$f":"Sheet1!I$53*'Fordeling bydeler'!$B14","v":521.27826375282586},{"$f":"Sheet1!J$53*'Fordeling bydeler'!$B14","v":533.9923677467973},{"$f":"Sheet1!K$53*'Fordeling bydeler'!$B14","v":539.78850339110772},{"$f":"Sheet1!L$53*'Fordeling bydeler'!$B14","v":531.49940617935192},{"$f":"Sheet1!M$53*'Fordeling bydeler'!$B14","v":546.3325275056518},{"$f":"Sheet1!N$53*'Fordeling bydeler'!$B14","v":540.84801205727206},{"$f":"Sheet1!O$53*'Fordeling bydeler'!$B14","v":532.80821100226069},{"$f":"Sheet1!P$53*'Fordeling bydeler'!$B14","v":526.76277920120572},{"$f":"Sheet1!Q$53*'Fordeling bydeler'!$B14","v":536.85927354935939},{"$f":"Sheet1!R$53*'Fordeling bydeler'!$B14","v":545.70928711379042},{"$f":"Sheet1!S$53*'Fordeling bydeler'!$B14","v":563.40931424265261},{"$f":"Sheet1!T$53*'Fordeling bydeler'!$B14","v":554.74627279577987},{"$f":"Sheet1!U$53*'Fordeling bydeler'!$B14","v":564.71811906556138},{"$f":"Sheet1!V$53*'Fordeling bydeler'!$B14","v":564.90509118311979},{"$f":"Sheet1!W$53*'Fordeling bydeler'!$B14","v":577.24525094197429}]
[30106,"Oslo, Ullern","Helse Sør-Øst","Oslosykehusene","Diakonhjemmet",{"$f":"Sheet1!C$53*'Fordeling bydeler'!$B15","v":396.47139110776186},{"$f":"Sheet1!D$53*'Fordeling bydeler'!$B15","v":400.64877166541072},{"$f":"Sheet1!E$53*'Fordeling bydeler'!$B15","v":432.44026525998493},{"$f":"Sheet1!F$53*'Fordeling bydeler'!$B15","v":429.9446872645064},{"$f":"Sheet1!G$53*'Fordeling bydeler'!$B15","v":439.76424415975885},{"$f":"Sheet1!H$53*'Fordeling bydeler'!$B15","v":451.21135192162774},{"$f":"Sheet1!I$53*'Fordeling bydeler'!$B15","v":453.76118161266015},{"$f":"Sheet1!J$53*'Fordeling bydeler'!$B15","v":464.82852750565189},{"$f":"Sheet1!K$53*'Fordeling bydeler'!$B15","v":469.87393519216278},{"$f":"Sheet1!L$53*'Fordeling bydeler'!$B15","v":462.65845968349663},{"$f":"Sheet1!M$53*'Fordeling bydeler'!$B15","v":475.57036322532031},{"$f":"Sheet1!N$53*'Fordeling bydeler'!$B15","v":470.79621401657874},{"$f":"Sheet1!O$53*'Fordeling bydeler'!$B15","v":463.79774529012815},{"$f":"Sheet1!P$53*'Fordeling bydeler'!$B15","v":458.53533082140166},{"$f":"Sheet1!Q$53*'Fordeling bydeler'!$B15","v":467.32410550113036},{"$f":"Sheet1!R$53*'Fordeling bydeler'!$B15","v":475.02784626978149},{"$f":"Sheet1!S$53*'Fordeling bydeler'!$B15","v":490.4353278070837},{"$f":"Sheet1!T$53*'Fordeling bydeler'!$B15","v":482.89434212509423},{"$f":"Sheet1!U$53*'Fordeling bydeler'!$B15","v":491.57461341371516},{"$f":"Sheet1!V$53*'Fordeling bydeler'!$B15","v":491.73736850037682},{"$f":"Sheet1!W$53*'Fordeling bydeler'!$B15","v":502.47920422004523}]
[30199,"Oslo, uoppgitt bydel","Helse Sør-Øst","Oslosykehusene","Ullevål",{"$f":"Sheet1!C$53*'Fordeling bydeler'!$B16","v":16.124961567445368},{"$f":"Sheet1!D$53*'Fordeling bydeler'!$B16","v":16.294860587792012},{"$f":"Sheet1!E$53*'Fordeling bydeler'!$B16","v":17.587858327053507},{"$f":"Sheet1!F$53*'Fordeling bydeler'!$B16","v":17.48636021100226},{"$f":"Sheet1!G$53*'Fordeling bydeler'!$B16","v":17.885733232856069},{"$f":"Sheet1!H$53*'Fordeling bydeler'!$B16","v":18.351300678221556},{"$f":"Sheet1!I$53*'Fordeling bydeler'!$B16","v":18.455005275056521},{"$f":"Sheet1!J$53*'Fordeling bydeler'!$B16","v":18.905127354935946},{"$f":"Sheet1!K$53*'Fordeling bydeler'!$B16","v":19.110330067822158},{"$f":"Sheet1!L$53*'Fordeling bydeler'!$B16","v":18.816868123587039},{"$f":"Sheet1!M$53*'Fordeling bydeler'!$B16","v":19.342010550113038},{"$f":"Sheet1!N$53*'Fordeling bydeler'!$B16","v":19.147840241145442},{"$f":"Sheet1!O$53*'Fordeling bydeler'!$B16","v":18.863204220045215},{"$f":"Sheet1!P$53*'Fordeling bydeler'!$B16","v":18.649175584024118},{"$f":"Sheet1!Q$53*'Fordeling bydeler'!$B16","v":19.006625470987192},{"$f":"Sheet1!R$53*'Fordeling bydeler'!$B16","v":19.319945742275813},{"$f":"Sheet1!S$53*'Fordeling bydeler'!$B16","v":19.946586284853055},{"$f":"Sheet1!T$53*'Fordeling bydeler'!$B16","v":19.6398854559156},{"$f":"Sheet1!U$53*'Fordeling bydeler'!$B16","v":19.992922381311232},{"$f":"Sheet1!V$53*'Fordeling bydeler'!$B16","v":19.999541823662398},{"$f":"Sheet1!W$53*'Fordeling bydeler'!$B16","v":20.43642501883949}]
[30107,"Oslo, Vestre Aker","Helse Sør-Øst","Oslosykehusene","Diakonhjemmet",{"$f":"Sheet1!C$53*'Fordeling bydeler'!$B17","v":562.74353579502633},{"$f":"Sheet1!D$53*'Fordeling bydeler'!$B17","v":568.67282592313495},{"$f":"Sheet1!E$53*'Fordeling bydeler'!$B17","v":613.79703391107762},{"$f":"Sheet1!F$53*'Fordeling bydeler'!$B17","v":610.254860587792},{"$f":"Sheet1!G$53*'Fordeling bydeler'!$B17","v":624.19254257724197},{"$f":"Sheet1!H$53*'Fordeling bydeler'!$B17","v":640.44033760361719},{"$f":"Sheet1!I$53*'Fordeling bydeler'!$B17","v":644.05951469480033},{"$f":"Sheet1!J$53*'Fordeling bydeler'!$B17","v":659.768283345893},{"$f":"Sheet1!K$53*'Fordeling bydeler'!$B17","v":666.92963376036175},{"$f":"Sheet1!L$53*'Fordeling bydeler'!$B17","v":656.68813262999242},{"$f":"Sheet1!M$53*'Fordeling bydeler'!$B17","v":675.01502938960061},{"$f":"Sheet1!N$53*'Fordeling bydeler'!$B17","v":668.23869781461951},{"$f":"Sheet1!O$53*'Fordeling bydeler'!$B17","v":658.30521175584022},{"$f":"Sheet1!P$53*'Fordeling bydeler'!$B17","v":650.83584626978143},{"$f":"Sheet1!Q$53*'Fordeling bydeler'!$B17","v":663.31045666917862},{"$f":"Sheet1!R$53*'Fordeling bydeler'!$B17","v":674.24499171062553},{"$f":"Sheet1!S$53*'Fordeling bydeler'!$B17","v":696.11406179351923},{"$f":"Sheet1!T$53*'Fordeling bydeler'!$B17","v":685.41053805576485},{"$f":"Sheet1!U$53*'Fordeling bydeler'!$B17","v":697.73114091936702},{"$f":"Sheet1!V$53*'Fordeling bydeler'!$B17","v":697.96215222305955},{"$f":"Sheet1!W$53*'Fordeling bydeler'!$B17","v":713.20889826676716}]
[30113,"Oslo, Østensjø","Helse Sør-Øst","Oslosykehusene","Ullevål",{"$f":"Sheet1!C$53*'Fordeling bydeler'!$B18","v":646.05583722682752},{"$f":"Sheet1!D$53*'Fordeling bydeler'!$B18","v":652.86293896006032},{"$f":"Sheet1!E$53*'Fordeling bydeler'!$B18","v":704.66763526752072},{"$f":"Sheet1!F$53*'Fordeling bydeler'!$B18","v":700.60105501130374},{"$f":"Sheet1!G$53*'Fordeling bydeler'!$B18","v":716.60216428033164},{"$f":"Sheet1!H$53*'Fordeling bydeler'!$B18","v":735.25539110776197},{"$f":"Sheet1!I$53*'Fordeling bydeler'!$B18","v":739.41037528259233},{"$f":"Sheet1!J$53*'Fordeling bydeler'!$B18","v":757.44477467972877},{"$f":"Sheet1!K$53*'Fordeling bydeler'!$B18","v":765.66633911077622},{"$f":"Sheet1!L$53*'Fordeling bydeler'!$B18","v":753.90861793519218},{"$f":"Sheet1!M$53*'Fordeling bydeler'!$B18","v":774.9487505651847},{"$f":"Sheet1!N$53*'Fordeling bydeler'!$B18","v":767.16920572720426},{"$f":"Sheet1!O$53*'Fordeling bydeler'!$B18","v":755.76510022607386},{"$f":"Sheet1!P$53*'Fordeling bydeler'!$B18","v":747.18992012057276},{"$f":"Sheet1!Q$53*'Fordeling bydeler'!$B18","v":761.51135493594575},{"$f":"Sheet1!R$53*'Fordeling bydeler'!$B18","v":774.06471137905055},{"$f":"Sheet1!S$53*'Fordeling bydeler'!$B18","v":799.17142426526004},{"$f":"Sheet1!T$53*'Fordeling bydeler'!$B18","v":786.88327957799549},{"$f":"Sheet1!U$53*'Fordeling bydeler'!$B18","v":801.02790655614172},{"$f":"Sheet1!V$53*'Fordeling bydeler'!$B18","v":801.29311831198197},{"$f":"Sheet1!W$53*'Fordeling bydeler'!$B18","v":818.7970941974379}]
[null,null,null,null,null,{"$f":"SUM(F21:F38)","v":7307.9999999999991},{"$f":"SUM(G21:G38)","v":7385},7970.9999999999982,7925,8106,8316.9999999999982,8364,8568,8661.0000000000018,8528.0000000000018,8766,8678.0000000000018,8548.9999999999982,8452,8614,8756,9040,8901,9061,9064,9262]